Workbook

Sheet Instructies
A1: Model begroting Subsidieprogramma
A2: Maatschappelijke initiatieven trans-Atlantisch slavernijverleden voor Suriname 2026–2030
A3: Zo vult u het begrotingsformat in
A4: Werk de stappen in volgorde af.
A5: De gele cellen zijn invulbaar. De blauwe cellen zijn beveiligd en worden automatisch berekend.
A7: VOORDAT U BEGINT
A9: Zorg dat u het volgende bij de hand heeft:
A10: De Beleidsregels, in het bijzonder § 4.2, § 4.4.3 en § 7.
A11: De aanschafgegevens van eventuele vaste activa die u wilt opvoeren.
A13: BLAD BEGROTING SUMS_SU NP
A14: Algemeen:
A15: Vul de gegevens van de organisatie in.
... A73: ☐ Het aangevraagde subsidiebedrag is niet hoger dan € 1.500.000,00.

Sheet Begroting SUMS_SU NP
A1: Model begroting Subsidieprogramma Maatschappelijke initiatieven trans-Atlantisch slavernijverleden voor Suriname 2026–2030
A3: Model voor projecten gericht op de financiering van activiteiten van natuurlijke personen door een maatschappelijke organisatie tot € 1.500.000.
A5: Invulinstructie
A6: Vul uitsluitend de geel gemarkeerde cellen in. De blauw gemarkeerde cellen worden automatisch berekend en ingevuld.
A8: Gegevens aanvrager
A9: Naam organisatie
A10: Type organisatie | B10: Maatschappelijke organisatie
A14: Projectgegevens
A15: Projecttitel
A16: Referentienummer | C16: Wordt door RVO ingevuld
A17: Startdatum project
A18: Einddatum project
A19: De looptijd van het project mag niet langer dan 4 jaar zijn.
A21: Projectbegroting
A24: Budget voor financiering van activiteiten van natuurlijke personen | C24: Bedrag €
A25: Toe te kennen financiering aan natuurlijke personen | C25: 0
A26: Totaal | C26: =SUM(C25) -> 0
A28: Uitvoeringskosten
A30: Personeelskosten
A31: Naam medewerker | B31: Functie | C31: Werkzaamheden | D31: Uren | E31: Uurtarief | F31: Kosten
F32: =D32*E32 -> 0
F33: =D33*E33 -> 0
F34: =D34*E34 -> 0
F35: =D35*E35 -> 0
F36: =D36*E36 -> 0
F37: =D37*E37 -> 0
F38: =D38*E38 -> 0
F39: =D39*E39 -> 0
F40: =D40*E40 -> 0
F41: =D41*E41 -> 0
F42: =D42*E42 -> 0
F43: =D43*E43 -> 0
... F61: =D61*E61 -> 0
E62: Totaal: | F62: =SUM(F32:F61) -> 0
A65: Aan derden verschuldigde kosten
A66: Omschrijving kosten | B66: Totale subsidiabele kosten
B67: 0
B68: 0
B69: 0
B70: 0
B71: 0
B72: 0
B73: 0
B74: 0
B75: 0
B76: 0
B77: 0
B78: 0 | J78: Ja/Nee
B79: 0 | J79: Bestaande
B80: 0 | J80: Nieuw
B81: 0
A82: Totaal: | B82: =SUM(B67:B81) -> 0
A86: Afschrijvingen
A87: Omschrijving van de vaste activa/investering (dient aan te sluiten bij wat er in het projectplan staat) | B87: Maak een selectie: Bestaande vaste activa of een investering speciaal gemaakt voor dit project? Bestaande/Nieuw | C87: Datum aanschaffing (bij bestaande vaste activa gaat het om de historische aanschafdatum) | D87: Bij bestaande vaste activa, vul hier de boekwaarde in per de startdatum van dit project. Bij investeringen voor dit project, vul de aanschafwaarde in. | E87: Vul hier in: De totale afschrijving in € gedurende de looptijd van dit project. | F87: Boekwaarde in € na afloop van dit project. | G87: Naar schatting, vul hier in % in: Hoeveel procent van de totale afschrijving gedurende de looptijd van dit project rekent u toe als subsidiabel? Zie kolom G. | H87: Totale subsidiabele afschrijvingen
F88: =D88-E88 -> 0 | H88: =G88*E88 -> 0
F89: =D89-E89 -> 0 | H89: =G89*E89 -> 0
F90: =D90-E90 -> 0 | H90: =G90*E90 -> 0
F91: =D91-E91 -> 0 | H91: =G91*E91 -> 0
F92: =D92-E92 -> 0 | H92: =G92*E92 -> 0
F93: =D93-E93 -> 0 | H93: =G93*E93 -> 0
F94: =D94-E94 -> 0 | H94: =G94*E94 -> 0
F95: =D95-E95 -> 0 | H95: =G95*E95 -> 0
F96: =D96-E96 -> 0 | H96: =G96*E96 -> 0
F97: =D97-E97 -> 0 | H97: =G97*E97 -> 0
F98: =D98-E98 -> 0 | H98: =G98*E98 -> 0
F99: =D99-E99 -> 0 | H99: =G99*E99 -> 0
... F102: =D102-E102 -> 0 | H102: =G102*E102 -> 0
A103: Totaal: | H103: =SUM(H88:H102) -> 0
A108: Ruimte voor toelichting
A116: Totaaloverzicht
A117: Budget voor financiering van activiteiten van natuurlijke personen | B117: =C26 -> 0
A118: Totale subsidiabele uitvoeringskosten | B118: =F62+B82+H103 -> 0
A119: Totale projectkosten | B119: =B117+B118 -> 0
A120: Gevraagde subsidie | B120: 0 | C120: U kunt hier het bedrag van cel C117 overnemen tenzij het bedrag niet hoger is dan € 1.500.000, of zelf voor een (lager) bedrag kiezen.

Sheet Werkblad FEM
B4: Model voor projecten gericht op de financiering van activiteiten van natuurlijke personen door een maatschappelijke organisatie tot € 1.500.000
C5: Blad is niet beveiligd
B6: Gegevens aanvrager | G6: Invulinstructie
B7: Naam organisatie | C7: ='Begroting SUMS_SU NP'!B9 -> 0 | G7: Vul uitsluitend de geel gemarkeerde cellen in. De blauw gemarkeerde cellen worden automatisch berekend en ingevuld.
B8: Type organisatie | C8: Maatschappelijke organisatie
B12: Projectgegevens
B13: Projecttitel | C13: ='Begroting SUMS_SU NP'!B15 -> 0
B14: Referentienummer: | C14: ='Begroting SUMS_SU NP'!B16 -> 0 | D14: Wordt door RVO ingevuld
B15: Startdatum project | C15: ='Begroting SUMS_SU NP'!B17 -> 0
B16: Einddatum project | C16: ='Begroting SUMS_SU NP'!B18 -> 0
B17: De looptijd van het project mag niet langer dan 4 jaar zijn.
B19: Projectbegroting | C19: Uitvoeringskosten
B23: Budget t.b.v. Financiering van activiteiten van natuurlijke personen: | D23: Bedrag €
B24: Toe te kennen financiering aan natuurlijke personen | D24: ='Begroting SUMS_SU NP'!C25 -> 0
B25: Totaal | D25: =SUM(D24) -> 0
B30: Personeelskosten
B31: Naam medewerker | C31: Functie | D31: Werkzaamheden | E31: Uren | F31: Uurtarief | G31: Kosten
B32: ='Begroting SUMS_SU NP'!A32 -> 0 | C32: ='Begroting SUMS_SU NP'!B32 -> 0 | D32: ='Begroting SUMS_SU NP'!C32 -> 0 | E32: ='Begroting SUMS_SU NP'!D32 -> 0 | F32: ='Begroting SUMS_SU NP'!E32 -> 0 | G32: =E32*F32 -> 0
B33: ='Begroting SUMS_SU NP'!A33 -> 0 | C33: ='Begroting SUMS_SU NP'!B33 -> 0 | D33: ='Begroting SUMS_SU NP'!C33 -> 0 | E33: ='Begroting SUMS_SU NP'!D33 -> 0 | F33: ='Begroting SUMS_SU NP'!E33 -> 0 | G33: =E33*F33 -> 0
B34: ='Begroting SUMS_SU NP'!A34 -> 0 | C34: ='Begroting SUMS_SU NP'!B34 -> 0 | D34: ='Begroting SUMS_SU NP'!C34 -> 0 | E34: ='Begroting SUMS_SU NP'!D34 -> 0 | F34: ='Begroting SUMS_SU NP'!E34 -> 0 | G34: =E34*F34 -> 0
B35: ='Begroting SUMS_SU NP'!A35 -> 0 | C35: ='Begroting SUMS_SU NP'!B35 -> 0 | D35: ='Begroting SUMS_SU NP'!C35 -> 0 | E35: ='Begroting SUMS_SU NP'!D35 -> 0 | F35: ='Begroting SUMS_SU NP'!E35 -> 0 | G35: =E35*F35 -> 0
B36: ='Begroting SUMS_SU NP'!A36 -> 0 | C36: ='Begroting SUMS_SU NP'!B36 -> 0 | D36: ='Begroting SUMS_SU NP'!C36 -> 0 | E36: ='Begroting SUMS_SU NP'!D36 -> 0 | F36: ='Begroting SUMS_SU NP'!E36 -> 0 | G36: =E36*F36 -> 0
B37: ='Begroting SUMS_SU NP'!A37 -> 0 | C37: ='Begroting SUMS_SU NP'!B37 -> 0 | D37: ='Begroting SUMS_SU NP'!C37 -> 0 | E37: ='Begroting SUMS_SU NP'!D37 -> 0 | F37: ='Begroting SUMS_SU NP'!E37 -> 0 | G37: =E37*F37 -> 0
B38: ='Begroting SUMS_SU NP'!A38 -> 0 | C38: ='Begroting SUMS_SU NP'!B38 -> 0 | D38: ='Begroting SUMS_SU NP'!C38 -> 0 | E38: ='Begroting SUMS_SU NP'!D38 -> 0 | F38: ='Begroting SUMS_SU NP'!E38 -> 0 | G38: =E38*F38 -> 0
B39: ='Begroting SUMS_SU NP'!A39 -> 0 | C39: ='Begroting SUMS_SU NP'!B39 -> 0 | D39: ='Begroting SUMS_SU NP'!C39 -> 0 | E39: ='Begroting SUMS_SU NP'!D39 -> 0 | F39: ='Begroting SUMS_SU NP'!E39 -> 0 | G39: =E39*F39 -> 0
B40: ='Begroting SUMS_SU NP'!A40 -> 0 | C40: ='Begroting SUMS_SU NP'!B40 -> 0 | D40: ='Begroting SUMS_SU NP'!C40 -> 0 | E40: ='Begroting SUMS_SU NP'!D40 -> 0 | F40: ='Begroting SUMS_SU NP'!E40 -> 0 | G40: =E40*F40 -> 0
B41: ='Begroting SUMS_SU NP'!A41 -> 0 | C41: ='Begroting SUMS_SU NP'!B41 -> 0 | D41: ='Begroting SUMS_SU NP'!C41 -> 0 | E41: ='Begroting SUMS_SU NP'!D41 -> 0 | F41: ='Begroting SUMS_SU NP'!E41 -> 0 | G41: =E41*F41 -> 0
B42: ='Begroting SUMS_SU NP'!A42 -> 0 | C42: ='Begroting SUMS_SU NP'!B42 -> 0 | D42: ='Begroting SUMS_SU NP'!C42 -> 0 | E42: ='Begroting SUMS_SU NP'!D42 -> 0 | F42: ='Begroting SUMS_SU NP'!E42 -> 0 | G42: =E42*F42 -> 0
B43: ='Begroting SUMS_SU NP'!A43 -> 0 | C43: ='Begroting SUMS_SU NP'!B43 -> 0 | D43: ='Begroting SUMS_SU NP'!C43 -> 0 | E43: ='Begroting SUMS_SU NP'!D43 -> 0 | F43: ='Begroting SUMS_SU NP'!E43 -> 0 | G43: =E43*F43 -> 0
... B61: ='Begroting SUMS_SU NP'!A61 -> 0 | C61: ='Begroting SUMS_SU NP'!B61 -> 0 | D61: ='Begroting SUMS_SU NP'!C61 -> 0 | E61: ='Begroting SUMS_SU NP'!D61 -> 0 | F61: ='Begroting SUMS_SU NP'!E61 -> 0 | G61: =E61*F61 -> 0
F62: Totaal: | G62: =SUM(G32:G61) -> 0
B65: Aan derden verschuldigde kosten
B66: Omschrijving kosten | C66: Totale subsidiabele Kosten
B67: ='Begroting SUMS_SU NP'!A67 -> 0 | C67: ='Begroting SUMS_SU NP'!B67 -> 0
B68: ='Begroting SUMS_SU NP'!A68 -> 0 | C68: ='Begroting SUMS_SU NP'!B68 -> 0
B69: ='Begroting SUMS_SU NP'!A69 -> 0 | C69: ='Begroting SUMS_SU NP'!B69 -> 0
B70: ='Begroting SUMS_SU NP'!A70 -> 0 | C70: ='Begroting SUMS_SU NP'!B70 -> 0
B71: ='Begroting SUMS_SU NP'!A71 -> 0 | C71: ='Begroting SUMS_SU NP'!B71 -> 0
B72: ='Begroting SUMS_SU NP'!A72 -> 0 | C72: ='Begroting SUMS_SU NP'!B72 -> 0
B73: ='Begroting SUMS_SU NP'!A73 -> 0 | C73: ='Begroting SUMS_SU NP'!B73 -> 0
B74: ='Begroting SUMS_SU NP'!A74 -> 0 | C74: ='Begroting SUMS_SU NP'!B74 -> 0
B75: ='Begroting SUMS_SU NP'!A75 -> 0 | C75: ='Begroting SUMS_SU NP'!B75 -> 0
B76: ='Begroting SUMS_SU NP'!A76 -> 0 | C76: ='Begroting SUMS_SU NP'!B76 -> 0
B77: ='Begroting SUMS_SU NP'!A77 -> 0 | C77: ='Begroting SUMS_SU NP'!B77 -> 0
B78: ='Begroting SUMS_SU NP'!A78 -> 0 | C78: ='Begroting SUMS_SU NP'!B78 -> 0 | K78: Ja/Nee
B79: ='Begroting SUMS_SU NP'!A79 -> 0 | C79: ='Begroting SUMS_SU NP'!B79 -> 0 | K79: Bestaande
B80: ='Begroting SUMS_SU NP'!A80 -> 0 | C80: ='Begroting SUMS_SU NP'!B80 -> 0 | K80: Nieuw
B81: ='Begroting SUMS_SU NP'!A81 -> 0 | C81: ='Begroting SUMS_SU NP'!B81 -> 0
B82: Totaal: | C82: =SUM(C67:C81) -> 0
B86: Afschrijvingen
B87: Omschrijving van de vaste activa/ investering (dient aan te sluiten met wat bij paragraaf x in het projectplan staat ) | C87: Maak een selectie: Bestaande vaste activa of een investering speciaal gemaakt voor dit project? Bestaande/ Nieuw | D87: Datum aanschaffing (Bij bestaande vaste activa gaat het om de historische aanschafdatum) DD-M-JJJJ | E87: Bij bestaande vaste activa, vul hier de boekwaarde in per de startdatum van dit project. Bij investeringen voor dit project, vul de aanschafwaarde in. | F87: Vul hier in: De totale afschrijving gedurende de looptijd van dit project € | G87: Boekwaarde na afloop van dit project € | H87: Naar schatting; Vul hier in % in: Hoeveel procent van de totale afschrijving gedurende de looptijd van dit project rekent u toe als subsidiabel? Zie kolom G. | I87: Totale subsidiabele afschrijvingen
B88: ='Begroting SUMS_SU NP'!A88 -> 0 | C88: ='Begroting SUMS_SU NP'!B88 -> 0 | D88: ='Begroting SUMS_SU NP'!C88 -> 0 | E88: ='Begroting SUMS_SU NP'!D88 -> 0 | F88: ='Begroting SUMS_SU NP'!E88 -> 0 | G88: =E88-F88 -> 0 | H88: ='Begroting SUMS_SU NP'!G88 -> 0 | I88: =H88*F88 -> 0
B89: ='Begroting SUMS_SU NP'!A89 -> 0 | C89: ='Begroting SUMS_SU NP'!B89 -> 0 | D89: ='Begroting SUMS_SU NP'!C89 -> 0 | E89: ='Begroting SUMS_SU NP'!D89 -> 0 | F89: ='Begroting SUMS_SU NP'!E89 -> 0 | G89: =E89-F89 -> 0 | H89: ='Begroting SUMS_SU NP'!G89 -> 0 | I89: =H89*F89 -> 0
B90: ='Begroting SUMS_SU NP'!A90 -> 0 | C90: ='Begroting SUMS_SU NP'!B90 -> 0 | D90: ='Begroting SUMS_SU NP'!C90 -> 0 | E90: ='Begroting SUMS_SU NP'!D90 -> 0 | F90: ='Begroting SUMS_SU NP'!E90 -> 0 | G90: =E90-F90 -> 0 | H90: ='Begroting SUMS_SU NP'!G90 -> 0 | I90: =H90*F90 -> 0
B91: ='Begroting SUMS_SU NP'!A91 -> 0 | C91: ='Begroting SUMS_SU NP'!B91 -> 0 | D91: ='Begroting SUMS_SU NP'!C91 -> 0 | E91: ='Begroting SUMS_SU NP'!D91 -> 0 | F91: ='Begroting SUMS_SU NP'!E91 -> 0 | G91: =E91-F91 -> 0 | H91: ='Begroting SUMS_SU NP'!G91 -> 0 | I91: =H91*F91 -> 0
B92: ='Begroting SUMS_SU NP'!A92 -> 0 | C92: ='Begroting SUMS_SU NP'!B92 -> 0 | D92: ='Begroting SUMS_SU NP'!C92 -> 0 | E92: ='Begroting SUMS_SU NP'!D92 -> 0 | F92: ='Begroting SUMS_SU NP'!E92 -> 0 | G92: =E92-F92 -> 0 | H92: ='Begroting SUMS_SU NP'!G92 -> 0 | I92: =H92*F92 -> 0
B93: ='Begroting SUMS_SU NP'!A93 -> 0 | C93: ='Begroting SUMS_SU NP'!B93 -> 0 | D93: ='Begroting SUMS_SU NP'!C93 -> 0 | E93: ='Begroting SUMS_SU NP'!D93 -> 0 | F93: ='Begroting SUMS_SU NP'!E93 -> 0 | G93: =E93-F93 -> 0 | H93: ='Begroting SUMS_SU NP'!G93 -> 0 | I93: =H93*F93 -> 0
B94: ='Begroting SUMS_SU NP'!A94 -> 0 | C94: ='Begroting SUMS_SU NP'!B94 -> 0 | D94: ='Begroting SUMS_SU NP'!C94 -> 0 | E94: ='Begroting SUMS_SU NP'!D94 -> 0 | F94: ='Begroting SUMS_SU NP'!E94 -> 0 | G94: =E94-F94 -> 0 | H94: ='Begroting SUMS_SU NP'!G94 -> 0 | I94: =H94*F94 -> 0
B95: ='Begroting SUMS_SU NP'!A95 -> 0 | C95: ='Begroting SUMS_SU NP'!B95 -> 0 | D95: ='Begroting SUMS_SU NP'!C95 -> 0 | E95: ='Begroting SUMS_SU NP'!D95 -> 0 | F95: ='Begroting SUMS_SU NP'!E95 -> 0 | G95: =E95-F95 -> 0 | H95: ='Begroting SUMS_SU NP'!G95 -> 0 | I95: =H95*F95 -> 0
B96: ='Begroting SUMS_SU NP'!A96 -> 0 | C96: ='Begroting SUMS_SU NP'!B96 -> 0 | D96: ='Begroting SUMS_SU NP'!C96 -> 0 | E96: ='Begroting SUMS_SU NP'!D96 -> 0 | F96: ='Begroting SUMS_SU NP'!E96 -> 0 | G96: =E96-F96 -> 0 | H96: ='Begroting SUMS_SU NP'!G96 -> 0 | I96: =H96*F96 -> 0
B97: ='Begroting SUMS_SU NP'!A97 -> 0 | C97: ='Begroting SUMS_SU NP'!B97 -> 0 | D97: ='Begroting SUMS_SU NP'!C97 -> 0 | E97: ='Begroting SUMS_SU NP'!D97 -> 0 | F97: ='Begroting SUMS_SU NP'!E97 -> 0 | G97: =E97-F97 -> 0 | H97: ='Begroting SUMS_SU NP'!G97 -> 0 | I97: =H97*F97 -> 0
B98: ='Begroting SUMS_SU NP'!A98 -> 0 | C98: ='Begroting SUMS_SU NP'!B98 -> 0 | D98: ='Begroting SUMS_SU NP'!C98 -> 0 | E98: ='Begroting SUMS_SU NP'!D98 -> 0 | F98: ='Begroting SUMS_SU NP'!E98 -> 0 | G98: =E98-F98 -> 0 | H98: ='Begroting SUMS_SU NP'!G98 -> 0 | I98: =H98*F98 -> 0
B99: ='Begroting SUMS_SU NP'!A99 -> 0 | C99: ='Begroting SUMS_SU NP'!B99 -> 0 | D99: ='Begroting SUMS_SU NP'!C99 -> 0 | E99: ='Begroting SUMS_SU NP'!D99 -> 0 | F99: ='Begroting SUMS_SU NP'!E99 -> 0 | G99: =E99-F99 -> 0 | H99: ='Begroting SUMS_SU NP'!G99 -> 0 | I99: =H99*F99 -> 0
... B102: ='Begroting SUMS_SU NP'!A102 -> 0 | C102: ='Begroting SUMS_SU NP'!B102 -> 0 | D102: ='Begroting SUMS_SU NP'!C102 -> 0 | E102: ='Begroting SUMS_SU NP'!D102 -> 0 | F102: ='Begroting SUMS_SU NP'!E102 -> 0 | G102: =E102-F102 -> 0 | H102: ='Begroting SUMS_SU NP'!G102 -> 0 | I102: =H102*F102 -> 0
B103: Totaal: | I103: =SUM(I88:I102) -> 0
B108: Ruimte voor toelichting
B109: {='Begroting SUMS_SU NP'!A109:F113} -> #VALUE!
B116: Totaaloverzicht
B117: Budget t.b.v. Financiering van activiteiten van natuurlijke personen: | C117: ='Begroting SUMS_SU NP'!B117 -> 0
B118: Totale subsidiabele Uitvoeringskosten: | C118: ='Begroting SUMS_SU NP'!B118 -> 0
B119: Totale projectkosten | C119: =SUM(C117:C118) -> 0
B120: Gevraagde subsidie | C120: ='Begroting SUMS_SU NP'!B120 -> 0

Sheet Bijlage voor de beschikking
B4: Model voor projecten gericht op de financiering van activiteiten van natuurlijke personen door een maatschappelijke organisatie tot € 1.500.000
C5: Blad is niet beveiligd
B6: Gegevens aanvrager | G6: Invulinstructie
B7: Naam organisatie | C7: ='Begroting SUMS_SU NP'!B9 -> 0 | G7: Vul uitsluitend de geel gemarkeerde cellen in. De blauw gemarkeerde cellen worden automatisch berekend en ingevuld.
B8: Type organisatie | C8: Maatschappelijke organisatie
B12: Projectgegevens
B13: Projecttitel | C13: ='Begroting SUMS_SU NP'!B15 -> 0
B14: Referentienummer: | C14: ='Begroting SUMS_SU NP'!B16 -> 0 | D14: Wordt door RVO ingevuld
B15: Startdatum project | C15: ='Begroting SUMS_SU NP'!B17 -> 0
B16: Einddatum project | C16: ='Begroting SUMS_SU NP'!B18 -> 0
B17: De looptijd van het project mag niet langer dan 4 jaar zijn.
B19: Projectbegroting
B21: Opmerking: Selecteer de cel * voor meer informatie.
B24: Budget t.b.v. Financiering van activiteiten van natuurlijke personen: | D24: Bedrag €
B25: Toe te kennen financiering aan natuurlijke personen | D25: ='Begroting SUMS_SU NP'!C25 -> 0
B26: Totaal | D26: =SUM(D25) -> 0
B28: Uitvoeringskosten
B31: Personeelskosten*
B32: Naam medewerker | C32: Functie | D32: Werkzaamheden | E32: Uren | F32: Uurtarief* | G32: Kosten
B33: ='Begroting SUMS_SU NP'!A32 -> 0 | C33: ='Begroting SUMS_SU NP'!B32 -> 0 | D33: ='Begroting SUMS_SU NP'!C32 -> 0 | E33: ='Begroting SUMS_SU NP'!D32 -> 0 | F33: ='Begroting SUMS_SU NP'!E32 -> 0 | G33: =E33*F33 -> 0
B34: ='Begroting SUMS_SU NP'!A33 -> 0 | C34: ='Begroting SUMS_SU NP'!B33 -> 0 | D34: ='Begroting SUMS_SU NP'!C33 -> 0 | E34: ='Begroting SUMS_SU NP'!D33 -> 0 | F34: ='Begroting SUMS_SU NP'!E33 -> 0 | G34: =E34*F34 -> 0
B35: ='Begroting SUMS_SU NP'!A34 -> 0 | C35: ='Begroting SUMS_SU NP'!B34 -> 0 | D35: ='Begroting SUMS_SU NP'!C34 -> 0 | E35: ='Begroting SUMS_SU NP'!D34 -> 0 | F35: ='Begroting SUMS_SU NP'!E34 -> 0 | G35: =E35*F35 -> 0
B36: ='Begroting SUMS_SU NP'!A35 -> 0 | C36: ='Begroting SUMS_SU NP'!B35 -> 0 | D36: ='Begroting SUMS_SU NP'!C35 -> 0 | E36: ='Begroting SUMS_SU NP'!D35 -> 0 | F36: ='Begroting SUMS_SU NP'!E35 -> 0 | G36: =E36*F36 -> 0
B37: ='Begroting SUMS_SU NP'!A36 -> 0 | C37: ='Begroting SUMS_SU NP'!B36 -> 0 | D37: ='Begroting SUMS_SU NP'!C36 -> 0 | E37: ='Begroting SUMS_SU NP'!D36 -> 0 | F37: ='Begroting SUMS_SU NP'!E36 -> 0 | G37: =E37*F37 -> 0
B38: ='Begroting SUMS_SU NP'!A37 -> 0 | C38: ='Begroting SUMS_SU NP'!B37 -> 0 | D38: ='Begroting SUMS_SU NP'!C37 -> 0 | E38: ='Begroting SUMS_SU NP'!D37 -> 0 | F38: ='Begroting SUMS_SU NP'!E37 -> 0 | G38: =E38*F38 -> 0
B39: ='Begroting SUMS_SU NP'!A38 -> 0 | C39: ='Begroting SUMS_SU NP'!B38 -> 0 | D39: ='Begroting SUMS_SU NP'!C38 -> 0 | E39: ='Begroting SUMS_SU NP'!D38 -> 0 | F39: ='Begroting SUMS_SU NP'!E38 -> 0 | G39: =E39*F39 -> 0
B40: ='Begroting SUMS_SU NP'!A39 -> 0 | C40: ='Begroting SUMS_SU NP'!B39 -> 0 | D40: ='Begroting SUMS_SU NP'!C39 -> 0 | E40: ='Begroting SUMS_SU NP'!D39 -> 0 | F40: ='Begroting SUMS_SU NP'!E39 -> 0 | G40: =E40*F40 -> 0
B41: ='Begroting SUMS_SU NP'!A40 -> 0 | C41: ='Begroting SUMS_SU NP'!B40 -> 0 | D41: ='Begroting SUMS_SU NP'!C40 -> 0 | E41: ='Begroting SUMS_SU NP'!D40 -> 0 | F41: ='Begroting SUMS_SU NP'!E40 -> 0 | G41: =E41*F41 -> 0
B42: ='Begroting SUMS_SU NP'!A41 -> 0 | C42: ='Begroting SUMS_SU NP'!B41 -> 0 | D42: ='Begroting SUMS_SU NP'!C41 -> 0 | E42: ='Begroting SUMS_SU NP'!D41 -> 0 | F42: ='Begroting SUMS_SU NP'!E41 -> 0 | G42: =E42*F42 -> 0
B43: ='Begroting SUMS_SU NP'!A42 -> 0 | C43: ='Begroting SUMS_SU NP'!B42 -> 0 | D43: ='Begroting SUMS_SU NP'!C42 -> 0 | E43: ='Begroting SUMS_SU NP'!D42 -> 0 | F43: ='Begroting SUMS_SU NP'!E42 -> 0 | G43: =E43*F43 -> 0
B44: ='Begroting SUMS_SU NP'!A43 -> 0 | C44: ='Begroting SUMS_SU NP'!B43 -> 0 | D44: ='Begroting SUMS_SU NP'!C43 -> 0 | E44: ='Begroting SUMS_SU NP'!D43 -> 0 | F44: ='Begroting SUMS_SU NP'!E43 -> 0 | G44: =E44*F44 -> 0
... B62: ='Begroting SUMS_SU NP'!A61 -> 0 | C62: ='Begroting SUMS_SU NP'!B61 -> 0 | D62: ='Begroting SUMS_SU NP'!C61 -> 0 | E62: ='Begroting SUMS_SU NP'!D61 -> 0 | F62: ='Begroting SUMS_SU NP'!E61 -> 0 | G62: =E62*F62 -> 0
F63: Totaal: | G63: =SUM(G33:G62) -> 0
B66: Aan derden verschuldigde kosten*
B67: Omschrijving kosten | C67: Totale subsidiabele Kosten
B68: ='Begroting SUMS_SU NP'!A67 -> 0 | C68: ='Begroting SUMS_SU NP'!B67 -> 0
B69: ='Begroting SUMS_SU NP'!A68 -> 0 | C69: ='Begroting SUMS_SU NP'!B68 -> 0
B70: ='Begroting SUMS_SU NP'!A69 -> 0 | C70: ='Begroting SUMS_SU NP'!B69 -> 0
B71: ='Begroting SUMS_SU NP'!A70 -> 0 | C71: ='Begroting SUMS_SU NP'!B70 -> 0
B72: ='Begroting SUMS_SU NP'!A71 -> 0 | C72: ='Begroting SUMS_SU NP'!B71 -> 0
B73: ='Begroting SUMS_SU NP'!A72 -> 0 | C73: ='Begroting SUMS_SU NP'!B72 -> 0
B74: ='Begroting SUMS_SU NP'!A73 -> 0 | C74: ='Begroting SUMS_SU NP'!B73 -> 0
B75: ='Begroting SUMS_SU NP'!A74 -> 0 | C75: ='Begroting SUMS_SU NP'!B74 -> 0
B76: ='Begroting SUMS_SU NP'!A75 -> 0 | C76: ='Begroting SUMS_SU NP'!B75 -> 0
B77: ='Begroting SUMS_SU NP'!A76 -> 0 | C77: ='Begroting SUMS_SU NP'!B76 -> 0
B78: ='Begroting SUMS_SU NP'!A77 -> 0 | C78: ='Begroting SUMS_SU NP'!B77 -> 0
B79: ='Begroting SUMS_SU NP'!A78 -> 0 | C79: ='Begroting SUMS_SU NP'!B78 -> 0 | K79: Ja/Nee
B80: ='Begroting SUMS_SU NP'!A79 -> 0 | C80: ='Begroting SUMS_SU NP'!B79 -> 0 | K80: Bestaande
B81: ='Begroting SUMS_SU NP'!A80 -> 0 | C81: ='Begroting SUMS_SU NP'!B80 -> 0 | K81: Nieuw
B82: ='Begroting SUMS_SU NP'!A81 -> 0 | C82: ='Begroting SUMS_SU NP'!B81 -> 0
B83: Totaal: | C83: =SUM(C68:C82) -> 0
B87: Afschrijvingen
B88: Omschrijving van de vaste activa/ investering (dient aan te sluiten met wat bij paragraaf x in het projectplan staat ) | C88: Maak een selectie: Bestaande vaste activa of een investering speciaal gemaakt voor dit project? Bestaande/ Nieuw | D88: Datum aanschaffing (Bij bestaande vaste activa gaat het om de historische aanschafdatum) DD-M-JJJJ | E88: Bij bestaande vaste activa, vul hier de boekwaarde in per de startdatum van dit project. Bij investeringen voor dit project, vul de aanschafwaarde in. | F88: Vul hier in: De totale afschrijving gedurende de looptijd van dit project € | G88: Boekwaarde na afloop van dit project € | H88: Naar schatting; Vul hier in % in: Hoeveel procent van de totale afschrijving gedurende de looptijd van dit project rekent u toe als subsidiabel? Zie kolom G. | I88: Totale subsidiabele afschrijvingen
B89: ='Begroting SUMS_SU NP'!A88 -> 0 | C89: ='Begroting SUMS_SU NP'!B88 -> 0 | D89: ='Begroting SUMS_SU NP'!C88 -> 0 | E89: ='Begroting SUMS_SU NP'!D88 -> 0 | F89: ='Begroting SUMS_SU NP'!E88 -> 0 | G89: =E89-F89 -> 0 | H89: ='Begroting SUMS_SU NP'!G88 -> 0 | I89: =H89*F89 -> 0
B90: ='Begroting SUMS_SU NP'!A89 -> 0 | C90: ='Begroting SUMS_SU NP'!B89 -> 0 | D90: ='Begroting SUMS_SU NP'!C89 -> 0 | E90: ='Begroting SUMS_SU NP'!D89 -> 0 | F90: ='Begroting SUMS_SU NP'!E89 -> 0 | G90: =E90-F90 -> 0 | H90: ='Begroting SUMS_SU NP'!G89 -> 0 | I90: =H90*F90 -> 0
B91: ='Begroting SUMS_SU NP'!A90 -> 0 | C91: ='Begroting SUMS_SU NP'!B90 -> 0 | D91: ='Begroting SUMS_SU NP'!C90 -> 0 | E91: ='Begroting SUMS_SU NP'!D90 -> 0 | F91: ='Begroting SUMS_SU NP'!E90 -> 0 | G91: =E91-F91 -> 0 | H91: ='Begroting SUMS_SU NP'!G90 -> 0 | I91: =H91*F91 -> 0
B92: ='Begroting SUMS_SU NP'!A91 -> 0 | C92: ='Begroting SUMS_SU NP'!B91 -> 0 | D92: ='Begroting SUMS_SU NP'!C91 -> 0 | E92: ='Begroting SUMS_SU NP'!D91 -> 0 | F92: ='Begroting SUMS_SU NP'!E91 -> 0 | G92: =E92-F92 -> 0 | H92: ='Begroting SUMS_SU NP'!G91 -> 0 | I92: =H92*F92 -> 0
B93: ='Begroting SUMS_SU NP'!A92 -> 0 | C93: ='Begroting SUMS_SU NP'!B92 -> 0 | D93: ='Begroting SUMS_SU NP'!C92 -> 0 | E93: ='Begroting SUMS_SU NP'!D92 -> 0 | F93: ='Begroting SUMS_SU NP'!E92 -> 0 | G93: =E93-F93 -> 0 | H93: ='Begroting SUMS_SU NP'!G92 -> 0 | I93: =H93*F93 -> 0
B94: ='Begroting SUMS_SU NP'!A93 -> 0 | C94: ='Begroting SUMS_SU NP'!B93 -> 0 | D94: ='Begroting SUMS_SU NP'!C93 -> 0 | E94: ='Begroting SUMS_SU NP'!D93 -> 0 | F94: ='Begroting SUMS_SU NP'!E93 -> 0 | G94: =E94-F94 -> 0 | H94: ='Begroting SUMS_SU NP'!G93 -> 0 | I94: =H94*F94 -> 0
B95: ='Begroting SUMS_SU NP'!A94 -> 0 | C95: ='Begroting SUMS_SU NP'!B94 -> 0 | D95: ='Begroting SUMS_SU NP'!C94 -> 0 | E95: ='Begroting SUMS_SU NP'!D94 -> 0 | F95: ='Begroting SUMS_SU NP'!E94 -> 0 | G95: =E95-F95 -> 0 | H95: ='Begroting SUMS_SU NP'!G94 -> 0 | I95: =H95*F95 -> 0
B96: ='Begroting SUMS_SU NP'!A95 -> 0 | C96: ='Begroting SUMS_SU NP'!B95 -> 0 | D96: ='Begroting SUMS_SU NP'!C95 -> 0 | E96: ='Begroting SUMS_SU NP'!D95 -> 0 | F96: ='Begroting SUMS_SU NP'!E95 -> 0 | G96: =E96-F96 -> 0 | H96: ='Begroting SUMS_SU NP'!G95 -> 0 | I96: =H96*F96 -> 0
B97: ='Begroting SUMS_SU NP'!A96 -> 0 | C97: ='Begroting SUMS_SU NP'!B96 -> 0 | D97: ='Begroting SUMS_SU NP'!C96 -> 0 | E97: ='Begroting SUMS_SU NP'!D96 -> 0 | F97: ='Begroting SUMS_SU NP'!E96 -> 0 | G97: =E97-F97 -> 0 | H97: ='Begroting SUMS_SU NP'!G96 -> 0 | I97: =H97*F97 -> 0
B98: ='Begroting SUMS_SU NP'!A97 -> 0 | C98: ='Begroting SUMS_SU NP'!B97 -> 0 | D98: ='Begroting SUMS_SU NP'!C97 -> 0 | E98: ='Begroting SUMS_SU NP'!D97 -> 0 | F98: ='Begroting SUMS_SU NP'!E97 -> 0 | G98: =E98-F98 -> 0 | H98: ='Begroting SUMS_SU NP'!G97 -> 0 | I98: =H98*F98 -> 0
B99: ='Begroting SUMS_SU NP'!A98 -> 0 | C99: ='Begroting SUMS_SU NP'!B98 -> 0 | D99: ='Begroting SUMS_SU NP'!C98 -> 0 | E99: ='Begroting SUMS_SU NP'!D98 -> 0 | F99: ='Begroting SUMS_SU NP'!E98 -> 0 | G99: =E99-F99 -> 0 | H99: ='Begroting SUMS_SU NP'!G98 -> 0 | I99: =H99*F99 -> 0
B100: ='Begroting SUMS_SU NP'!A99 -> 0 | C100: ='Begroting SUMS_SU NP'!B99 -> 0 | D100: ='Begroting SUMS_SU NP'!C99 -> 0 | E100: ='Begroting SUMS_SU NP'!D99 -> 0 | F100: ='Begroting SUMS_SU NP'!E99 -> 0 | G100: =E100-F100 -> 0 | H100: ='Begroting SUMS_SU NP'!G99 -> 0 | I100: =H100*F100 -> 0
... B103: ='Begroting SUMS_SU NP'!A102 -> 0 | C103: ='Begroting SUMS_SU NP'!B102 -> 0 | D103: ='Begroting SUMS_SU NP'!C102 -> 0 | E103: ='Begroting SUMS_SU NP'!D102 -> 0 | F103: ='Begroting SUMS_SU NP'!E102 -> 0 | G103: =E103-F103 -> 0 | H103: ='Begroting SUMS_SU NP'!G102 -> 0 | I103: =H103*F103 -> 0
B104: Totaal: | I104: =SUM(I89:I103) -> 0
B109: Ruimte voor toelichting
B110: {='Begroting SUMS_SU NP'!A109:F113} -> #VALUE!
B117: Totaaloverzicht
B118: Budget t.b.v. Financiering van activiteiten van natuurlijke personen: | C118: ='Begroting SUMS_SU NP'!B117 -> 0
B119: Totale subsidiabele Uitvoeringskosten: | C119: ='Begroting SUMS_SU NP'!B118 -> 0
B120: Totale projectkosten | C120: =SUM(C118:C119) -> 0
B121: Gevraagde subsidie | C121: ='Begroting SUMS_SU NP'!B120 -> 0
