Workbook

Sheet Instructies
A1: Model begroting Subsidieprogramma
A2: Maatschappelijke initiatieven trans-Atlantisch slavernijverleden voor Suriname 2026–2030
A3: Zo vult u het begrotingsformat in
A4: Werk de stappen in volgorde af.
A5: De gele cellen zijn invulbaar. De blauwe cellen zijn beveiligd en worden automatisch berekend.
A7: VOORDAT U BEGINT
A9: Zorg dat u het volgende bij de hand heeft:
A10: De Beleidsregels, in het bijzonder § 4.2, § 4.4.3 en § 7.
A11: De aanschafgegevens van eventuele vaste activa die u wilt opvoeren.
A13: BLAD BEGROTING SUMS_SU NP
A14: Algemeen:
A15: Vul de gegevens van de organisatie in.
... A73: ☐ Het aangevraagde subsidiebedrag is niet hoger dan € 1.500.000,00.

Sheet Begroting SUMS_SU NP
A1: Model begroting Subsidieprogramma Maatschappelijke initiatieven trans-Atlantisch slavernijverleden voor Suriname 2026–2030
A3: Model voor projecten gericht op de financiering van activiteiten van natuurlijke personen door een maatschappelijke organisatie tot € 1.500.000.
A5: Invulinstructie
A6: Vul uitsluitend de geel gemarkeerde cellen in. De blauw gemarkeerde cellen worden automatisch berekend en ingevuld.
A8: Gegevens aanvrager
A9: Naam organisatie
A10: Type organisatie | B10: Maatschappelijke organisatie
A14: Projectgegevens
A15: Projecttitel
A16: Referentienummer | C16: Wordt door RVO ingevuld
A17: Startdatum project
A18: Einddatum project
A19: De looptijd van het project mag niet langer dan 4 jaar zijn.
A21: Projectbegroting
A24: Budget voor financiering van activiteiten van natuurlijke personen | C24: Bedrag €
A25: Toe te kennen financiering aan natuurlijke personen | C25: 0
A26: Totaal | C26: =SUM(C25) -> 0
A28: Uitvoeringskosten
A30: Personeelskosten
A31: Naam medewerker | B31: Functie | C31: Werkzaamheden | D31: Uren | E31: Uurtarief | F31: Kosten
F32: =D32*E32 -> 0
F33: =D33*E33 -> 0
F34: =D34*E34 -> 0
F35: =D35*E35 -> 0
F36: =D36*E36 -> 0
F37: =D37*E37 -> 0
F38: =D38*E38 -> 0
F39: =D39*E39 -> 0
F40: =D40*E40 -> 0
F41: =D41*E41 -> 0
F42: =D42*E42 -> 0
F43: =D43*E43 -> 0
... F61: =D61*E61 -> 0
E62: Totaal: | F62: =SUM(F32:F61) -> 0
A65: Aan derden verschuldigde kosten
A66: Omschrijving kosten | B66: Totale subsidiabele kosten
B67: 0
B68: 0
B69: 0
B70: 0
...

Sheet Werkblad FEM
B4: Model voor projecten gericht op de financiering van activiteiten van natuurlijke personen door een maatschappelijke organisatie tot € 1.500.000
C5: Blad is niet beveiligd
B6: Gegevens aanvrager | G6: Invulinstructie
B7: Naam organisatie | C7: ='Begroting SUMS_SU NP'!B9 -> 0 | G7: Vul uitsluitend de geel gemarkeerde cellen in. De blauw gemarkeerde cellen worden automatisch berekend en ingevuld.
B8: Type organisatie | C8: Maatschappelijke organisatie
B12: Projectgegevens
B13: Projecttitel | C13: ='Begroting SUMS_SU NP'!B15 -> 0
B14: Referentienummer: | C14: ='Begroting SUMS_SU NP'!B16 -> 0 | D14: Wordt door RVO ingevuld
B15: Startdatum project | C15: ='Begroting SUMS_SU NP'!B17 -> 0
B16: Einddatum project | C16: ='Begroting SUMS_SU NP'!B18 -> 0
B17: De looptijd van het project mag niet langer dan 4 jaar zijn.
B19: Projectbegroting | C19: Uitvoeringskosten
B23: Budget t.b.v. Financiering van activiteiten van natuurlijke personen: | D23: Bedrag €
B24: Toe te kennen financiering aan natuurlijke personen | D24: ='Begroting SUMS_SU NP'!C25 -> 0
B25: Totaal | D25: =SUM(D24) -> 0
B30: Personeelskosten
B31: Naam medewerker | C31: Functie | D31: Werkzaamheden | E31: Uren | F31: Uurtarief | G31: Kosten
B32: ='Begroting SUMS_SU NP'!A32 -> 0 | C32: ='Begroting SUMS_SU NP'!B32 -> 0 | D32: ='Begroting SUMS_SU NP'!C32 -> 0 | E32: ='Begroting SUMS_SU NP'!D32 -> 0 | F32: ='Begroting SUMS_SU NP'!E32 -> 0 | G32: =E32*F32 -> 0
B33: ='Begroting SUMS_SU NP'!A33 -> 0 | C33: ='Begroting SUMS_SU NP'!B33 -> 0 | D33: ='Begroting SUMS_SU NP'!C33 -> 0 | E33: ='Begroting SUMS_SU NP'!D33 -> 0 | F33: ='Begroting SUMS_SU NP'!E33 -> 0 | G33: =E33*F33 -> 0
B34: ='Begroting SUMS_SU NP'!A34 -> 0 | C34: ='Begroting SUMS_SU NP'!B34 -> 0 | D34: ='Begroting SUMS_SU NP'!C34 -> 0 | E34: ='Begroting SUMS_SU NP'!D34 -> 0 | F34: ='Begroting SUMS_SU NP'!E34 -> 0 | G34: =E34*F34 -> 0
B35: ='Begroting SUMS_SU NP'!A35 -> 0 | C35: ='Begroting SUMS_SU NP'!B35 -> 0 | D35: ='Begroting SUMS_SU NP'!C35 -> 0 | E35: ='Begroting SUMS_SU NP'!D35 -> 0 | F35: ='Begroting SUMS_SU NP'!E35 -> 0 | G35: =E35*F35 -> 0
B36: ='Begroting SUMS_SU NP'!A36 -> 0 | C36: ='Begroting SUMS_SU NP'!B36 -> 0 | D36: ='Begroting SUMS_SU NP'!C36 -> 0 | E36: ='Begroting SUMS_SU NP'!D36 -> 0 | F36: ='Begroting SUMS_SU NP'!E36 -> 0 | G36: =E36*F36 -> 0
B37: ='Begroting SUMS_SU NP'!A37 -> 0 | C37: ='Begroting SUMS_SU NP'!B37 -> 0 | D37: ='Begroting SUMS_SU NP'!C37 -> 0 | E37: ='Begroting SUMS_SU NP'!D37 -> 0 | F37: ='Begroting SUMS_SU NP'!E37 -> 0 | G37: =E37*F37 -> 0
B38: ='Begroting SUMS_SU NP'!A38 -> 0 | C38: ='Begroting SUMS_SU NP'!B38 -> 0 | D38: ='Begroting SUMS_SU NP'!C38 -> 0 | E38: ='Begroting SUMS_SU NP'!D38 -> 0 | F38: ='Begroting SUMS_SU NP'!E38 -> 0 | G38: =E38*F38 -> 0
B39: ='Begroting SUMS_SU NP'!A39 -> 0 | C39: ='Begroting SUMS_SU NP'!B39 -> 0 | D39: ='Begroting SUMS_SU NP'!C39 -> 0 | E39: ='Begroting SUMS_SU NP'!D39 -> 0 | F39: ='Begroting SUMS_SU NP'!E39 -> 0 | G39: =E39*F39 -> 0
B40: ='Begroting SUMS_SU NP'!A40 -> 0 | C40: ='Begroting SUMS_SU NP'!B40 -> 0 | D40: ='Begroting SUMS_SU NP'!C40 -> 0 | E40: ='Begroting SUMS_SU NP'!D40 -> 0 | F40: ='Begroting SUMS_SU NP'!E40 -> 0 | G40: =E40*F40 -> 0
B41: ='Begroting SUMS_SU NP'!A41 -> 0 | C41: ='Begroting SUMS_SU NP'!B41 -> 0 | D41: ='Begroting SUMS_SU NP'!C41 -> 0 | E41: ='Begroting SUMS_SU NP'!D41 -> 0 | F41: ='Begroting SUMS_SU NP'!E41 -> 0 | G41: =E41*F41 -> 0
B42: ='Begroting SUMS_SU NP'!A42 -> 0 | C42: ='Begroting SUMS_SU NP'!B42 -> 0 | D42: ='Begroting SUMS_SU NP'!C42 -> 0 | E42: ='Begroting SUMS_SU NP'!D42 -> 0 | F42: ='Begroting SUMS_SU NP'!E42 -> 0 | G42: =E42*F42 -> 0
B43: ='Begroting SUMS_SU NP'!A43 -> 0 | C43: ='Begroting SUMS_SU NP'!B43 -> 0 | D43: ='Begroting SUMS_SU NP'!C43 -> 0 | E43: ='Begroting SUMS_SU NP'!D43 -> 0 | F43: ='Begroting SUMS_SU NP'!E43 -> 0 | G43: =E43*F43 -> 0
... B61: ='Begroting SUMS_SU NP'!A61 -> 0 | C61: ='Begroting SUMS_SU NP'!B61 -> 0 | D61: ='Begroting SUMS_SU NP'!C61 -> 0 | E61: ='Begroting SUMS_SU NP'!D61 -> 0 | F61: ='Begroting SUMS_SU NP'!E61 -> 0 | G61: =E61*F61 -> 0
F62: Totaal: | G62: =SUM(G32:G61) -> 0
B65: Aan derden verschuldigde kosten
B66: Omschrijving kosten | C66: Totale subsidiabele Kosten
B67: ='Begroting SUMS_SU NP'!A67 -> 0 | C67: ='Begroting SUMS_SU NP'!B67 -> 0
B68: ='Begroting SUMS_SU NP'!A68 -> 0 | C68: ='Begroting SUMS_SU NP'!B68 -> 0
B69: ='Begroting SUMS_SU NP'!A69 -> 0 | C69: ='Begroting SUMS_SU NP'!B69 -> 0
B70: ='Begroting SUMS_SU NP'!A70 -> 0 | C70: ='Begroting SUMS_SU NP'!B70 -> 0
B71: ='Begroting SUMS_SU NP'!A71 -> 0 | C71: ='Begroting SUMS_SU NP'!B71 -> 0
B72: ='Begroting SUMS_SU NP'!A72 -> 0 | C72: ='Begroting SUMS_SU NP'!B72 -> 0
B73: ='Begroting SUMS_SU NP'!A73 -> 0 | C73: ='Begroting SUMS_SU NP'!B73 -> 0
...

Sheet Bijlage voor de beschikking
B4: Model voor projecten gericht op de financiering van activiteiten van natuurlijke personen door een maatschappelijke organisatie tot € 1.500.000
C5: Blad is niet beveiligd
B6: Gegevens aanvrager | G6: Invulinstructie
B7: Naam organisatie | C7: ='Begroting SUMS_SU NP'!B9 -> 0 | G7: Vul uitsluitend de geel gemarkeerde cellen in. De blauw gemarkeerde cellen worden automatisch berekend en ingevuld.
B8: Type organisatie | C8: Maatschappelijke organisatie
B12: Projectgegevens
B13: Projecttitel | C13: ='Begroting SUMS_SU NP'!B15 -> 0
B14: Referentienummer: | C14: ='Begroting SUMS_SU NP'!B16 -> 0 | D14: Wordt door RVO ingevuld
B15: Startdatum project | C15: ='Begroting SUMS_SU NP'!B17 -> 0
B16: Einddatum project | C16: ='Begroting SUMS_SU NP'!B18 -> 0
B17: De looptijd van het project mag niet langer dan 4 jaar zijn.
B19: Projectbegroting
B21: Opmerking: Selecteer de cel * voor meer informatie.
B24: Budget t.b.v. Financiering van activiteiten van natuurlijke personen: | D24: Bedrag €
B25: Toe te kennen financiering aan natuurlijke personen | D25: ='Begroting SUMS_SU NP'!C25 -> 0
B26: Totaal | D26: =SUM(D25) -> 0
B28: Uitvoeringskosten
B31: Personeelskosten*
B32: Naam medewerker | C32: Functie | D32: Werkzaamheden | E32: Uren | F32: Uurtarief* | G32: Kosten
B33: ='Begroting SUMS_SU NP'!A32 -> 0 | C33: ='Begroting SUMS_SU NP'!B32 -> 0 | D33: ='Begroting SUMS_SU NP'!C32 -> 0 | E33: ='Begroting SUMS_SU NP'!D32 -> 0 | F33: ='Begroting SUMS_SU NP'!E32 -> 0 | G33: =E33*F33 -> 0
B34: ='Begroting SUMS_SU NP'!A33 -> 0 | C34: ='Begroting SUMS_SU NP'!B33 -> 0 | D34: ='Begroting SUMS_SU NP'!C33 -> 0 | E34: ='Begroting SUMS_SU NP'!D33 -> 0 | F34: ='Begroting SUMS_SU NP'!E33 -> 0 | G34: =E34*F34 -> 0
B35: ='Begroting SUMS_SU NP'!A34 -> 0 | C35: ='Begroting SUMS_SU NP'!B34 -> 0 | D35: ='Begroting SUMS_SU NP'!C34 -> 0 | E35: ='Begroting SUMS_SU NP'!D34 -> 0 | F35: ='Begroting SUMS_SU NP'!E34 -> 0 | G35: =E35*F35 -> 0
B36: ='Begroting SUMS_SU NP'!A35 -> 0 | C36: ='Begroting SUMS_SU NP'!B35 -> 0 | D36: ='Begroting SUMS_SU NP'!C35 -> 0 | E36: ='Begroting SUMS_SU NP'!D35 -> 0 | F36: ='Begroting SUMS_SU NP'!E35 -> 0 | G36: =E36*F36 -> 0
B37: ='Begroting SUMS_SU NP'!A36 -> 0 | C37: ='Begroting SUMS_SU NP'!B36 -> 0 | D37: ='Begroting SUMS_SU NP'!C36 -> 0 | E37: ='Begroting SUMS_SU NP'!D36 -> 0 | F37: ='Begroting SUMS_SU NP'!E36 -> 0 | G37: =E37*F37 -> 0
B38: ='Begroting SUMS_SU NP'!A37 -> 0 | C38: ='Begroting SUMS_SU NP'!B37 -> 0 | D38: ='Begroting SUMS_SU NP'!C37 -> 0 | E38: ='Begroting SUMS_SU NP'!D37 -> 0 | F38: ='Begroting SUMS_SU NP'!E37 -> 0 | G38: =E38*F38 -> 0
B39: ='Begroting SUMS_SU NP'!A38 -> 0 | C39: ='Begroting SUMS_SU NP'!B38 -> 0 | D39: ='Begroting SUMS_SU NP'!C38 -> 0 | E39: ='Begroting SUMS_SU NP'!D38 -> 0 | F39: ='Begroting SUMS_SU NP'!E38 -> 0 | G39: =E39*F39 -> 0
B40: ='Begroting SUMS_SU NP'!A39 -> 0 | C40: ='Begroting SUMS_SU NP'!B39 -> 0 | D40: ='Begroting SUMS_SU NP'!C39 -> 0 | E40: ='Begroting SUMS_SU NP'!D39 -> 0 | F40: ='Begroting SUMS_SU NP'!E39 -> 0 | G40: =E40*F40 -> 0
B41: ='Begroting SUMS_SU NP'!A40 -> 0 | C41: ='Begroting SUMS_SU NP'!B40 -> 0 | D41: ='Begroting SUMS_SU NP'!C40 -> 0 | E41: ='Begroting SUMS_SU NP'!D40 -> 0 | F41: ='Begroting SUMS_SU NP'!E40 -> 0 | G41: =E41*F41 -> 0
B42: ='Begroting SUMS_SU NP'!A41 -> 0 | C42: ='Begroting SUMS_SU NP'!B41 -> 0 | D42: ='Begroting SUMS_SU NP'!C41 -> 0 | E42: ='Begroting SUMS_SU NP'!D41 -> 0 | F42: ='Begroting SUMS_SU NP'!E41 -> 0 | G42: =E42*F42 -> 0
B43: ='Begroting SUMS_SU NP'!A42 -> 0 | C43: ='Begroting SUMS_SU NP'!B42 -> 0 | D43: ='Begroting SUMS_SU NP'!C42 -> 0 | E43: ='Begroting SUMS_SU NP'!D42 -> 0 | F43: ='Begroting SUMS_SU NP'!E42 -> 0 | G43: =E43*F43 -> 0
B44: ='Begroting SUMS_SU NP'!A43 -> 0 | C44: ='Begroting SUMS_SU NP'!B43 -> 0 | D44: ='Begroting SUMS_SU NP'!C43 -> 0 | E44: ='Begroting SUMS_SU NP'!D43 -> 0 | F44: ='Begroting SUMS_SU NP'!E43 -> 0 | G44: =E44*F44 -> 0
... B62: ='Begroting SUMS_SU NP'!A61 -> 0 | C62: ='Begroting SUMS_SU NP'!B61 -> 0 | D62: ='Begroting SUMS_SU NP'!C61 -> 0 | E62: ='Begroting SUMS_SU NP'!D61 -> 0 | F62: ='Begroting SUMS_SU NP'!E61 -> 0 | G62: =E62*F62 -> 0
F63: Totaal: | G63: =SUM(G33:G62) -> 0
B66: Aan derden verschuldigde kosten*
B67: Omschrijving kosten | C67: Totale subsidiabele Kosten
B68: ='Begroting SUMS_SU NP'!A67 -> 0 | C68: ='Begroting SUMS_SU NP'!B67 -> 0
B69: ='Begroting SUMS_SU NP'!A68 -> 0 | C69: ='Begroting SUMS_SU NP'!B68 -> 0
B70: ='Begroting SUMS_SU NP'!A69 -> 0 | C70: ='Begroting SUMS_SU NP'!B69 -> 0
B71: ='Begroting SUMS_SU NP'!A70 -> 0 | C71: ='Begroting SUMS_SU NP'!B70 -> 0
B72: ='Begroting SUMS_SU NP'!A71 -> 0 | C72: ='Begroting SUMS_SU NP'!B71 -> 0
...
