Workbook
Name Kostensystematiek: '[1]Penvoerder-aanvrager 1'!$J$9:$J$12

Sheet Voorblad
A10: Begroting Subsidiemodule Jong Leren Eten 2027-2028
C14: Versie: augustus 2026

Sheet Invulwijzer
B2: Instructie Kostenbegroting JLE 2027-2028
B4: Algemeen
B5: Gebruik dit format om de begrote kosten en de aangevraagde subsidie in te vullen. U hoeft alleen in de grijze velden gegevens in te vullen, het format rekent automatisch de totale kosten en subsidie uit.
B6: Indien nodig kunnen extra regels worden toegevoegd. Let hierbij goed op de formules voor een correcte berekening.
B7: IIn lijn met de Subsidieregeling geeft u voor 2027 een gedetailleerde begroting. Voor 2028 kunt u volstaan met een algemenere begroting, die u bij de voortgangsrapportage van 2027 gedetailleerd moet meesturen.
B8: Geef in de deelnemerstabbladen in kolom Activiteit (loonkosten) een korte beschrijving aan van de activiteit.
B10: Samenwerkingsverband (indien van toepassing)
B11: Als de aanvrager tevens de enige deelnemer in het project is (geen samenwerkingsverband) dan vult u alleen tab Penvoerder (deelnemer 1) van dit bestand in .
B12: Indien sprake is van een samenwerkingsverband met meerdere deelnemers (aanvragers) dienen de andere tabbladen ook ingevuld te worden.
B13: Per deelnemer kan er sprake zijn van één of meer makelaars; deze zijn in dienst van de deelnemer of zijn ingehuurd door de deelnemer.
B14: Elke deelnemer is verantwoordelijk voor de volledigheid en juistheid van de opgegeven kosten.
B16: Kosten
... B52: Neem bij twijfels contact op met RVO.

Sheet Penvoerder (deelnemer 1)
G1: Kleine onderneming
B2: Naam penvoerder (deelnemer 1): | C2: Penvoerder (deelnemer 1) (invullen)
B3: Projecttitel: | C3: Projecttitel (invullen)
A7: 1. | B7: Loonkosten 2027 | J7: 1. | K7: Loonkosten 2028
B9: Medewerker | C9: Maak keuze | D9: Omschrijving Activiteit | E9: Uurtarief in € | F9: Uren | G9: Uren x tarief | K9: Medewerker | L9: Maak keuze | M9: Activiteit | N9: Uurtarief in € | O9: Uren | P9: Uren x tarief
C10: Inhuur | G10: =$E10*F10 -> 0 | L10: Loondienst | P10: =$N10*O10 -> 0
C11: Loondienst | G11: =$E11*F11 -> 0 | L11: Inhuur | P11: =$N11*O11 -> 0
G12: =$E12*F12 -> 0 | P12: =$N12*O12 -> 0
G13: =$E13*F13 -> 0 | P13: =$N13*O13 -> 0
G14: =$E14*F14 -> 0 | P14: =$N14*O14 -> 0
G15: =$E15*F15 -> 0 | P15: =$N15*O15 -> 0
G16: =$E16*F16 -> 0 | P16: =$N16*O16 -> 0
G17: =$E17*F17 -> 0 | P17: =$N17*O17 -> 0
G18: =$E18*F18 -> 0 | P18: =$N18*O18 -> 0
G19: =$E19*F19 -> 0 | P19: =$N19*O19 -> 0
G20: =$E20*F20 -> 0 | P20: =$N20*O20 -> 0
G21: =$E21*F21 -> 0 | P21: =$N21*O21 -> 0
G22: =$E22*F22 -> 0 | P22: =$N22*O22 -> 0
G23: =$E23*F23 -> 0 | P23: =$N23*O23 -> 0
... G28: =$E28*F28 -> 0 | P28: =$N28*O28 -> 0
F30: Totaal Loonkosten | G30: =SUM(G10:G29) -> 0 | O30: Totaal Loonkosten | P30: =SUM(P10:P29) -> 0
A32: 2. | B32: Kosten derden (externe kosten) 2027 | J32: 2. | K32: Kosten derden (externe kosten) 2028
B34: Omschrijving kosten | G34: Kosten in € | K34: Omschrijving kosten | P34: Kosten in €
F61: Totaal: | G61: =SUM(G35:G60) -> 0 | O61: Totaal: | P61: =SUM(P35:P60) -> 0
B64: Totale projectkosten 2027 | G64: =G30+G61 -> 0 | K64: Totale projectkosten 2028 | P64: =P30+P61 -> 0
B67: Toelichting | K67: Toelichting

Sheet Deelnemer 2 
G1: Kleine onderneming
B2: Naam deelnemer 2: | C2: Deelnemer 2 (invullen)
B3: Projecttitel: | C3: Projecttitel (invullen)
A7: 1. | B7: Loonkosten 2027 | J7: 1. | K7: Loonkosten 2028
B9: Medewerker | C9: Maak keuze | D9: Omschrijving Activiteit | E9: Uurtarief in € | F9: Uren | G9: Uren x tarief | K9: Medewerker | L9: Maak keuze | M9: Omschrijving Activiteit | N9: Uurtarief in € | O9: Uren | P9: Uren x tarief
C10: Loondienst | G10: =$E10*F10 -> 0 | L10: Loondienst | P10: =$N10*O10 -> 0
C11: Inhuur | G11: =$E11*F11 -> 0 | L11: Inhuur | P11: =$N11*O11 -> 0
G12: =$E12*F12 -> 0 | P12: =$N12*O12 -> 0
G13: =$E13*F13 -> 0 | P13: =$N13*O13 -> 0
G14: =$E14*F14 -> 0 | P14: =$N14*O14 -> 0
G15: =$E15*F15 -> 0 | P15: =$N15*O15 -> 0
G16: =$E16*F16 -> 0 | P16: =$N16*O16 -> 0
G17: =$E17*F17 -> 0 | P17: =$N17*O17 -> 0
G18: =$E18*F18 -> 0 | P18: =$N18*O18 -> 0
G19: =$E19*F19 -> 0 | P19: =$N19*O19 -> 0
G20: =$E20*F20 -> 0 | P20: =$N20*O20 -> 0
G21: =$E21*F21 -> 0 | P21: =$N21*O21 -> 0
G22: =$E22*F22 -> 0 | P22: =$N22*O22 -> 0
G23: =$E23*F23 -> 0 | P23: =$N23*O23 -> 0
... G28: =$E28*F28 -> 0 | P28: =$N28*O28 -> 0
F30: Totaal Loonkosten | G30: =SUM(G10:G29) -> 0 | O30: Totaal Loonkosten | P30: =SUM(P10:P29) -> 0
A32: 2. | B32: Kosten derden (externe kosten) 2027 | J32: 2. | K32: Kosten derden (externe kosten) 2028
B34: Omschrijving kosten | G34: Kosten in € | K34: Omschrijving kosten | P34: Kosten in €
F61: Totaal: | G61: =SUM(G35:G60) -> 0 | O61: Totaal: | P61: =SUM(P35:P60) -> 0
B64: Totale projectkosten 2027 | G64: =G30+G61 -> 0 | K64: Totale projectkosten 2028 | P64: =P30+P61 -> 0
B67: Toelichting | K67: Toelichting

Sheet Deelnemer 3
G1: Kleine onderneming
B2: Naam deelnemer 3: | C2: Deelnemer 3 (invullen)
B3: Projecttitel: | C3: Projecttitel (invullen)
A7: 1. | B7: Loonkosten 2027 | J7: 1. | K7: Loonkosten 2028
B9: Medewerker | C9: Maak keuze | D9: Omschrijving Activiteit | E9: Uurtarief in € | F9: Uren | G9: Uren x tarief | K9: Medewerker | L9: Maak keuze | M9: Omschrijving Activiteit | N9: Uurtarief in € | O9: Uren | P9: Uren x tarief
C10: Loondienst | G10: =$E10*F10 -> 0 | L10: Loondienst | P10: =$N10*O10 -> 0
C11: Inhuur | G11: =$E11*F11 -> 0 | L11: Inhuur | P11: =$N11*O11 -> 0
G12: =$E12*F12 -> 0 | P12: =$N12*O12 -> 0
G13: =$E13*F13 -> 0 | P13: =$N13*O13 -> 0
G14: =$E14*F14 -> 0 | P14: =$N14*O14 -> 0
G15: =$E15*F15 -> 0 | P15: =$N15*O15 -> 0
G16: =$E16*F16 -> 0 | P16: =$N16*O16 -> 0
G17: =$E17*F17 -> 0 | P17: =$N17*O17 -> 0
G18: =$E18*F18 -> 0 | P18: =$N18*O18 -> 0
G19: =$E19*F19 -> 0 | P19: =$N19*O19 -> 0
G20: =$E20*F20 -> 0 | P20: =$N20*O20 -> 0
G21: =$E21*F21 -> 0 | P21: =$N21*O21 -> 0
G22: =$E22*F22 -> 0 | P22: =$N22*O22 -> 0
G23: =$E23*F23 -> 0 | P23: =$N23*O23 -> 0
... G28: =$E28*F28 -> 0 | P28: =$N28*O28 -> 0
F30: Totaal Loonkosten | G30: =SUM(G10:G29) -> 0 | O30: Totaal Loonkosten | P30: =SUM(P10:P29) -> 0
A32: 2. | B32: Kosten derden (externe kosten) 2027 | J32: 2. | K32: Kosten derden (externe kosten) 2028
B34: Omschrijving kosten | G34: Kosten in € | K34: Omschrijving kosten | P34: Kosten in €
F61: Totaal: | G61: =SUM(G35:G60) -> 0 | O61: Totaal: | P61: =SUM(P35:P60) -> 0
B64: Totale projectkosten 2027 | G64: =G30+G61 -> 0 | K64: Totale projectkosten 2028 | P64: =P30+P61 -> 0
B67: Toelichting | K67: Toelichting

Sheet Deelnemer 4
G1: Kleine onderneming
B2: Naam deelnemer 4: | C2: Deelnemer 4 (invullen)
B3: Projecttitel: | C3: Projecttitel (invullen)
A7: 1. | B7: Loonkosten 2027 | J7: 1. | K7: Loonkosten 2028
B9: Medewerker | C9: Maak keuze | D9: Omschrijving Activiteit | E9: Uurtarief in € | F9: Uren | G9: Uren x tarief | K9: Medewerker | L9: Maak keuze | M9: Omschrijving Activiteit | N9: Uurtarief in € | O9: Uren | P9: Uren x tarief
C10: Loondienst | G10: =$E10*F10 -> 0 | L10: Loondienst | P10: =$N10*O10 -> 0
C11: Inhuur | G11: =$E11*F11 -> 0 | L11: Inhuur | P11: =$N11*O11 -> 0
G12: =$E12*F12 -> 0 | P12: =$N12*O12 -> 0
G13: =$E13*F13 -> 0 | P13: =$N13*O13 -> 0
G14: =$E14*F14 -> 0 | P14: =$N14*O14 -> 0
G15: =$E15*F15 -> 0 | P15: =$N15*O15 -> 0
G16: =$E16*F16 -> 0 | P16: =$N16*O16 -> 0
G17: =$E17*F17 -> 0 | P17: =$N17*O17 -> 0
G18: =$E18*F18 -> 0 | P18: =$N18*O18 -> 0
G19: =$E19*F19 -> 0 | P19: =$N19*O19 -> 0
G20: =$E20*F20 -> 0 | P20: =$N20*O20 -> 0
G21: =$E21*F21 -> 0 | P21: =$N21*O21 -> 0
G22: =$E22*F22 -> 0 | P22: =$N22*O22 -> 0
G23: =$E23*F23 -> 0 | P23: =$N23*O23 -> 0
... G28: =$E28*F28 -> 0 | P28: =$N28*O28 -> 0
F30: Totaal Loonkosten | G30: =SUM(G10:G29) -> 0 | O30: Totaal Loonkosten | P30: =SUM(P10:P29) -> 0
A32: 2. | B32: Kosten derden (externe kosten) 2027 | J32: 2. | K32: Kosten derden (externe kosten) 2028
B34: Omschrijving kosten | G34: Kosten in € | K34: Omschrijving kosten | P34: Kosten in €
F61: Totaal: | G61: =SUM(G35:G60) -> 0 | O61: Totaal: | P61: =SUM(P35:P60) -> 0
B64: Totale projectkosten 2027 | G64: =G30+G61 -> 0 | K64: Totale projectkosten 2028 | P64: =P30+P61 -> 0
B67: Toelichting | K67: Toelichting

Sheet TOTAALBLAD
B1: Totaalblad Subsidie Jong Leren Eten 2027-2028
B3: Projecttitel: | C3: ='Penvoerder (deelnemer 1)'!C3 -> Projecttitel (invullen)
B7: Organisatie | C7: ='Penvoerder (deelnemer 1)'!B7 -> Loonkosten 2027 | D7: ='Penvoerder (deelnemer 1)'!B32 -> Kosten derden (externe kosten) 2027 | E7: ='Penvoerder (deelnemer 1)'!K7 -> Loonkosten 2028 | F7: ='Penvoerder (deelnemer 1)'!K32 -> Kosten derden (externe kosten) 2028 | G7: Totaal projectkosten 2027 | H7: Totaal projectkosten 2028 | I7: Totale projectkosten 2027-2028 | J7: Berekend subsidiebedrag 2027 op basis van 100% subsidiepercentage van de projectkosten | K7: Berekend subsidiebedrag 2028 op basis van 100% subsidiepercentage van de projectkosten | L7: Totaal aan te vragen subsidiebedrag 2027-2028
B8: ='Penvoerder (deelnemer 1)'!C2 -> Penvoerder (deelnemer 1) (invullen) | C8: ='Penvoerder (deelnemer 1)'!G30 -> 0 | D8: ='Penvoerder (deelnemer 1)'!G61 -> 0 | E8: ='Penvoerder (deelnemer 1)'!P30 -> 0 | F8: ='Penvoerder (deelnemer 1)'!P61 -> 0 | G8: ='Penvoerder (deelnemer 1)'!G64 -> 0 | H8: ='Penvoerder (deelnemer 1)'!P64 -> 0 | I8: =G8+H8 -> 0 | J8: =100%*G8 -> 0 | K8: =100%*H8 -> 0 | L8: =SUM(J8:K8) -> 0
B9: ='Deelnemer 2 '!C2 -> Deelnemer 2 (invullen) | C9: ='Deelnemer 2 '!G30 -> 0 | D9: ='Deelnemer 2 '!G61 -> 0 | E9: ='Deelnemer 2 '!P30 -> 0 | F9: ='Deelnemer 2 '!P61 -> 0 | G9: ='Deelnemer 2 '!G64 -> 0 | H9: ='Deelnemer 2 '!P64 -> 0 | I9: =G9+H9 -> 0 | J9: =100%*G9 -> 0 | K9: =100%*H9 -> 0 | L9: =SUM(J9:K9) -> 0
B10: ='Deelnemer 3'!C2 -> Deelnemer 3 (invullen) | C10: ='Deelnemer 3'!G30 -> 0 | D10: ='Deelnemer 3'!G61 -> 0 | E10: ='Deelnemer 3'!P30 -> 0 | F10: ='Deelnemer 3'!P61 -> 0 | G10: ='Deelnemer 3'!G64 -> 0 | H10: ='Deelnemer 3'!P64 -> 0 | I10: =G10+H10 -> 0 | J10: =100%*G10 -> 0 | K10: =100%*H10 -> 0 | L10: =SUM(J10:K10) -> 0
B11: ='Deelnemer 4'!C2 -> Deelnemer 4 (invullen) | C11: ='Deelnemer 4'!G30 -> 0 | D11: ='Deelnemer 4'!G61 -> 0 | E11: ='Deelnemer 4'!P30 -> 0 | F11: ='Deelnemer 4'!P61 -> 0 | G11: ='Deelnemer 4'!G64 -> 0 | H11: ='Deelnemer 4'!P64 -> 0 | I11: =G11+H11 -> 0 | J11: =100%*G11 -> 0 | K11: =100%*H11 -> 0 | L11: =SUM(J11:K11) -> 0
B12: Totalen: | C12: =SUM(C8:C11) -> 0 | D12: =SUM(D8:D11) -> 0 | E12: =SUM(E8:E11) -> 0 | F12: =SUM(F8:F11) -> 0 | G12: =SUM(G8:G11) -> 0 | H12: =SUM(H8:H11) -> 0 | I12: =SUM(I8:I11) -> 0 | J12: =SUM(J8:J11) -> 0 | ... L12: =SUM(L8:L11) -> 0
