Workbook
Name BTW: [1]Lijsten!$C$3:$C$5
Name BTW: Lijsten!$C$3:$C$5
Name deelnemers: [1]Deelnemersoverzicht!$B$14:$B$34
Name deelnemers: Deelnemersoverzicht!$B$19:$B$39
Name Einddatum: [1]Deelnemersoverzicht!$C$10
Name Einddatum: Deelnemersoverzicht!$C$9
Name Inkind: [1]Deelnemersoverzicht!$B$49:$B$56
Name Inkind: Deelnemersoverzicht!$B$55:$B$62
Name Loonsystematiek: [1]Lijsten!$G$3:$G$6
Name Loonsystematiek: Lijsten!$G$3:$G$6
Name MaxSubsidie: Lijsten!$D$19
Name Naamregeling: Lijsten!$A$4:$A$5
Name Organisatietype: [1]Lijsten!$A$19:$A$26
Name Organisatietype: Lijsten!$A$20:$A$23
Name Sector: Lijsten!$B$19:$B$26
Name Sponsoren: [1]Deelnemersoverzicht!$B$38:$B$45
Name Sponsoren: Deelnemersoverzicht!$B$43:$B$50
Name Startdatum: [1]Deelnemersoverzicht!$B$10
Name Startdatum: Deelnemersoverzicht!$B$9

Sheet Toelichting begroting
B2: Model begroting Tijdelijke subsidieregeling NBS living labs 2026
B3: Toelichting op de begrotingsposten
B6: Algemeen
B7: Deze begroting bestaat uit gele en blauwe tabbladen:
B8: - De gele tabbladen zijn (deels) bedoeld voor het invullen van gegevens.
B9: - De blauwe tabbladen zijn enkel informatief, hierop kunt u geen gegevens invullen.
B11: Op de gele tabbladen zijn de cellen die u zelf invult geel gemarkeerd. Blauwe cellen worden automatisch ingevuld.
B12: De kosten die onder de subsidie vallen en de subsidie die u vraagt, vult u in op de tabbladen 'Begroting'.
B14: De begroting moet een gedetailleerd beeld geven van de kosten van het project waarvoor u subsidie aanvraagt.
B15: U krijgt subsidie voor onderzoek, om deze reden is de basis het subsidiëren van loonkosten. U kunt subsidie ontvangen voor apparatuur op basis van de afschrijving.
B17: Alle kosten moeten per kostencategorie onderbouwd worden. Zie de toelichtingsvelden onder de begroting.
B19: Projectkosten
B20: Als projectkosten komen de kosten in aanmerking die u in deze begroting opneemt. Voer alleen kosten op die:
B21: l | C21: rechtstreeks zijn toe te rekenen aan het project;
B22: l | C22: voor eigen rekening en risico komen van de aanvrager en de deelnemers in het samenwerkingsverband;
B23: l | C23: werkelijk worden gemaakt en betaald ná indiening van de aanvraag.
B25: 1 Loonkosten
B26: De loonkosten berekent u volgens de door de regeling geaccepteerde systematiek.
B27: De volgende systematieken accepteren wij:
B29: 1. Integrale kostensystematiek (artikel 7 van het Kaderbesluit subsidies I en M)
B30: Voor meer informatie: | E30: https://www.rvo.nl/onderwerpen/subsidiespelregels/ezk/iks
B31: Deze methode is vooral geschikt voor grote organisaties die regelmatig subsidie bij ons aanvragen.
B33: 2. Loonkosten + 50% opslag systematiek (artikel 7 van het Kaderbesluit subsidies I en M)
B34: Voor meer informatie: | E34: www.rvo.nl/subsidies-regelingen/subsidiespelregels/subsidiabele-kosten-algemeen/Loonkosten plus vaste-opslag-systematiek
B35: De directe loonkosten van projectmedewerkers voert u op en wordt automatisch vermeerderd met 50% opslag.
B37: 3. Vast uurtarief van € 80 (artikel 7 van het Kaderbesluit subsidies I en M en artikel 4, lid 6, onder c van de regeling)
B38: Voor meer informatie: | E38: www.rvo.nl/onderwerpen/subsidiespelregels/ezk/vaste-uurtarief
B39: Ook als u geen loonkosten maakt maar er toch arbeid wordt verricht.
B41: Een deelnemer mag slechts één van bovenstaande methodieken gebruiken.
B42: Voor meer informatie: | E42: Subsidiespelregels ministerie van Economische Zaken en Klimaat | RVO.nl
B44: De onder de verschillende links genoemde systematieken en tarieven zijn ook van toepassing bij subsidies van het Ministerie van Infrastructuur en Waterstaat.
B46: 2 Machines en apparaten die u niet uitsluitend voor het project gebruikt
B47: Als u de machine of apparatuur niet uitsluitend voor het project heeft aangeschaft, mag u de afschrijfkosten of leasetermijnen alleen meenemen als u
B48: een sluitende tijdregistratie bijhoudt. U neemt de kosten dan mee naar evenredigheid van de tijd dat de machine of het apparaat tijdens het project
B49: wordt gebruikt, gerelateerd aan de normale bezetting. Als u de integrale kostensystematiek gebruikt, dan kunt u u hier alleen kosten opvoeren als
B50: de kosten geen deel uitmaken van het integrale kostentarief.
B52: Voor meer informatie: | E52: Subsidiespelregels EZK apparatuur
B54: 3 Aan derden verschuldigde kosten
B55: a: Apparatuur uitsluitend voor het project aangeschaft
B57: Houd rekening met een minimale afschrijvingstermijn van 5 jaar. U kunt alleen de afschrijvingskosten opvoeren voor de looptijd van het project.
B58: In de kolommen geeft u aan: de aanschafdatum, de aanschafwaarde en de restwaarde. De de kosten waarvoor u subsidie krijgt (subsidiabele kosten) worden
B59: automatisch berekend in de blauwe kolom. Vervolgens moet u zelf de subsidiabele kosten nog overnemen.
B61: Voor meer informatie: | E61: https://www.rvo.nl/onderwerpen/subsidiespelregels/ezk/apparatuur
B63: b: Verbruikte materialen en hulpmiddelen
B64: Onder verbruikte materialen verstaan wij stoffen die bestemd zijn voor eenmalig gebruik voor het project en na bewerking geen zelfstandige
B65: zaak meer zijn. Hulpmiddelen zijn zelfstandige zaken die u speciaal aanschaft voor het project, die u alleen tijdens het project gebruikt
B66: en na afloop van het project niet meer bruikbaar zijn.
B68: Voor meer informatie: | E68: https://www.rvo.nl/onderwerpen/subsidiespelregels/ezk/materialen
B70: c: Overige aan derden verschuldigde kosten
B71: Dit betreft alle (andere) kosten waarvoor u een factuur ontvangt en direct gerelateerd zijn aan de uitvoering van het project.
B72: Als u een deel van de activiteiten van het project uitbesteedt, kunt u de aan derden verschuldigde kosten aan het project toerekenen.
B74: Voor meer informatie: | E74: https://www.rvo.nl/onderwerpen/subsidiespelregels/ezk/kosten-derden
B76: Niet subsidiabele kosten
B77: De volgende kosten zijn in ieder geval niet subsidiabel:
B78: l | C78: Kosten accountant om de controleverklaring op te stellen.
B79: l | C79: Kosten voor administratief projectmanagement, zoals het bijhouden van de voortgang, contracten opstellen tussen samenwerkingspartijen,
C80: de voortgangsrapportages voor RVO, planning, budgettering, escaleren naar stuurgroep, projectbesturing, projectbewaking.
B81: l | C81: Kosten voor binnenlandse reiskosten.
B82: l | C82: Kosten voor kennisverspreidingsactiviteiten.
B84: Overzicht subsidie per deelnemer | R84: 0
B85: De maximale subsidiepercentages vindt u in het tabblad "Subsidiepercentages".
B86: Als u gebruik wilt maken van een MKB-toeslag, dan kunt u de MKB-toets invullen en meesturen bij uw aanvraag.
B87: U kunt daarbij gebruik maken van de online MKB-toets op onze website: | J87: https://www.rvo.nl/onderwerpen/subsidiespelregels/ez/mkb-verklaring
B89: Voor deze regeling geldt per project zowel een minimum als een maximum subsidiebedrag. Het minimum subsidiebedrag is € 150.000. Dit betekent
B90: dat als de toe te kennen subsidie minder dan € 150.000 bedraagt, uw aanvraag wordt afgewezen. Het maximale subsidiebedrag is € 500.000.
B92: Als u andere subsidie heeft gekregen voor hetzelfde project of een deel daarvan, dan moet u dit opvoeren in de begroting.
B93: In het model projectplan onder het hoofdstuk “Financiering” kunt u aangeven om welke subsidie(s) het gaat en hier een toelichting op geven.
B94: Wij zullen tijdens de beoordeling van uw aanvraag nagaan of en hoe deze subsidie cumuleert met de in deze aanvraag gevraagde subsidie.
B95: Natuurlijk kunt u ook voor indiening van uw aanvraag contact met ons opnemen om te horen wat dit mogelijk voor uw subsidieaanvraag betekent.
B97: Btw
B98: Als u van de opgevoerde kosten de betaalde btw kunt aftrekken of terugvorderen van de Belastingdienst, dan is de btw geen subsidiabele kostenpost.
B99: Kunt u de btw niet aftrekken bij de Belastingdienst, dan mag u de kosten inclusief betaalde btw opvoeren en is de btw wel een subsidiabele
B100: kostenpost. Geef in de begroting achter het kopje "BTW" aan hoe u de kosten opvoert door het juiste antwoord te selecteren.
B102: Industrieel Onderzoek, Experimentele Ontwikkeling, Niet-economische activiteiten door een overige organisatie
B103: Er gelden verschillende subsidiepercentages voor Industrieel Onderzoek (IO) door een onderneming, Experimentele Ontwikkeling (EO) door een onderneming en Niet-economische activiteiten door een overige organisatie.
B104: Op het tabblad 'Begroting P' en eventeel de daarop volgende tabbladen geeft u per activiteit aan welke type activiteit het betreft.
B105: Voor nadere uitleg over IO en EO, zie: | G105: https://www.rvo.nl/onderwerpen/definities#industrieel-onderzoek

Sheet Subsidiepercentages
B2: Model begroting NBS Living Labs 2026
B3: Overzicht subsidiepercentages
B8: Subsidiepercentages per activiteit
B9: Industrieel onderzoek (IO) door een onderneming | C9: 0.5
B10: Experimentele ontwikkeling (EO) door een onderneming | C10: 0.25
B11: Niet-economische activiteiten door een overige partij (IO, EO) waaronder indsutrieel onderzoek of experimentele ontwikkeling door een onderzoeksorganisatie | C11: 0.8
B12: Opslagen
B13: Voor kleine ondernemers | C13: 0.2
B14: Voor middelgrote ondernemers | C14: 0.1
B15: Indien wordt voldaan aan artikel 26, vijfde lid onder b van de algemene groepsbrijstellingsverordening (AGVV) | C15: 0.15
C17: Het betreft hier de maximale subsidiepercentages per activiteit. Minder aanvragen mag.
B21: AGVV, Artikel 25, lid 6, onderdeel b
B23: b) met 15 procentpunten indien één van de volgende voorwaarden is vervuld:
B25: i) het project behelst daadwerkelijke samenwerking:
B26: — tussen ondernemingen waarvan er ten minste één een kmo is, of wordt uitgevoerd in ten minste twee lidstaten of in een lidstaat en in een overeenkomstsluitende partij bij de EER-overeenkomst, en geen van de ondernemingen neemt meer dan 70 % van de in aanmerking komende kosten voor haar rekening; of
B27: — tussen een onderneming en één of meer organisaties voor onderzoek en kennisverspreiding, waarbij deze organisaties ten minste 10 % van de in aanmerking komende kosten dragen en het recht hebben hun eigen onderzoeksresultaten te publiceren;
B29: ii) de projectresultaten worden ruim verspreid via conferenties, publicaties, open access-repositories, of gratis of opensource-software;
B31: iii) de begunstigde verbindt zich ertoe licenties voor onderzoeksresultaten van gesteunde projecten inzake onderzoek en ontwikkeling die door intellectuele eigendomsrechten worden beschermd, tijdig tegen marktprijs en op niet exclusieve en niet-discriminerende basis beschikbaar te stellen voor gebruik door geïnteresseerde partijen in de EER;
B33: iv) het project inzake onderzoek en ontwikkeling wordt uitgevoerd in een steungebied dat aan de voorwaarden van artikel 107, lid 3, punt a), van het Verdrag voldoet; of
B41: ii) de projectresultaten worden ruim verspreid via conferenties, publicaties, open access-repositories, of gratis of opensource-software;
B43: iii) de begunstigde verbindt zich ertoe licenties voor onderzoeksresultaten van gesteunde projecten inzake onderzoek en ontwikkeling die door intellectuele eigendomsrechten worden beschermd, tijdig tegen marktprijs en op niet exclusieve en niet-discriminerende basis beschikbaar te stellen voor gebruik door geïnteresseerde partijen in de EER;
B45: iv) het project inzake onderzoek en ontwikkeling wordt uitgevoerd in een steungebied dat aan de voorwaarden van artikel 107, lid 3, punt a), van het Verdrag voldoet

Sheet Deelnemersoverzicht
A1: Deelnemers
A2: Afhankelijk van het aantal projectdeelnemers vult u meer of minder tabbladen in. Zo dient het tabblad "Begroting P" voor de
A3: "Aanvrager/penvoerder", het tabblad "Begroting D1" voor deelnemer 1 en zo verder.
A5: Projectnummer: | B5: Dit veld wordt door RVO ingevuld
A6: Titel van het project:
B8: Startdatum project: | C8: Einddatum project:
A10: Looptijd van het project: | B10: =DATEDIF(Startdatum,Einddatum,"Y")+ (DATEDIF(Startdatum,Einddatum,"YD")/365) -> 0 | C10: jaar | D10: =IF(B10>2,"Let op: looptijd project overschrijdt het maximum van 2 jaar","")
B12: Voldoet het project aan ten minste één van de voorwaarden, bedoeld in artikel 25, zesde lid, onderdeel b, van de algemene groepsvrijstellings-verordening?
B13: <maak een keuze>
B15: Onderbouwing:
B18: Naam | C18: Type organisatie | D18: Opslag soort onderneming artikel 25, zesde lid, onderdeel a AGVV | E18: Subsidiepercentage Industrieel onderzoek | F18: Subsidiepercentage experimentele ontwikkeling | G18: niet-economische activiteiten door een overige organisatie
A19: Penvoerder (P) | C19: <maak een keuze> | D19: =VLOOKUP(C19,Lijsten!$D$6:$E$10,2,FALSE) -> #N/A | E19: =MIN(80%,IF($D19=80%,0%,+Lijsten!$E$3+Deelnemersoverzicht!$D19+IF($B$13="Ja",+Lijsten!$E$11,0))) -> #N/A | F19: =IF(D19=80%,0%,+Lijsten!$E$4+Deelnemersoverzicht!$D19+IF($B$13="Ja",+Lijsten!$E$11,0)) -> #N/A | G19: =+IF(C19=Lijsten!$D$10,Lijsten!$E$10,0%) -> 0
A20: Deelnemer 1 (D1) | C20: <maak een keuze> | D20: =VLOOKUP(C20,Lijsten!$D$6:$E$10,2,FALSE) -> #N/A | E20: =MIN(80%,IF($D20=80%,0%,+Lijsten!$E$3+Deelnemersoverzicht!$D20+IF($B$13="Ja",+Lijsten!$E$11,0))) -> #N/A | F20: =IF(D20=80%,0%,+Lijsten!$E$4+Deelnemersoverzicht!$D20+IF($B$13="Ja",+Lijsten!$E$11,0)) -> #N/A | G20: =+IF(C20=Lijsten!$D$10,Lijsten!$E$10,0%) -> 0
A21: Deelnemer 2 (D2) | C21: <maak een keuze> | D21: =VLOOKUP(C21,Lijsten!$D$6:$E$10,2,FALSE) -> #N/A | E21: =MIN(80%,IF($D21=80%,0%,+Lijsten!$E$3+Deelnemersoverzicht!$D21+IF($B$13="Ja",+Lijsten!$E$11,0))) -> #N/A | F21: =IF(D21=80%,0%,+Lijsten!$E$4+Deelnemersoverzicht!$D21+IF($B$13="Ja",+Lijsten!$E$11,0)) -> #N/A | G21: =+IF(C21=Lijsten!$D$10,Lijsten!$E$10,0%) -> 0
A22: Deelnemer 3 (D3) | C22: <maak een keuze> | D22: =VLOOKUP(C22,Lijsten!$D$6:$E$10,2,FALSE) -> #N/A | E22: =MIN(80%,IF($D22=80%,0%,+Lijsten!$E$3+Deelnemersoverzicht!$D22+IF($B$13="Ja",+Lijsten!$E$11,0))) -> #N/A | F22: =IF(D22=80%,0%,+Lijsten!$E$4+Deelnemersoverzicht!$D22+IF($B$13="Ja",+Lijsten!$E$11,0)) -> #N/A | G22: =+IF(C22=Lijsten!$D$10,Lijsten!$E$10,0%) -> 0
A23: Deelnemer 4 (D4) | C23: <maak een keuze> | D23: =VLOOKUP(C23,Lijsten!$D$6:$E$10,2,FALSE) -> #N/A | E23: =MIN(80%,IF($D23=80%,0%,+Lijsten!$E$3+Deelnemersoverzicht!$D23+IF($B$13="Ja",+Lijsten!$E$11,0))) -> #N/A | F23: =IF(D23=80%,0%,+Lijsten!$E$4+Deelnemersoverzicht!$D23+IF($B$13="Ja",+Lijsten!$E$11,0)) -> #N/A | G23: =+IF(C23=Lijsten!$D$10,Lijsten!$E$10,0%) -> 0
A24: Deelnemer 5 (D5) | C24: <maak een keuze> | D24: =VLOOKUP(C24,Lijsten!$D$6:$E$10,2,FALSE) -> #N/A | E24: =MIN(80%,IF($D24=80%,0%,+Lijsten!$E$3+Deelnemersoverzicht!$D24+IF($B$13="Ja",+Lijsten!$E$11,0))) -> #N/A | F24: =IF(D24=80%,0%,+Lijsten!$E$4+Deelnemersoverzicht!$D24+IF($B$13="Ja",+Lijsten!$E$11,0)) -> #N/A | G24: =+IF(C24=Lijsten!$D$10,Lijsten!$E$10,0%) -> 0
A25: Deelnemer 6 (D6) | C25: <maak een keuze> | D25: =VLOOKUP(C25,Lijsten!$D$6:$E$10,2,FALSE) -> #N/A | E25: =MIN(80%,IF($D25=80%,0%,+Lijsten!$E$3+Deelnemersoverzicht!$D25+IF($B$13="Ja",+Lijsten!$E$11,0))) -> #N/A | F25: =IF(D25=80%,0%,+Lijsten!$E$4+Deelnemersoverzicht!$D25+IF($B$13="Ja",+Lijsten!$E$11,0)) -> #N/A | G25: =+IF(C25=Lijsten!$D$10,Lijsten!$E$10,0%) -> 0
A26: Deelnemer 7 (D7) | C26: <maak een keuze> | D26: =VLOOKUP(C26,Lijsten!$D$6:$E$10,2,FALSE) -> #N/A | E26: =MIN(80%,IF($D26=80%,0%,+Lijsten!$E$3+Deelnemersoverzicht!$D26+IF($B$13="Ja",+Lijsten!$E$11,0))) -> #N/A | F26: =IF(D26=80%,0%,+Lijsten!$E$4+Deelnemersoverzicht!$D26+IF($B$13="Ja",+Lijsten!$E$11,0)) -> #N/A | G26: =+IF(C26=Lijsten!$D$10,Lijsten!$E$10,0%) -> 0
A27: Deelnemer 8 (D8) | C27: <maak een keuze> | D27: =VLOOKUP(C27,Lijsten!$D$6:$E$10,2,FALSE) -> #N/A | E27: =MIN(80%,IF($D27=80%,0%,+Lijsten!$E$3+Deelnemersoverzicht!$D27+IF($B$13="Ja",+Lijsten!$E$11,0))) -> #N/A | F27: =IF(D27=80%,0%,+Lijsten!$E$4+Deelnemersoverzicht!$D27+IF($B$13="Ja",+Lijsten!$E$11,0)) -> #N/A | G27: =+IF(C27=Lijsten!$D$10,Lijsten!$E$10,0%) -> 0
A28: Deelnemer 9 (D9) | C28: <maak een keuze> | D28: =VLOOKUP(C28,Lijsten!$D$6:$E$10,2,FALSE) -> #N/A | E28: =MIN(80%,IF($D28=80%,0%,+Lijsten!$E$3+Deelnemersoverzicht!$D28+IF($B$13="Ja",+Lijsten!$E$11,0))) -> #N/A | F28: =IF(D28=80%,0%,+Lijsten!$E$4+Deelnemersoverzicht!$D28+IF($B$13="Ja",+Lijsten!$E$11,0)) -> #N/A | G28: =+IF(C28=Lijsten!$D$10,Lijsten!$E$10,0%) -> 0
A29: Deelnemer 10
A30: Deelnemer 11
A31: Deelnemer 12
A32: Deelnemer 13
A33: Deelnemer 14
A34: Deelnemer 15
A35: Deelnemer 16
A36: Deelnemer 17
A37: Deelnemer 18
A38: Deelnemer 19
A39: Deelnemer 20
A41: Private bijdragen in projectkosten (cash bijdrage)
A42: Derden die financieel bijdragen aan het project.
A43: Sponsor 1 | C43: <maak een keuze>
A44: Sponsor 2 | C44: <maak een keuze>
A45: Sponsor 3 | C45: <maak een keuze>
A46: Sponsor 4 | C46: <maak een keuze>
A47: Sponsor 5 | C47: <maak een keuze>
A48: Sponsor 6 | C48: <maak een keuze>
A49: Sponsor 7 | C49: <maak een keuze>
A50: Sponsor 8 | C50: <maak een keuze>
A52: Private bijdragen in project kosten (in-kind)
A53: Een deelnemer die activiteiten uitvoert, maar geen subsidie aanvraagt.
B54: Naam
A55: In-kind deelnemer 1
A56: In-kind deelnemer 2
A57: In-kind deelnemer 3
A58: In-kind deelnemer 4
A59: In-kind deelnemer 5
A60: In-kind deelnemer 6
A61: In-kind deelnemer 7
A62: In-kind deelnemer 8

Sheet Projectoverzicht
A1: Projectoverzicht | C1: Projectnummer: | D1: =Deelnemersoverzicht!B5 -> Dit veld wordt door RVO ingevuld
C2: Titel: | D2: =Deelnemersoverzicht!B6 -> 0
B4: Naam | C4: Subsidiabele kosten | G4: Gevraagde subsidie | K4: Nog te financieren | V4: Onderstaande velden zijn nodig om de private In-kind bijdrage te berekenen! | AA4: T.b.v. totale projectkosten incl. DEMO:
C5: industrieel onderzoek | D5: experimentele ontwikkeling | E5: niet-economische activiteiten | F5: Totaal | G5: industrieel onderzoek | H5: experimentele ontwikkeling | I5: niet-economische activiteiten | J5: Totaal | V5: Type organisatie | W5: Sector | X5: Nog te financieren | Y5: Privaat in-Kind | AA5: Investeringskosten
A6: P | B6: =Deelnemersoverzicht!B19 -> 0 | C6: ='Begroting P'!$L$164 -> 0 | D6: ='Begroting P'!$M$164 -> 0 | E6: ='Begroting P'!$N$164 -> 0 | F6: =SUM(C6:E6) -> 0 | G6: ='Begroting P'!$L$170 -> #N/A | H6: ='Begroting P'!$M$170 -> #N/A | I6: ='Begroting P'!$N$170 -> 0 | J6: =G6+H6+I6 -> #N/A | K6: =F6-J6 -> #N/A | V6: =IF(B6>0,VLOOKUP(B6,Deelnemersoverzicht!$B$19:$C$39,2,FALSE),"") | W6: =IF(V6<>"",VLOOKUP(V6,Lijsten!$A$19:$B$26,2,0),"") | X6: =IF(W6="Privaat",K6,0) -> 0 | Y6: =IF(X6>0,X6-AB54,0) -> 0 | AA6: =F6 -> 0
A7: D1 | B7: =Deelnemersoverzicht!B20 -> 0 | C7: ='Begroting D1'!$L$164 -> 0 | D7: ='Begroting D1'!$M$164 -> 0 | E7: ='Begroting D1'!$N$164 -> 0 | F7: =SUM(C7:E7) -> 0 | G7: ='Begroting D1'!$L$170 -> #N/A | H7: ='Begroting D1'!$M$170 -> #N/A | I7: ='Begroting D1'!$N$170 -> 0 | J7: =G7+H7+I7 -> #N/A | K7: =F7-J7 -> #N/A | V7: =IF(B7>0,VLOOKUP(B7,Deelnemersoverzicht!$B$19:$C$39,2,FALSE),"") | W7: =IF(V7<>"",VLOOKUP(V7,Lijsten!$A$19:$B$26,2,0),"") | X7: =IF(W7="Privaat",K7,0) -> 0 | Y7: =IF(X7>0,X7-AB55,0) -> 0 | AA7: =F7 -> 0
A8: D2 | B8: =Deelnemersoverzicht!B21 -> 0 | C8: ='Begroting D2'!$L$164 -> 0 | D8: ='Begroting D2'!$M$164 -> 0 | E8: ='Begroting D2'!$N$164 -> 0 | F8: =SUM(C8:E8) -> 0 | G8: ='Begroting D2'!$L$170 -> #N/A | H8: ='Begroting D2'!$M$170 -> #N/A | I8: ='Begroting D2'!$N$170 -> 0 | J8: =G8+H8+I8 -> #N/A | K8: =F8-J8 -> #N/A | V8: =IF(B8>0,VLOOKUP(B8,Deelnemersoverzicht!$B$19:$C$39,2,FALSE),"") | W8: =IF(V8<>"",VLOOKUP(V8,Lijsten!$A$19:$B$26,2,0),"") | X8: =IF(W8="Privaat",K8,0) -> 0 | Y8: =IF(X8>0,X8-AB56,0) -> 0 | AA8: =F8 -> 0
A9: D3 | B9: =Deelnemersoverzicht!B22 -> 0 | C9: ='Begroting D3'!$L$164 -> 0 | D9: ='Begroting D3'!$M$164 -> 0 | E9: ='Begroting D3'!$N$164 -> 0 | F9: =SUM(C9:E9) -> 0 | G9: ='Begroting D3'!$L$170 -> #N/A | H9: ='Begroting D3'!$M$170 -> #N/A | I9: ='Begroting D3'!$N$170 -> 0 | J9: =G9+H9+I9 -> #N/A | K9: =F9-J9 -> #N/A | V9: =IF(B9>0,VLOOKUP(B9,Deelnemersoverzicht!$B$19:$C$39,2,FALSE),"") | W9: =IF(V9<>"",VLOOKUP(V9,Lijsten!$A$19:$B$26,2,0),"") | X9: =IF(W9="Privaat",K9,0) -> 0 | Y9: =IF(X9>0,X9-AB57,0) -> 0 | AA9: =F9 -> 0
A10: D4 | B10: =Deelnemersoverzicht!B23 -> 0 | C10: ='Begroting D4'!$L$164 -> 0 | D10: ='Begroting D4'!$M$164 -> 0 | E10: ='Begroting D4'!$N$164 -> 0 | F10: =SUM(C10:E10) -> 0 | G10: ='Begroting D4'!$L$170 -> #N/A | H10: ='Begroting D4'!$M$170 -> #N/A | I10: ='Begroting D4'!$N$170 -> 0 | J10: =G10+H10+I10 -> #N/A | K10: =F10-J10 -> #N/A | V10: =IF(B10>0,VLOOKUP(B10,Deelnemersoverzicht!$B$19:$C$39,2,FALSE),"") | W10: =IF(V10<>"",VLOOKUP(V10,Lijsten!$A$19:$B$26,2,0),"") | X10: =IF(W10="Privaat",K10,0) -> 0 | Y10: =IF(X10>0,X10-AB60,0) -> 0 | AA10: =F10 -> 0
A11: D5 | B11: =Deelnemersoverzicht!B24 -> 0 | C11: ='Begroting D5'!$L$164 -> 0 | D11: ='Begroting D5'!$M$164 -> 0 | E11: ='Begroting D5'!$N$164 -> 0 | F11: =SUM(C11:E11) -> 0 | G11: ='Begroting D5'!$L$170 -> #N/A | H11: ='Begroting D5'!$M$170 -> #N/A | I11: ='Begroting D5'!$N$170 -> 0 | J11: =G11+H11+I11 -> #N/A | K11: =F11-J11 -> #N/A | V11: =IF(B11>0,VLOOKUP(B11,Deelnemersoverzicht!$B$19:$C$39,2,FALSE),"") | W11: =IF(V11<>"",VLOOKUP(V11,Lijsten!$A$19:$B$26,2,0),"") | X11: =IF(W11="Privaat",K11,0) -> 0 | Y11: =IF(X11>0,X11-AB59,0) -> 0 | AA11: =F11 -> 0
A12: D6 | B12: =Deelnemersoverzicht!B25 -> 0 | C12: ='Begroting D6'!$L$164 -> 0 | D12: ='Begroting D6'!$M$164 -> 0 | E12: ='Begroting D6'!$N$164 -> 0 | F12: =SUM(C12:E12) -> 0 | G12: ='Begroting D6'!$L$170 -> #N/A | H12: ='Begroting D6'!$M$170 -> #N/A | I12: ='Begroting D6'!$N$170 -> 0 | J12: =G12+H12+I12 -> #N/A | K12: =F12-J12 -> #N/A | V12: =IF(B12>0,VLOOKUP(B12,Deelnemersoverzicht!$B$19:$C$39,2,FALSE),"") | W12: =IF(V12<>"",VLOOKUP(V12,Lijsten!$A$19:$B$26,2,0),"") | X12: =IF(W12="Privaat",K12,0) -> 0 | Y12: =IF(X12>0,X12-#REF!,0) -> 0 | AA12: =F12 -> 0
A13: D7 | B13: =Deelnemersoverzicht!B26 -> 0 | C13: ='Begroting D7'!$L$164 -> 0 | D13: ='Begroting D7'!$M$164 -> 0 | E13: ='Begroting D7'!$N$164 -> 0 | F13: =SUM(C13:E13) -> 0 | G13: ='Begroting D7'!$L$170 -> #N/A | H13: ='Begroting D7'!$M$170 -> #N/A | I13: ='Begroting D7'!$N$170 -> 0 | J13: =G13+H13+I13 -> #N/A | K13: =F13-J13 -> #N/A | V13: =IF(B13>0,VLOOKUP(B13,Deelnemersoverzicht!$B$19:$C$39,2,FALSE),"") | W13: =IF(V13<>"",VLOOKUP(V13,Lijsten!$A$19:$B$26,2,0),"") | X13: =IF(W13="Privaat",K13,0) -> 0 | Y13: =IF(X13>0,X13-#REF!,0) -> 0 | AA13: =F13 -> 0
A14: D8 | B14: =Deelnemersoverzicht!B27 -> 0 | C14: ='Begroting D8'!$L$164 -> 0 | D14: ='Begroting D8'!$M$164 -> 0 | E14: ='Begroting D8'!$N$164 -> 0 | F14: =SUM(C14:E14) -> 0 | G14: ='Begroting D8'!$L$170 -> #N/A | H14: ='Begroting D8'!$M$170 -> #N/A | I14: ='Begroting D8'!$N$170 -> 0 | J14: =G14+H14+I14 -> #N/A | K14: =F14-J14 -> #N/A | V14: =IF(B14>0,VLOOKUP(B14,Deelnemersoverzicht!$B$19:$C$39,2,FALSE),"") | W14: =IF(V14<>"",VLOOKUP(V14,Lijsten!$A$19:$B$26,2,0),"") | X14: =IF(W14="Privaat",K14,0) -> 0 | Y14: =IF(X14>0,X14-#REF!,0) -> 0 | AA14: =F14 -> 0
A15: D9 | B15: =Deelnemersoverzicht!B28 -> 0 | C15: ='Begroting D9'!$L$164 -> 0 | D15: ='Begroting D9'!$M$164 -> 0 | E15: ='Begroting D9'!$N$164 -> 0 | F15: =SUM(C15:E15) -> 0 | G15: ='Begroting D9'!$L$170 -> #N/A | H15: ='Begroting D9'!$M$170 -> #N/A | I15: ='Begroting D9'!$N$170 -> 0 | J15: =G15+H15+I15 -> #N/A | K15: =F15-J15 -> #N/A | V15: =IF(B15>0,VLOOKUP(B15,Deelnemersoverzicht!$B$19:$C$39,2,FALSE),"") | W15: =IF(V15<>"",VLOOKUP(V15,Lijsten!$A$19:$B$26,2,0),"") | X15: =IF(W15="Privaat",K15,0) -> 0 | Y15: =IF(X15>0,X15-AB61,0) -> 0 | AA15: =F15 -> 0
B16: Totaal | C16: =SUM(C6:C15) -> 0 | D16: =SUM(D6:D15) -> 0 | E16: =SUM(E6:E15) -> 0 | F16: =SUM(F6:F15) -> 0 | G16: =SUM(G6:G15) -> #N/A | H16: =SUM(H6:H15) -> #N/A | I16: =SUM(I6:I15) -> 0 | J16: =G16+H16+I16 -> #N/A | K16: =F16-J16 -> #N/A | V16: Totaal privaat nog te financieren | X16: =SUM(X6:X15) -> 0 | Y16: =SUM(Y6:Y15) -> 0 | AA16: =SUM(AA6:AA15) -> 0
N17: =IF(AND(J16>1,J16<150000),"Let op: U vraagt minder dan de minimale subsidie aan. Uw aanvraag wordt afgewezen als de subsidie minder dan €150.000 bedraagt.",IF(J16>500000,"LET OP: De maximale subsidie voor deze regeling betreft €500.000 per project!","")) -> #N/A
B18: Financiering | AA18: {=INDIRECT("'Begroting "&A6&"'!m168")} -> 0
B19: Onderbouwing | C19: Bedrag (€) | D19: Toelichting | H19: Toelichting | AA19: {=INDIRECT("'Begroting "&A7&"'!m168")} -> 0
B20: Reeds ontvangen subsidies voor de subsidiabele kosten | C20: =+'Begroting P'!O168+'Begroting D1'!O168+'Begroting D2'!O168+'Begroting D3'!O168+'Begroting D4'!O168+'Begroting D5'!O168+'Begroting D6'!O168+'Begroting D7'!O168+'Begroting D8'!O168+'Begroting D9'!O168 -> 0 | H20: Geef aan hoe u het project gaat financieren. Specificeer in de gele blokken hoe u de eigen bijdrage gaat financieren. U financiert de eigen bijdrage met bijvoorbeeld: 1. Eigen middelen: voldoende financiële middelen om het project te financieren. 2. Lening en/of investering: toezegging van lening en/of investering waarmee het project zal worden gefinancierd. 3. Andere subsidieverstrekkingen: aantoonbaar door een beslissing op betreffende subsidieaanvraag. Heeft u deze nog niet? Stuur dan een kopie van het aanvraagformulier. Een cumulatie, stapeling van subsidies, is meestal maar beperkt mogelijk door cumulatie- of uitsluitingsbepaling. Dit controleren wij. 4. Financiering van derde: een cash-bijdrage in de vorm van sponsoring. Zie toelichting ‘cash bijdrage’ hieronder. Wij wijzen een aanvraag af als er onvoldoende vertrouwen is dat u het project kan financieren. De kans dat het project mislukt of pas veel later van start gaat, is dan te groot. U mag de eigen bijdrage niet financieren met de aangevraagde subsidie. Mogelijk vragen wij aanvullende informatie op. | AA20: {=INDIRECT("'Begroting "&A8&"'!m168")} -> 0
B21: Gevraagde subsidie | C21: =J16 -> #N/A | AA21: {=INDIRECT("'Begroting "&A9&"'!m168")} -> 0
B22: Cash-bijdrage | C22: =C41 -> 0 | AA22: {=INDIRECT("'Begroting "&A10&"'!m168")} -> 0
B23: In-kind bijdrage | C23: =C52 -> 0 | AA23: {=INDIRECT("'Begroting "&A11&"'!m168")} -> 0
B24: Eigen bijdrage | C24: 0
B25: Eigen bijdrage | C25: 0
B26: Eigen bijdrage | C26: 0
B27: Eigen bijdrage | C27: 0 | AA27: {=INDIRECT("'Begroting "&A12&"'!m168")} -> 0
B28: Eigen bijdrage | C28: 0 | AA28: {=INDIRECT("'Begroting "&A13&"'!m168")} -> 0
B29: Eigen bijdrage | C29: 0 | AA29: {=INDIRECT("'Begroting "&A14&"'!m168")} -> 0
C30: =SUM(C20:C29) -> #N/A | D30: Nog te financieren | F30: =+F16-C30 -> #N/A | AA30: {=INDIRECT("'Begroting "&A15&"'!m168")} -> 0
AA31: =SUM(AA18:AA30) -> 0
B32: Cash bijdrage van: | C32: Bedrag (€) | D32: Cash bijdrage aan: | G32: Toelichting
G33: Cash bijdrage is een financiële bijdrage die een deelnemer ontvangt om zijn activiteiten te bekostigen, zoals sponsoring of een private bijdrage. Voeg de verstrekkende deelnemer/sponsor toe op: • het tabblad "Deelnemersoverzicht" en "Projectoverzicht"; • het projectplan onder de kop “Deelnemersoverzicht”; • het aanvraagformulier van het aanvraagportaal; • het formulier “Aanmelding deelnemer en machtiging penvoerder”.
B41: Totaal | C41: =SUM(C33:C40) -> 0
B43: In-kind bijdrage van: | C43: Bedrag (€) | D43: In-kind bijdrage aan: | G43: Toelichting
G44: In-kind bijdrage is een bijdrage in natura, bijvoorbeeld een machine of mensen die aan het project werken. Een in-kind deelnemer vraagt daar geen subsidie voor aan. Neem de deelnemer op in: • het tabblad "Deelnemersoverzicht" en "Projectoverzicht"; • het projectplan onder de kop “Deelnemersoverzicht”; • het aanvraagformulier van het aanvraagportaal; • het formulier “Aanmelding deelnemer en machtiging penvoerder”; • op een deelnemerstabblad in de begroting met de kosten per activiteiten. Bij gevraagde subsidie vraagt u € 0 subsidie aan.
B52: Totaal | C52: =SUM(C44:C51) -> 0
AA53: Organisatie | AB53: Cash bijdrage | AC53: Cash ontvangen
B54: De onderstaande tabel dient ter informatie en wordt automatisch gevuld. | Z54: =B6 -> 0 | AA54: =SUMIF($B$33:$B$40,Z54,$C$33:$C$40) -> 0 | AB54: =SUMIF($D$33:$F$40,Z54,$C$33:$C$40) -> 0
B55: Kosten en ontvangsten | D55: € | E55: Toelichting | Z55: =B7 -> 0 | AA55: =SUMIF($B$33:$B$40,Z55,$C$33:$C$40) -> 0 | AB55: =SUMIF($D$33:$F$40,Z55,$C$33:$C$40) -> 0
B56: Totale projectkosten | D56: =F16 -> 0 | E56: Het totaal aan subsidiabele projectkosten | Z56: =B8 -> 0 | AA56: =SUMIF($B$33:$B$40,Z56,$C$33:$C$40) -> 0 | AB56: =SUMIF($D$33:$F$40,Z56,$C$33:$C$40) -> 0
B57: Gevraagde subsidie | D57: =J16 -> #N/A | E57: Het totaal aan gevraagde subsidie. | Z57: =B9 -> 0 | AA57: =SUMIF($B$33:$B$40,Z57,$C$33:$C$40) -> 0 | AB57: =SUMIF($D$33:$F$40,Z57,$C$33:$C$40) -> 0
B58: Reeds ontvangen subsidies voor de subsidiabele kosten | D58: =C20 -> 0 | E58: Het totaal aan subsidie of steun die ontvangen wordt vanuit andere partijen. | Z58: =B10 -> 0 | AA58: =SUMIF($B$33:$B$40,Z58,$C$33:$C$40) -> 0 | AB58: =SUMIF($D$33:$F$40,Z58,$C$33:$C$40) -> 0
B59: Bijdragen in projectkosten (cash bijdrage) | D59: =C41 -> 0 | E59: Bevat het totaal aan financiering door derden (cash bijdragen) | Z59: =B11 -> 0 | AA59: =SUMIF($B$33:$B$40,Z59,$C$33:$C$40) -> 0 | AB59: =SUMIF($D$33:$F$40,Z59,$C$33:$C$40) -> 0
B60: Bijdragen in projectkosten (in-kind) | D60: =C52 -> 0 | E60: Bevat het totaal aan financiering door derden (in-kind bijdragen) | Z60: =B12 -> 0 | AA60: =SUMIF($B$33:$B$40,Z60,$C$33:$C$40) -> 0 | AB60: =SUMIF($D$33:$F$40,Z60,$C$33:$C$40) -> 0
B61: Totale onderbouwing eigen bijdrage | D61: =SUM(C24:C29) -> 0 | E61: Bevat het totaal aan financiering door eigen middelen. | Z61: =B13 -> 0 | AA61: =SUMIF($B$33:$B$40,Z61,$C$33:$C$40) -> 0 | AB61: =SUMIF($D$33:$F$40,Z61,$C$33:$C$40) -> 0
AA62: =B15 -> 0 | AB62: =SUMIF($B$33:$B$40,AA62,$C$33:$C$40) -> 0 | AC62: =SUMIF($D$33:$F$40,AA62,$C$33:$C$40) -> 0

Sheet Begroting P
C1: Model begroting | H1: =IF(Deelnemersoverzicht!B5="(Dit veld wordt ingevuld door RVO)","",Deelnemersoverzicht!B5) -> Dit veld wordt door RVO ingevuld | U1: KOLOM VERBERGEN!!
C2: NBS Living Labs 2026
C4: Gegevens per deelnemer:
C6: =Deelnemersoverzicht!A19 -> Penvoerder (P) | F6: =Deelnemersoverzicht!B19 -> 0
C7: Titel project | F7: =Deelnemersoverzicht!B6 -> 0
C8: BTW | F8: <maak een keuze>
C9: Gebruikte loonsystematiek | F9: <maak een keuze>
F10: =IF(F9="Integrale kostensystematiek","Let op! U dient in de begroting de IKS-tarieven zo te specificeren dat deze te controleren zijn op basis van de door u aangeleverde","")
F11: =IF(F9="Integrale kostensystematiek","IKS tarieven aan RVO. Bijvoorbeeld: divisie R&D, loonschaal 10. Vul dit in bij toelichting IKS.","")
B13: ONDERDEEL A
B14: Overzicht kosten
B16: A1. | C16: Loonkosten
G18: =IF(AND($F$9="Integrale kostensystematiek",COUNTA(C20:D55)>COUNTA(G20:G55)),"Let op! U dient de Toelichting IKS in te vullen","") | J18: Aantal uren | M18: Kosten €
B19: Werkpakket | C19: Functie | E19: Rol in het project | G19: Toelichting IKS bijv. divisie R&D, schaal 11 | H19: Uurtarief | J19: =IF(Deelnemersoverzicht!$C$19=Lijsten!$A$23,"",Lijsten!$D$3) -> Industrieel onderzoek | K19: =IF(Deelnemersoverzicht!$C$19=Lijsten!$A$23,"",Lijsten!$D$4) -> Experimentele ontwikkeling | L19: Niet-econ. activiteiten | M19: =IF(Deelnemersoverzicht!$C$19=Lijsten!$A$23,"",Lijsten!$D$3) -> Industrieel onderzoek | N19: =IF(Deelnemersoverzicht!$C$19=Lijsten!$A$23,"",Lijsten!$D$4) -> Experimentele ontwikkeling | O19: Niet-econ. activiteiten
M20: =+H20*J20 -> 0 | N20: =+H20*K20 -> 0 | O20: =H20*L20 -> 0
M21: =+H21*J21 -> 0 | N21: =+H21*K21 -> 0 | O21: =H21*L21 -> 0
M22: =+H22*J22 -> 0 | N22: =+H22*K22 -> 0 | O22: =H22*L22 -> 0
M23: =+H23*J23 -> 0 | N23: =+H23*K23 -> 0 | O23: =H23*L23 -> 0
M24: =+H24*J24 -> 0 | N24: =+H24*K24 -> 0 | O24: =H24*L24 -> 0
M25: =+H25*J25 -> 0 | N25: =+H25*K25 -> 0 | O25: =H25*L25 -> 0
M26: =+H26*J26 -> 0 | N26: =+H26*K26 -> 0 | O26: =H26*L26 -> 0
M27: =+H27*J27 -> 0 | N27: =+H27*K27 -> 0 | O27: =H27*L27 -> 0
M28: =+H28*J28 -> 0 | N28: =+H28*K28 -> 0 | O28: =H28*L28 -> 0
M29: =+H29*J29 -> 0 | N29: =+H29*K29 -> 0 | O29: =H29*L29 -> 0
M30: =+H30*J30 -> 0 | N30: =+H30*K30 -> 0 | O30: =H30*L30 -> 0
M31: =+H31*J31 -> 0 | N31: =+H31*K31 -> 0 | O31: =H31*L31 -> 0
... M55: =+H55*J55 -> 0 | N55: =+H55*K55 -> 0 | O55: =H55*L55 -> 0
I56: Totale loonkosten | M56: =SUM(M20:M55) -> 0 | N56: =SUM(N20:N55) -> 0 | O56: =SUM(O20:O55) -> 0
B58: A2. | C58: Machines en apparaten die niet uitsluitend voor het project worden gebruikt
D60: =IF(COUNTA(D62:D83)<COUNTA(E62:E83),"Let op! Vul ook de aanschafdatum in!","") | J60: Aantal uur in gebruik t.b.v. project | M60: Kosten €
B61: Werkpakket | C61: Omschrijving kosten | D61: Aanschafdatum | E61: Aanschafwaarde | F61: Afschrijving in jaren (minimaal 5 jaar) | G61: Fiscale afschrijving per jaar | H61: Totaal uren bij normale bezetting per jaar | I61: Afschrijving per uur | J61: =IF(Deelnemersoverzicht!$C$19=Lijsten!$A$23,"",Lijsten!$D$3) -> Industrieel onderzoek | K61: =IF(Deelnemersoverzicht!$C$19=Lijsten!$A$23,"",Lijsten!$D$4) -> Experimentele ontwikkeling | L61: Niet-econ. Activiteiten | M61: =IF(Deelnemersoverzicht!$C$19=Lijsten!$A$23,"",Lijsten!$D$3) -> Industrieel onderzoek | N61: =IF(Deelnemersoverzicht!$C$19=Lijsten!$A$23,"",Lijsten!$D$4) -> Experimentele ontwikkeling | O61: Niet-econ. activiteiten | U61: Restwaarde afschrijvingen
G62: =IFERROR(E62/F62,0) -> 0 | I62: =IFERROR(G62/H62,0) -> 0 | M62: =+H62*J62 -> 0 | N62: =+H62*K62 -> 0 | O62: =I62*L62 -> 0 | U62: =IFERROR(IF(D62>=Deelnemersoverzicht!$B$9,"Na startdatum aangekocht", IF(DATEDIF('Begroting P'!$D62,Startdatum,"D")>0,IF((('Begroting P'!$F62-((DATEDIF($D62,Startdatum,"M")/12)))*($E62/$F62))<0,"Dit is afgeschreven!",(('Begroting P'!$F62-((DATEDIF($D62,Startdatum,"M")/12)))*($E62/$F62))),($E62/$F62))),0) -> Na startdatum aangekocht
G63: =IFERROR(E63/F63,0) -> 0 | I63: =IFERROR(G63/H63,0) -> 0 | M63: =+H63*J63 -> 0 | N63: =+H63*K63 -> 0 | O63: =I63*L63 -> 0 | U63: =IFERROR(IF(D63>=Deelnemersoverzicht!$B$9,"Na startdatum aangekocht", IF(DATEDIF('Begroting P'!$D63,Startdatum,"D")>0,IF((('Begroting P'!$F63-((DATEDIF($D63,Startdatum,"M")/12)))*($E63/$F63))<0,"Dit is afgeschreven!",(('Begroting P'!$F63-((DATEDIF($D63,Startdatum,"M")/12)))*($E63/$F63))),($E63/$F63))),0) -> Na startdatum aangekocht
G64: =IFERROR(E64/F64,0) -> 0 | I64: =IFERROR(G64/H64,0) -> 0 | M64: =+H64*J64 -> 0 | N64: =+H64*K64 -> 0 | O64: =I64*L64 -> 0 | U64: =IFERROR(IF(D64>=Deelnemersoverzicht!$B$9,"Na startdatum aangekocht", IF(DATEDIF('Begroting P'!$D64,Startdatum,"D")>0,IF((('Begroting P'!$F64-((DATEDIF($D64,Startdatum,"M")/12)))*($E64/$F64))<0,"Dit is afgeschreven!",(('Begroting P'!$F64-((DATEDIF($D64,Startdatum,"M")/12)))*($E64/$F64))),($E64/$F64))),0) -> Na startdatum aangekocht
G65: =IFERROR(E65/F65,0) -> 0 | I65: =IFERROR(G65/H65,0) -> 0 | M65: =+H65*J65 -> 0 | N65: =+H65*K65 -> 0 | O65: =I65*L65 -> 0 | U65: =IFERROR(IF(D65>=Deelnemersoverzicht!$B$9,"Na startdatum aangekocht", IF(DATEDIF('Begroting P'!$D65,Startdatum,"D")>0,IF((('Begroting P'!$F65-((DATEDIF($D65,Startdatum,"M")/12)))*($E65/$F65))<0,"Dit is afgeschreven!",(('Begroting P'!$F65-((DATEDIF($D65,Startdatum,"M")/12)))*($E65/$F65))),($E65/$F65))),0) -> Na startdatum aangekocht
G66: =IFERROR(E66/F66,0) -> 0 | I66: =IFERROR(G66/H66,0) -> 0 | M66: =+H66*J66 -> 0 | N66: =+H66*K66 -> 0 | O66: =I66*L66 -> 0 | U66: =IFERROR(IF(D66>=Deelnemersoverzicht!$B$9,"Na startdatum aangekocht", IF(DATEDIF('Begroting P'!$D66,Startdatum,"D")>0,IF((('Begroting P'!$F66-((DATEDIF($D66,Startdatum,"M")/12)))*($E66/$F66))<0,"Dit is afgeschreven!",(('Begroting P'!$F66-((DATEDIF($D66,Startdatum,"M")/12)))*($E66/$F66))),($E66/$F66))),0) -> Na startdatum aangekocht
G67: =IFERROR(E67/F67,0) -> 0 | I67: =IFERROR(G67/H67,0) -> 0 | M67: =+H67*J67 -> 0 | N67: =+H67*K67 -> 0 | O67: =I67*L67 -> 0 | U67: =IFERROR(IF(D67>=Deelnemersoverzicht!$B$9,"Na startdatum aangekocht", IF(DATEDIF('Begroting P'!$D67,Startdatum,"D")>0,IF((('Begroting P'!$F67-((DATEDIF($D67,Startdatum,"M")/12)))*($E67/$F67))<0,"Dit is afgeschreven!",(('Begroting P'!$F67-((DATEDIF($D67,Startdatum,"M")/12)))*($E67/$F67))),($E67/$F67))),0) -> Na startdatum aangekocht
G68: =IFERROR(E68/F68,0) -> 0 | I68: =IFERROR(G68/H68,0) -> 0 | M68: =+H68*J68 -> 0 | N68: =+H68*K68 -> 0 | O68: =I68*L68 -> 0 | U68: =IFERROR(IF(D68>=Deelnemersoverzicht!$B$9,"Na startdatum aangekocht", IF(DATEDIF('Begroting P'!$D68,Startdatum,"D")>0,IF((('Begroting P'!$F68-((DATEDIF($D68,Startdatum,"M")/12)))*($E68/$F68))<0,"Dit is afgeschreven!",(('Begroting P'!$F68-((DATEDIF($D68,Startdatum,"M")/12)))*($E68/$F68))),($E68/$F68))),0) -> Na startdatum aangekocht
G69: =IFERROR(E69/F69,0) -> 0 | I69: =IFERROR(G69/H69,0) -> 0 | M69: =+H69*J69 -> 0 | N69: =+H69*K69 -> 0 | O69: =I69*L69 -> 0 | U69: =IFERROR(IF(D69>=Deelnemersoverzicht!$B$9,"Na startdatum aangekocht", IF(DATEDIF('Begroting P'!$D69,Startdatum,"D")>0,IF((('Begroting P'!$F69-((DATEDIF($D69,Startdatum,"M")/12)))*($E69/$F69))<0,"Dit is afgeschreven!",(('Begroting P'!$F69-((DATEDIF($D69,Startdatum,"M")/12)))*($E69/$F69))),($E69/$F69))),0) -> Na startdatum aangekocht
G70: =IFERROR(E70/F70,0) -> 0 | I70: =IFERROR(G70/H70,0) -> 0 | M70: =+H70*J70 -> 0 | N70: =+H70*K70 -> 0 | O70: =I70*L70 -> 0 | U70: =IFERROR(IF(D70>=Deelnemersoverzicht!$B$9,"Na startdatum aangekocht", IF(DATEDIF('Begroting P'!$D70,Startdatum,"D")>0,IF((('Begroting P'!$F70-((DATEDIF($D70,Startdatum,"M")/12)))*($E70/$F70))<0,"Dit is afgeschreven!",(('Begroting P'!$F70-((DATEDIF($D70,Startdatum,"M")/12)))*($E70/$F70))),($E70/$F70))),0) -> Na startdatum aangekocht
G71: =IFERROR(E71/F71,0) -> 0 | I71: =IFERROR(G71/H71,0) -> 0 | M71: =+H71*J71 -> 0 | N71: =+H71*K71 -> 0 | O71: =I71*L71 -> 0 | U71: =IFERROR(IF(D71>=Deelnemersoverzicht!$B$9,"Na startdatum aangekocht", IF(DATEDIF('Begroting P'!$D71,Startdatum,"D")>0,IF((('Begroting P'!$F71-((DATEDIF($D71,Startdatum,"M")/12)))*($E71/$F71))<0,"Dit is afgeschreven!",(('Begroting P'!$F71-((DATEDIF($D71,Startdatum,"M")/12)))*($E71/$F71))),($E71/$F71))),0) -> Na startdatum aangekocht
G72: =IFERROR(E72/F72,0) -> 0 | I72: =IFERROR(G72/H72,0) -> 0 | M72: =+H72*J72 -> 0 | N72: =+H72*K72 -> 0 | O72: =I72*L72 -> 0 | U72: =IFERROR(IF(D72>=Deelnemersoverzicht!$B$9,"Na startdatum aangekocht", IF(DATEDIF('Begroting P'!$D72,Startdatum,"D")>0,IF((('Begroting P'!$F72-((DATEDIF($D72,Startdatum,"M")/12)))*($E72/$F72))<0,"Dit is afgeschreven!",(('Begroting P'!$F72-((DATEDIF($D72,Startdatum,"M")/12)))*($E72/$F72))),($E72/$F72))),0) -> Na startdatum aangekocht
G73: =IFERROR(E73/F73,0) -> 0 | I73: =IFERROR(G73/H73,0) -> 0 | M73: =+H73*J73 -> 0 | N73: =+H73*K73 -> 0 | O73: =I73*L73 -> 0 | U73: =IFERROR(IF(D73>=Deelnemersoverzicht!$B$9,"Na startdatum aangekocht", IF(DATEDIF('Begroting P'!$D73,Startdatum,"D")>0,IF((('Begroting P'!$F73-((DATEDIF($D73,Startdatum,"M")/12)))*($E73/$F73))<0,"Dit is afgeschreven!",(('Begroting P'!$F73-((DATEDIF($D73,Startdatum,"M")/12)))*($E73/$F73))),($E73/$F73))),0) -> Na startdatum aangekocht
... G83: =IFERROR(E83/F83,0) -> 0 | I83: =IFERROR(G83/H83,0) -> 0 | M83: =+H83*J83 -> 0 | N83: =+H83*K83 -> 0 | O83: =I83*L83 -> 0 | U83: =IFERROR(IF(D83>=Deelnemersoverzicht!$B$9,"Na startdatum aangekocht", IF(DATEDIF('Begroting P'!$D83,Startdatum,"D")>0,IF((('Begroting P'!$F83-((DATEDIF($D83,Startdatum,"M")/12)))*($E83/$F83))<0,"Dit is afgeschreven!",(('Begroting P'!$F83-((DATEDIF($D83,Startdatum,"M")/12)))*($E83/$F83))),($E83/$F83))),0) -> Na startdatum aangekocht
H84: Totale kosten aangeschafte machines en apparatuur | M84: =SUM(M62:M83) -> 0 | N84: =SUM(N62:N83) -> 0 | O84: =SUM(O62:O83) -> 0
B86: A3. | C86: Aan derden verschuldigde kosten
B87: A3. a: Apparatuur uitsluitend voor het project aangeschaft
D88: =IF(COUNTA(D90:D107)<COUNTA(E90:E107),"Let op! Vul ook de aanschafdatum in!","") | J88: Subsidiabele kosten per onderzoekstype | M88: Kosten €
B89: Werkpakket | C89: Omschrijving kosten | D89: Aanschafdatum, binnen de projectperiode | E89: Aanschafwaarde | F89: Afschrijving in jaren (minimaal 5 jaar) | H89: Restwaarde | I89: Subsidiabele kosten totaal | J89: =IF(Deelnemersoverzicht!$C$19=Lijsten!$A$23,"",Lijsten!$D$3) -> Industrieel onderzoek | K89: =IF(Deelnemersoverzicht!$C$19=Lijsten!$A$23,"",Lijsten!$D$4) -> Experimentele ontwikkeling | L89: Niet-econ. Activiteiten | M89: =IF(Deelnemersoverzicht!$C$19=Lijsten!$A$23,"",Lijsten!$D$3) -> Industrieel onderzoek | N89: =IF(Deelnemersoverzicht!$C$19=Lijsten!$A$23,"",Lijsten!$D$4) -> Experimentele ontwikkeling | O89: Niet-econ. activiteiten | U89: Restwaarde afschrijvingen
H90: =IFERROR(E90-I90,0) -> 0 | I90: =IFERROR((E90/F90)*(Deelnemersoverzicht!$B$10-(DATEDIF(Startdatum,D90,"D")/365)),0) -> 0 | M90: =J90 -> 0 | N90: =K90 -> 0 | O90: =L90 -> 0 | U90: =IFERROR(IF(D90>=Deelnemersoverzicht!$B$9,"Na startdatum aangekocht", IF(DATEDIF('Begroting P'!$D90,Startdatum,"D")>0,IF((('Begroting P'!$F90-((DATEDIF($D90,Startdatum,"M")/12)))*($E90/$F90))<0,0,(('Begroting P'!$F90-((DATEDIF($D90,Startdatum,"M")/12)))*($E90/$F90))),($E90/$F90))),0) -> Na startdatum aangekocht
H91: =IFERROR(E91-I91,0) -> 0 | I91: =IFERROR((E91/F91)*(Deelnemersoverzicht!$B$10-(DATEDIF(Startdatum,D91,"D")/365)),0) -> 0 | M91: =J91 -> 0 | N91: =K91 -> 0 | O91: =L91 -> 0 | U91: =IFERROR(IF(D91>=Deelnemersoverzicht!$B$9,"Na startdatum aangekocht", IF(DATEDIF('Begroting P'!$D91,Startdatum,"D")>0,IF((('Begroting P'!$F91-((DATEDIF($D91,Startdatum,"M")/12)))*($E91/$F91))<0,0,(('Begroting P'!$F91-((DATEDIF($D91,Startdatum,"M")/12)))*($E91/$F91))),($E91/$F91))),0) -> Na startdatum aangekocht
H92: =IFERROR(E92-I92,0) -> 0 | I92: =IFERROR((E92/F92)*(Deelnemersoverzicht!$B$10-(DATEDIF(Startdatum,D92,"D")/365)),0) -> 0 | M92: =J92 -> 0 | N92: =K92 -> 0 | O92: =L92 -> 0 | U92: =IFERROR(IF(D92>=Deelnemersoverzicht!$B$9,"Na startdatum aangekocht", IF(DATEDIF('Begroting P'!$D92,Startdatum,"D")>0,IF((('Begroting P'!$F92-((DATEDIF($D92,Startdatum,"M")/12)))*($E92/$F92))<0,0,(('Begroting P'!$F92-((DATEDIF($D92,Startdatum,"M")/12)))*($E92/$F92))),($E92/$F92))),0) -> Na startdatum aangekocht
H93: =IFERROR(E93-I93,0) -> 0 | I93: =IFERROR((E93/F93)*(Deelnemersoverzicht!$B$10-(DATEDIF(Startdatum,D93,"D")/365)),0) -> 0 | M93: =J93 -> 0 | N93: =K93 -> 0 | O93: =L93 -> 0 | U93: =IFERROR(IF(D93>=Deelnemersoverzicht!$B$9,"Na startdatum aangekocht", IF(DATEDIF('Begroting P'!$D93,Startdatum,"D")>0,IF((('Begroting P'!$F93-((DATEDIF($D93,Startdatum,"M")/12)))*($E93/$F93))<0,0,(('Begroting P'!$F93-((DATEDIF($D93,Startdatum,"M")/12)))*($E93/$F93))),($E93/$F93))),0) -> Na startdatum aangekocht
H94: =IFERROR(E94-I94,0) -> 0 | I94: =IFERROR((E94/F94)*(Deelnemersoverzicht!$B$10-(DATEDIF(Startdatum,D94,"D")/365)),0) -> 0 | M94: =J94 -> 0 | N94: =K94 -> 0 | O94: =L94 -> 0 | U94: =IFERROR(IF(D94>=Deelnemersoverzicht!$B$9,"Na startdatum aangekocht", IF(DATEDIF('Begroting P'!$D94,Startdatum,"D")>0,IF((('Begroting P'!$F94-((DATEDIF($D94,Startdatum,"M")/12)))*($E94/$F94))<0,0,(('Begroting P'!$F94-((DATEDIF($D94,Startdatum,"M")/12)))*($E94/$F94))),($E94/$F94))),0) -> Na startdatum aangekocht
H95: =IFERROR(E95-I95,0) -> 0 | I95: =IFERROR((E95/F95)*(Deelnemersoverzicht!$B$10-(DATEDIF(Startdatum,D95,"D")/365)),0) -> 0 | M95: =J95 -> 0 | N95: =K95 -> 0 | O95: =L95 -> 0 | U95: =IFERROR(IF(D95>=Deelnemersoverzicht!$B$9,"Na startdatum aangekocht", IF(DATEDIF('Begroting P'!$D95,Startdatum,"D")>0,IF((('Begroting P'!$F95-((DATEDIF($D95,Startdatum,"M")/12)))*($E95/$F95))<0,0,(('Begroting P'!$F95-((DATEDIF($D95,Startdatum,"M")/12)))*($E95/$F95))),($E95/$F95))),0) -> Na startdatum aangekocht
H96: =IFERROR(E96-I96,0) -> 0 | I96: =IFERROR((E96/F96)*(Deelnemersoverzicht!$B$10-(DATEDIF(Startdatum,D96,"D")/365)),0) -> 0 | M96: =J96 -> 0 | N96: =K96 -> 0 | O96: =L96 -> 0 | U96: =IFERROR(IF(D96>=Deelnemersoverzicht!$B$9,"Na startdatum aangekocht", IF(DATEDIF('Begroting P'!$D96,Startdatum,"D")>0,IF((('Begroting P'!$F96-((DATEDIF($D96,Startdatum,"M")/12)))*($E96/$F96))<0,0,(('Begroting P'!$F96-((DATEDIF($D96,Startdatum,"M")/12)))*($E96/$F96))),($E96/$F96))),0) -> Na startdatum aangekocht
H97: =IFERROR(E97-I97,0) -> 0 | I97: =IFERROR((E97/F97)*(Deelnemersoverzicht!$B$10-(DATEDIF(Startdatum,D97,"D")/365)),0) -> 0 | M97: =J97 -> 0 | N97: =K97 -> 0 | O97: =L97 -> 0 | U97: =IFERROR(IF(D97>=Deelnemersoverzicht!$B$9,"Na startdatum aangekocht", IF(DATEDIF('Begroting P'!$D97,Startdatum,"D")>0,IF((('Begroting P'!$F97-((DATEDIF($D97,Startdatum,"M")/12)))*($E97/$F97))<0,0,(('Begroting P'!$F97-((DATEDIF($D97,Startdatum,"M")/12)))*($E97/$F97))),($E97/$F97))),0) -> Na startdatum aangekocht
H98: =IFERROR(E98-I98,0) -> 0 | I98: =IFERROR((E98/F98)*(Deelnemersoverzicht!$B$10-(DATEDIF(Startdatum,D98,"D")/365)),0) -> 0 | M98: =J98 -> 0 | N98: =K98 -> 0 | O98: =L98 -> 0 | U98: =IFERROR(IF(D98>=Deelnemersoverzicht!$B$9,"Na startdatum aangekocht", IF(DATEDIF('Begroting P'!$D98,Startdatum,"D")>0,IF((('Begroting P'!$F98-((DATEDIF($D98,Startdatum,"M")/12)))*($E98/$F98))<0,0,(('Begroting P'!$F98-((DATEDIF($D98,Startdatum,"M")/12)))*($E98/$F98))),($E98/$F98))),0) -> Na startdatum aangekocht
H99: =IFERROR(E99-I99,0) -> 0 | I99: =IFERROR((E99/F99)*(Deelnemersoverzicht!$B$10-(DATEDIF(Startdatum,D99,"D")/365)),0) -> 0 | M99: =J99 -> 0 | N99: =K99 -> 0 | O99: =L99 -> 0 | U99: =IFERROR(IF(D99>=Deelnemersoverzicht!$B$9,"Na startdatum aangekocht", IF(DATEDIF('Begroting P'!$D99,Startdatum,"D")>0,IF((('Begroting P'!$F99-((DATEDIF($D99,Startdatum,"M")/12)))*($E99/$F99))<0,0,(('Begroting P'!$F99-((DATEDIF($D99,Startdatum,"M")/12)))*($E99/$F99))),($E99/$F99))),0) -> Na startdatum aangekocht
H100: =IFERROR(E100-I100,0) -> 0 | I100: =IFERROR((E100/F100)*(Deelnemersoverzicht!$B$10-(DATEDIF(Startdatum,D100,"D")/365)),0) -> 0 | M100: =J100 -> 0 | N100: =K100 -> 0 | O100: =L100 -> 0 | U100: =IFERROR(IF(D100>=Deelnemersoverzicht!$B$9,"Na startdatum aangekocht", IF(DATEDIF('Begroting P'!$D100,Startdatum,"D")>0,IF((('Begroting P'!$F100-((DATEDIF($D100,Startdatum,"M")/12)))*($E100/$F100))<0,0,(('Begroting P'!$F100-((DATEDIF($D100,Startdatum,"M")/12)))*($E100/$F100))),($E100/$F100))),0) -> Na startdatum aangekocht
H101: =IFERROR(E101-I101,0) -> 0 | I101: =IFERROR((E101/F101)*(Deelnemersoverzicht!$B$10-(DATEDIF(Startdatum,D101,"D")/365)),0) -> 0 | M101: =J101 -> 0 | N101: =K101 -> 0 | O101: =L101 -> 0 | U101: =IFERROR(IF(D101>=Deelnemersoverzicht!$B$9,"Na startdatum aangekocht", IF(DATEDIF('Begroting P'!$D101,Startdatum,"D")>0,IF((('Begroting P'!$F101-((DATEDIF($D101,Startdatum,"M")/12)))*($E101/$F101))<0,0,(('Begroting P'!$F101-((DATEDIF($D101,Startdatum,"M")/12)))*($E101/$F101))),($E101/$F101))),0) -> Na startdatum aangekocht
... H107: =IFERROR(E107-I107,0) -> 0 | I107: =IFERROR((E107/F107)*(Deelnemersoverzicht!$B$10-(DATEDIF(Startdatum,D107,"D")/365)),0) -> 0 | M107: =J107 -> 0 | N107: =K107 -> 0 | O107: =L107 -> 0 | U107: =IFERROR(IF(D107>=Deelnemersoverzicht!$B$9,"Na startdatum aangekocht", IF(DATEDIF('Begroting P'!$D107,Startdatum,"D")>0,IF((('Begroting P'!$F107-((DATEDIF($D107,Startdatum,"M")/12)))*($E107/$F107))<0,0,(('Begroting P'!$F107-((DATEDIF($D107,Startdatum,"M")/12)))*($E107/$F107))),($E107/$F107))),0) -> Na startdatum aangekocht
M108: =J108 -> 0 | N108: =K108 -> 0 | O108: =L108 -> 0
B110: A3. b: Verbruikte materialen en hulpmiddelen | J110: Verbruik (aantal eenheden) | M110: Kosten €
B111: Werkpakket | C111: Omschrijving kosten | I111: Prijs per eenheid | J111: =IF(Deelnemersoverzicht!$C$19=Lijsten!$A$23,"",Lijsten!$D$3) -> Industrieel onderzoek | K111: =IF(Deelnemersoverzicht!$C$19=Lijsten!$A$23,"",Lijsten!$D$4) -> Experimentele ontwikkeling | L111: Niet-econ. Activiteiten | M111: =IF(Deelnemersoverzicht!$C$19=Lijsten!$A$23,"",Lijsten!$D$3) -> Industrieel onderzoek | N111: =IF(Deelnemersoverzicht!$C$19=Lijsten!$A$23,"",Lijsten!$D$4) -> Experimentele ontwikkeling | O111: Niet-econ. activiteiten
M112: =$I112*J112 -> 0 | N112: =$I112*K112 -> 0 | O112: =$I112*L112 -> 0
M113: =$I113*J113 -> 0 | N113: =$I113*K113 -> 0 | O113: =$I113*L113 -> 0
M114: =$I114*J114 -> 0 | N114: =$I114*K114 -> 0 | O114: =$I114*L114 -> 0
M115: =$I115*J115 -> 0 | N115: =$I115*K115 -> 0 | O115: =$I115*L115 -> 0
M116: =$I116*J116 -> 0 | N116: =$I116*K116 -> 0 | O116: =$I116*L116 -> 0
M117: =$I117*J117 -> 0 | N117: =$I117*K117 -> 0 | O117: =$I117*L117 -> 0
M118: =$I118*J118 -> 0 | N118: =$I118*K118 -> 0 | O118: =$I118*L118 -> 0
M119: =$I119*J119 -> 0 | N119: =$I119*K119 -> 0 | O119: =$I119*L119 -> 0
M120: =$I120*J120 -> 0 | N120: =$I120*K120 -> 0 | O120: =$I120*L120 -> 0
M121: =$I121*J121 -> 0 | N121: =$I121*K121 -> 0 | O121: =$I121*L121 -> 0
M122: =$I122*J122 -> 0 | N122: =$I122*K122 -> 0 | O122: =$I122*L122 -> 0
M123: =$I123*J123 -> 0 | N123: =$I123*K123 -> 0 | O123: =$I123*L123 -> 0
... M129: =$I129*J129 -> 0 | N129: =$I129*K129 -> 0 | O129: =$I129*L129 -> 0
M130: =SUM(M112:M129) -> 0 | N130: =SUM(N112:N129) -> 0 | O130: =SUM(O112:O129) -> 0
B132: A3. c: Overige aan derden verschuldigde kosten | M132: Kosten €
B133: Werkpakket | C133: Handelsnaam derde | E133: Omschrijving kosten | M133: =IF(Deelnemersoverzicht!$C$19=Lijsten!$A$23,"",Lijsten!$D$3) -> Industrieel onderzoek | N133: =IF(Deelnemersoverzicht!$C$19=Lijsten!$A$23,"",Lijsten!$D$4) -> Experimentele ontwikkeling | O133: Niet-econ. activiteiten
M152: =SUM(M134:M151) -> 0 | N152: =SUM(N134:N151) -> 0 | O152: =SUM(O134:O151) -> 0
I154: Totaal aan derden verschuldigde kosten | M154: =+M108+M130+M152 -> 0 | N154: =+N108+N130+N152 -> 0 | O154: =O108+O130+O152 -> 0
B156: ONDERDEEL B
B157: Overzicht subsidie deelnemer:
B159: Omschrijving | L159: =IF(Deelnemersoverzicht!$C$19=Lijsten!$A$23,"",Lijsten!$D$3) -> Industrieel onderzoek | M159: =IF(Deelnemersoverzicht!$C$19=Lijsten!$A$23,"",Lijsten!$D$4) -> Experimentele ontwikkeling | N159: Niet-econ. activiteiten | O159: Totaal
B160: A1. | C160: Loonkosten | L160: =M56 -> 0 | M160: =N56 -> 0 | N160: =O56 -> 0 | O160: =SUM(L160:N160) -> 0
B161: A2. | C161: Machines en apparaten die niet uitsluitend voor het project worden gebruikt | L161: =M84 -> 0 | M161: =N84 -> 0 | N161: =O84 -> 0 | O161: =SUM(L161:N161) -> 0
B162: A3. | C162: Aan derden verschuldigde kosten | L162: =M154 -> 0 | M162: =N154 -> 0 | N162: =O154 -> 0 | O162: =SUM(L162:N162) -> 0
B164: A4. | C164: Totaal onderdeel B | L164: =SUM(L160:L162) -> 0 | M164: =SUM(M160:M162) -> 0 | N164: =SUM(N160:N162) -> 0 | O164: =SUM(O160:O162) -> 0
B166: Maximale subsidiepercentage | L166: =+Deelnemersoverzicht!E19 -> #N/A | M166: =+Deelnemersoverzicht!F19 -> #N/A | N166: =+Deelnemersoverzicht!G19 -> 0
B167: Maximale subsidie | L167: =L164*L166 -> #N/A | M167: =M164*M166 -> #N/A | N167: =N164*N166 -> 0
B168: Reeds ontvangen subsidies voor de subsidiabele kosten | O168: 0
B169: Maximale subsidie | O169: =SUM(L167:N167)-O168 -> #N/A
B170: Gevraagde subsidie | J170: =IF(O170<1,"Let op: Vergeet niet de door u gevraagde subsidie in te vullen! →",IF((O170-O169)>1,"LET OP: U vraagt meer dan de maximale berekende subsidie aan!",IF(O170>500000,"LET OP: De maximale subsidie voor deze regeling betreft €500.000 per project!",""))) -> Let op: Vergeet niet de door u gevraagde subsidie in te vullen! → | L170: =IF(L167>0,O170/(O169+O168)*L167,0) -> #N/A | M170: =IF(M167>0,O170/(O169+O168)*M167,0) -> #N/A | N170: =IF(N167>0,O170/(O169+O168)*N167,0) -> 0
B172: ONDERDEEL C
B173: Financiering van het project:
B175: C1. | C175: Totale projectkosten | O175: =O164 -> 0
B176: C2. | C176: Reeds ontvangen subsidies voor de subsidiabele kosten | O176: =O168 -> 0
B177: C3. | C177: Gevraagde subsidie (B) | O177: =O170 -> 0
...

Sheet Begroting D1
C1: Model begroting | H1: =IF(Deelnemersoverzicht!B5="(Dit veld wordt ingevuld door RVO)","",Deelnemersoverzicht!B5) -> Dit veld wordt door RVO ingevuld | U1: KOLOM VERBERGEN!!
C2: NBS Living Labs 2026
C4: Gegevens per deelnemer:
C6: =Deelnemersoverzicht!A20 -> Deelnemer 1 (D1) | F6: =Deelnemersoverzicht!B20 -> 0
C7: Titel project | F7: =Deelnemersoverzicht!B6 -> 0
C8: BTW | F8: <maak een keuze>
C9: Gebruikte loonsystematiek | F9: <maak een keuze>
F10: =IF(F9="Integrale kostensystematiek","Let op! U dient in de begroting de IKS-tarieven zo te specificeren dat deze te controleren zijn op basis van de door u aangeleverde","")
F11: =IF(F9="Integrale kostensystematiek","IKS tarieven aan RVO. Bijvoorbeeld: divisie R&D, loonschaal 10. Vul dit in bij toelichting IKS.","")
B13: ONDERDEEL A
B14: Overzicht kosten
B16: A1. | C16: Loonkosten
G18: =IF(AND($F$9="Integrale kostensystematiek",COUNTA(C20:D55)>COUNTA(G20:G55)),"Let op! U dient de Toelichting IKS in te vullen","") | J18: Aantal uren | M18: Kosten €
B19: Werkpakket | C19: Functie | E19: Rol in het project | G19: Toelichting IKS bijv. divisie R&D, schaal 11 | H19: Uurtarief | J19: =IF(Deelnemersoverzicht!$C$20=Lijsten!$A$23,"",Lijsten!$D$3) -> Industrieel onderzoek | K19: =IF(Deelnemersoverzicht!$C$20=Lijsten!$A$23,"",Lijsten!$D$4) -> Experimentele ontwikkeling | L19: Niet-econ. activiteiten | M19: =IF(Deelnemersoverzicht!$C$20=Lijsten!$A$23,"",Lijsten!$D$3) -> Industrieel onderzoek | N19: =IF(Deelnemersoverzicht!$C$20=Lijsten!$A$23,"",Lijsten!$D$4) -> Experimentele ontwikkeling | O19: Niet-econ. activiteiten
M20: =+H20*J20 -> 0 | N20: =+H20*K20 -> 0 | O20: =H20*L20 -> 0
M21: =+H21*J21 -> 0 | N21: =+H21*K21 -> 0 | O21: =H21*L21 -> 0
M22: =+H22*J22 -> 0 | N22: =+H22*K22 -> 0 | O22: =H22*L22 -> 0
M23: =+H23*J23 -> 0 | N23: =+H23*K23 -> 0 | O23: =H23*L23 -> 0
M24: =+H24*J24 -> 0 | N24: =+H24*K24 -> 0 | O24: =H24*L24 -> 0
M25: =+H25*J25 -> 0 | N25: =+H25*K25 -> 0 | O25: =H25*L25 -> 0
M26: =+H26*J26 -> 0 | N26: =+H26*K26 -> 0 | O26: =H26*L26 -> 0
M27: =+H27*J27 -> 0 | N27: =+H27*K27 -> 0 | O27: =H27*L27 -> 0
M28: =+H28*J28 -> 0 | N28: =+H28*K28 -> 0 | O28: =H28*L28 -> 0
M29: =+H29*J29 -> 0 | N29: =+H29*K29 -> 0 | O29: =H29*L29 -> 0
M30: =+H30*J30 -> 0 | N30: =+H30*K30 -> 0 | O30: =H30*L30 -> 0
M31: =+H31*J31 -> 0 | N31: =+H31*K31 -> 0 | O31: =H31*L31 -> 0
... M55: =+H55*J55 -> 0 | N55: =+H55*K55 -> 0 | O55: =H55*L55 -> 0
I56: Totale loonkosten | M56: =SUM(M20:M55) -> 0 | N56: =SUM(N20:N55) -> 0 | O56: =SUM(O20:O55) -> 0
B58: A2. | C58: Machines en apparaten die niet uitsluitend voor het project worden gebruikt
D60: =IF(COUNTA(D62:D83)<COUNTA(E62:E83),"Let op! Vul ook de aanschafdatum in!","") | J60: Aantal uur in gebruik t.b.v. project | M60: Kosten €
B61: Werkpakket | C61: Omschrijving kosten | D61: Aanschafdatum | E61: Aanschafwaarde | F61: Afschrijving in jaren (minimaal 5 jaar) | G61: Fiscale afschrijving per jaar | H61: Totaal uren bij normale bezetting per jaar | I61: Afschrijving per uur | J61: =+J19 -> Industrieel onderzoek | K61: =+K19 -> Experimentele ontwikkeling | L61: Niet-econ. Activiteiten | M61: =+J19 -> Industrieel onderzoek | N61: =+K19 -> Experimentele ontwikkeling | O61: Niet-econ. activiteiten | U61: Restwaarde afschrijvingen
G62: =IFERROR(E62/F62,0) -> 0 | I62: =IFERROR(G62/H62,0) -> 0 | L62: 200 | M62: =+H62*J62 -> 0 | N62: =+H62*K62 -> 0 | O62: =I62*L62 -> 0 | U62: =IFERROR(IF(D62>=Deelnemersoverzicht!$B$9,"Na startdatum aangekocht", IF(DATEDIF('Begroting P'!$D62,Startdatum,"D")>0,IF((('Begroting P'!$F62-((DATEDIF($D62,Startdatum,"M")/12)))*($E62/$F62))<0,"Dit is afgeschreven!",(('Begroting P'!$F62-((DATEDIF($D62,Startdatum,"M")/12)))*($E62/$F62))),($E62/$F62))),0) -> Na startdatum aangekocht
G63: =IFERROR(E63/F63,0) -> 0 | I63: =IFERROR(G63/H63,0) -> 0 | M63: =+H63*J63 -> 0 | N63: =+H63*K63 -> 0 | O63: =I63*L63 -> 0 | U63: =IFERROR(IF(D63>=Deelnemersoverzicht!$B$9,"Na startdatum aangekocht", IF(DATEDIF('Begroting P'!$D63,Startdatum,"D")>0,IF((('Begroting P'!$F63-((DATEDIF($D63,Startdatum,"M")/12)))*($E63/$F63))<0,"Dit is afgeschreven!",(('Begroting P'!$F63-((DATEDIF($D63,Startdatum,"M")/12)))*($E63/$F63))),($E63/$F63))),0) -> Na startdatum aangekocht
G64: =IFERROR(E64/F64,0) -> 0 | I64: =IFERROR(G64/H64,0) -> 0 | M64: =+H64*J64 -> 0 | N64: =+H64*K64 -> 0 | O64: =I64*L64 -> 0 | U64: =IFERROR(IF(D64>=Deelnemersoverzicht!$B$9,"Na startdatum aangekocht", IF(DATEDIF('Begroting P'!$D64,Startdatum,"D")>0,IF((('Begroting P'!$F64-((DATEDIF($D64,Startdatum,"M")/12)))*($E64/$F64))<0,"Dit is afgeschreven!",(('Begroting P'!$F64-((DATEDIF($D64,Startdatum,"M")/12)))*($E64/$F64))),($E64/$F64))),0) -> Na startdatum aangekocht
G65: =IFERROR(E65/F65,0) -> 0 | I65: =IFERROR(G65/H65,0) -> 0 | M65: =+H65*J65 -> 0 | N65: =+H65*K65 -> 0 | O65: =I65*L65 -> 0 | U65: =IFERROR(IF(D65>=Deelnemersoverzicht!$B$9,"Na startdatum aangekocht", IF(DATEDIF('Begroting P'!$D65,Startdatum,"D")>0,IF((('Begroting P'!$F65-((DATEDIF($D65,Startdatum,"M")/12)))*($E65/$F65))<0,"Dit is afgeschreven!",(('Begroting P'!$F65-((DATEDIF($D65,Startdatum,"M")/12)))*($E65/$F65))),($E65/$F65))),0) -> Na startdatum aangekocht
G66: =IFERROR(E66/F66,0) -> 0 | I66: =IFERROR(G66/H66,0) -> 0 | M66: =+H66*J66 -> 0 | N66: =+H66*K66 -> 0 | O66: =I66*L66 -> 0 | U66: =IFERROR(IF(D66>=Deelnemersoverzicht!$B$9,"Na startdatum aangekocht", IF(DATEDIF('Begroting P'!$D66,Startdatum,"D")>0,IF((('Begroting P'!$F66-((DATEDIF($D66,Startdatum,"M")/12)))*($E66/$F66))<0,"Dit is afgeschreven!",(('Begroting P'!$F66-((DATEDIF($D66,Startdatum,"M")/12)))*($E66/$F66))),($E66/$F66))),0) -> Na startdatum aangekocht
G67: =IFERROR(E67/F67,0) -> 0 | I67: =IFERROR(G67/H67,0) -> 0 | M67: =+H67*J67 -> 0 | N67: =+H67*K67 -> 0 | O67: =I67*L67 -> 0 | U67: =IFERROR(IF(D67>=Deelnemersoverzicht!$B$9,"Na startdatum aangekocht", IF(DATEDIF('Begroting P'!$D67,Startdatum,"D")>0,IF((('Begroting P'!$F67-((DATEDIF($D67,Startdatum,"M")/12)))*($E67/$F67))<0,"Dit is afgeschreven!",(('Begroting P'!$F67-((DATEDIF($D67,Startdatum,"M")/12)))*($E67/$F67))),($E67/$F67))),0) -> Na startdatum aangekocht
G68: =IFERROR(E68/F68,0) -> 0 | I68: =IFERROR(G68/H68,0) -> 0 | M68: =+H68*J68 -> 0 | N68: =+H68*K68 -> 0 | O68: =I68*L68 -> 0 | U68: =IFERROR(IF(D68>=Deelnemersoverzicht!$B$9,"Na startdatum aangekocht", IF(DATEDIF('Begroting P'!$D68,Startdatum,"D")>0,IF((('Begroting P'!$F68-((DATEDIF($D68,Startdatum,"M")/12)))*($E68/$F68))<0,"Dit is afgeschreven!",(('Begroting P'!$F68-((DATEDIF($D68,Startdatum,"M")/12)))*($E68/$F68))),($E68/$F68))),0) -> Na startdatum aangekocht
G69: =IFERROR(E69/F69,0) -> 0 | I69: =IFERROR(G69/H69,0) -> 0 | M69: =+H69*J69 -> 0 | N69: =+H69*K69 -> 0 | O69: =I69*L69 -> 0 | U69: =IFERROR(IF(D69>=Deelnemersoverzicht!$B$9,"Na startdatum aangekocht", IF(DATEDIF('Begroting P'!$D69,Startdatum,"D")>0,IF((('Begroting P'!$F69-((DATEDIF($D69,Startdatum,"M")/12)))*($E69/$F69))<0,"Dit is afgeschreven!",(('Begroting P'!$F69-((DATEDIF($D69,Startdatum,"M")/12)))*($E69/$F69))),($E69/$F69))),0) -> Na startdatum aangekocht
G70: =IFERROR(E70/F70,0) -> 0 | I70: =IFERROR(G70/H70,0) -> 0 | M70: =+H70*J70 -> 0 | N70: =+H70*K70 -> 0 | O70: =I70*L70 -> 0 | U70: =IFERROR(IF(D70>=Deelnemersoverzicht!$B$9,"Na startdatum aangekocht", IF(DATEDIF('Begroting P'!$D70,Startdatum,"D")>0,IF((('Begroting P'!$F70-((DATEDIF($D70,Startdatum,"M")/12)))*($E70/$F70))<0,"Dit is afgeschreven!",(('Begroting P'!$F70-((DATEDIF($D70,Startdatum,"M")/12)))*($E70/$F70))),($E70/$F70))),0) -> Na startdatum aangekocht
G71: =IFERROR(E71/F71,0) -> 0 | I71: =IFERROR(G71/H71,0) -> 0 | M71: =+H71*J71 -> 0 | N71: =+H71*K71 -> 0 | O71: =I71*L71 -> 0 | U71: =IFERROR(IF(D71>=Deelnemersoverzicht!$B$9,"Na startdatum aangekocht", IF(DATEDIF('Begroting P'!$D71,Startdatum,"D")>0,IF((('Begroting P'!$F71-((DATEDIF($D71,Startdatum,"M")/12)))*($E71/$F71))<0,"Dit is afgeschreven!",(('Begroting P'!$F71-((DATEDIF($D71,Startdatum,"M")/12)))*($E71/$F71))),($E71/$F71))),0) -> Na startdatum aangekocht
G72: =IFERROR(E72/F72,0) -> 0 | I72: =IFERROR(G72/H72,0) -> 0 | M72: =+H72*J72 -> 0 | N72: =+H72*K72 -> 0 | O72: =I72*L72 -> 0 | U72: =IFERROR(IF(D72>=Deelnemersoverzicht!$B$9,"Na startdatum aangekocht", IF(DATEDIF('Begroting P'!$D72,Startdatum,"D")>0,IF((('Begroting P'!$F72-((DATEDIF($D72,Startdatum,"M")/12)))*($E72/$F72))<0,"Dit is afgeschreven!",(('Begroting P'!$F72-((DATEDIF($D72,Startdatum,"M")/12)))*($E72/$F72))),($E72/$F72))),0) -> Na startdatum aangekocht
G73: =IFERROR(E73/F73,0) -> 0 | I73: =IFERROR(G73/H73,0) -> 0 | M73: =+H73*J73 -> 0 | N73: =+H73*K73 -> 0 | O73: =I73*L73 -> 0 | U73: =IFERROR(IF(D73>=Deelnemersoverzicht!$B$9,"Na startdatum aangekocht", IF(DATEDIF('Begroting P'!$D73,Startdatum,"D")>0,IF((('Begroting P'!$F73-((DATEDIF($D73,Startdatum,"M")/12)))*($E73/$F73))<0,"Dit is afgeschreven!",(('Begroting P'!$F73-((DATEDIF($D73,Startdatum,"M")/12)))*($E73/$F73))),($E73/$F73))),0) -> Na startdatum aangekocht
G74: =IFERROR(E74/F74,0) -> 0 | I74: =IFERROR(G74/H74,0) -> 0 | M74: =+H74*J74 -> 0 | N74: =+H74*K74 -> 0 | O74: =I74*L74 -> 0 | U74: =IFERROR(IF(D74>=Deelnemersoverzicht!$B$9,"Na startdatum aangekocht", IF(DATEDIF('Begroting P'!$D74,Startdatum,"D")>0,IF((('Begroting P'!$F74-((DATEDIF($D74,Startdatum,"M")/12)))*($E74/$F74))<0,"Dit is afgeschreven!",(('Begroting P'!$F74-((DATEDIF($D74,Startdatum,"M")/12)))*($E74/$F74))),($E74/$F74))),0) -> Na startdatum aangekocht
... G83: =IFERROR(E83/F83,0) -> 0 | I83: =IFERROR(G83/H83,0) -> 0 | M83: =+H83*J83 -> 0 | N83: =+H83*K83 -> 0 | O83: =I83*L83 -> 0 | U83: =IFERROR(IF(D83>=Deelnemersoverzicht!$B$9,"Na startdatum aangekocht", IF(DATEDIF('Begroting P'!$D83,Startdatum,"D")>0,IF((('Begroting P'!$F83-((DATEDIF($D83,Startdatum,"M")/12)))*($E83/$F83))<0,"Dit is afgeschreven!",(('Begroting P'!$F83-((DATEDIF($D83,Startdatum,"M")/12)))*($E83/$F83))),($E83/$F83))),0) -> Na startdatum aangekocht
H84: Totale kosten aangeschafte machines en apparatuur | M84: =SUM(M62:M83) -> 0 | N84: =SUM(N62:N83) -> 0 | O84: =SUM(O62:O83) -> 0
B86: A3. | C86: Aan derden verschuldigde kosten
B87: A3. a: Apparatuur uitsluitend voor het project aangeschaft
D88: =IF(COUNTA(D90:D107)<COUNTA(E90:E107),"Let op! Vul ook de aanschafdatum in!","") | J88: Subsidiabele kosten per onderzoekstype | M88: Kosten €
B89: Werkpakket | C89: Omschrijving kosten | D89: Aanschafdatum, binnen de projectperiode | E89: Aanschafwaarde | F89: Afschrijving in jaren (minimaal 5 jaar) | H89: Restwaarde | I89: Subsidiabele kosten totaal | J89: =+J19 -> Industrieel onderzoek | K89: =+K19 -> Experimentele ontwikkeling | L89: Niet-econ. Activiteiten | M89: =+J19 -> Industrieel onderzoek | N89: =+K19 -> Experimentele ontwikkeling | O89: Niet-econ. activiteiten | U89: Restwaarde afschrijvingen
H90: =IFERROR(E90-I90,0) -> 0 | I90: =IFERROR((E90/F90)*(Deelnemersoverzicht!$B$10-(DATEDIF(Startdatum,D90,"D")/365)),0) -> 0 | M90: =+H90*J90 -> 0 | N90: =+H90*K90 -> 0 | O90: =I90*L90 -> 0 | U90: =IFERROR(IF(D90>=Deelnemersoverzicht!$B$9,"Na startdatum aangekocht", IF(DATEDIF('Begroting P'!$D90,Startdatum,"D")>0,IF((('Begroting P'!$F90-((DATEDIF($D90,Startdatum,"M")/12)))*($E90/$F90))<0,0,(('Begroting P'!$F90-((DATEDIF($D90,Startdatum,"M")/12)))*($E90/$F90))),($E90/$F90))),0) -> Na startdatum aangekocht
H91: =IFERROR(E91-I91,0) -> 0 | I91: =IFERROR((E91/F91)*(Deelnemersoverzicht!$B$10-(DATEDIF(Startdatum,D91,"D")/365)),0) -> 0 | M91: =+H91*J91 -> 0 | N91: =+H91*K91 -> 0 | O91: =I91*L91 -> 0 | U91: =IFERROR(IF(D91>=Deelnemersoverzicht!$B$9,"Na startdatum aangekocht", IF(DATEDIF('Begroting P'!$D91,Startdatum,"D")>0,IF((('Begroting P'!$F91-((DATEDIF($D91,Startdatum,"M")/12)))*($E91/$F91))<0,0,(('Begroting P'!$F91-((DATEDIF($D91,Startdatum,"M")/12)))*($E91/$F91))),($E91/$F91))),0) -> Na startdatum aangekocht
H92: =IFERROR(E92-I92,0) -> 0 | I92: =IFERROR((E92/F92)*(Deelnemersoverzicht!$B$10-(DATEDIF(Startdatum,D92,"D")/365)),0) -> 0 | M92: =+H92*J92 -> 0 | N92: =+H92*K92 -> 0 | O92: =I92*L92 -> 0 | U92: =IFERROR(IF(D92>=Deelnemersoverzicht!$B$9,"Na startdatum aangekocht", IF(DATEDIF('Begroting P'!$D92,Startdatum,"D")>0,IF((('Begroting P'!$F92-((DATEDIF($D92,Startdatum,"M")/12)))*($E92/$F92))<0,0,(('Begroting P'!$F92-((DATEDIF($D92,Startdatum,"M")/12)))*($E92/$F92))),($E92/$F92))),0) -> Na startdatum aangekocht
H93: =IFERROR(E93-I93,0) -> 0 | I93: =IFERROR((E93/F93)*(Deelnemersoverzicht!$B$10-(DATEDIF(Startdatum,D93,"D")/365)),0) -> 0 | M93: =+H93*J93 -> 0 | N93: =+H93*K93 -> 0 | O93: =I93*L93 -> 0 | U93: =IFERROR(IF(D93>=Deelnemersoverzicht!$B$9,"Na startdatum aangekocht", IF(DATEDIF('Begroting P'!$D93,Startdatum,"D")>0,IF((('Begroting P'!$F93-((DATEDIF($D93,Startdatum,"M")/12)))*($E93/$F93))<0,0,(('Begroting P'!$F93-((DATEDIF($D93,Startdatum,"M")/12)))*($E93/$F93))),($E93/$F93))),0) -> Na startdatum aangekocht
H94: =IFERROR(E94-I94,0) -> 0 | I94: =IFERROR((E94/F94)*(Deelnemersoverzicht!$B$10-(DATEDIF(Startdatum,D94,"D")/365)),0) -> 0 | M94: =+H94*J94 -> 0 | N94: =+H94*K94 -> 0 | O94: =I94*L94 -> 0 | U94: =IFERROR(IF(D94>=Deelnemersoverzicht!$B$9,"Na startdatum aangekocht", IF(DATEDIF('Begroting P'!$D94,Startdatum,"D")>0,IF((('Begroting P'!$F94-((DATEDIF($D94,Startdatum,"M")/12)))*($E94/$F94))<0,0,(('Begroting P'!$F94-((DATEDIF($D94,Startdatum,"M")/12)))*($E94/$F94))),($E94/$F94))),0) -> Na startdatum aangekocht
H95: =IFERROR(E95-I95,0) -> 0 | I95: =IFERROR((E95/F95)*(Deelnemersoverzicht!$B$10-(DATEDIF(Startdatum,D95,"D")/365)),0) -> 0 | M95: =+H95*J95 -> 0 | N95: =+H95*K95 -> 0 | O95: =I95*L95 -> 0 | U95: =IFERROR(IF(D95>=Deelnemersoverzicht!$B$9,"Na startdatum aangekocht", IF(DATEDIF('Begroting P'!$D95,Startdatum,"D")>0,IF((('Begroting P'!$F95-((DATEDIF($D95,Startdatum,"M")/12)))*($E95/$F95))<0,0,(('Begroting P'!$F95-((DATEDIF($D95,Startdatum,"M")/12)))*($E95/$F95))),($E95/$F95))),0) -> Na startdatum aangekocht
H96: =IFERROR(E96-I96,0) -> 0 | I96: =IFERROR((E96/F96)*(Deelnemersoverzicht!$B$10-(DATEDIF(Startdatum,D96,"D")/365)),0) -> 0 | M96: =+H96*J96 -> 0 | N96: =+H96*K96 -> 0 | O96: =I96*L96 -> 0 | U96: =IFERROR(IF(D96>=Deelnemersoverzicht!$B$9,"Na startdatum aangekocht", IF(DATEDIF('Begroting P'!$D96,Startdatum,"D")>0,IF((('Begroting P'!$F96-((DATEDIF($D96,Startdatum,"M")/12)))*($E96/$F96))<0,0,(('Begroting P'!$F96-((DATEDIF($D96,Startdatum,"M")/12)))*($E96/$F96))),($E96/$F96))),0) -> Na startdatum aangekocht
H97: =IFERROR(E97-I97,0) -> 0 | I97: =IFERROR((E97/F97)*(Deelnemersoverzicht!$B$10-(DATEDIF(Startdatum,D97,"D")/365)),0) -> 0 | M97: =+H97*J97 -> 0 | N97: =+H97*K97 -> 0 | O97: =I97*L97 -> 0 | U97: =IFERROR(IF(D97>=Deelnemersoverzicht!$B$9,"Na startdatum aangekocht", IF(DATEDIF('Begroting P'!$D97,Startdatum,"D")>0,IF((('Begroting P'!$F97-((DATEDIF($D97,Startdatum,"M")/12)))*($E97/$F97))<0,0,(('Begroting P'!$F97-((DATEDIF($D97,Startdatum,"M")/12)))*($E97/$F97))),($E97/$F97))),0) -> Na startdatum aangekocht
H98: =IFERROR(E98-I98,0) -> 0 | I98: =IFERROR((E98/F98)*(Deelnemersoverzicht!$B$10-(DATEDIF(Startdatum,D98,"D")/365)),0) -> 0 | M98: =+H98*J98 -> 0 | N98: =+H98*K98 -> 0 | O98: =I98*L98 -> 0 | U98: =IFERROR(IF(D98>=Deelnemersoverzicht!$B$9,"Na startdatum aangekocht", IF(DATEDIF('Begroting P'!$D98,Startdatum,"D")>0,IF((('Begroting P'!$F98-((DATEDIF($D98,Startdatum,"M")/12)))*($E98/$F98))<0,0,(('Begroting P'!$F98-((DATEDIF($D98,Startdatum,"M")/12)))*($E98/$F98))),($E98/$F98))),0) -> Na startdatum aangekocht
H99: =IFERROR(E99-I99,0) -> 0 | I99: =IFERROR((E99/F99)*(Deelnemersoverzicht!$B$10-(DATEDIF(Startdatum,D99,"D")/365)),0) -> 0 | M99: =+H99*J99 -> 0 | N99: =+H99*K99 -> 0 | O99: =I99*L99 -> 0 | U99: =IFERROR(IF(D99>=Deelnemersoverzicht!$B$9,"Na startdatum aangekocht", IF(DATEDIF('Begroting P'!$D99,Startdatum,"D")>0,IF((('Begroting P'!$F99-((DATEDIF($D99,Startdatum,"M")/12)))*($E99/$F99))<0,0,(('Begroting P'!$F99-((DATEDIF($D99,Startdatum,"M")/12)))*($E99/$F99))),($E99/$F99))),0) -> Na startdatum aangekocht
H100: =IFERROR(E100-I100,0) -> 0 | I100: =IFERROR((E100/F100)*(Deelnemersoverzicht!$B$10-(DATEDIF(Startdatum,D100,"D")/365)),0) -> 0 | M100: =+H100*J100 -> 0 | N100: =+H100*K100 -> 0 | O100: =I100*L100 -> 0 | U100: =IFERROR(IF(D100>=Deelnemersoverzicht!$B$9,"Na startdatum aangekocht", IF(DATEDIF('Begroting P'!$D100,Startdatum,"D")>0,IF((('Begroting P'!$F100-((DATEDIF($D100,Startdatum,"M")/12)))*($E100/$F100))<0,0,(('Begroting P'!$F100-((DATEDIF($D100,Startdatum,"M")/12)))*($E100/$F100))),($E100/$F100))),0) -> Na startdatum aangekocht
H101: =IFERROR(E101-I101,0) -> 0 | I101: =IFERROR((E101/F101)*(Deelnemersoverzicht!$B$10-(DATEDIF(Startdatum,D101,"D")/365)),0) -> 0 | M101: =+H101*J101 -> 0 | N101: =+H101*K101 -> 0 | O101: =I101*L101 -> 0 | U101: =IFERROR(IF(D101>=Deelnemersoverzicht!$B$9,"Na startdatum aangekocht", IF(DATEDIF('Begroting P'!$D101,Startdatum,"D")>0,IF((('Begroting P'!$F101-((DATEDIF($D101,Startdatum,"M")/12)))*($E101/$F101))<0,0,(('Begroting P'!$F101-((DATEDIF($D101,Startdatum,"M")/12)))*($E101/$F101))),($E101/$F101))),0) -> Na startdatum aangekocht
... H107: =IFERROR(E107-I107,0) -> 0 | I107: =IFERROR((E107/F107)*(Deelnemersoverzicht!$B$10-(DATEDIF(Startdatum,D107,"D")/365)),0) -> 0 | M107: =+H107*J107 -> 0 | N107: =+H107*K107 -> 0 | O107: =I107*L107 -> 0 | U107: =IFERROR(IF(D107>=Deelnemersoverzicht!$B$9,"Na startdatum aangekocht", IF(DATEDIF('Begroting P'!$D107,Startdatum,"D")>0,IF((('Begroting P'!$F107-((DATEDIF($D107,Startdatum,"M")/12)))*($E107/$F107))<0,0,(('Begroting P'!$F107-((DATEDIF($D107,Startdatum,"M")/12)))*($E107/$F107))),($E107/$F107))),0) -> Na startdatum aangekocht
M108: =SUM(M90:M107) -> 0 | N108: =SUM(N90:N107) -> 0 | O108: =SUM(O90:O107) -> 0
B110: A3. b: Verbruikte materialen en hulpmiddelen | J110: Verbruik (aantal eenheden) | M110: Kosten €
B111: Werkpakket | C111: Omschrijving kosten | I111: Prijs per eenheid | J111: =+J19 -> Industrieel onderzoek | K111: =+K19 -> Experimentele ontwikkeling | L111: Niet-econ. Activiteiten | M111: =+J19 -> Industrieel onderzoek | N111: =+K19 -> Experimentele ontwikkeling | O111: Niet-econ. activiteiten
M112: =$I112*J112 -> 0 | N112: =$I112*K112 -> 0 | O112: =$I112*L112 -> 0
M113: =$I113*J113 -> 0 | N113: =$I113*K113 -> 0 | O113: =$I113*L113 -> 0
M114: =$I114*J114 -> 0 | N114: =$I114*K114 -> 0 | O114: =$I114*L114 -> 0
M115: =$I115*J115 -> 0 | N115: =$I115*K115 -> 0 | O115: =$I115*L115 -> 0
M116: =$I116*J116 -> 0 | N116: =$I116*K116 -> 0 | O116: =$I116*L116 -> 0
M117: =$I117*J117 -> 0 | N117: =$I117*K117 -> 0 | O117: =$I117*L117 -> 0
M118: =$I118*J118 -> 0 | N118: =$I118*K118 -> 0 | O118: =$I118*L118 -> 0
M119: =$I119*J119 -> 0 | N119: =$I119*K119 -> 0 | O119: =$I119*L119 -> 0
M120: =$I120*J120 -> 0 | N120: =$I120*K120 -> 0 | O120: =$I120*L120 -> 0
M121: =$I121*J121 -> 0 | N121: =$I121*K121 -> 0 | O121: =$I121*L121 -> 0
M122: =$I122*J122 -> 0 | N122: =$I122*K122 -> 0 | O122: =$I122*L122 -> 0
M123: =$I123*J123 -> 0 | N123: =$I123*K123 -> 0 | O123: =$I123*L123 -> 0
... M129: =$I129*J129 -> 0 | N129: =$I129*K129 -> 0 | O129: =$I129*L129 -> 0
M130: =SUM(M112:M129) -> 0 | N130: =SUM(N112:N129) -> 0 | O130: =SUM(O112:O129) -> 0
B132: A3. c: Overige aan derden verschuldigde kosten | M132: Kosten €
B133: Werkpakket | C133: Handelsnaam derde | E133: Omschrijving kosten | M133: =+J19 -> Industrieel onderzoek | N133: =+K19 -> Experimentele ontwikkeling | O133: Niet-econ. activiteiten
M152: =SUM(M134:M151) -> 0 | N152: =SUM(N134:N151) -> 0 | O152: =SUM(O134:O151) -> 0
I154: Totaal aan derden verschuldigde kosten | M154: =+M108+M130+M152 -> 0 | N154: =+N108+N130+N152 -> 0 | O154: =O108+O130+O152 -> 0
B156: ONDERDEEL B
B157: Overzicht subsidie deelnemer:
B159: Omschrijving | L159: =+J19 -> Industrieel onderzoek | M159: =+K19 -> Experimentele ontwikkeling | N159: Niet-econ. activiteiten | O159: Totaal
B160: A1. | C160: Loonkosten | L160: =M56 -> 0 | M160: =N56 -> 0 | N160: =O56 -> 0 | O160: =SUM(L160:N160) -> 0
B161: A2. | C161: Machines en apparaten die niet uitsluitend voor het project worden gebruikt | L161: =M84 -> 0 | M161: =N84 -> 0 | N161: =O84 -> 0 | O161: =SUM(L161:N161) -> 0
B162: A3. | C162: Aan derden verschuldigde kosten | L162: =M154 -> 0 | M162: =N154 -> 0 | N162: =O154 -> 0 | O162: =SUM(L162:N162) -> 0
B164: A4. | C164: Totaal onderdeel B | L164: =SUM(L160:L162) -> 0 | M164: =SUM(M160:M162) -> 0 | N164: =SUM(N160:N162) -> 0 | O164: =SUM(O160:O162) -> 0
B166: Maximale subsidiepercentage | L166: =+Deelnemersoverzicht!E20 -> #N/A | M166: =+Deelnemersoverzicht!F20 -> #N/A | N166: =+Deelnemersoverzicht!G20 -> 0
B167: Maximale subsidie | L167: =L164*L166 -> #N/A | M167: =M164*M166 -> #N/A | N167: =N164*N166 -> 0
B168: Reeds ontvangen subsidies voor de subsidiabele kosten
B169: Maximale subsidie | O169: =SUM(L167:N167)-O168 -> #N/A
B170: Gevraagde subsidie | J170: =IF(O170<1,"Let op: Vergeet niet de door u gevraagde subsidie in te vullen! →",IF((O170-O169)>1,"LET OP: U vraagt meer dan de maximale berekende subsidie aan!",IF(O170>500000,"LET OP: De maximale subsidie voor deze regeling betreft €500.000 per project!",""))) -> Let op: Vergeet niet de door u gevraagde subsidie in te vullen! → | L170: =IF(L167>0,O170/(O169+O168)*L167,0) -> #N/A | M170: =IF(M167>0,O170/(O169+O168)*M167,0) -> #N/A | N170: =IF(N167>0,O170/(O169+O168)*N167,0) -> 0
B172: ONDERDEEL C
B173: Financiering van het project:
B175: C1. | C175: Totale projectkosten | O175: =O164 -> 0
B176: C2. | C176: Reeds ontvangen subsidies voor de subsidiabele kosten | O176: =O168 -> 0
...

Sheet Begroting D2
C1: Model begroting | H1: =IF(Deelnemersoverzicht!B5="(Dit veld wordt ingevuld door RVO)","",Deelnemersoverzicht!B5) -> Dit veld wordt door RVO ingevuld | U1: KOLOM VERBERGEN!!
C2: NBS Living Labs 2026
C4: Gegevens per deelnemer:
C6: =Deelnemersoverzicht!A21 -> Deelnemer 2 (D2) | F6: =Deelnemersoverzicht!B21 -> 0
C7: Titel project | F7: =Deelnemersoverzicht!B6 -> 0
C8: BTW | F8: <maak een keuze>
C9: Gebruikte loonsystematiek | F9: <maak een keuze>
F10: =IF(F9="Integrale kostensystematiek","Let op! U dient in de begroting de IKS-tarieven zo te specificeren dat deze te controleren zijn op basis van de door u aangeleverde","")
F11: =IF(F9="Integrale kostensystematiek","IKS tarieven aan RVO. Bijvoorbeeld: divisie R&D, loonschaal 10. Vul dit in bij toelichting IKS.","")
B13: ONDERDEEL A
B14: Overzicht kosten
B16: A1. | C16: Loonkosten
G18: =IF(AND($F$9="Integrale kostensystematiek",COUNTA(C20:D55)>COUNTA(G20:G55)),"Let op! U dient de Toelichting IKS in te vullen","") | J18: Aantal uren | M18: Kosten €
B19: Werkpakket | C19: Functie | E19: Rol in het project | G19: Toelichting IKS bijv. divisie R&D, schaal 11 | H19: Uurtarief | J19: =IF(Deelnemersoverzicht!$C$21=Lijsten!$A$23,"",Lijsten!$D$3) -> Industrieel onderzoek | K19: =IF(Deelnemersoverzicht!$C$21=Lijsten!$A$23,"",Lijsten!$D$4) -> Experimentele ontwikkeling | L19: Niet-econ. activiteiten | M19: =IF(Deelnemersoverzicht!$C$21=Lijsten!$A$23,"",Lijsten!$D$3) -> Industrieel onderzoek | N19: =IF(Deelnemersoverzicht!$C$21=Lijsten!$A$23,"",Lijsten!$D$4) -> Experimentele ontwikkeling | O19: Niet-econ. activiteiten
M20: =+H20*J20 -> 0 | N20: =+H20*K20 -> 0 | O20: =H20*L20 -> 0
M21: =+H21*J21 -> 0 | N21: =+H21*K21 -> 0 | O21: =H21*L21 -> 0
M22: =+H22*J22 -> 0 | N22: =+H22*K22 -> 0 | O22: =H22*L22 -> 0
M23: =+H23*J23 -> 0 | N23: =+H23*K23 -> 0 | O23: =H23*L23 -> 0
M24: =+H24*J24 -> 0 | N24: =+H24*K24 -> 0 | O24: =H24*L24 -> 0
M25: =+H25*J25 -> 0 | N25: =+H25*K25 -> 0 | O25: =H25*L25 -> 0
M26: =+H26*J26 -> 0 | N26: =+H26*K26 -> 0 | O26: =H26*L26 -> 0
M27: =+H27*J27 -> 0 | N27: =+H27*K27 -> 0 | O27: =H27*L27 -> 0
M28: =+H28*J28 -> 0 | N28: =+H28*K28 -> 0 | O28: =H28*L28 -> 0
M29: =+H29*J29 -> 0 | N29: =+H29*K29 -> 0 | O29: =H29*L29 -> 0
M30: =+H30*J30 -> 0 | N30: =+H30*K30 -> 0 | O30: =H30*L30 -> 0
M31: =+H31*J31 -> 0 | N31: =+H31*K31 -> 0 | O31: =H31*L31 -> 0
... M55: =+H55*J55 -> 0 | N55: =+H55*K55 -> 0 | O55: =H55*L55 -> 0
I56: Totale loonkosten | M56: =SUM(M20:M55) -> 0 | N56: =SUM(N20:N55) -> 0 | O56: =SUM(O20:O55) -> 0
B58: A2. | C58: Machines en apparaten die niet uitsluitend voor het project worden gebruikt
D60: =IF(COUNTA(D62:D83)<COUNTA(E62:E83),"Let op! Vul ook de aanschafdatum in!","") | J60: Aantal uur in gebruik t.b.v. project | M60: Kosten €
B61: Werkpakket | C61: Omschrijving kosten | D61: Aanschafdatum | E61: Aanschafwaarde | F61: Afschrijving in jaren (minimaal 5 jaar) | G61: Fiscale afschrijving per jaar | H61: Totaal uren bij normale bezetting per jaar | I61: Afschrijving per uur | J61: =+J19 -> Industrieel onderzoek | K61: =+K19 -> Experimentele ontwikkeling | L61: Niet-econ. Activiteiten | M61: =+J19 -> Industrieel onderzoek | N61: =+K19 -> Experimentele ontwikkeling | O61: Niet-econ. activiteiten | U61: Restwaarde afschrijvingen
G62: =IFERROR(E62/F62,0) -> 0 | I62: =IFERROR(G62/H62,0) -> 0 | M62: =+H62*J62 -> 0 | N62: =+H62*K62 -> 0 | O62: =I62*L62 -> 0 | U62: =IFERROR(IF(D62>=Deelnemersoverzicht!$B$9,"Na startdatum aangekocht", IF(DATEDIF('Begroting P'!$D62,Startdatum,"D")>0,IF((('Begroting P'!$F62-((DATEDIF($D62,Startdatum,"M")/12)))*($E62/$F62))<0,"Dit is afgeschreven!",(('Begroting P'!$F62-((DATEDIF($D62,Startdatum,"M")/12)))*($E62/$F62))),($E62/$F62))),0) -> Na startdatum aangekocht
G63: =IFERROR(E63/F63,0) -> 0 | I63: =IFERROR(G63/H63,0) -> 0 | M63: =+H63*J63 -> 0 | N63: =+H63*K63 -> 0 | O63: =I63*L63 -> 0 | U63: =IFERROR(IF(D63>=Deelnemersoverzicht!$B$9,"Na startdatum aangekocht", IF(DATEDIF('Begroting P'!$D63,Startdatum,"D")>0,IF((('Begroting P'!$F63-((DATEDIF($D63,Startdatum,"M")/12)))*($E63/$F63))<0,"Dit is afgeschreven!",(('Begroting P'!$F63-((DATEDIF($D63,Startdatum,"M")/12)))*($E63/$F63))),($E63/$F63))),0) -> Na startdatum aangekocht
G64: =IFERROR(E64/F64,0) -> 0 | I64: =IFERROR(G64/H64,0) -> 0 | M64: =+H64*J64 -> 0 | N64: =+H64*K64 -> 0 | O64: =I64*L64 -> 0 | U64: =IFERROR(IF(D64>=Deelnemersoverzicht!$B$9,"Na startdatum aangekocht", IF(DATEDIF('Begroting P'!$D64,Startdatum,"D")>0,IF((('Begroting P'!$F64-((DATEDIF($D64,Startdatum,"M")/12)))*($E64/$F64))<0,"Dit is afgeschreven!",(('Begroting P'!$F64-((DATEDIF($D64,Startdatum,"M")/12)))*($E64/$F64))),($E64/$F64))),0) -> Na startdatum aangekocht
G65: =IFERROR(E65/F65,0) -> 0 | I65: =IFERROR(G65/H65,0) -> 0 | M65: =+H65*J65 -> 0 | N65: =+H65*K65 -> 0 | O65: =I65*L65 -> 0 | U65: =IFERROR(IF(D65>=Deelnemersoverzicht!$B$9,"Na startdatum aangekocht", IF(DATEDIF('Begroting P'!$D65,Startdatum,"D")>0,IF((('Begroting P'!$F65-((DATEDIF($D65,Startdatum,"M")/12)))*($E65/$F65))<0,"Dit is afgeschreven!",(('Begroting P'!$F65-((DATEDIF($D65,Startdatum,"M")/12)))*($E65/$F65))),($E65/$F65))),0) -> Na startdatum aangekocht
G66: =IFERROR(E66/F66,0) -> 0 | I66: =IFERROR(G66/H66,0) -> 0 | M66: =+H66*J66 -> 0 | N66: =+H66*K66 -> 0 | O66: =I66*L66 -> 0 | U66: =IFERROR(IF(D66>=Deelnemersoverzicht!$B$9,"Na startdatum aangekocht", IF(DATEDIF('Begroting P'!$D66,Startdatum,"D")>0,IF((('Begroting P'!$F66-((DATEDIF($D66,Startdatum,"M")/12)))*($E66/$F66))<0,"Dit is afgeschreven!",(('Begroting P'!$F66-((DATEDIF($D66,Startdatum,"M")/12)))*($E66/$F66))),($E66/$F66))),0) -> Na startdatum aangekocht
G67: =IFERROR(E67/F67,0) -> 0 | I67: =IFERROR(G67/H67,0) -> 0 | M67: =+H67*J67 -> 0 | N67: =+H67*K67 -> 0 | O67: =I67*L67 -> 0 | U67: =IFERROR(IF(D67>=Deelnemersoverzicht!$B$9,"Na startdatum aangekocht", IF(DATEDIF('Begroting P'!$D67,Startdatum,"D")>0,IF((('Begroting P'!$F67-((DATEDIF($D67,Startdatum,"M")/12)))*($E67/$F67))<0,"Dit is afgeschreven!",(('Begroting P'!$F67-((DATEDIF($D67,Startdatum,"M")/12)))*($E67/$F67))),($E67/$F67))),0) -> Na startdatum aangekocht
G68: =IFERROR(E68/F68,0) -> 0 | I68: =IFERROR(G68/H68,0) -> 0 | M68: =+H68*J68 -> 0 | N68: =+H68*K68 -> 0 | O68: =I68*L68 -> 0 | U68: =IFERROR(IF(D68>=Deelnemersoverzicht!$B$9,"Na startdatum aangekocht", IF(DATEDIF('Begroting P'!$D68,Startdatum,"D")>0,IF((('Begroting P'!$F68-((DATEDIF($D68,Startdatum,"M")/12)))*($E68/$F68))<0,"Dit is afgeschreven!",(('Begroting P'!$F68-((DATEDIF($D68,Startdatum,"M")/12)))*($E68/$F68))),($E68/$F68))),0) -> Na startdatum aangekocht
G69: =IFERROR(E69/F69,0) -> 0 | I69: =IFERROR(G69/H69,0) -> 0 | M69: =+H69*J69 -> 0 | N69: =+H69*K69 -> 0 | O69: =I69*L69 -> 0 | U69: =IFERROR(IF(D69>=Deelnemersoverzicht!$B$9,"Na startdatum aangekocht", IF(DATEDIF('Begroting P'!$D69,Startdatum,"D")>0,IF((('Begroting P'!$F69-((DATEDIF($D69,Startdatum,"M")/12)))*($E69/$F69))<0,"Dit is afgeschreven!",(('Begroting P'!$F69-((DATEDIF($D69,Startdatum,"M")/12)))*($E69/$F69))),($E69/$F69))),0) -> Na startdatum aangekocht
G70: =IFERROR(E70/F70,0) -> 0 | I70: =IFERROR(G70/H70,0) -> 0 | M70: =+H70*J70 -> 0 | N70: =+H70*K70 -> 0 | O70: =I70*L70 -> 0 | U70: =IFERROR(IF(D70>=Deelnemersoverzicht!$B$9,"Na startdatum aangekocht", IF(DATEDIF('Begroting P'!$D70,Startdatum,"D")>0,IF((('Begroting P'!$F70-((DATEDIF($D70,Startdatum,"M")/12)))*($E70/$F70))<0,"Dit is afgeschreven!",(('Begroting P'!$F70-((DATEDIF($D70,Startdatum,"M")/12)))*($E70/$F70))),($E70/$F70))),0) -> Na startdatum aangekocht
G71: =IFERROR(E71/F71,0) -> 0 | I71: =IFERROR(G71/H71,0) -> 0 | M71: =+H71*J71 -> 0 | N71: =+H71*K71 -> 0 | O71: =I71*L71 -> 0 | U71: =IFERROR(IF(D71>=Deelnemersoverzicht!$B$9,"Na startdatum aangekocht", IF(DATEDIF('Begroting P'!$D71,Startdatum,"D")>0,IF((('Begroting P'!$F71-((DATEDIF($D71,Startdatum,"M")/12)))*($E71/$F71))<0,"Dit is afgeschreven!",(('Begroting P'!$F71-((DATEDIF($D71,Startdatum,"M")/12)))*($E71/$F71))),($E71/$F71))),0) -> Na startdatum aangekocht
G72: =IFERROR(E72/F72,0) -> 0 | I72: =IFERROR(G72/H72,0) -> 0 | M72: =+H72*J72 -> 0 | N72: =+H72*K72 -> 0 | O72: =I72*L72 -> 0 | U72: =IFERROR(IF(D72>=Deelnemersoverzicht!$B$9,"Na startdatum aangekocht", IF(DATEDIF('Begroting P'!$D72,Startdatum,"D")>0,IF((('Begroting P'!$F72-((DATEDIF($D72,Startdatum,"M")/12)))*($E72/$F72))<0,"Dit is afgeschreven!",(('Begroting P'!$F72-((DATEDIF($D72,Startdatum,"M")/12)))*($E72/$F72))),($E72/$F72))),0) -> Na startdatum aangekocht
G73: =IFERROR(E73/F73,0) -> 0 | I73: =IFERROR(G73/H73,0) -> 0 | M73: =+H73*J73 -> 0 | N73: =+H73*K73 -> 0 | O73: =I73*L73 -> 0 | U73: =IFERROR(IF(D73>=Deelnemersoverzicht!$B$9,"Na startdatum aangekocht", IF(DATEDIF('Begroting P'!$D73,Startdatum,"D")>0,IF((('Begroting P'!$F73-((DATEDIF($D73,Startdatum,"M")/12)))*($E73/$F73))<0,"Dit is afgeschreven!",(('Begroting P'!$F73-((DATEDIF($D73,Startdatum,"M")/12)))*($E73/$F73))),($E73/$F73))),0) -> Na startdatum aangekocht
... G83: =IFERROR(E83/F83,0) -> 0 | I83: =IFERROR(G83/H83,0) -> 0 | M83: =+H83*J83 -> 0 | N83: =+H83*K83 -> 0 | O83: =I83*L83 -> 0 | U83: =IFERROR(IF(D83>=Deelnemersoverzicht!$B$9,"Na startdatum aangekocht", IF(DATEDIF('Begroting P'!$D83,Startdatum,"D")>0,IF((('Begroting P'!$F83-((DATEDIF($D83,Startdatum,"M")/12)))*($E83/$F83))<0,"Dit is afgeschreven!",(('Begroting P'!$F83-((DATEDIF($D83,Startdatum,"M")/12)))*($E83/$F83))),($E83/$F83))),0) -> Na startdatum aangekocht
H84: Totale kosten aangeschafte machines en apparatuur | M84: =SUM(M62:M83) -> 0 | N84: =SUM(N62:N83) -> 0 | O84: =SUM(O62:O83) -> 0
B86: A3. | C86: Aan derden verschuldigde kosten
B87: A3. a: Apparatuur uitsluitend voor het project aangeschaft
D88: =IF(COUNTA(D90:D107)<COUNTA(E90:E107),"Let op! Vul ook de aanschafdatum in!","") | J88: Subsidiabele kosten per onderzoekstype | M88: Kosten €
B89: Werkpakket | C89: Omschrijving kosten | D89: Aanschafdatum, binnen de projectperiode | E89: Aanschafwaarde | F89: Afschrijving in jaren (minimaal 5 jaar) | H89: Restwaarde | I89: Subsidiabele kosten totaal | J89: =+J19 -> Industrieel onderzoek | K89: =+K19 -> Experimentele ontwikkeling | L89: Niet-econ. Activiteiten | M89: =+J19 -> Industrieel onderzoek | N89: =+K19 -> Experimentele ontwikkeling | O89: Niet-econ. activiteiten | U89: Restwaarde afschrijvingen
H90: =IFERROR(E90-I90,0) -> 0 | I90: =IFERROR((E90/F90)*(Deelnemersoverzicht!$B$10-(DATEDIF(Startdatum,D90,"D")/365)),0) -> 0 | M90: =+H90*J90 -> 0 | N90: =+H90*K90 -> 0 | O90: =I90*L90 -> 0 | U90: =IFERROR(IF(D90>=Deelnemersoverzicht!$B$9,"Na startdatum aangekocht", IF(DATEDIF('Begroting P'!$D90,Startdatum,"D")>0,IF((('Begroting P'!$F90-((DATEDIF($D90,Startdatum,"M")/12)))*($E90/$F90))<0,0,(('Begroting P'!$F90-((DATEDIF($D90,Startdatum,"M")/12)))*($E90/$F90))),($E90/$F90))),0) -> Na startdatum aangekocht
H91: =IFERROR(E91-I91,0) -> 0 | I91: =IFERROR((E91/F91)*(Deelnemersoverzicht!$B$10-(DATEDIF(Startdatum,D91,"D")/365)),0) -> 0 | M91: =+H91*J91 -> 0 | N91: =+H91*K91 -> 0 | O91: =I91*L91 -> 0 | U91: =IFERROR(IF(D91>=Deelnemersoverzicht!$B$9,"Na startdatum aangekocht", IF(DATEDIF('Begroting P'!$D91,Startdatum,"D")>0,IF((('Begroting P'!$F91-((DATEDIF($D91,Startdatum,"M")/12)))*($E91/$F91))<0,0,(('Begroting P'!$F91-((DATEDIF($D91,Startdatum,"M")/12)))*($E91/$F91))),($E91/$F91))),0) -> Na startdatum aangekocht
H92: =IFERROR(E92-I92,0) -> 0 | I92: =IFERROR((E92/F92)*(Deelnemersoverzicht!$B$10-(DATEDIF(Startdatum,D92,"D")/365)),0) -> 0 | M92: =+H92*J92 -> 0 | N92: =+H92*K92 -> 0 | O92: =I92*L92 -> 0 | U92: =IFERROR(IF(D92>=Deelnemersoverzicht!$B$9,"Na startdatum aangekocht", IF(DATEDIF('Begroting P'!$D92,Startdatum,"D")>0,IF((('Begroting P'!$F92-((DATEDIF($D92,Startdatum,"M")/12)))*($E92/$F92))<0,0,(('Begroting P'!$F92-((DATEDIF($D92,Startdatum,"M")/12)))*($E92/$F92))),($E92/$F92))),0) -> Na startdatum aangekocht
H93: =IFERROR(E93-I93,0) -> 0 | I93: =IFERROR((E93/F93)*(Deelnemersoverzicht!$B$10-(DATEDIF(Startdatum,D93,"D")/365)),0) -> 0 | M93: =+H93*J93 -> 0 | N93: =+H93*K93 -> 0 | O93: =I93*L93 -> 0 | U93: =IFERROR(IF(D93>=Deelnemersoverzicht!$B$9,"Na startdatum aangekocht", IF(DATEDIF('Begroting P'!$D93,Startdatum,"D")>0,IF((('Begroting P'!$F93-((DATEDIF($D93,Startdatum,"M")/12)))*($E93/$F93))<0,0,(('Begroting P'!$F93-((DATEDIF($D93,Startdatum,"M")/12)))*($E93/$F93))),($E93/$F93))),0) -> Na startdatum aangekocht
H94: =IFERROR(E94-I94,0) -> 0 | I94: =IFERROR((E94/F94)*(Deelnemersoverzicht!$B$10-(DATEDIF(Startdatum,D94,"D")/365)),0) -> 0 | M94: =+H94*J94 -> 0 | N94: =+H94*K94 -> 0 | O94: =I94*L94 -> 0 | U94: =IFERROR(IF(D94>=Deelnemersoverzicht!$B$9,"Na startdatum aangekocht", IF(DATEDIF('Begroting P'!$D94,Startdatum,"D")>0,IF((('Begroting P'!$F94-((DATEDIF($D94,Startdatum,"M")/12)))*($E94/$F94))<0,0,(('Begroting P'!$F94-((DATEDIF($D94,Startdatum,"M")/12)))*($E94/$F94))),($E94/$F94))),0) -> Na startdatum aangekocht
H95: =IFERROR(E95-I95,0) -> 0 | I95: =IFERROR((E95/F95)*(Deelnemersoverzicht!$B$10-(DATEDIF(Startdatum,D95,"D")/365)),0) -> 0 | M95: =+H95*J95 -> 0 | N95: =+H95*K95 -> 0 | O95: =I95*L95 -> 0 | U95: =IFERROR(IF(D95>=Deelnemersoverzicht!$B$9,"Na startdatum aangekocht", IF(DATEDIF('Begroting P'!$D95,Startdatum,"D")>0,IF((('Begroting P'!$F95-((DATEDIF($D95,Startdatum,"M")/12)))*($E95/$F95))<0,0,(('Begroting P'!$F95-((DATEDIF($D95,Startdatum,"M")/12)))*($E95/$F95))),($E95/$F95))),0) -> Na startdatum aangekocht
H96: =IFERROR(E96-I96,0) -> 0 | I96: =IFERROR((E96/F96)*(Deelnemersoverzicht!$B$10-(DATEDIF(Startdatum,D96,"D")/365)),0) -> 0 | M96: =+H96*J96 -> 0 | N96: =+H96*K96 -> 0 | O96: =I96*L96 -> 0 | U96: =IFERROR(IF(D96>=Deelnemersoverzicht!$B$9,"Na startdatum aangekocht", IF(DATEDIF('Begroting P'!$D96,Startdatum,"D")>0,IF((('Begroting P'!$F96-((DATEDIF($D96,Startdatum,"M")/12)))*($E96/$F96))<0,0,(('Begroting P'!$F96-((DATEDIF($D96,Startdatum,"M")/12)))*($E96/$F96))),($E96/$F96))),0) -> Na startdatum aangekocht
H97: =IFERROR(E97-I97,0) -> 0 | I97: =IFERROR((E97/F97)*(Deelnemersoverzicht!$B$10-(DATEDIF(Startdatum,D97,"D")/365)),0) -> 0 | M97: =+H97*J97 -> 0 | N97: =+H97*K97 -> 0 | O97: =I97*L97 -> 0 | U97: =IFERROR(IF(D97>=Deelnemersoverzicht!$B$9,"Na startdatum aangekocht", IF(DATEDIF('Begroting P'!$D97,Startdatum,"D")>0,IF((('Begroting P'!$F97-((DATEDIF($D97,Startdatum,"M")/12)))*($E97/$F97))<0,0,(('Begroting P'!$F97-((DATEDIF($D97,Startdatum,"M")/12)))*($E97/$F97))),($E97/$F97))),0) -> Na startdatum aangekocht
H98: =IFERROR(E98-I98,0) -> 0 | I98: =IFERROR((E98/F98)*(Deelnemersoverzicht!$B$10-(DATEDIF(Startdatum,D98,"D")/365)),0) -> 0 | M98: =+H98*J98 -> 0 | N98: =+H98*K98 -> 0 | O98: =I98*L98 -> 0 | U98: =IFERROR(IF(D98>=Deelnemersoverzicht!$B$9,"Na startdatum aangekocht", IF(DATEDIF('Begroting P'!$D98,Startdatum,"D")>0,IF((('Begroting P'!$F98-((DATEDIF($D98,Startdatum,"M")/12)))*($E98/$F98))<0,0,(('Begroting P'!$F98-((DATEDIF($D98,Startdatum,"M")/12)))*($E98/$F98))),($E98/$F98))),0) -> Na startdatum aangekocht
H99: =IFERROR(E99-I99,0) -> 0 | I99: =IFERROR((E99/F99)*(Deelnemersoverzicht!$B$10-(DATEDIF(Startdatum,D99,"D")/365)),0) -> 0 | M99: =+H99*J99 -> 0 | N99: =+H99*K99 -> 0 | O99: =I99*L99 -> 0 | U99: =IFERROR(IF(D99>=Deelnemersoverzicht!$B$9,"Na startdatum aangekocht", IF(DATEDIF('Begroting P'!$D99,Startdatum,"D")>0,IF((('Begroting P'!$F99-((DATEDIF($D99,Startdatum,"M")/12)))*($E99/$F99))<0,0,(('Begroting P'!$F99-((DATEDIF($D99,Startdatum,"M")/12)))*($E99/$F99))),($E99/$F99))),0) -> Na startdatum aangekocht
H100: =IFERROR(E100-I100,0) -> 0 | I100: =IFERROR((E100/F100)*(Deelnemersoverzicht!$B$10-(DATEDIF(Startdatum,D100,"D")/365)),0) -> 0 | M100: =+H100*J100 -> 0 | N100: =+H100*K100 -> 0 | O100: =I100*L100 -> 0 | U100: =IFERROR(IF(D100>=Deelnemersoverzicht!$B$9,"Na startdatum aangekocht", IF(DATEDIF('Begroting P'!$D100,Startdatum,"D")>0,IF((('Begroting P'!$F100-((DATEDIF($D100,Startdatum,"M")/12)))*($E100/$F100))<0,0,(('Begroting P'!$F100-((DATEDIF($D100,Startdatum,"M")/12)))*($E100/$F100))),($E100/$F100))),0) -> Na startdatum aangekocht
H101: =IFERROR(E101-I101,0) -> 0 | I101: =IFERROR((E101/F101)*(Deelnemersoverzicht!$B$10-(DATEDIF(Startdatum,D101,"D")/365)),0) -> 0 | M101: =+H101*J101 -> 0 | N101: =+H101*K101 -> 0 | O101: =I101*L101 -> 0 | U101: =IFERROR(IF(D101>=Deelnemersoverzicht!$B$9,"Na startdatum aangekocht", IF(DATEDIF('Begroting P'!$D101,Startdatum,"D")>0,IF((('Begroting P'!$F101-((DATEDIF($D101,Startdatum,"M")/12)))*($E101/$F101))<0,0,(('Begroting P'!$F101-((DATEDIF($D101,Startdatum,"M")/12)))*($E101/$F101))),($E101/$F101))),0) -> Na startdatum aangekocht
... H107: =IFERROR(E107-I107,0) -> 0 | I107: =IFERROR((E107/F107)*(Deelnemersoverzicht!$B$10-(DATEDIF(Startdatum,D107,"D")/365)),0) -> 0 | M107: =+H107*J107 -> 0 | N107: =+H107*K107 -> 0 | O107: =I107*L107 -> 0 | U107: =IFERROR(IF(D107>=Deelnemersoverzicht!$B$9,"Na startdatum aangekocht", IF(DATEDIF('Begroting P'!$D107,Startdatum,"D")>0,IF((('Begroting P'!$F107-((DATEDIF($D107,Startdatum,"M")/12)))*($E107/$F107))<0,0,(('Begroting P'!$F107-((DATEDIF($D107,Startdatum,"M")/12)))*($E107/$F107))),($E107/$F107))),0) -> Na startdatum aangekocht
M108: =SUM(M90:M107) -> 0 | N108: =SUM(N90:N107) -> 0 | O108: =SUM(O90:O107) -> 0
B110: A3. b: Verbruikte materialen en hulpmiddelen | J110: Verbruik (aantal eenheden) | M110: Kosten €
B111: Werkpakket | C111: Omschrijving kosten | I111: Prijs per eenheid | J111: =+J19 -> Industrieel onderzoek | K111: =+K19 -> Experimentele ontwikkeling | L111: Niet-econ. Activiteiten | M111: =+J19 -> Industrieel onderzoek | N111: =+K19 -> Experimentele ontwikkeling | O111: Niet-econ. activiteiten
M112: =$I112*J112 -> 0 | N112: =$I112*K112 -> 0 | O112: =$I112*L112 -> 0
M113: =$I113*J113 -> 0 | N113: =$I113*K113 -> 0 | O113: =$I113*L113 -> 0
M114: =$I114*J114 -> 0 | N114: =$I114*K114 -> 0 | O114: =$I114*L114 -> 0
M115: =$I115*J115 -> 0 | N115: =$I115*K115 -> 0 | O115: =$I115*L115 -> 0
M116: =$I116*J116 -> 0 | N116: =$I116*K116 -> 0 | O116: =$I116*L116 -> 0
M117: =$I117*J117 -> 0 | N117: =$I117*K117 -> 0 | O117: =$I117*L117 -> 0
M118: =$I118*J118 -> 0 | N118: =$I118*K118 -> 0 | O118: =$I118*L118 -> 0
M119: =$I119*J119 -> 0 | N119: =$I119*K119 -> 0 | O119: =$I119*L119 -> 0
M120: =$I120*J120 -> 0 | N120: =$I120*K120 -> 0 | O120: =$I120*L120 -> 0
M121: =$I121*J121 -> 0 | N121: =$I121*K121 -> 0 | O121: =$I121*L121 -> 0
M122: =$I122*J122 -> 0 | N122: =$I122*K122 -> 0 | O122: =$I122*L122 -> 0
M123: =$I123*J123 -> 0 | N123: =$I123*K123 -> 0 | O123: =$I123*L123 -> 0
... M129: =$I129*J129 -> 0 | N129: =$I129*K129 -> 0 | O129: =$I129*L129 -> 0
M130: =SUM(M112:M129) -> 0 | N130: =SUM(N112:N129) -> 0 | O130: =SUM(O112:O129) -> 0
B132: A3. c: Overige aan derden verschuldigde kosten | M132: Kosten €
B133: Werkpakket | C133: Handelsnaam derde | E133: Omschrijving kosten | M133: =+J19 -> Industrieel onderzoek | N133: =+K19 -> Experimentele ontwikkeling | O133: Niet-econ. activiteiten
M152: =SUM(M134:M151) -> 0 | N152: =SUM(N134:N151) -> 0 | O152: =SUM(O134:O151) -> 0
I154: Totaal aan derden verschuldigde kosten | M154: =+M108+M130+M152 -> 0 | N154: =+N108+N130+N152 -> 0 | O154: =O108+O130+O152 -> 0
B156: ONDERDEEL B
B157: Overzicht subsidie deelnemer:
B159: Omschrijving | L159: =+J19 -> Industrieel onderzoek | M159: =+K19 -> Experimentele ontwikkeling | N159: Niet-econ. activiteiten | O159: Totaal
B160: A1. | C160: Loonkosten | L160: =M56 -> 0 | M160: =N56 -> 0 | N160: =O56 -> 0 | O160: =SUM(L160:N160) -> 0
B161: A2. | C161: Machines en apparaten die niet uitsluitend voor het project worden gebruikt | L161: =M84 -> 0 | M161: =N84 -> 0 | N161: =O84 -> 0 | O161: =SUM(L161:N161) -> 0
B162: A3. | C162: Aan derden verschuldigde kosten | L162: =M154 -> 0 | M162: =N154 -> 0 | N162: =O154 -> 0 | O162: =SUM(L162:N162) -> 0
B164: A4. | C164: Totaal onderdeel B | L164: =SUM(L160:L162) -> 0 | M164: =SUM(M160:M162) -> 0 | N164: =SUM(N160:N162) -> 0 | O164: =SUM(O160:O162) -> 0
B166: Maximale subsidiepercentage | L166: =+Deelnemersoverzicht!E21 -> #N/A | M166: =+Deelnemersoverzicht!F21 -> #N/A | N166: =+Deelnemersoverzicht!G21 -> 0
B167: Maximale subsidie | L167: =L164*L166 -> #N/A | M167: =M164*M166 -> #N/A | N167: =N164*N166 -> 0
B168: Reeds ontvangen subsidies voor de subsidiabele kosten
B169: Maximale subsidie | O169: =SUM(L167:N167)-O168 -> #N/A
B170: Gevraagde subsidie | J170: =IF(O170<1,"Let op: Vergeet niet de door u gevraagde subsidie in te vullen! →",IF((O170-O169)>1,"LET OP: U vraagt meer dan de maximale berekende subsidie aan!",IF(O170>500000,"LET OP: De maximale subsidie voor deze regeling betreft €500.000 per project!",""))) -> Let op: Vergeet niet de door u gevraagde subsidie in te vullen! → | L170: =IF(L167>0,O170/(O169+O168)*L167,0) -> #N/A | M170: =IF(M167>0,O170/(O169+O168)*M167,0) -> #N/A | N170: =IF(N167>0,O170/(O169+O168)*N167,0) -> 0
B172: ONDERDEEL C
B173: Financiering van het project:
B175: C1. | C175: Totale projectkosten | O175: =O164 -> 0
B176: C2. | C176: Reeds ontvangen subsidies voor de subsidiabele kosten | O176: =O168 -> 0
B177: C3. | C177: Gevraagde subsidie (B) | O177: =O170 -> 0
...

Sheet Begroting D3
C1: Model begroting | H1: =IF(Deelnemersoverzicht!B5="(Dit veld wordt ingevuld door RVO)","",Deelnemersoverzicht!B5) -> Dit veld wordt door RVO ingevuld | U1: KOLOM VERBERGEN!!
C2: NBS Living Labs 2026
C4: Gegevens per deelnemer:
C6: =Deelnemersoverzicht!A22 -> Deelnemer 3 (D3) | F6: =Deelnemersoverzicht!B22 -> 0
C7: Titel project | F7: =Deelnemersoverzicht!B6 -> 0
C8: BTW | F8: <maak een keuze>
C9: Gebruikte loonsystematiek | F9: <maak een keuze>
F10: =IF(F9="Integrale kostensystematiek","Let op! U dient in de begroting de IKS-tarieven zo te specificeren dat deze te controleren zijn op basis van de door u aangeleverde","")
F11: =IF(F9="Integrale kostensystematiek","IKS tarieven aan RVO. Bijvoorbeeld: divisie R&D, loonschaal 10. Vul dit in bij toelichting IKS.","")
B13: ONDERDEEL A
B14: Overzicht kosten
B16: A1. | C16: Loonkosten
G18: =IF(AND($F$9="Integrale kostensystematiek",COUNTA(C20:D55)>COUNTA(G20:G55)),"Let op! U dient de Toelichting IKS in te vullen","") | J18: Aantal uren | M18: Kosten €
B19: Werkpakket | C19: Functie | E19: Rol in het project | G19: Toelichting IKS bijv. divisie R&D, schaal 11 | H19: Uurtarief | J19: =IF(Deelnemersoverzicht!$C$22=Lijsten!$A$23,"",Lijsten!$D$3) -> Industrieel onderzoek | K19: =IF(Deelnemersoverzicht!$C$22=Lijsten!$A$23,"",Lijsten!$D$4) -> Experimentele ontwikkeling | L19: Niet-econ. activiteiten | M19: =IF(Deelnemersoverzicht!$C$22=Lijsten!$A$23,"",Lijsten!$D$3) -> Industrieel onderzoek | N19: =IF(Deelnemersoverzicht!$C$22=Lijsten!$A$23,"",Lijsten!$D$4) -> Experimentele ontwikkeling | O19: Niet-econ. activiteiten
M20: =+H20*J20 -> 0 | N20: =+H20*K20 -> 0 | O20: =H20*L20 -> 0
M21: =+H21*J21 -> 0 | N21: =+H21*K21 -> 0 | O21: =H21*L21 -> 0
M22: =+H22*J22 -> 0 | N22: =+H22*K22 -> 0 | O22: =H22*L22 -> 0
M23: =+H23*J23 -> 0 | N23: =+H23*K23 -> 0 | O23: =H23*L23 -> 0
M24: =+H24*J24 -> 0 | N24: =+H24*K24 -> 0 | O24: =H24*L24 -> 0
M25: =+H25*J25 -> 0 | N25: =+H25*K25 -> 0 | O25: =H25*L25 -> 0
M26: =+H26*J26 -> 0 | N26: =+H26*K26 -> 0 | O26: =H26*L26 -> 0
M27: =+H27*J27 -> 0 | N27: =+H27*K27 -> 0 | O27: =H27*L27 -> 0
M28: =+H28*J28 -> 0 | N28: =+H28*K28 -> 0 | O28: =H28*L28 -> 0
M29: =+H29*J29 -> 0 | N29: =+H29*K29 -> 0 | O29: =H29*L29 -> 0
M30: =+H30*J30 -> 0 | N30: =+H30*K30 -> 0 | O30: =H30*L30 -> 0
M31: =+H31*J31 -> 0 | N31: =+H31*K31 -> 0 | O31: =H31*L31 -> 0
... M55: =+H55*J55 -> 0 | N55: =+H55*K55 -> 0 | O55: =H55*L55 -> 0
I56: Totale loonkosten | M56: =SUM(M20:M55) -> 0 | N56: =SUM(N20:N55) -> 0 | O56: =SUM(O20:O55) -> 0
B58: A2. | C58: Machines en apparaten die niet uitsluitend voor het project worden gebruikt
D60: =IF(COUNTA(D62:D83)<COUNTA(E62:E83),"Let op! Vul ook de aanschafdatum in!","") | J60: Aantal uur in gebruik t.b.v. project | M60: Kosten €
B61: Werkpakket | C61: Omschrijving kosten | D61: Aanschafdatum | E61: Aanschafwaarde | F61: Afschrijving in jaren (minimaal 5 jaar) | G61: Fiscale afschrijving per jaar | H61: Totaal uren bij normale bezetting per jaar | I61: Afschrijving per uur | J61: =+J19 -> Industrieel onderzoek | K61: =+K19 -> Experimentele ontwikkeling | L61: Niet-econ. Activiteiten | M61: =+J19 -> Industrieel onderzoek | N61: =+K19 -> Experimentele ontwikkeling | O61: Niet-econ. activiteiten | U61: Restwaarde afschrijvingen
G62: =IFERROR(E62/F62,0) -> 0 | I62: =IFERROR(G62/H62,0) -> 0 | M62: =+H62*J62 -> 0 | N62: =+H62*K62 -> 0 | O62: =I62*L62 -> 0 | U62: =IFERROR(IF(D62>=Deelnemersoverzicht!$B$9,"Na startdatum aangekocht", IF(DATEDIF('Begroting P'!$D62,Startdatum,"D")>0,IF((('Begroting P'!$F62-((DATEDIF($D62,Startdatum,"M")/12)))*($E62/$F62))<0,"Dit is afgeschreven!",(('Begroting P'!$F62-((DATEDIF($D62,Startdatum,"M")/12)))*($E62/$F62))),($E62/$F62))),0) -> Na startdatum aangekocht
G63: =IFERROR(E63/F63,0) -> 0 | I63: =IFERROR(G63/H63,0) -> 0 | M63: =+H63*J63 -> 0 | N63: =+H63*K63 -> 0 | O63: =I63*L63 -> 0 | U63: =IFERROR(IF(D63>=Deelnemersoverzicht!$B$9,"Na startdatum aangekocht", IF(DATEDIF('Begroting P'!$D63,Startdatum,"D")>0,IF((('Begroting P'!$F63-((DATEDIF($D63,Startdatum,"M")/12)))*($E63/$F63))<0,"Dit is afgeschreven!",(('Begroting P'!$F63-((DATEDIF($D63,Startdatum,"M")/12)))*($E63/$F63))),($E63/$F63))),0) -> Na startdatum aangekocht
G64: =IFERROR(E64/F64,0) -> 0 | I64: =IFERROR(G64/H64,0) -> 0 | M64: =+H64*J64 -> 0 | N64: =+H64*K64 -> 0 | O64: =I64*L64 -> 0 | U64: =IFERROR(IF(D64>=Deelnemersoverzicht!$B$9,"Na startdatum aangekocht", IF(DATEDIF('Begroting P'!$D64,Startdatum,"D")>0,IF((('Begroting P'!$F64-((DATEDIF($D64,Startdatum,"M")/12)))*($E64/$F64))<0,"Dit is afgeschreven!",(('Begroting P'!$F64-((DATEDIF($D64,Startdatum,"M")/12)))*($E64/$F64))),($E64/$F64))),0) -> Na startdatum aangekocht
G65: =IFERROR(E65/F65,0) -> 0 | I65: =IFERROR(G65/H65,0) -> 0 | M65: =+H65*J65 -> 0 | N65: =+H65*K65 -> 0 | O65: =I65*L65 -> 0 | U65: =IFERROR(IF(D65>=Deelnemersoverzicht!$B$9,"Na startdatum aangekocht", IF(DATEDIF('Begroting P'!$D65,Startdatum,"D")>0,IF((('Begroting P'!$F65-((DATEDIF($D65,Startdatum,"M")/12)))*($E65/$F65))<0,"Dit is afgeschreven!",(('Begroting P'!$F65-((DATEDIF($D65,Startdatum,"M")/12)))*($E65/$F65))),($E65/$F65))),0) -> Na startdatum aangekocht
G66: =IFERROR(E66/F66,0) -> 0 | I66: =IFERROR(G66/H66,0) -> 0 | M66: =+H66*J66 -> 0 | N66: =+H66*K66 -> 0 | O66: =I66*L66 -> 0 | U66: =IFERROR(IF(D66>=Deelnemersoverzicht!$B$9,"Na startdatum aangekocht", IF(DATEDIF('Begroting P'!$D66,Startdatum,"D")>0,IF((('Begroting P'!$F66-((DATEDIF($D66,Startdatum,"M")/12)))*($E66/$F66))<0,"Dit is afgeschreven!",(('Begroting P'!$F66-((DATEDIF($D66,Startdatum,"M")/12)))*($E66/$F66))),($E66/$F66))),0) -> Na startdatum aangekocht
G67: =IFERROR(E67/F67,0) -> 0 | I67: =IFERROR(G67/H67,0) -> 0 | M67: =+H67*J67 -> 0 | N67: =+H67*K67 -> 0 | O67: =I67*L67 -> 0 | U67: =IFERROR(IF(D67>=Deelnemersoverzicht!$B$9,"Na startdatum aangekocht", IF(DATEDIF('Begroting P'!$D67,Startdatum,"D")>0,IF((('Begroting P'!$F67-((DATEDIF($D67,Startdatum,"M")/12)))*($E67/$F67))<0,"Dit is afgeschreven!",(('Begroting P'!$F67-((DATEDIF($D67,Startdatum,"M")/12)))*($E67/$F67))),($E67/$F67))),0) -> Na startdatum aangekocht
G68: =IFERROR(E68/F68,0) -> 0 | I68: =IFERROR(G68/H68,0) -> 0 | M68: =+H68*J68 -> 0 | N68: =+H68*K68 -> 0 | O68: =I68*L68 -> 0 | U68: =IFERROR(IF(D68>=Deelnemersoverzicht!$B$9,"Na startdatum aangekocht", IF(DATEDIF('Begroting P'!$D68,Startdatum,"D")>0,IF((('Begroting P'!$F68-((DATEDIF($D68,Startdatum,"M")/12)))*($E68/$F68))<0,"Dit is afgeschreven!",(('Begroting P'!$F68-((DATEDIF($D68,Startdatum,"M")/12)))*($E68/$F68))),($E68/$F68))),0) -> Na startdatum aangekocht
G69: =IFERROR(E69/F69,0) -> 0 | I69: =IFERROR(G69/H69,0) -> 0 | M69: =+H69*J69 -> 0 | N69: =+H69*K69 -> 0 | O69: =I69*L69 -> 0 | U69: =IFERROR(IF(D69>=Deelnemersoverzicht!$B$9,"Na startdatum aangekocht", IF(DATEDIF('Begroting P'!$D69,Startdatum,"D")>0,IF((('Begroting P'!$F69-((DATEDIF($D69,Startdatum,"M")/12)))*($E69/$F69))<0,"Dit is afgeschreven!",(('Begroting P'!$F69-((DATEDIF($D69,Startdatum,"M")/12)))*($E69/$F69))),($E69/$F69))),0) -> Na startdatum aangekocht
G70: =IFERROR(E70/F70,0) -> 0 | I70: =IFERROR(G70/H70,0) -> 0 | M70: =+H70*J70 -> 0 | N70: =+H70*K70 -> 0 | O70: =I70*L70 -> 0 | U70: =IFERROR(IF(D70>=Deelnemersoverzicht!$B$9,"Na startdatum aangekocht", IF(DATEDIF('Begroting P'!$D70,Startdatum,"D")>0,IF((('Begroting P'!$F70-((DATEDIF($D70,Startdatum,"M")/12)))*($E70/$F70))<0,"Dit is afgeschreven!",(('Begroting P'!$F70-((DATEDIF($D70,Startdatum,"M")/12)))*($E70/$F70))),($E70/$F70))),0) -> Na startdatum aangekocht
G71: =IFERROR(E71/F71,0) -> 0 | I71: =IFERROR(G71/H71,0) -> 0 | M71: =+H71*J71 -> 0 | N71: =+H71*K71 -> 0 | O71: =I71*L71 -> 0 | U71: =IFERROR(IF(D71>=Deelnemersoverzicht!$B$9,"Na startdatum aangekocht", IF(DATEDIF('Begroting P'!$D71,Startdatum,"D")>0,IF((('Begroting P'!$F71-((DATEDIF($D71,Startdatum,"M")/12)))*($E71/$F71))<0,"Dit is afgeschreven!",(('Begroting P'!$F71-((DATEDIF($D71,Startdatum,"M")/12)))*($E71/$F71))),($E71/$F71))),0) -> Na startdatum aangekocht
G72: =IFERROR(E72/F72,0) -> 0 | I72: =IFERROR(G72/H72,0) -> 0 | M72: =+H72*J72 -> 0 | N72: =+H72*K72 -> 0 | O72: =I72*L72 -> 0 | U72: =IFERROR(IF(D72>=Deelnemersoverzicht!$B$9,"Na startdatum aangekocht", IF(DATEDIF('Begroting P'!$D72,Startdatum,"D")>0,IF((('Begroting P'!$F72-((DATEDIF($D72,Startdatum,"M")/12)))*($E72/$F72))<0,"Dit is afgeschreven!",(('Begroting P'!$F72-((DATEDIF($D72,Startdatum,"M")/12)))*($E72/$F72))),($E72/$F72))),0) -> Na startdatum aangekocht
G73: =IFERROR(E73/F73,0) -> 0 | I73: =IFERROR(G73/H73,0) -> 0 | M73: =+H73*J73 -> 0 | N73: =+H73*K73 -> 0 | O73: =I73*L73 -> 0 | U73: =IFERROR(IF(D73>=Deelnemersoverzicht!$B$9,"Na startdatum aangekocht", IF(DATEDIF('Begroting P'!$D73,Startdatum,"D")>0,IF((('Begroting P'!$F73-((DATEDIF($D73,Startdatum,"M")/12)))*($E73/$F73))<0,"Dit is afgeschreven!",(('Begroting P'!$F73-((DATEDIF($D73,Startdatum,"M")/12)))*($E73/$F73))),($E73/$F73))),0) -> Na startdatum aangekocht
... G83: =IFERROR(E83/F83,0) -> 0 | I83: =IFERROR(G83/H83,0) -> 0 | M83: =+H83*J83 -> 0 | N83: =+H83*K83 -> 0 | O83: =I83*L83 -> 0 | U83: =IFERROR(IF(D83>=Deelnemersoverzicht!$B$9,"Na startdatum aangekocht", IF(DATEDIF('Begroting P'!$D83,Startdatum,"D")>0,IF((('Begroting P'!$F83-((DATEDIF($D83,Startdatum,"M")/12)))*($E83/$F83))<0,"Dit is afgeschreven!",(('Begroting P'!$F83-((DATEDIF($D83,Startdatum,"M")/12)))*($E83/$F83))),($E83/$F83))),0) -> Na startdatum aangekocht
H84: Totale kosten aangeschafte machines en apparatuur | M84: =SUM(M62:M83) -> 0 | N84: =SUM(N62:N83) -> 0 | O84: =SUM(O62:O83) -> 0
B86: A3. | C86: Aan derden verschuldigde kosten
B87: A3. a: Apparatuur uitsluitend voor het project aangeschaft
D88: =IF(COUNTA(D90:D107)<COUNTA(E90:E107),"Let op! Vul ook de aanschafdatum in!","") | J88: Subsidiabele kosten per onderzoekstype | M88: Kosten €
B89: Werkpakket | C89: Omschrijving kosten | D89: Aanschafdatum, binnen de projectperiode | E89: Aanschafwaarde | F89: Afschrijving in jaren (minimaal 5 jaar) | H89: Restwaarde | I89: Subsidiabele kosten totaal | J89: =+J19 -> Industrieel onderzoek | K89: =+K19 -> Experimentele ontwikkeling | L89: Niet-econ. Activiteiten | M89: =+J19 -> Industrieel onderzoek | N89: =+K19 -> Experimentele ontwikkeling | O89: Niet-econ. activiteiten | U89: Restwaarde afschrijvingen
H90: =IFERROR(E90-I90,0) -> 0 | I90: =IFERROR((E90/F90)*(Deelnemersoverzicht!$B$10-(DATEDIF(Startdatum,D90,"D")/365)),0) -> 0 | M90: =+H90*J90 -> 0 | N90: =+H90*K90 -> 0 | O90: =I90*L90 -> 0 | U90: =IFERROR(IF(D90>=Deelnemersoverzicht!$B$9,"Na startdatum aangekocht", IF(DATEDIF('Begroting P'!$D90,Startdatum,"D")>0,IF((('Begroting P'!$F90-((DATEDIF($D90,Startdatum,"M")/12)))*($E90/$F90))<0,0,(('Begroting P'!$F90-((DATEDIF($D90,Startdatum,"M")/12)))*($E90/$F90))),($E90/$F90))),0) -> Na startdatum aangekocht
H91: =IFERROR(E91-I91,0) -> 0 | I91: =IFERROR((E91/F91)*(Deelnemersoverzicht!$B$10-(DATEDIF(Startdatum,D91,"D")/365)),0) -> 0 | M91: =+H91*J91 -> 0 | N91: =+H91*K91 -> 0 | O91: =I91*L91 -> 0 | U91: =IFERROR(IF(D91>=Deelnemersoverzicht!$B$9,"Na startdatum aangekocht", IF(DATEDIF('Begroting P'!$D91,Startdatum,"D")>0,IF((('Begroting P'!$F91-((DATEDIF($D91,Startdatum,"M")/12)))*($E91/$F91))<0,0,(('Begroting P'!$F91-((DATEDIF($D91,Startdatum,"M")/12)))*($E91/$F91))),($E91/$F91))),0) -> Na startdatum aangekocht
H92: =IFERROR(E92-I92,0) -> 0 | I92: =IFERROR((E92/F92)*(Deelnemersoverzicht!$B$10-(DATEDIF(Startdatum,D92,"D")/365)),0) -> 0 | M92: =+H92*J92 -> 0 | N92: =+H92*K92 -> 0 | O92: =I92*L92 -> 0 | U92: =IFERROR(IF(D92>=Deelnemersoverzicht!$B$9,"Na startdatum aangekocht", IF(DATEDIF('Begroting P'!$D92,Startdatum,"D")>0,IF((('Begroting P'!$F92-((DATEDIF($D92,Startdatum,"M")/12)))*($E92/$F92))<0,0,(('Begroting P'!$F92-((DATEDIF($D92,Startdatum,"M")/12)))*($E92/$F92))),($E92/$F92))),0) -> Na startdatum aangekocht
H93: =IFERROR(E93-I93,0) -> 0 | I93: =IFERROR((E93/F93)*(Deelnemersoverzicht!$B$10-(DATEDIF(Startdatum,D93,"D")/365)),0) -> 0 | M93: =+H93*J93 -> 0 | N93: =+H93*K93 -> 0 | O93: =I93*L93 -> 0 | U93: =IFERROR(IF(D93>=Deelnemersoverzicht!$B$9,"Na startdatum aangekocht", IF(DATEDIF('Begroting P'!$D93,Startdatum,"D")>0,IF((('Begroting P'!$F93-((DATEDIF($D93,Startdatum,"M")/12)))*($E93/$F93))<0,0,(('Begroting P'!$F93-((DATEDIF($D93,Startdatum,"M")/12)))*($E93/$F93))),($E93/$F93))),0) -> Na startdatum aangekocht
H94: =IFERROR(E94-I94,0) -> 0 | I94: =IFERROR((E94/F94)*(Deelnemersoverzicht!$B$10-(DATEDIF(Startdatum,D94,"D")/365)),0) -> 0 | M94: =+H94*J94 -> 0 | N94: =+H94*K94 -> 0 | O94: =I94*L94 -> 0 | U94: =IFERROR(IF(D94>=Deelnemersoverzicht!$B$9,"Na startdatum aangekocht", IF(DATEDIF('Begroting P'!$D94,Startdatum,"D")>0,IF((('Begroting P'!$F94-((DATEDIF($D94,Startdatum,"M")/12)))*($E94/$F94))<0,0,(('Begroting P'!$F94-((DATEDIF($D94,Startdatum,"M")/12)))*($E94/$F94))),($E94/$F94))),0) -> Na startdatum aangekocht
H95: =IFERROR(E95-I95,0) -> 0 | I95: =IFERROR((E95/F95)*(Deelnemersoverzicht!$B$10-(DATEDIF(Startdatum,D95,"D")/365)),0) -> 0 | M95: =+H95*J95 -> 0 | N95: =+H95*K95 -> 0 | O95: =I95*L95 -> 0 | U95: =IFERROR(IF(D95>=Deelnemersoverzicht!$B$9,"Na startdatum aangekocht", IF(DATEDIF('Begroting P'!$D95,Startdatum,"D")>0,IF((('Begroting P'!$F95-((DATEDIF($D95,Startdatum,"M")/12)))*($E95/$F95))<0,0,(('Begroting P'!$F95-((DATEDIF($D95,Startdatum,"M")/12)))*($E95/$F95))),($E95/$F95))),0) -> Na startdatum aangekocht
H96: =IFERROR(E96-I96,0) -> 0 | I96: =IFERROR((E96/F96)*(Deelnemersoverzicht!$B$10-(DATEDIF(Startdatum,D96,"D")/365)),0) -> 0 | M96: =+H96*J96 -> 0 | N96: =+H96*K96 -> 0 | O96: =I96*L96 -> 0 | U96: =IFERROR(IF(D96>=Deelnemersoverzicht!$B$9,"Na startdatum aangekocht", IF(DATEDIF('Begroting P'!$D96,Startdatum,"D")>0,IF((('Begroting P'!$F96-((DATEDIF($D96,Startdatum,"M")/12)))*($E96/$F96))<0,0,(('Begroting P'!$F96-((DATEDIF($D96,Startdatum,"M")/12)))*($E96/$F96))),($E96/$F96))),0) -> Na startdatum aangekocht
H97: =IFERROR(E97-I97,0) -> 0 | I97: =IFERROR((E97/F97)*(Deelnemersoverzicht!$B$10-(DATEDIF(Startdatum,D97,"D")/365)),0) -> 0 | M97: =+H97*J97 -> 0 | N97: =+H97*K97 -> 0 | O97: =I97*L97 -> 0 | U97: =IFERROR(IF(D97>=Deelnemersoverzicht!$B$9,"Na startdatum aangekocht", IF(DATEDIF('Begroting P'!$D97,Startdatum,"D")>0,IF((('Begroting P'!$F97-((DATEDIF($D97,Startdatum,"M")/12)))*($E97/$F97))<0,0,(('Begroting P'!$F97-((DATEDIF($D97,Startdatum,"M")/12)))*($E97/$F97))),($E97/$F97))),0) -> Na startdatum aangekocht
H98: =IFERROR(E98-I98,0) -> 0 | I98: =IFERROR((E98/F98)*(Deelnemersoverzicht!$B$10-(DATEDIF(Startdatum,D98,"D")/365)),0) -> 0 | M98: =+H98*J98 -> 0 | N98: =+H98*K98 -> 0 | O98: =I98*L98 -> 0 | U98: =IFERROR(IF(D98>=Deelnemersoverzicht!$B$9,"Na startdatum aangekocht", IF(DATEDIF('Begroting P'!$D98,Startdatum,"D")>0,IF((('Begroting P'!$F98-((DATEDIF($D98,Startdatum,"M")/12)))*($E98/$F98))<0,0,(('Begroting P'!$F98-((DATEDIF($D98,Startdatum,"M")/12)))*($E98/$F98))),($E98/$F98))),0) -> Na startdatum aangekocht
H99: =IFERROR(E99-I99,0) -> 0 | I99: =IFERROR((E99/F99)*(Deelnemersoverzicht!$B$10-(DATEDIF(Startdatum,D99,"D")/365)),0) -> 0 | M99: =+H99*J99 -> 0 | N99: =+H99*K99 -> 0 | O99: =I99*L99 -> 0 | U99: =IFERROR(IF(D99>=Deelnemersoverzicht!$B$9,"Na startdatum aangekocht", IF(DATEDIF('Begroting P'!$D99,Startdatum,"D")>0,IF((('Begroting P'!$F99-((DATEDIF($D99,Startdatum,"M")/12)))*($E99/$F99))<0,0,(('Begroting P'!$F99-((DATEDIF($D99,Startdatum,"M")/12)))*($E99/$F99))),($E99/$F99))),0) -> Na startdatum aangekocht
H100: =IFERROR(E100-I100,0) -> 0 | I100: =IFERROR((E100/F100)*(Deelnemersoverzicht!$B$10-(DATEDIF(Startdatum,D100,"D")/365)),0) -> 0 | M100: =+H100*J100 -> 0 | N100: =+H100*K100 -> 0 | O100: =I100*L100 -> 0 | U100: =IFERROR(IF(D100>=Deelnemersoverzicht!$B$9,"Na startdatum aangekocht", IF(DATEDIF('Begroting P'!$D100,Startdatum,"D")>0,IF((('Begroting P'!$F100-((DATEDIF($D100,Startdatum,"M")/12)))*($E100/$F100))<0,0,(('Begroting P'!$F100-((DATEDIF($D100,Startdatum,"M")/12)))*($E100/$F100))),($E100/$F100))),0) -> Na startdatum aangekocht
H101: =IFERROR(E101-I101,0) -> 0 | I101: =IFERROR((E101/F101)*(Deelnemersoverzicht!$B$10-(DATEDIF(Startdatum,D101,"D")/365)),0) -> 0 | M101: =+H101*J101 -> 0 | N101: =+H101*K101 -> 0 | O101: =I101*L101 -> 0 | U101: =IFERROR(IF(D101>=Deelnemersoverzicht!$B$9,"Na startdatum aangekocht", IF(DATEDIF('Begroting P'!$D101,Startdatum,"D")>0,IF((('Begroting P'!$F101-((DATEDIF($D101,Startdatum,"M")/12)))*($E101/$F101))<0,0,(('Begroting P'!$F101-((DATEDIF($D101,Startdatum,"M")/12)))*($E101/$F101))),($E101/$F101))),0) -> Na startdatum aangekocht
... H107: =IFERROR(E107-I107,0) -> 0 | I107: =IFERROR((E107/F107)*(Deelnemersoverzicht!$B$10-(DATEDIF(Startdatum,D107,"D")/365)),0) -> 0 | M107: =+H107*J107 -> 0 | N107: =+H107*K107 -> 0 | O107: =I107*L107 -> 0 | U107: =IFERROR(IF(D107>=Deelnemersoverzicht!$B$9,"Na startdatum aangekocht", IF(DATEDIF('Begroting P'!$D107,Startdatum,"D")>0,IF((('Begroting P'!$F107-((DATEDIF($D107,Startdatum,"M")/12)))*($E107/$F107))<0,0,(('Begroting P'!$F107-((DATEDIF($D107,Startdatum,"M")/12)))*($E107/$F107))),($E107/$F107))),0) -> Na startdatum aangekocht
M108: =SUM(M90:M107) -> 0 | N108: =SUM(N90:N107) -> 0 | O108: =SUM(O90:O107) -> 0
B110: A3. b: Verbruikte materialen en hulpmiddelen | J110: Verbruik (aantal eenheden) | M110: Kosten €
B111: Werkpakket | C111: Omschrijving kosten | I111: Prijs per eenheid | J111: =+J19 -> Industrieel onderzoek | K111: =+K19 -> Experimentele ontwikkeling | L111: Niet-econ. Activiteiten | M111: =+J19 -> Industrieel onderzoek | N111: =+K19 -> Experimentele ontwikkeling | O111: Niet-econ. activiteiten
M112: =$I112*J112 -> 0 | N112: =$I112*K112 -> 0 | O112: =$I112*L112 -> 0
M113: =$I113*J113 -> 0 | N113: =$I113*K113 -> 0 | O113: =$I113*L113 -> 0
M114: =$I114*J114 -> 0 | N114: =$I114*K114 -> 0 | O114: =$I114*L114 -> 0
M115: =$I115*J115 -> 0 | N115: =$I115*K115 -> 0 | O115: =$I115*L115 -> 0
M116: =$I116*J116 -> 0 | N116: =$I116*K116 -> 0 | O116: =$I116*L116 -> 0
M117: =$I117*J117 -> 0 | N117: =$I117*K117 -> 0 | O117: =$I117*L117 -> 0
M118: =$I118*J118 -> 0 | N118: =$I118*K118 -> 0 | O118: =$I118*L118 -> 0
M119: =$I119*J119 -> 0 | N119: =$I119*K119 -> 0 | O119: =$I119*L119 -> 0
M120: =$I120*J120 -> 0 | N120: =$I120*K120 -> 0 | O120: =$I120*L120 -> 0
M121: =$I121*J121 -> 0 | N121: =$I121*K121 -> 0 | O121: =$I121*L121 -> 0
M122: =$I122*J122 -> 0 | N122: =$I122*K122 -> 0 | O122: =$I122*L122 -> 0
M123: =$I123*J123 -> 0 | N123: =$I123*K123 -> 0 | O123: =$I123*L123 -> 0
... M129: =$I129*J129 -> 0 | N129: =$I129*K129 -> 0 | O129: =$I129*L129 -> 0
M130: =SUM(M112:M129) -> 0 | N130: =SUM(N112:N129) -> 0 | O130: =SUM(O112:O129) -> 0
B132: A3. c: Overige aan derden verschuldigde kosten | M132: Kosten €
B133: Werkpakket | C133: Handelsnaam derde | E133: Omschrijving kosten | M133: =+J19 -> Industrieel onderzoek | N133: =+K19 -> Experimentele ontwikkeling | O133: Niet-econ. activiteiten
M152: =SUM(M134:M151) -> 0 | N152: =SUM(N134:N151) -> 0 | O152: =SUM(O134:O151) -> 0
I154: Totaal aan derden verschuldigde kosten | M154: =+M108+M130+M152 -> 0 | N154: =+N108+N130+N152 -> 0 | O154: =O108+O130+O152 -> 0
B156: ONDERDEEL B
B157: Overzicht subsidie deelnemer:
B159: Omschrijving | L159: =+J19 -> Industrieel onderzoek | M159: =+K19 -> Experimentele ontwikkeling | N159: Niet-econ. activiteiten | O159: Totaal
B160: A1. | C160: Loonkosten | L160: =M56 -> 0 | M160: =N56 -> 0 | N160: =O56 -> 0 | O160: =SUM(L160:N160) -> 0
B161: A2. | C161: Machines en apparaten die niet uitsluitend voor het project worden gebruikt | L161: =M84 -> 0 | M161: =N84 -> 0 | N161: =O84 -> 0 | O161: =SUM(L161:N161) -> 0
B162: A3. | C162: Aan derden verschuldigde kosten | L162: =M154 -> 0 | M162: =N154 -> 0 | N162: =O154 -> 0 | O162: =SUM(L162:N162) -> 0
B164: A4. | C164: Totaal onderdeel B | L164: =SUM(L160:L162) -> 0 | M164: =SUM(M160:M162) -> 0 | N164: =SUM(N160:N162) -> 0 | O164: =SUM(O160:O162) -> 0
B166: Maximale subsidiepercentage | L166: =+Deelnemersoverzicht!E22 -> #N/A | M166: =+Deelnemersoverzicht!F22 -> #N/A | N166: =+Deelnemersoverzicht!G22 -> 0
B167: Maximale subsidie | L167: =L164*L166 -> #N/A | M167: =M164*M166 -> #N/A | N167: =N164*N166 -> 0
B168: Reeds ontvangen subsidies voor de subsidiabele kosten
B169: Maximale subsidie | O169: =SUM(L167:N167)-O168 -> #N/A
B170: Gevraagde subsidie | J170: =IF(O170<1,"Let op: Vergeet niet de door u gevraagde subsidie in te vullen! →",IF((O170-O169)>1,"LET OP: U vraagt meer dan de maximale berekende subsidie aan!",IF(O170>500000,"LET OP: De maximale subsidie voor deze regeling betreft €500.000 per project!",""))) -> Let op: Vergeet niet de door u gevraagde subsidie in te vullen! → | L170: =IF(L167>0,O170/(O169+O168)*L167,0) -> #N/A | M170: =IF(M167>0,O170/(O169+O168)*M167,0) -> #N/A | N170: =IF(N167>0,O170/(O169+O168)*N167,0) -> 0
B172: ONDERDEEL C
B173: Financiering van het project:
B175: C1. | C175: Totale projectkosten | O175: =O164 -> 0
B176: C2. | C176: Reeds ontvangen subsidies voor de subsidiabele kosten | O176: =O168 -> 0
B177: C3. | C177: Gevraagde subsidie (B) | O177: =O170 -> 0
...

Sheet Begroting D4
C1: Model begroting | H1: =IF(Deelnemersoverzicht!B5="(Dit veld wordt ingevuld door RVO)","",Deelnemersoverzicht!B5) -> Dit veld wordt door RVO ingevuld | U1: KOLOM VERBERGEN!!
C2: NBS Living Labs 2026
C4: Gegevens per deelnemer:
C6: =Deelnemersoverzicht!A23 -> Deelnemer 4 (D4) | F6: =Deelnemersoverzicht!B23 -> 0
C7: Titel project | F7: =Deelnemersoverzicht!B6 -> 0
C8: BTW | F8: <maak een keuze>
C9: Gebruikte loonsystematiek | F9: <maak een keuze>
F10: =IF(F9="Integrale kostensystematiek","Let op! U dient in de begroting de IKS-tarieven zo te specificeren dat deze te controleren zijn op basis van de door u aangeleverde.","")
F11: =IF(F9="Integrale kostensystematiek","IKS tarieven aan RVO. Bijvoorbeeld: divisie R&D, loonschaal 10. Vul dit in bij toelichting IKS","")
B13: ONDERDEEL A
B14: Overzicht kosten
B16: A1. | C16: Loonkosten
G18: =IF(AND($F$9="Integrale kostensystematiek",COUNTA(C20:D55)>COUNTA(G20:G55)),"Let op! U dient de Toelichting IKS in te vullen","") | J18: Aantal uren | M18: Kosten €
B19: Werkpakket | C19: Functie | E19: Rol in het project | G19: Toelichting IKS bijv. divisie R&D, schaal 11 | H19: Uurtarief | J19: =IF(Deelnemersoverzicht!$C$23=Lijsten!$A$23,"",Lijsten!$D$3) -> Industrieel onderzoek | K19: =IF(Deelnemersoverzicht!$C$23=Lijsten!$A$23,"",Lijsten!$D$4) -> Experimentele ontwikkeling | L19: Niet-econ. activiteiten | M19: =IF(Deelnemersoverzicht!$C$23=Lijsten!$A$23,"",Lijsten!$D$3) -> Industrieel onderzoek | N19: =IF(Deelnemersoverzicht!$C$23=Lijsten!$A$23,"",Lijsten!$D$4) -> Experimentele ontwikkeling | O19: Niet-econ. activiteiten
M20: =+H20*J20 -> 0 | N20: =+H20*K20 -> 0 | O20: =H20*L20 -> 0
M21: =+H21*J21 -> 0 | N21: =+H21*K21 -> 0 | O21: =H21*L21 -> 0
M22: =+H22*J22 -> 0 | N22: =+H22*K22 -> 0 | O22: =H22*L22 -> 0
M23: =+H23*J23 -> 0 | N23: =+H23*K23 -> 0 | O23: =H23*L23 -> 0
M24: =+H24*J24 -> 0 | N24: =+H24*K24 -> 0 | O24: =H24*L24 -> 0
M25: =+H25*J25 -> 0 | N25: =+H25*K25 -> 0 | O25: =H25*L25 -> 0
M26: =+H26*J26 -> 0 | N26: =+H26*K26 -> 0 | O26: =H26*L26 -> 0
M27: =+H27*J27 -> 0 | N27: =+H27*K27 -> 0 | O27: =H27*L27 -> 0
M28: =+H28*J28 -> 0 | N28: =+H28*K28 -> 0 | O28: =H28*L28 -> 0
M29: =+H29*J29 -> 0 | N29: =+H29*K29 -> 0 | O29: =H29*L29 -> 0
M30: =+H30*J30 -> 0 | N30: =+H30*K30 -> 0 | O30: =H30*L30 -> 0
M31: =+H31*J31 -> 0 | N31: =+H31*K31 -> 0 | O31: =H31*L31 -> 0
... M55: =+H55*J55 -> 0 | N55: =+H55*K55 -> 0 | O55: =H55*L55 -> 0
I56: Totale loonkosten | M56: =SUM(M20:M55) -> 0 | N56: =SUM(N20:N55) -> 0 | O56: =SUM(O20:O55) -> 0
B58: A2. | C58: Machines en apparaten die niet uitsluitend voor het project worden gebruikt
D60: =IF(COUNTA(D62:D83)<COUNTA(E62:E83),"Let op! Vul ook de aanschafdatum in!","") | J60: Aantal uur in gebruik t.b.v. project | M60: Kosten €
B61: Werkpakket | C61: Omschrijving kosten | D61: Aanschafdatum | E61: Aanschafwaarde | F61: Afschrijving in jaren (minimaal 5 jaar) | G61: Fiscale afschrijving per jaar | H61: Totaal uren bij normale bezetting per jaar | I61: Afschrijving per uur | J61: =+J19 -> Industrieel onderzoek | K61: =+K19 -> Experimentele ontwikkeling | L61: Niet-econ. Activiteiten | M61: =+J19 -> Industrieel onderzoek | N61: =+K19 -> Experimentele ontwikkeling | O61: Niet-econ. activiteiten | U61: Restwaarde afschrijvingen
G62: =IFERROR(E62/F62,0) -> 0 | I62: =IFERROR(G62/H62,0) -> 0 | M62: =+H62*J62 -> 0 | N62: =+H62*K62 -> 0 | O62: =I62*L62 -> 0 | U62: =IFERROR(IF(D62>=Deelnemersoverzicht!$B$9,"Na startdatum aangekocht", IF(DATEDIF('Begroting P'!$D62,Startdatum,"D")>0,IF((('Begroting P'!$F62-((DATEDIF($D62,Startdatum,"M")/12)))*($E62/$F62))<0,"Dit is afgeschreven!",(('Begroting P'!$F62-((DATEDIF($D62,Startdatum,"M")/12)))*($E62/$F62))),($E62/$F62))),0) -> Na startdatum aangekocht
G63: =IFERROR(E63/F63,0) -> 0 | I63: =IFERROR(G63/H63,0) -> 0 | M63: =+H63*J63 -> 0 | N63: =+H63*K63 -> 0 | O63: =I63*L63 -> 0 | U63: =IFERROR(IF(D63>=Deelnemersoverzicht!$B$9,"Na startdatum aangekocht", IF(DATEDIF('Begroting P'!$D63,Startdatum,"D")>0,IF((('Begroting P'!$F63-((DATEDIF($D63,Startdatum,"M")/12)))*($E63/$F63))<0,"Dit is afgeschreven!",(('Begroting P'!$F63-((DATEDIF($D63,Startdatum,"M")/12)))*($E63/$F63))),($E63/$F63))),0) -> Na startdatum aangekocht
G64: =IFERROR(E64/F64,0) -> 0 | I64: =IFERROR(G64/H64,0) -> 0 | M64: =+H64*J64 -> 0 | N64: =+H64*K64 -> 0 | O64: =I64*L64 -> 0 | U64: =IFERROR(IF(D64>=Deelnemersoverzicht!$B$9,"Na startdatum aangekocht", IF(DATEDIF('Begroting P'!$D64,Startdatum,"D")>0,IF((('Begroting P'!$F64-((DATEDIF($D64,Startdatum,"M")/12)))*($E64/$F64))<0,"Dit is afgeschreven!",(('Begroting P'!$F64-((DATEDIF($D64,Startdatum,"M")/12)))*($E64/$F64))),($E64/$F64))),0) -> Na startdatum aangekocht
G65: =IFERROR(E65/F65,0) -> 0 | I65: =IFERROR(G65/H65,0) -> 0 | M65: =+H65*J65 -> 0 | N65: =+H65*K65 -> 0 | O65: =I65*L65 -> 0 | U65: =IFERROR(IF(D65>=Deelnemersoverzicht!$B$9,"Na startdatum aangekocht", IF(DATEDIF('Begroting P'!$D65,Startdatum,"D")>0,IF((('Begroting P'!$F65-((DATEDIF($D65,Startdatum,"M")/12)))*($E65/$F65))<0,"Dit is afgeschreven!",(('Begroting P'!$F65-((DATEDIF($D65,Startdatum,"M")/12)))*($E65/$F65))),($E65/$F65))),0) -> Na startdatum aangekocht
G66: =IFERROR(E66/F66,0) -> 0 | I66: =IFERROR(G66/H66,0) -> 0 | M66: =+H66*J66 -> 0 | N66: =+H66*K66 -> 0 | O66: =I66*L66 -> 0 | U66: =IFERROR(IF(D66>=Deelnemersoverzicht!$B$9,"Na startdatum aangekocht", IF(DATEDIF('Begroting P'!$D66,Startdatum,"D")>0,IF((('Begroting P'!$F66-((DATEDIF($D66,Startdatum,"M")/12)))*($E66/$F66))<0,"Dit is afgeschreven!",(('Begroting P'!$F66-((DATEDIF($D66,Startdatum,"M")/12)))*($E66/$F66))),($E66/$F66))),0) -> Na startdatum aangekocht
G67: =IFERROR(E67/F67,0) -> 0 | I67: =IFERROR(G67/H67,0) -> 0 | M67: =+H67*J67 -> 0 | N67: =+H67*K67 -> 0 | O67: =I67*L67 -> 0 | U67: =IFERROR(IF(D67>=Deelnemersoverzicht!$B$9,"Na startdatum aangekocht", IF(DATEDIF('Begroting P'!$D67,Startdatum,"D")>0,IF((('Begroting P'!$F67-((DATEDIF($D67,Startdatum,"M")/12)))*($E67/$F67))<0,"Dit is afgeschreven!",(('Begroting P'!$F67-((DATEDIF($D67,Startdatum,"M")/12)))*($E67/$F67))),($E67/$F67))),0) -> Na startdatum aangekocht
G68: =IFERROR(E68/F68,0) -> 0 | I68: =IFERROR(G68/H68,0) -> 0 | M68: =+H68*J68 -> 0 | N68: =+H68*K68 -> 0 | O68: =I68*L68 -> 0 | U68: =IFERROR(IF(D68>=Deelnemersoverzicht!$B$9,"Na startdatum aangekocht", IF(DATEDIF('Begroting P'!$D68,Startdatum,"D")>0,IF((('Begroting P'!$F68-((DATEDIF($D68,Startdatum,"M")/12)))*($E68/$F68))<0,"Dit is afgeschreven!",(('Begroting P'!$F68-((DATEDIF($D68,Startdatum,"M")/12)))*($E68/$F68))),($E68/$F68))),0) -> Na startdatum aangekocht
G69: =IFERROR(E69/F69,0) -> 0 | I69: =IFERROR(G69/H69,0) -> 0 | M69: =+H69*J69 -> 0 | N69: =+H69*K69 -> 0 | O69: =I69*L69 -> 0 | U69: =IFERROR(IF(D69>=Deelnemersoverzicht!$B$9,"Na startdatum aangekocht", IF(DATEDIF('Begroting P'!$D69,Startdatum,"D")>0,IF((('Begroting P'!$F69-((DATEDIF($D69,Startdatum,"M")/12)))*($E69/$F69))<0,"Dit is afgeschreven!",(('Begroting P'!$F69-((DATEDIF($D69,Startdatum,"M")/12)))*($E69/$F69))),($E69/$F69))),0) -> Na startdatum aangekocht
G70: =IFERROR(E70/F70,0) -> 0 | I70: =IFERROR(G70/H70,0) -> 0 | M70: =+H70*J70 -> 0 | N70: =+H70*K70 -> 0 | O70: =I70*L70 -> 0 | U70: =IFERROR(IF(D70>=Deelnemersoverzicht!$B$9,"Na startdatum aangekocht", IF(DATEDIF('Begroting P'!$D70,Startdatum,"D")>0,IF((('Begroting P'!$F70-((DATEDIF($D70,Startdatum,"M")/12)))*($E70/$F70))<0,"Dit is afgeschreven!",(('Begroting P'!$F70-((DATEDIF($D70,Startdatum,"M")/12)))*($E70/$F70))),($E70/$F70))),0) -> Na startdatum aangekocht
G71: =IFERROR(E71/F71,0) -> 0 | I71: =IFERROR(G71/H71,0) -> 0 | M71: =+H71*J71 -> 0 | N71: =+H71*K71 -> 0 | O71: =I71*L71 -> 0 | U71: =IFERROR(IF(D71>=Deelnemersoverzicht!$B$9,"Na startdatum aangekocht", IF(DATEDIF('Begroting P'!$D71,Startdatum,"D")>0,IF((('Begroting P'!$F71-((DATEDIF($D71,Startdatum,"M")/12)))*($E71/$F71))<0,"Dit is afgeschreven!",(('Begroting P'!$F71-((DATEDIF($D71,Startdatum,"M")/12)))*($E71/$F71))),($E71/$F71))),0) -> Na startdatum aangekocht
G72: =IFERROR(E72/F72,0) -> 0 | I72: =IFERROR(G72/H72,0) -> 0 | M72: =+H72*J72 -> 0 | N72: =+H72*K72 -> 0 | O72: =I72*L72 -> 0 | U72: =IFERROR(IF(D72>=Deelnemersoverzicht!$B$9,"Na startdatum aangekocht", IF(DATEDIF('Begroting P'!$D72,Startdatum,"D")>0,IF((('Begroting P'!$F72-((DATEDIF($D72,Startdatum,"M")/12)))*($E72/$F72))<0,"Dit is afgeschreven!",(('Begroting P'!$F72-((DATEDIF($D72,Startdatum,"M")/12)))*($E72/$F72))),($E72/$F72))),0) -> Na startdatum aangekocht
G73: =IFERROR(E73/F73,0) -> 0 | I73: =IFERROR(G73/H73,0) -> 0 | M73: =+H73*J73 -> 0 | N73: =+H73*K73 -> 0 | O73: =I73*L73 -> 0 | U73: =IFERROR(IF(D73>=Deelnemersoverzicht!$B$9,"Na startdatum aangekocht", IF(DATEDIF('Begroting P'!$D73,Startdatum,"D")>0,IF((('Begroting P'!$F73-((DATEDIF($D73,Startdatum,"M")/12)))*($E73/$F73))<0,"Dit is afgeschreven!",(('Begroting P'!$F73-((DATEDIF($D73,Startdatum,"M")/12)))*($E73/$F73))),($E73/$F73))),0) -> Na startdatum aangekocht
... G83: =IFERROR(E83/F83,0) -> 0 | I83: =IFERROR(G83/H83,0) -> 0 | M83: =+H83*J83 -> 0 | N83: =+H83*K83 -> 0 | O83: =I83*L83 -> 0 | U83: =IFERROR(IF(D83>=Deelnemersoverzicht!$B$9,"Na startdatum aangekocht", IF(DATEDIF('Begroting P'!$D83,Startdatum,"D")>0,IF((('Begroting P'!$F83-((DATEDIF($D83,Startdatum,"M")/12)))*($E83/$F83))<0,"Dit is afgeschreven!",(('Begroting P'!$F83-((DATEDIF($D83,Startdatum,"M")/12)))*($E83/$F83))),($E83/$F83))),0) -> Na startdatum aangekocht
H84: Totale kosten aangeschafte machines en apparatuur | M84: =SUM(M62:M83) -> 0 | N84: =SUM(N62:N83) -> 0 | O84: =SUM(O62:O83) -> 0
B86: A3. | C86: Aan derden verschuldigde kosten
B87: A3. a: Apparatuur uitsluitend voor het project aangeschaft
D88: =IF(COUNTA(D90:D107)<COUNTA(E90:E107),"Let op! Vul ook de aanschafdatum in!","") | J88: Subsidiabele kosten per onderzoekstype | M88: Kosten €
B89: Werkpakket | C89: Omschrijving kosten | D89: Aanschafdatum, binnen de projectperiode | E89: Aanschafwaarde | F89: Afschrijving in jaren (minimaal 5 jaar) | H89: Restwaarde | I89: Subsidiabele kosten totaal | J89: =+J19 -> Industrieel onderzoek | K89: =+K19 -> Experimentele ontwikkeling | L89: Niet-econ. Activiteiten | M89: =+J19 -> Industrieel onderzoek | N89: =+K19 -> Experimentele ontwikkeling | O89: Niet-econ. activiteiten | U89: Restwaarde afschrijvingen
H90: =IFERROR(E90-I90,0) -> 0 | I90: =IFERROR((E90/F90)*(Deelnemersoverzicht!$B$10-(DATEDIF(Startdatum,D90,"D")/365)),0) -> 0 | M90: =+H90*J90 -> 0 | N90: =+H90*K90 -> 0 | O90: =I90*L90 -> 0 | U90: =IFERROR(IF(D90>=Deelnemersoverzicht!$B$9,"Na startdatum aangekocht", IF(DATEDIF('Begroting P'!$D90,Startdatum,"D")>0,IF((('Begroting P'!$F90-((DATEDIF($D90,Startdatum,"M")/12)))*($E90/$F90))<0,0,(('Begroting P'!$F90-((DATEDIF($D90,Startdatum,"M")/12)))*($E90/$F90))),($E90/$F90))),0) -> Na startdatum aangekocht
H91: =IFERROR(E91-I91,0) -> 0 | I91: =IFERROR((E91/F91)*(Deelnemersoverzicht!$B$10-(DATEDIF(Startdatum,D91,"D")/365)),0) -> 0 | M91: =+H91*J91 -> 0 | N91: =+H91*K91 -> 0 | O91: =I91*L91 -> 0 | U91: =IFERROR(IF(D91>=Deelnemersoverzicht!$B$9,"Na startdatum aangekocht", IF(DATEDIF('Begroting P'!$D91,Startdatum,"D")>0,IF((('Begroting P'!$F91-((DATEDIF($D91,Startdatum,"M")/12)))*($E91/$F91))<0,0,(('Begroting P'!$F91-((DATEDIF($D91,Startdatum,"M")/12)))*($E91/$F91))),($E91/$F91))),0) -> Na startdatum aangekocht
H92: =IFERROR(E92-I92,0) -> 0 | I92: =IFERROR((E92/F92)*(Deelnemersoverzicht!$B$10-(DATEDIF(Startdatum,D92,"D")/365)),0) -> 0 | M92: =+H92*J92 -> 0 | N92: =+H92*K92 -> 0 | O92: =I92*L92 -> 0 | U92: =IFERROR(IF(D92>=Deelnemersoverzicht!$B$9,"Na startdatum aangekocht", IF(DATEDIF('Begroting P'!$D92,Startdatum,"D")>0,IF((('Begroting P'!$F92-((DATEDIF($D92,Startdatum,"M")/12)))*($E92/$F92))<0,0,(('Begroting P'!$F92-((DATEDIF($D92,Startdatum,"M")/12)))*($E92/$F92))),($E92/$F92))),0) -> Na startdatum aangekocht
H93: =IFERROR(E93-I93,0) -> 0 | I93: =IFERROR((E93/F93)*(Deelnemersoverzicht!$B$10-(DATEDIF(Startdatum,D93,"D")/365)),0) -> 0 | M93: =+H93*J93 -> 0 | N93: =+H93*K93 -> 0 | O93: =I93*L93 -> 0 | U93: =IFERROR(IF(D93>=Deelnemersoverzicht!$B$9,"Na startdatum aangekocht", IF(DATEDIF('Begroting P'!$D93,Startdatum,"D")>0,IF((('Begroting P'!$F93-((DATEDIF($D93,Startdatum,"M")/12)))*($E93/$F93))<0,0,(('Begroting P'!$F93-((DATEDIF($D93,Startdatum,"M")/12)))*($E93/$F93))),($E93/$F93))),0) -> Na startdatum aangekocht
H94: =IFERROR(E94-I94,0) -> 0 | I94: =IFERROR((E94/F94)*(Deelnemersoverzicht!$B$10-(DATEDIF(Startdatum,D94,"D")/365)),0) -> 0 | M94: =+H94*J94 -> 0 | N94: =+H94*K94 -> 0 | O94: =I94*L94 -> 0 | U94: =IFERROR(IF(D94>=Deelnemersoverzicht!$B$9,"Na startdatum aangekocht", IF(DATEDIF('Begroting P'!$D94,Startdatum,"D")>0,IF((('Begroting P'!$F94-((DATEDIF($D94,Startdatum,"M")/12)))*($E94/$F94))<0,0,(('Begroting P'!$F94-((DATEDIF($D94,Startdatum,"M")/12)))*($E94/$F94))),($E94/$F94))),0) -> Na startdatum aangekocht
H95: =IFERROR(E95-I95,0) -> 0 | I95: =IFERROR((E95/F95)*(Deelnemersoverzicht!$B$10-(DATEDIF(Startdatum,D95,"D")/365)),0) -> 0 | M95: =+H95*J95 -> 0 | N95: =+H95*K95 -> 0 | O95: =I95*L95 -> 0 | U95: =IFERROR(IF(D95>=Deelnemersoverzicht!$B$9,"Na startdatum aangekocht", IF(DATEDIF('Begroting P'!$D95,Startdatum,"D")>0,IF((('Begroting P'!$F95-((DATEDIF($D95,Startdatum,"M")/12)))*($E95/$F95))<0,0,(('Begroting P'!$F95-((DATEDIF($D95,Startdatum,"M")/12)))*($E95/$F95))),($E95/$F95))),0) -> Na startdatum aangekocht
H96: =IFERROR(E96-I96,0) -> 0 | I96: =IFERROR((E96/F96)*(Deelnemersoverzicht!$B$10-(DATEDIF(Startdatum,D96,"D")/365)),0) -> 0 | M96: =+H96*J96 -> 0 | N96: =+H96*K96 -> 0 | O96: =I96*L96 -> 0 | U96: =IFERROR(IF(D96>=Deelnemersoverzicht!$B$9,"Na startdatum aangekocht", IF(DATEDIF('Begroting P'!$D96,Startdatum,"D")>0,IF((('Begroting P'!$F96-((DATEDIF($D96,Startdatum,"M")/12)))*($E96/$F96))<0,0,(('Begroting P'!$F96-((DATEDIF($D96,Startdatum,"M")/12)))*($E96/$F96))),($E96/$F96))),0) -> Na startdatum aangekocht
H97: =IFERROR(E97-I97,0) -> 0 | I97: =IFERROR((E97/F97)*(Deelnemersoverzicht!$B$10-(DATEDIF(Startdatum,D97,"D")/365)),0) -> 0 | M97: =+H97*J97 -> 0 | N97: =+H97*K97 -> 0 | O97: =I97*L97 -> 0 | U97: =IFERROR(IF(D97>=Deelnemersoverzicht!$B$9,"Na startdatum aangekocht", IF(DATEDIF('Begroting P'!$D97,Startdatum,"D")>0,IF((('Begroting P'!$F97-((DATEDIF($D97,Startdatum,"M")/12)))*($E97/$F97))<0,0,(('Begroting P'!$F97-((DATEDIF($D97,Startdatum,"M")/12)))*($E97/$F97))),($E97/$F97))),0) -> Na startdatum aangekocht
H98: =IFERROR(E98-I98,0) -> 0 | I98: =IFERROR((E98/F98)*(Deelnemersoverzicht!$B$10-(DATEDIF(Startdatum,D98,"D")/365)),0) -> 0 | M98: =+H98*J98 -> 0 | N98: =+H98*K98 -> 0 | O98: =I98*L98 -> 0 | U98: =IFERROR(IF(D98>=Deelnemersoverzicht!$B$9,"Na startdatum aangekocht", IF(DATEDIF('Begroting P'!$D98,Startdatum,"D")>0,IF((('Begroting P'!$F98-((DATEDIF($D98,Startdatum,"M")/12)))*($E98/$F98))<0,0,(('Begroting P'!$F98-((DATEDIF($D98,Startdatum,"M")/12)))*($E98/$F98))),($E98/$F98))),0) -> Na startdatum aangekocht
H99: =IFERROR(E99-I99,0) -> 0 | I99: =IFERROR((E99/F99)*(Deelnemersoverzicht!$B$10-(DATEDIF(Startdatum,D99,"D")/365)),0) -> 0 | M99: =+H99*J99 -> 0 | N99: =+H99*K99 -> 0 | O99: =I99*L99 -> 0 | U99: =IFERROR(IF(D99>=Deelnemersoverzicht!$B$9,"Na startdatum aangekocht", IF(DATEDIF('Begroting P'!$D99,Startdatum,"D")>0,IF((('Begroting P'!$F99-((DATEDIF($D99,Startdatum,"M")/12)))*($E99/$F99))<0,0,(('Begroting P'!$F99-((DATEDIF($D99,Startdatum,"M")/12)))*($E99/$F99))),($E99/$F99))),0) -> Na startdatum aangekocht
H100: =IFERROR(E100-I100,0) -> 0 | I100: =IFERROR((E100/F100)*(Deelnemersoverzicht!$B$10-(DATEDIF(Startdatum,D100,"D")/365)),0) -> 0 | M100: =+H100*J100 -> 0 | N100: =+H100*K100 -> 0 | O100: =I100*L100 -> 0 | U100: =IFERROR(IF(D100>=Deelnemersoverzicht!$B$9,"Na startdatum aangekocht", IF(DATEDIF('Begroting P'!$D100,Startdatum,"D")>0,IF((('Begroting P'!$F100-((DATEDIF($D100,Startdatum,"M")/12)))*($E100/$F100))<0,0,(('Begroting P'!$F100-((DATEDIF($D100,Startdatum,"M")/12)))*($E100/$F100))),($E100/$F100))),0) -> Na startdatum aangekocht
H101: =IFERROR(E101-I101,0) -> 0 | I101: =IFERROR((E101/F101)*(Deelnemersoverzicht!$B$10-(DATEDIF(Startdatum,D101,"D")/365)),0) -> 0 | M101: =+H101*J101 -> 0 | N101: =+H101*K101 -> 0 | O101: =I101*L101 -> 0 | U101: =IFERROR(IF(D101>=Deelnemersoverzicht!$B$9,"Na startdatum aangekocht", IF(DATEDIF('Begroting P'!$D101,Startdatum,"D")>0,IF((('Begroting P'!$F101-((DATEDIF($D101,Startdatum,"M")/12)))*($E101/$F101))<0,0,(('Begroting P'!$F101-((DATEDIF($D101,Startdatum,"M")/12)))*($E101/$F101))),($E101/$F101))),0) -> Na startdatum aangekocht
... H107: =IFERROR(E107-I107,0) -> 0 | I107: =IFERROR((E107/F107)*(Deelnemersoverzicht!$B$10-(DATEDIF(Startdatum,D107,"D")/365)),0) -> 0 | M107: =+H107*J107 -> 0 | N107: =+H107*K107 -> 0 | O107: =I107*L107 -> 0 | U107: =IFERROR(IF(D107>=Deelnemersoverzicht!$B$9,"Na startdatum aangekocht", IF(DATEDIF('Begroting P'!$D107,Startdatum,"D")>0,IF((('Begroting P'!$F107-((DATEDIF($D107,Startdatum,"M")/12)))*($E107/$F107))<0,0,(('Begroting P'!$F107-((DATEDIF($D107,Startdatum,"M")/12)))*($E107/$F107))),($E107/$F107))),0) -> Na startdatum aangekocht
M108: =SUM(M90:M107) -> 0 | N108: =SUM(N90:N107) -> 0 | O108: =SUM(O90:O107) -> 0
B110: A3. b: Verbruikte materialen en hulpmiddelen | J110: Verbruik (aantal eenheden) | M110: Kosten €
B111: Werkpakket | C111: Omschrijving kosten | I111: Prijs per eenheid | J111: =+J19 -> Industrieel onderzoek | K111: =+K19 -> Experimentele ontwikkeling | L111: Niet-econ. Activiteiten | M111: =+J19 -> Industrieel onderzoek | N111: =+K19 -> Experimentele ontwikkeling | O111: Niet-econ. activiteiten
M112: =$I112*J112 -> 0 | N112: =$I112*K112 -> 0 | O112: =$I112*L112 -> 0
M113: =$I113*J113 -> 0 | N113: =$I113*K113 -> 0 | O113: =$I113*L113 -> 0
M114: =$I114*J114 -> 0 | N114: =$I114*K114 -> 0 | O114: =$I114*L114 -> 0
M115: =$I115*J115 -> 0 | N115: =$I115*K115 -> 0 | O115: =$I115*L115 -> 0
M116: =$I116*J116 -> 0 | N116: =$I116*K116 -> 0 | O116: =$I116*L116 -> 0
M117: =$I117*J117 -> 0 | N117: =$I117*K117 -> 0 | O117: =$I117*L117 -> 0
M118: =$I118*J118 -> 0 | N118: =$I118*K118 -> 0 | O118: =$I118*L118 -> 0
M119: =$I119*J119 -> 0 | N119: =$I119*K119 -> 0 | O119: =$I119*L119 -> 0
M120: =$I120*J120 -> 0 | N120: =$I120*K120 -> 0 | O120: =$I120*L120 -> 0
M121: =$I121*J121 -> 0 | N121: =$I121*K121 -> 0 | O121: =$I121*L121 -> 0
M122: =$I122*J122 -> 0 | N122: =$I122*K122 -> 0 | O122: =$I122*L122 -> 0
M123: =$I123*J123 -> 0 | N123: =$I123*K123 -> 0 | O123: =$I123*L123 -> 0
... M129: =$I129*J129 -> 0 | N129: =$I129*K129 -> 0 | O129: =$I129*L129 -> 0
M130: =SUM(M112:M129) -> 0 | N130: =SUM(N112:N129) -> 0 | O130: =SUM(O112:O129) -> 0
B132: A3. c: Overige aan derden verschuldigde kosten | M132: Kosten €
B133: Werkpakket | C133: Handelsnaam derde | E133: Omschrijving kosten | M133: =+J19 -> Industrieel onderzoek | N133: =+K19 -> Experimentele ontwikkeling | O133: Niet-econ. activiteiten
M152: =SUM(M134:M151) -> 0 | N152: =SUM(N134:N151) -> 0 | O152: =SUM(O134:O151) -> 0
I154: Totaal aan derden verschuldigde kosten | M154: =+M108+M130+M152 -> 0 | N154: =+N108+N130+N152 -> 0 | O154: =O108+O130+O152 -> 0
B156: ONDERDEEL B
B157: Overzicht subsidie deelnemer:
B159: Omschrijving | L159: =+J19 -> Industrieel onderzoek | M159: =+K19 -> Experimentele ontwikkeling | N159: Niet-econ. activiteiten | O159: Totaal
B160: A1. | C160: Loonkosten | L160: =M56 -> 0 | M160: =N56 -> 0 | N160: =O56 -> 0 | O160: =SUM(L160:N160) -> 0
B161: A2. | C161: Machines en apparaten die niet uitsluitend voor het project worden gebruikt | L161: =M84 -> 0 | M161: =N84 -> 0 | N161: =O84 -> 0 | O161: =SUM(L161:N161) -> 0
B162: A3. | C162: Aan derden verschuldigde kosten | L162: =M154 -> 0 | M162: =N154 -> 0 | N162: =O154 -> 0 | O162: =SUM(L162:N162) -> 0
B164: A4. | C164: Totaal onderdeel B | L164: =SUM(L160:L162) -> 0 | M164: =SUM(M160:M162) -> 0 | N164: =SUM(N160:N162) -> 0 | O164: =SUM(O160:O162) -> 0
B166: Maximale subsidiepercentage | L166: =+Deelnemersoverzicht!E23 -> #N/A | M166: =+Deelnemersoverzicht!F23 -> #N/A | N166: =+Deelnemersoverzicht!G23 -> 0
B167: Maximale subsidie | L167: =L164*L166 -> #N/A | M167: =M164*M166 -> #N/A | N167: =N164*N166 -> 0
B168: Reeds ontvangen subsidies voor de subsidiabele kosten
B169: Maximale subsidie | O169: =SUM(L167:N167)-O168 -> #N/A
B170: Gevraagde subsidie | J170: =IF(O170<1,"Let op: Vergeet niet de door u gevraagde subsidie in te vullen! →",IF((O170-O169)>1,"LET OP: U vraagt meer dan de maximale berekende subsidie aan!",IF(O170>500000,"LET OP: De maximale subsidie voor deze regeling betreft €500.000 per project!",""))) -> Let op: Vergeet niet de door u gevraagde subsidie in te vullen! → | L170: =IF(L167>0,O170/(O169+O168)*L167,0) -> #N/A | M170: =IF(M167>0,O170/(O169+O168)*M167,0) -> #N/A | N170: =IF(N167>0,O170/(O169+O168)*N167,0) -> 0
B172: ONDERDEEL C
B173: Financiering van het project:
B175: C1. | C175: Totale projectkosten | O175: =O164 -> 0
B176: C2. | C176: Reeds ontvangen subsidies voor de subsidiabele kosten | O176: =O168 -> 0
B177: C3. | C177: Gevraagde subsidie (B) | O177: =O170 -> 0
...

Sheet Begroting D5
C1: Model begroting | H1: =IF(Deelnemersoverzicht!B5="(Dit veld wordt ingevuld door RVO)","",Deelnemersoverzicht!B5) -> Dit veld wordt door RVO ingevuld | U1: KOLOM VERBERGEN!!
C2: NBS Living Labs 2026
C4: Gegevens per deelnemer:
C6: =Deelnemersoverzicht!A24 -> Deelnemer 5 (D5) | F6: =Deelnemersoverzicht!B24 -> 0
C7: Titel project | F7: =Deelnemersoverzicht!B6 -> 0
C8: BTW | F8: <maak een keuze>
C9: Gebruikte loonsystematiek | F9: <maak een keuze>
F10: =IF(F9="Integrale kostensystematiek","Let op! U dient in de begroting de IKS-tarieven zo te specificeren dat deze te controleren zijn op basis van de door u aangeleverde","")
F11: =IF(F9="Integrale kostensystematiek","IKS tarieven aan RVO. Bijvoorbeeld: divisie R&D, loonschaal 10. Vul dit in bij toelichting IKS.","")
B13: ONDERDEEL A
B14: Overzicht kosten
B16: A1. | C16: Loonkosten
G18: =IF(AND($F$9="Integrale kostensystematiek",COUNTA(C20:D55)>COUNTA(G20:G55)),"Let op! U dient de Toelichting IKS in te vullen","") | J18: Aantal uren | M18: Kosten €
B19: Werkpakket | C19: Functie | E19: Rol in het project | G19: Toelichting IKS bijv. divisie R&D, schaal 11 | H19: Uurtarief | J19: =IF(Deelnemersoverzicht!$C$24=Lijsten!$A$23,"",Lijsten!$D$3) -> Industrieel onderzoek | K19: =IF(Deelnemersoverzicht!$C$24=Lijsten!$A$23,"",Lijsten!$D$4) -> Experimentele ontwikkeling | L19: Niet-econ. activiteiten | M19: =IF(Deelnemersoverzicht!$C$24=Lijsten!$A$23,"",Lijsten!$D$3) -> Industrieel onderzoek | N19: =IF(Deelnemersoverzicht!$C$24=Lijsten!$A$23,"",Lijsten!$D$4) -> Experimentele ontwikkeling | O19: Niet-econ. activiteiten
M20: =+H20*J20 -> 0 | N20: =+H20*K20 -> 0 | O20: =H20*L20 -> 0
M21: =+H21*J21 -> 0 | N21: =+H21*K21 -> 0 | O21: =H21*L21 -> 0
M22: =+H22*J22 -> 0 | N22: =+H22*K22 -> 0 | O22: =H22*L22 -> 0
M23: =+H23*J23 -> 0 | N23: =+H23*K23 -> 0 | O23: =H23*L23 -> 0
M24: =+H24*J24 -> 0 | N24: =+H24*K24 -> 0 | O24: =H24*L24 -> 0
M25: =+H25*J25 -> 0 | N25: =+H25*K25 -> 0 | O25: =H25*L25 -> 0
M26: =+H26*J26 -> 0 | N26: =+H26*K26 -> 0 | O26: =H26*L26 -> 0
M27: =+H27*J27 -> 0 | N27: =+H27*K27 -> 0 | O27: =H27*L27 -> 0
M28: =+H28*J28 -> 0 | N28: =+H28*K28 -> 0 | O28: =H28*L28 -> 0
M29: =+H29*J29 -> 0 | N29: =+H29*K29 -> 0 | O29: =H29*L29 -> 0
M30: =+H30*J30 -> 0 | N30: =+H30*K30 -> 0 | O30: =H30*L30 -> 0
M31: =+H31*J31 -> 0 | N31: =+H31*K31 -> 0 | O31: =H31*L31 -> 0
... M55: =+H55*J55 -> 0 | N55: =+H55*K55 -> 0 | O55: =H55*L55 -> 0
I56: Totale loonkosten | M56: =SUM(M20:M55) -> 0 | N56: =SUM(N20:N55) -> 0 | O56: =SUM(O20:O55) -> 0
B58: A2. | C58: Machines en apparaten die niet uitsluitend voor het project worden gebruikt
D60: =IF(COUNTA(D62:D83)<COUNTA(E62:E83),"Let op! Vul ook de aanschafdatum in!","") | J60: Aantal uur in gebruik t.b.v. project | M60: Kosten €
B61: Werkpakket | C61: Omschrijving kosten | D61: Aanschafdatum | E61: Aanschafwaarde | F61: Afschrijving in jaren (minimaal 5 jaar) | G61: Fiscale afschrijving per jaar | H61: Totaal uren bij normale bezetting per jaar | I61: Afschrijving per uur | J61: =+J19 -> Industrieel onderzoek | K61: =+K19 -> Experimentele ontwikkeling | L61: Niet-econ. Activiteiten | M61: =+J19 -> Industrieel onderzoek | N61: =+K19 -> Experimentele ontwikkeling | O61: Niet-econ. activiteiten | U61: Restwaarde afschrijvingen
G62: =IFERROR(E62/F62,0) -> 0 | I62: =IFERROR(G62/H62,0) -> 0 | M62: =+H62*J62 -> 0 | N62: =+H62*K62 -> 0 | O62: =I62*L62 -> 0 | U62: =IFERROR(IF(D62>=Deelnemersoverzicht!$B$9,"Na startdatum aangekocht", IF(DATEDIF('Begroting P'!$D62,Startdatum,"D")>0,IF((('Begroting P'!$F62-((DATEDIF($D62,Startdatum,"M")/12)))*($E62/$F62))<0,"Dit is afgeschreven!",(('Begroting P'!$F62-((DATEDIF($D62,Startdatum,"M")/12)))*($E62/$F62))),($E62/$F62))),0) -> Na startdatum aangekocht
G63: =IFERROR(E63/F63,0) -> 0 | I63: =IFERROR(G63/H63,0) -> 0 | M63: =+H63*J63 -> 0 | N63: =+H63*K63 -> 0 | O63: =I63*L63 -> 0 | U63: =IFERROR(IF(D63>=Deelnemersoverzicht!$B$9,"Na startdatum aangekocht", IF(DATEDIF('Begroting P'!$D63,Startdatum,"D")>0,IF((('Begroting P'!$F63-((DATEDIF($D63,Startdatum,"M")/12)))*($E63/$F63))<0,"Dit is afgeschreven!",(('Begroting P'!$F63-((DATEDIF($D63,Startdatum,"M")/12)))*($E63/$F63))),($E63/$F63))),0) -> Na startdatum aangekocht
G64: =IFERROR(E64/F64,0) -> 0 | I64: =IFERROR(G64/H64,0) -> 0 | M64: =+H64*J64 -> 0 | N64: =+H64*K64 -> 0 | O64: =I64*L64 -> 0 | U64: =IFERROR(IF(D64>=Deelnemersoverzicht!$B$9,"Na startdatum aangekocht", IF(DATEDIF('Begroting P'!$D64,Startdatum,"D")>0,IF((('Begroting P'!$F64-((DATEDIF($D64,Startdatum,"M")/12)))*($E64/$F64))<0,"Dit is afgeschreven!",(('Begroting P'!$F64-((DATEDIF($D64,Startdatum,"M")/12)))*($E64/$F64))),($E64/$F64))),0) -> Na startdatum aangekocht
G65: =IFERROR(E65/F65,0) -> 0 | I65: =IFERROR(G65/H65,0) -> 0 | M65: =+H65*J65 -> 0 | N65: =+H65*K65 -> 0 | O65: =I65*L65 -> 0 | U65: =IFERROR(IF(D65>=Deelnemersoverzicht!$B$9,"Na startdatum aangekocht", IF(DATEDIF('Begroting P'!$D65,Startdatum,"D")>0,IF((('Begroting P'!$F65-((DATEDIF($D65,Startdatum,"M")/12)))*($E65/$F65))<0,"Dit is afgeschreven!",(('Begroting P'!$F65-((DATEDIF($D65,Startdatum,"M")/12)))*($E65/$F65))),($E65/$F65))),0) -> Na startdatum aangekocht
G66: =IFERROR(E66/F66,0) -> 0 | I66: =IFERROR(G66/H66,0) -> 0 | M66: =+H66*J66 -> 0 | N66: =+H66*K66 -> 0 | O66: =I66*L66 -> 0 | U66: =IFERROR(IF(D66>=Deelnemersoverzicht!$B$9,"Na startdatum aangekocht", IF(DATEDIF('Begroting P'!$D66,Startdatum,"D")>0,IF((('Begroting P'!$F66-((DATEDIF($D66,Startdatum,"M")/12)))*($E66/$F66))<0,"Dit is afgeschreven!",(('Begroting P'!$F66-((DATEDIF($D66,Startdatum,"M")/12)))*($E66/$F66))),($E66/$F66))),0) -> Na startdatum aangekocht
G67: =IFERROR(E67/F67,0) -> 0 | I67: =IFERROR(G67/H67,0) -> 0 | M67: =+H67*J67 -> 0 | N67: =+H67*K67 -> 0 | O67: =I67*L67 -> 0 | U67: =IFERROR(IF(D67>=Deelnemersoverzicht!$B$9,"Na startdatum aangekocht", IF(DATEDIF('Begroting P'!$D67,Startdatum,"D")>0,IF((('Begroting P'!$F67-((DATEDIF($D67,Startdatum,"M")/12)))*($E67/$F67))<0,"Dit is afgeschreven!",(('Begroting P'!$F67-((DATEDIF($D67,Startdatum,"M")/12)))*($E67/$F67))),($E67/$F67))),0) -> Na startdatum aangekocht
G68: =IFERROR(E68/F68,0) -> 0 | I68: =IFERROR(G68/H68,0) -> 0 | M68: =+H68*J68 -> 0 | N68: =+H68*K68 -> 0 | O68: =I68*L68 -> 0 | U68: =IFERROR(IF(D68>=Deelnemersoverzicht!$B$9,"Na startdatum aangekocht", IF(DATEDIF('Begroting P'!$D68,Startdatum,"D")>0,IF((('Begroting P'!$F68-((DATEDIF($D68,Startdatum,"M")/12)))*($E68/$F68))<0,"Dit is afgeschreven!",(('Begroting P'!$F68-((DATEDIF($D68,Startdatum,"M")/12)))*($E68/$F68))),($E68/$F68))),0) -> Na startdatum aangekocht
G69: =IFERROR(E69/F69,0) -> 0 | I69: =IFERROR(G69/H69,0) -> 0 | M69: =+H69*J69 -> 0 | N69: =+H69*K69 -> 0 | O69: =I69*L69 -> 0 | U69: =IFERROR(IF(D69>=Deelnemersoverzicht!$B$9,"Na startdatum aangekocht", IF(DATEDIF('Begroting P'!$D69,Startdatum,"D")>0,IF((('Begroting P'!$F69-((DATEDIF($D69,Startdatum,"M")/12)))*($E69/$F69))<0,"Dit is afgeschreven!",(('Begroting P'!$F69-((DATEDIF($D69,Startdatum,"M")/12)))*($E69/$F69))),($E69/$F69))),0) -> Na startdatum aangekocht
G70: =IFERROR(E70/F70,0) -> 0 | I70: =IFERROR(G70/H70,0) -> 0 | M70: =+H70*J70 -> 0 | N70: =+H70*K70 -> 0 | O70: =I70*L70 -> 0 | U70: =IFERROR(IF(D70>=Deelnemersoverzicht!$B$9,"Na startdatum aangekocht", IF(DATEDIF('Begroting P'!$D70,Startdatum,"D")>0,IF((('Begroting P'!$F70-((DATEDIF($D70,Startdatum,"M")/12)))*($E70/$F70))<0,"Dit is afgeschreven!",(('Begroting P'!$F70-((DATEDIF($D70,Startdatum,"M")/12)))*($E70/$F70))),($E70/$F70))),0) -> Na startdatum aangekocht
G71: =IFERROR(E71/F71,0) -> 0 | I71: =IFERROR(G71/H71,0) -> 0 | M71: =+H71*J71 -> 0 | N71: =+H71*K71 -> 0 | O71: =I71*L71 -> 0 | U71: =IFERROR(IF(D71>=Deelnemersoverzicht!$B$9,"Na startdatum aangekocht", IF(DATEDIF('Begroting P'!$D71,Startdatum,"D")>0,IF((('Begroting P'!$F71-((DATEDIF($D71,Startdatum,"M")/12)))*($E71/$F71))<0,"Dit is afgeschreven!",(('Begroting P'!$F71-((DATEDIF($D71,Startdatum,"M")/12)))*($E71/$F71))),($E71/$F71))),0) -> Na startdatum aangekocht
G72: =IFERROR(E72/F72,0) -> 0 | I72: =IFERROR(G72/H72,0) -> 0 | M72: =+H72*J72 -> 0 | N72: =+H72*K72 -> 0 | O72: =I72*L72 -> 0 | U72: =IFERROR(IF(D72>=Deelnemersoverzicht!$B$9,"Na startdatum aangekocht", IF(DATEDIF('Begroting P'!$D72,Startdatum,"D")>0,IF((('Begroting P'!$F72-((DATEDIF($D72,Startdatum,"M")/12)))*($E72/$F72))<0,"Dit is afgeschreven!",(('Begroting P'!$F72-((DATEDIF($D72,Startdatum,"M")/12)))*($E72/$F72))),($E72/$F72))),0) -> Na startdatum aangekocht
G73: =IFERROR(E73/F73,0) -> 0 | I73: =IFERROR(G73/H73,0) -> 0 | M73: =+H73*J73 -> 0 | N73: =+H73*K73 -> 0 | O73: =I73*L73 -> 0 | U73: =IFERROR(IF(D73>=Deelnemersoverzicht!$B$9,"Na startdatum aangekocht", IF(DATEDIF('Begroting P'!$D73,Startdatum,"D")>0,IF((('Begroting P'!$F73-((DATEDIF($D73,Startdatum,"M")/12)))*($E73/$F73))<0,"Dit is afgeschreven!",(('Begroting P'!$F73-((DATEDIF($D73,Startdatum,"M")/12)))*($E73/$F73))),($E73/$F73))),0) -> Na startdatum aangekocht
... G83: =IFERROR(E83/F83,0) -> 0 | I83: =IFERROR(G83/H83,0) -> 0 | M83: =+H83*J83 -> 0 | N83: =+H83*K83 -> 0 | O83: =I83*L83 -> 0 | U83: =IFERROR(IF(D83>=Deelnemersoverzicht!$B$9,"Na startdatum aangekocht", IF(DATEDIF('Begroting P'!$D83,Startdatum,"D")>0,IF((('Begroting P'!$F83-((DATEDIF($D83,Startdatum,"M")/12)))*($E83/$F83))<0,"Dit is afgeschreven!",(('Begroting P'!$F83-((DATEDIF($D83,Startdatum,"M")/12)))*($E83/$F83))),($E83/$F83))),0) -> Na startdatum aangekocht
H84: Totale kosten aangeschafte machines en apparatuur | M84: =SUM(M62:M83) -> 0 | N84: =SUM(N62:N83) -> 0 | O84: =SUM(O62:O83) -> 0
B86: A3. | C86: Aan derden verschuldigde kosten
B87: A3. a: Apparatuur uitsluitend voor het project aangeschaft
D88: =IF(COUNTA(D90:D107)<COUNTA(E90:E107),"Let op! Vul ook de aanschafdatum in!","") | J88: Subsidiabele kosten per onderzoekstype | M88: Kosten €
B89: Werkpakket | C89: Omschrijving kosten | D89: Aanschafdatum, binnen de projectperiode | E89: Aanschafwaarde | F89: Afschrijving in jaren (minimaal 5 jaar) | H89: Restwaarde | I89: Subsidiabele kosten totaal | J89: =+J19 -> Industrieel onderzoek | K89: =+K19 -> Experimentele ontwikkeling | L89: Niet-econ. Activiteiten | M89: =+J19 -> Industrieel onderzoek | N89: =+K19 -> Experimentele ontwikkeling | O89: Niet-econ. activiteiten | U89: Restwaarde afschrijvingen
H90: =IFERROR(E90-I90,0) -> 0 | I90: =IFERROR((E90/F90)*(Deelnemersoverzicht!$B$10-(DATEDIF(Startdatum,D90,"D")/365)),0) -> 0 | M90: =+H90*J90 -> 0 | N90: =+H90*K90 -> 0 | O90: =I90*L90 -> 0 | U90: =IFERROR(IF(D90>=Deelnemersoverzicht!$B$9,"Na startdatum aangekocht", IF(DATEDIF('Begroting P'!$D90,Startdatum,"D")>0,IF((('Begroting P'!$F90-((DATEDIF($D90,Startdatum,"M")/12)))*($E90/$F90))<0,0,(('Begroting P'!$F90-((DATEDIF($D90,Startdatum,"M")/12)))*($E90/$F90))),($E90/$F90))),0) -> Na startdatum aangekocht
H91: =IFERROR(E91-I91,0) -> 0 | I91: =IFERROR((E91/F91)*(Deelnemersoverzicht!$B$10-(DATEDIF(Startdatum,D91,"D")/365)),0) -> 0 | M91: =+H91*J91 -> 0 | N91: =+H91*K91 -> 0 | O91: =I91*L91 -> 0 | U91: =IFERROR(IF(D91>=Deelnemersoverzicht!$B$9,"Na startdatum aangekocht", IF(DATEDIF('Begroting P'!$D91,Startdatum,"D")>0,IF((('Begroting P'!$F91-((DATEDIF($D91,Startdatum,"M")/12)))*($E91/$F91))<0,0,(('Begroting P'!$F91-((DATEDIF($D91,Startdatum,"M")/12)))*($E91/$F91))),($E91/$F91))),0) -> Na startdatum aangekocht
H92: =IFERROR(E92-I92,0) -> 0 | I92: =IFERROR((E92/F92)*(Deelnemersoverzicht!$B$10-(DATEDIF(Startdatum,D92,"D")/365)),0) -> 0 | M92: =+H92*J92 -> 0 | N92: =+H92*K92 -> 0 | O92: =I92*L92 -> 0 | U92: =IFERROR(IF(D92>=Deelnemersoverzicht!$B$9,"Na startdatum aangekocht", IF(DATEDIF('Begroting P'!$D92,Startdatum,"D")>0,IF((('Begroting P'!$F92-((DATEDIF($D92,Startdatum,"M")/12)))*($E92/$F92))<0,0,(('Begroting P'!$F92-((DATEDIF($D92,Startdatum,"M")/12)))*($E92/$F92))),($E92/$F92))),0) -> Na startdatum aangekocht
H93: =IFERROR(E93-I93,0) -> 0 | I93: =IFERROR((E93/F93)*(Deelnemersoverzicht!$B$10-(DATEDIF(Startdatum,D93,"D")/365)),0) -> 0 | M93: =+H93*J93 -> 0 | N93: =+H93*K93 -> 0 | O93: =I93*L93 -> 0 | U93: =IFERROR(IF(D93>=Deelnemersoverzicht!$B$9,"Na startdatum aangekocht", IF(DATEDIF('Begroting P'!$D93,Startdatum,"D")>0,IF((('Begroting P'!$F93-((DATEDIF($D93,Startdatum,"M")/12)))*($E93/$F93))<0,0,(('Begroting P'!$F93-((DATEDIF($D93,Startdatum,"M")/12)))*($E93/$F93))),($E93/$F93))),0) -> Na startdatum aangekocht
H94: =IFERROR(E94-I94,0) -> 0 | I94: =IFERROR((E94/F94)*(Deelnemersoverzicht!$B$10-(DATEDIF(Startdatum,D94,"D")/365)),0) -> 0 | M94: =+H94*J94 -> 0 | N94: =+H94*K94 -> 0 | O94: =I94*L94 -> 0 | U94: =IFERROR(IF(D94>=Deelnemersoverzicht!$B$9,"Na startdatum aangekocht", IF(DATEDIF('Begroting P'!$D94,Startdatum,"D")>0,IF((('Begroting P'!$F94-((DATEDIF($D94,Startdatum,"M")/12)))*($E94/$F94))<0,0,(('Begroting P'!$F94-((DATEDIF($D94,Startdatum,"M")/12)))*($E94/$F94))),($E94/$F94))),0) -> Na startdatum aangekocht
H95: =IFERROR(E95-I95,0) -> 0 | I95: =IFERROR((E95/F95)*(Deelnemersoverzicht!$B$10-(DATEDIF(Startdatum,D95,"D")/365)),0) -> 0 | M95: =+H95*J95 -> 0 | N95: =+H95*K95 -> 0 | O95: =I95*L95 -> 0 | U95: =IFERROR(IF(D95>=Deelnemersoverzicht!$B$9,"Na startdatum aangekocht", IF(DATEDIF('Begroting P'!$D95,Startdatum,"D")>0,IF((('Begroting P'!$F95-((DATEDIF($D95,Startdatum,"M")/12)))*($E95/$F95))<0,0,(('Begroting P'!$F95-((DATEDIF($D95,Startdatum,"M")/12)))*($E95/$F95))),($E95/$F95))),0) -> Na startdatum aangekocht
H96: =IFERROR(E96-I96,0) -> 0 | I96: =IFERROR((E96/F96)*(Deelnemersoverzicht!$B$10-(DATEDIF(Startdatum,D96,"D")/365)),0) -> 0 | M96: =+H96*J96 -> 0 | N96: =+H96*K96 -> 0 | O96: =I96*L96 -> 0 | U96: =IFERROR(IF(D96>=Deelnemersoverzicht!$B$9,"Na startdatum aangekocht", IF(DATEDIF('Begroting P'!$D96,Startdatum,"D")>0,IF((('Begroting P'!$F96-((DATEDIF($D96,Startdatum,"M")/12)))*($E96/$F96))<0,0,(('Begroting P'!$F96-((DATEDIF($D96,Startdatum,"M")/12)))*($E96/$F96))),($E96/$F96))),0) -> Na startdatum aangekocht
H97: =IFERROR(E97-I97,0) -> 0 | I97: =IFERROR((E97/F97)*(Deelnemersoverzicht!$B$10-(DATEDIF(Startdatum,D97,"D")/365)),0) -> 0 | M97: =+H97*J97 -> 0 | N97: =+H97*K97 -> 0 | O97: =I97*L97 -> 0 | U97: =IFERROR(IF(D97>=Deelnemersoverzicht!$B$9,"Na startdatum aangekocht", IF(DATEDIF('Begroting P'!$D97,Startdatum,"D")>0,IF((('Begroting P'!$F97-((DATEDIF($D97,Startdatum,"M")/12)))*($E97/$F97))<0,0,(('Begroting P'!$F97-((DATEDIF($D97,Startdatum,"M")/12)))*($E97/$F97))),($E97/$F97))),0) -> Na startdatum aangekocht
H98: =IFERROR(E98-I98,0) -> 0 | I98: =IFERROR((E98/F98)*(Deelnemersoverzicht!$B$10-(DATEDIF(Startdatum,D98,"D")/365)),0) -> 0 | M98: =+H98*J98 -> 0 | N98: =+H98*K98 -> 0 | O98: =I98*L98 -> 0 | U98: =IFERROR(IF(D98>=Deelnemersoverzicht!$B$9,"Na startdatum aangekocht", IF(DATEDIF('Begroting P'!$D98,Startdatum,"D")>0,IF((('Begroting P'!$F98-((DATEDIF($D98,Startdatum,"M")/12)))*($E98/$F98))<0,0,(('Begroting P'!$F98-((DATEDIF($D98,Startdatum,"M")/12)))*($E98/$F98))),($E98/$F98))),0) -> Na startdatum aangekocht
H99: =IFERROR(E99-I99,0) -> 0 | I99: =IFERROR((E99/F99)*(Deelnemersoverzicht!$B$10-(DATEDIF(Startdatum,D99,"D")/365)),0) -> 0 | M99: =+H99*J99 -> 0 | N99: =+H99*K99 -> 0 | O99: =I99*L99 -> 0 | U99: =IFERROR(IF(D99>=Deelnemersoverzicht!$B$9,"Na startdatum aangekocht", IF(DATEDIF('Begroting P'!$D99,Startdatum,"D")>0,IF((('Begroting P'!$F99-((DATEDIF($D99,Startdatum,"M")/12)))*($E99/$F99))<0,0,(('Begroting P'!$F99-((DATEDIF($D99,Startdatum,"M")/12)))*($E99/$F99))),($E99/$F99))),0) -> Na startdatum aangekocht
H100: =IFERROR(E100-I100,0) -> 0 | I100: =IFERROR((E100/F100)*(Deelnemersoverzicht!$B$10-(DATEDIF(Startdatum,D100,"D")/365)),0) -> 0 | M100: =+H100*J100 -> 0 | N100: =+H100*K100 -> 0 | O100: =I100*L100 -> 0 | U100: =IFERROR(IF(D100>=Deelnemersoverzicht!$B$9,"Na startdatum aangekocht", IF(DATEDIF('Begroting P'!$D100,Startdatum,"D")>0,IF((('Begroting P'!$F100-((DATEDIF($D100,Startdatum,"M")/12)))*($E100/$F100))<0,0,(('Begroting P'!$F100-((DATEDIF($D100,Startdatum,"M")/12)))*($E100/$F100))),($E100/$F100))),0) -> Na startdatum aangekocht
H101: =IFERROR(E101-I101,0) -> 0 | I101: =IFERROR((E101/F101)*(Deelnemersoverzicht!$B$10-(DATEDIF(Startdatum,D101,"D")/365)),0) -> 0 | M101: =+H101*J101 -> 0 | N101: =+H101*K101 -> 0 | O101: =I101*L101 -> 0 | U101: =IFERROR(IF(D101>=Deelnemersoverzicht!$B$9,"Na startdatum aangekocht", IF(DATEDIF('Begroting P'!$D101,Startdatum,"D")>0,IF((('Begroting P'!$F101-((DATEDIF($D101,Startdatum,"M")/12)))*($E101/$F101))<0,0,(('Begroting P'!$F101-((DATEDIF($D101,Startdatum,"M")/12)))*($E101/$F101))),($E101/$F101))),0) -> Na startdatum aangekocht
... H107: =IFERROR(E107-I107,0) -> 0 | I107: =IFERROR((E107/F107)*(Deelnemersoverzicht!$B$10-(DATEDIF(Startdatum,D107,"D")/365)),0) -> 0 | M107: =+H107*J107 -> 0 | N107: =+H107*K107 -> 0 | O107: =I107*L107 -> 0 | U107: =IFERROR(IF(D107>=Deelnemersoverzicht!$B$9,"Na startdatum aangekocht", IF(DATEDIF('Begroting P'!$D107,Startdatum,"D")>0,IF((('Begroting P'!$F107-((DATEDIF($D107,Startdatum,"M")/12)))*($E107/$F107))<0,0,(('Begroting P'!$F107-((DATEDIF($D107,Startdatum,"M")/12)))*($E107/$F107))),($E107/$F107))),0) -> Na startdatum aangekocht
M108: =SUM(M90:M107) -> 0 | N108: =SUM(N90:N107) -> 0 | O108: =SUM(O90:O107) -> 0
B110: A3. b: Verbruikte materialen en hulpmiddelen | J110: Verbruik (aantal eenheden) | M110: Kosten €
B111: Werkpakket | C111: Omschrijving kosten | I111: Prijs per eenheid | J111: =+J19 -> Industrieel onderzoek | K111: =+K19 -> Experimentele ontwikkeling | L111: Niet-econ. Activiteiten | M111: =+J19 -> Industrieel onderzoek | N111: =+K19 -> Experimentele ontwikkeling | O111: Niet-econ. activiteiten
M112: =$I112*J112 -> 0 | N112: =$I112*K112 -> 0 | O112: =$I112*L112 -> 0
M113: =$I113*J113 -> 0 | N113: =$I113*K113 -> 0 | O113: =$I113*L113 -> 0
M114: =$I114*J114 -> 0 | N114: =$I114*K114 -> 0 | O114: =$I114*L114 -> 0
M115: =$I115*J115 -> 0 | N115: =$I115*K115 -> 0 | O115: =$I115*L115 -> 0
M116: =$I116*J116 -> 0 | N116: =$I116*K116 -> 0 | O116: =$I116*L116 -> 0
M117: =$I117*J117 -> 0 | N117: =$I117*K117 -> 0 | O117: =$I117*L117 -> 0
M118: =$I118*J118 -> 0 | N118: =$I118*K118 -> 0 | O118: =$I118*L118 -> 0
M119: =$I119*J119 -> 0 | N119: =$I119*K119 -> 0 | O119: =$I119*L119 -> 0
M120: =$I120*J120 -> 0 | N120: =$I120*K120 -> 0 | O120: =$I120*L120 -> 0
M121: =$I121*J121 -> 0 | N121: =$I121*K121 -> 0 | O121: =$I121*L121 -> 0
M122: =$I122*J122 -> 0 | N122: =$I122*K122 -> 0 | O122: =$I122*L122 -> 0
M123: =$I123*J123 -> 0 | N123: =$I123*K123 -> 0 | O123: =$I123*L123 -> 0
... M129: =$I129*J129 -> 0 | N129: =$I129*K129 -> 0 | O129: =$I129*L129 -> 0
M130: =SUM(M112:M129) -> 0 | N130: =SUM(N112:N129) -> 0 | O130: =SUM(O112:O129) -> 0
B132: A3. c: Overige aan derden verschuldigde kosten | M132: Kosten €
B133: Werkpakket | C133: Handelsnaam derde | E133: Omschrijving kosten | M133: =+J19 -> Industrieel onderzoek | N133: =+K19 -> Experimentele ontwikkeling | O133: Niet-econ. activiteiten
M152: =SUM(M134:M151) -> 0 | N152: =SUM(N134:N151) -> 0 | O152: =SUM(O134:O151) -> 0
I154: Totaal aan derden verschuldigde kosten | M154: =+M108+M130+M152 -> 0 | N154: =+N108+N130+N152 -> 0 | O154: =O108+O130+O152 -> 0
B156: ONDERDEEL B
B157: Overzicht subsidie deelnemer:
B159: Omschrijving | L159: =+J19 -> Industrieel onderzoek | M159: =+K19 -> Experimentele ontwikkeling | N159: Niet-econ. activiteiten | O159: Totaal
B160: A1. | C160: Loonkosten | L160: =M56 -> 0 | M160: =N56 -> 0 | N160: =O56 -> 0 | O160: =SUM(L160:N160) -> 0
B161: A2. | C161: Machines en apparaten die niet uitsluitend voor het project worden gebruikt | L161: =M84 -> 0 | M161: =N84 -> 0 | N161: =O84 -> 0 | O161: =SUM(L161:N161) -> 0
B162: A3. | C162: Aan derden verschuldigde kosten | L162: =M154 -> 0 | M162: =N154 -> 0 | N162: =O154 -> 0 | O162: =SUM(L162:N162) -> 0
B164: A4. | C164: Totaal onderdeel B | L164: =SUM(L160:L162) -> 0 | M164: =SUM(M160:M162) -> 0 | N164: =SUM(N160:N162) -> 0 | O164: =SUM(O160:O162) -> 0
B166: Maximale subsidiepercentage | L166: =+Deelnemersoverzicht!E24 -> #N/A | M166: =+Deelnemersoverzicht!F24 -> #N/A | N166: =+Deelnemersoverzicht!G24 -> 0
B167: Maximale subsidie | L167: =L164*L166 -> #N/A | M167: =M164*M166 -> #N/A | N167: =N164*N166 -> 0
B168: Reeds ontvangen subsidies voor de subsidiabele kosten
B169: Maximale subsidie | O169: =SUM(L167:N167)-O168 -> #N/A
B170: Gevraagde subsidie | J170: =IF(O170<1,"Let op: Vergeet niet de door u gevraagde subsidie in te vullen! →",IF((O170-O169)>1,"LET OP: U vraagt meer dan de maximale berekende subsidie aan!",IF(O170>500000,"LET OP: De maximale subsidie voor deze regeling betreft €500.000 per project!",""))) -> Let op: Vergeet niet de door u gevraagde subsidie in te vullen! → | L170: =IF(L167>0,O170/(O169+O168)*L167,0) -> #N/A | M170: =IF(M167>0,O170/(O169+O168)*M167,0) -> #N/A | N170: =IF(N167>0,O170/(O169+O168)*N167,0) -> 0
B172: ONDERDEEL C
B173: Financiering van het project:
B175: C1. | C175: Totale projectkosten | O175: =O164 -> 0
B176: C2. | C176: Reeds ontvangen subsidies voor de subsidiabele kosten | O176: =O168 -> 0
B177: C3. | C177: Gevraagde subsidie (B) | O177: =O170 -> 0
...

Sheet Begroting D6
C1: Model begroting | H1: =IF(Deelnemersoverzicht!B5="(Dit veld wordt ingevuld door RVO)","",Deelnemersoverzicht!B5) -> Dit veld wordt door RVO ingevuld | U1: KOLOM VERBERGEN!!
C2: NBS Living Labs 2026
C4: Gegevens per deelnemer:
C6: =Deelnemersoverzicht!A25 -> Deelnemer 6 (D6) | F6: =Deelnemersoverzicht!B25 -> 0
C7: Titel project | F7: =Deelnemersoverzicht!B6 -> 0
C8: BTW | F8: <maak een keuze>
C9: Gebruikte loonsystematiek | F9: <maak een keuze>
F10: =IF(F9="Integrale kostensystematiek","Let op! U dient in de begroting de IKS-tarieven zo te specificeren dat deze te controleren zijn op basis van de door u aangeleverde","")
F11: =IF(F9="Integrale kostensystematiek","IKS tarieven aan RVO. Bijvoorbeeld: divisie R&D, loonschaal 10. Vul dit in bij toelichting IKS.","")
B13: ONDERDEEL A
B14: Overzicht kosten
B16: A1. | C16: Loonkosten
G18: =IF(AND($F$9="Integrale kostensystematiek",COUNTA(C20:D55)>COUNTA(G20:G55)),"Let op! U dient de Toelichting IKS in te vullen","") | J18: Aantal uren | M18: Kosten €
B19: Werkpakket | C19: Functie | E19: Rol in het project | G19: Toelichting IKS bijv. divisie R&D, schaal 11 | H19: Uurtarief | J19: =IF(Deelnemersoverzicht!$C$25=Lijsten!$A$23,"",Lijsten!$D$3) -> Industrieel onderzoek | K19: =IF(Deelnemersoverzicht!$C$25=Lijsten!$A$23,"",Lijsten!$D$4) -> Experimentele ontwikkeling | L19: Niet-econ. activiteiten | M19: =IF(Deelnemersoverzicht!$C$25=Lijsten!$A$23,"",Lijsten!$D$3) -> Industrieel onderzoek | N19: =IF(Deelnemersoverzicht!$C$25=Lijsten!$A$23,"",Lijsten!$D$4) -> Experimentele ontwikkeling | O19: Niet-econ. activiteiten
M20: =+H20*J20 -> 0 | N20: =+H20*K20 -> 0 | O20: =H20*L20 -> 0
M21: =+H21*J21 -> 0 | N21: =+H21*K21 -> 0 | O21: =H21*L21 -> 0
M22: =+H22*J22 -> 0 | N22: =+H22*K22 -> 0 | O22: =H22*L22 -> 0
M23: =+H23*J23 -> 0 | N23: =+H23*K23 -> 0 | O23: =H23*L23 -> 0
M24: =+H24*J24 -> 0 | N24: =+H24*K24 -> 0 | O24: =H24*L24 -> 0
M25: =+H25*J25 -> 0 | N25: =+H25*K25 -> 0 | O25: =H25*L25 -> 0
M26: =+H26*J26 -> 0 | N26: =+H26*K26 -> 0 | O26: =H26*L26 -> 0
M27: =+H27*J27 -> 0 | N27: =+H27*K27 -> 0 | O27: =H27*L27 -> 0
M28: =+H28*J28 -> 0 | N28: =+H28*K28 -> 0 | O28: =H28*L28 -> 0
M29: =+H29*J29 -> 0 | N29: =+H29*K29 -> 0 | O29: =H29*L29 -> 0
M30: =+H30*J30 -> 0 | N30: =+H30*K30 -> 0 | O30: =H30*L30 -> 0
M31: =+H31*J31 -> 0 | N31: =+H31*K31 -> 0 | O31: =H31*L31 -> 0
... M55: =+H55*J55 -> 0 | N55: =+H55*K55 -> 0 | O55: =H55*L55 -> 0
I56: Totale loonkosten | M56: =SUM(M20:M55) -> 0 | N56: =SUM(N20:N55) -> 0 | O56: =SUM(O20:O55) -> 0
B58: A2. | C58: Machines en apparaten die niet uitsluitend voor het project worden gebruikt
D60: =IF(COUNTA(D62:D83)<COUNTA(E62:E83),"Let op! Vul ook de aanschafdatum in!","") | J60: Aantal uur in gebruik t.b.v. project | M60: Kosten €
B61: Werkpakket | C61: Omschrijving kosten | D61: Aanschafdatum | E61: Aanschafwaarde | F61: Afschrijving in jaren (minimaal 5 jaar) | G61: Fiscale afschrijving per jaar | H61: Totaal uren bij normale bezetting per jaar | I61: Afschrijving per uur | J61: =+J19 -> Industrieel onderzoek | K61: =+K19 -> Experimentele ontwikkeling | L61: Niet-econ. Activiteiten | M61: =+J19 -> Industrieel onderzoek | N61: =+K19 -> Experimentele ontwikkeling | O61: Niet-econ. activiteiten | U61: Restwaarde afschrijvingen
G62: =IFERROR(E62/F62,0) -> 0 | I62: =IFERROR(G62/H62,0) -> 0 | M62: =+H62*J62 -> 0 | N62: =+H62*K62 -> 0 | O62: =I62*L62 -> 0 | U62: =IFERROR(IF(D62>=Deelnemersoverzicht!$B$9,"Na startdatum aangekocht", IF(DATEDIF('Begroting P'!$D62,Startdatum,"D")>0,IF((('Begroting P'!$F62-((DATEDIF($D62,Startdatum,"M")/12)))*($E62/$F62))<0,"Dit is afgeschreven!",(('Begroting P'!$F62-((DATEDIF($D62,Startdatum,"M")/12)))*($E62/$F62))),($E62/$F62))),0) -> Na startdatum aangekocht
G63: =IFERROR(E63/F63,0) -> 0 | I63: =IFERROR(G63/H63,0) -> 0 | M63: =+H63*J63 -> 0 | N63: =+H63*K63 -> 0 | O63: =I63*L63 -> 0 | U63: =IFERROR(IF(D63>=Deelnemersoverzicht!$B$9,"Na startdatum aangekocht", IF(DATEDIF('Begroting P'!$D63,Startdatum,"D")>0,IF((('Begroting P'!$F63-((DATEDIF($D63,Startdatum,"M")/12)))*($E63/$F63))<0,"Dit is afgeschreven!",(('Begroting P'!$F63-((DATEDIF($D63,Startdatum,"M")/12)))*($E63/$F63))),($E63/$F63))),0) -> Na startdatum aangekocht
G64: =IFERROR(E64/F64,0) -> 0 | I64: =IFERROR(G64/H64,0) -> 0 | M64: =+H64*J64 -> 0 | N64: =+H64*K64 -> 0 | O64: =I64*L64 -> 0 | U64: =IFERROR(IF(D64>=Deelnemersoverzicht!$B$9,"Na startdatum aangekocht", IF(DATEDIF('Begroting P'!$D64,Startdatum,"D")>0,IF((('Begroting P'!$F64-((DATEDIF($D64,Startdatum,"M")/12)))*($E64/$F64))<0,"Dit is afgeschreven!",(('Begroting P'!$F64-((DATEDIF($D64,Startdatum,"M")/12)))*($E64/$F64))),($E64/$F64))),0) -> Na startdatum aangekocht
G65: =IFERROR(E65/F65,0) -> 0 | I65: =IFERROR(G65/H65,0) -> 0 | M65: =+H65*J65 -> 0 | N65: =+H65*K65 -> 0 | O65: =I65*L65 -> 0 | U65: =IFERROR(IF(D65>=Deelnemersoverzicht!$B$9,"Na startdatum aangekocht", IF(DATEDIF('Begroting P'!$D65,Startdatum,"D")>0,IF((('Begroting P'!$F65-((DATEDIF($D65,Startdatum,"M")/12)))*($E65/$F65))<0,"Dit is afgeschreven!",(('Begroting P'!$F65-((DATEDIF($D65,Startdatum,"M")/12)))*($E65/$F65))),($E65/$F65))),0) -> Na startdatum aangekocht
G66: =IFERROR(E66/F66,0) -> 0 | I66: =IFERROR(G66/H66,0) -> 0 | M66: =+H66*J66 -> 0 | N66: =+H66*K66 -> 0 | O66: =I66*L66 -> 0 | U66: =IFERROR(IF(D66>=Deelnemersoverzicht!$B$9,"Na startdatum aangekocht", IF(DATEDIF('Begroting P'!$D66,Startdatum,"D")>0,IF((('Begroting P'!$F66-((DATEDIF($D66,Startdatum,"M")/12)))*($E66/$F66))<0,"Dit is afgeschreven!",(('Begroting P'!$F66-((DATEDIF($D66,Startdatum,"M")/12)))*($E66/$F66))),($E66/$F66))),0) -> Na startdatum aangekocht
G67: =IFERROR(E67/F67,0) -> 0 | I67: =IFERROR(G67/H67,0) -> 0 | M67: =+H67*J67 -> 0 | N67: =+H67*K67 -> 0 | O67: =I67*L67 -> 0 | U67: =IFERROR(IF(D67>=Deelnemersoverzicht!$B$9,"Na startdatum aangekocht", IF(DATEDIF('Begroting P'!$D67,Startdatum,"D")>0,IF((('Begroting P'!$F67-((DATEDIF($D67,Startdatum,"M")/12)))*($E67/$F67))<0,"Dit is afgeschreven!",(('Begroting P'!$F67-((DATEDIF($D67,Startdatum,"M")/12)))*($E67/$F67))),($E67/$F67))),0) -> Na startdatum aangekocht
G68: =IFERROR(E68/F68,0) -> 0 | I68: =IFERROR(G68/H68,0) -> 0 | M68: =+H68*J68 -> 0 | N68: =+H68*K68 -> 0 | O68: =I68*L68 -> 0 | U68: =IFERROR(IF(D68>=Deelnemersoverzicht!$B$9,"Na startdatum aangekocht", IF(DATEDIF('Begroting P'!$D68,Startdatum,"D")>0,IF((('Begroting P'!$F68-((DATEDIF($D68,Startdatum,"M")/12)))*($E68/$F68))<0,"Dit is afgeschreven!",(('Begroting P'!$F68-((DATEDIF($D68,Startdatum,"M")/12)))*($E68/$F68))),($E68/$F68))),0) -> Na startdatum aangekocht
G69: =IFERROR(E69/F69,0) -> 0 | I69: =IFERROR(G69/H69,0) -> 0 | M69: =+H69*J69 -> 0 | N69: =+H69*K69 -> 0 | O69: =I69*L69 -> 0 | U69: =IFERROR(IF(D69>=Deelnemersoverzicht!$B$9,"Na startdatum aangekocht", IF(DATEDIF('Begroting P'!$D69,Startdatum,"D")>0,IF((('Begroting P'!$F69-((DATEDIF($D69,Startdatum,"M")/12)))*($E69/$F69))<0,"Dit is afgeschreven!",(('Begroting P'!$F69-((DATEDIF($D69,Startdatum,"M")/12)))*($E69/$F69))),($E69/$F69))),0) -> Na startdatum aangekocht
G70: =IFERROR(E70/F70,0) -> 0 | I70: =IFERROR(G70/H70,0) -> 0 | M70: =+H70*J70 -> 0 | N70: =+H70*K70 -> 0 | O70: =I70*L70 -> 0 | U70: =IFERROR(IF(D70>=Deelnemersoverzicht!$B$9,"Na startdatum aangekocht", IF(DATEDIF('Begroting P'!$D70,Startdatum,"D")>0,IF((('Begroting P'!$F70-((DATEDIF($D70,Startdatum,"M")/12)))*($E70/$F70))<0,"Dit is afgeschreven!",(('Begroting P'!$F70-((DATEDIF($D70,Startdatum,"M")/12)))*($E70/$F70))),($E70/$F70))),0) -> Na startdatum aangekocht
G71: =IFERROR(E71/F71,0) -> 0 | I71: =IFERROR(G71/H71,0) -> 0 | M71: =+H71*J71 -> 0 | N71: =+H71*K71 -> 0 | O71: =I71*L71 -> 0 | U71: =IFERROR(IF(D71>=Deelnemersoverzicht!$B$9,"Na startdatum aangekocht", IF(DATEDIF('Begroting P'!$D71,Startdatum,"D")>0,IF((('Begroting P'!$F71-((DATEDIF($D71,Startdatum,"M")/12)))*($E71/$F71))<0,"Dit is afgeschreven!",(('Begroting P'!$F71-((DATEDIF($D71,Startdatum,"M")/12)))*($E71/$F71))),($E71/$F71))),0) -> Na startdatum aangekocht
G72: =IFERROR(E72/F72,0) -> 0 | I72: =IFERROR(G72/H72,0) -> 0 | M72: =+H72*J72 -> 0 | N72: =+H72*K72 -> 0 | O72: =I72*L72 -> 0 | U72: =IFERROR(IF(D72>=Deelnemersoverzicht!$B$9,"Na startdatum aangekocht", IF(DATEDIF('Begroting P'!$D72,Startdatum,"D")>0,IF((('Begroting P'!$F72-((DATEDIF($D72,Startdatum,"M")/12)))*($E72/$F72))<0,"Dit is afgeschreven!",(('Begroting P'!$F72-((DATEDIF($D72,Startdatum,"M")/12)))*($E72/$F72))),($E72/$F72))),0) -> Na startdatum aangekocht
G73: =IFERROR(E73/F73,0) -> 0 | I73: =IFERROR(G73/H73,0) -> 0 | M73: =+H73*J73 -> 0 | N73: =+H73*K73 -> 0 | O73: =I73*L73 -> 0 | U73: =IFERROR(IF(D73>=Deelnemersoverzicht!$B$9,"Na startdatum aangekocht", IF(DATEDIF('Begroting P'!$D73,Startdatum,"D")>0,IF((('Begroting P'!$F73-((DATEDIF($D73,Startdatum,"M")/12)))*($E73/$F73))<0,"Dit is afgeschreven!",(('Begroting P'!$F73-((DATEDIF($D73,Startdatum,"M")/12)))*($E73/$F73))),($E73/$F73))),0) -> Na startdatum aangekocht
... G83: =IFERROR(E83/F83,0) -> 0 | I83: =IFERROR(G83/H83,0) -> 0 | M83: =+H83*J83 -> 0 | N83: =+H83*K83 -> 0 | O83: =I83*L83 -> 0 | U83: =IFERROR(IF(D83>=Deelnemersoverzicht!$B$9,"Na startdatum aangekocht", IF(DATEDIF('Begroting P'!$D83,Startdatum,"D")>0,IF((('Begroting P'!$F83-((DATEDIF($D83,Startdatum,"M")/12)))*($E83/$F83))<0,"Dit is afgeschreven!",(('Begroting P'!$F83-((DATEDIF($D83,Startdatum,"M")/12)))*($E83/$F83))),($E83/$F83))),0) -> Na startdatum aangekocht
H84: Totale kosten aangeschafte machines en apparatuur | M84: =SUM(M62:M83) -> 0 | N84: =SUM(N62:N83) -> 0 | O84: =SUM(O62:O83) -> 0
B86: A3. | C86: Aan derden verschuldigde kosten
B87: A3. a: Apparatuur uitsluitend voor het project aangeschaft
D88: =IF(COUNTA(D90:D107)<COUNTA(E90:E107),"Let op! Vul ook de aanschafdatum in!","") | J88: Subsidiabele kosten per onderzoekstype | M88: Kosten €
B89: Werkpakket | C89: Omschrijving kosten | D89: Aanschafdatum, binnen de projectperiode | E89: Aanschafwaarde | F89: Afschrijving in jaren (minimaal 5 jaar) | H89: Restwaarde | I89: Subsidiabele kosten totaal | J89: =+J19 -> Industrieel onderzoek | K89: =+K19 -> Experimentele ontwikkeling | L89: Niet-econ. Activiteiten | M89: =+J19 -> Industrieel onderzoek | N89: =+K19 -> Experimentele ontwikkeling | O89: Niet-econ. activiteiten | U89: Restwaarde afschrijvingen
H90: =IFERROR(E90-I90,0) -> 0 | I90: =IFERROR((E90/F90)*(Deelnemersoverzicht!$B$10-(DATEDIF(Startdatum,D90,"D")/365)),0) -> 0 | M90: =+H90*J90 -> 0 | N90: =+H90*K90 -> 0 | O90: =I90*L90 -> 0 | U90: =IFERROR(IF(D90>=Deelnemersoverzicht!$B$9,"Na startdatum aangekocht", IF(DATEDIF('Begroting P'!$D90,Startdatum,"D")>0,IF((('Begroting P'!$F90-((DATEDIF($D90,Startdatum,"M")/12)))*($E90/$F90))<0,0,(('Begroting P'!$F90-((DATEDIF($D90,Startdatum,"M")/12)))*($E90/$F90))),($E90/$F90))),0) -> Na startdatum aangekocht
H91: =IFERROR(E91-I91,0) -> 0 | I91: =IFERROR((E91/F91)*(Deelnemersoverzicht!$B$10-(DATEDIF(Startdatum,D91,"D")/365)),0) -> 0 | M91: =+H91*J91 -> 0 | N91: =+H91*K91 -> 0 | O91: =I91*L91 -> 0 | U91: =IFERROR(IF(D91>=Deelnemersoverzicht!$B$9,"Na startdatum aangekocht", IF(DATEDIF('Begroting P'!$D91,Startdatum,"D")>0,IF((('Begroting P'!$F91-((DATEDIF($D91,Startdatum,"M")/12)))*($E91/$F91))<0,0,(('Begroting P'!$F91-((DATEDIF($D91,Startdatum,"M")/12)))*($E91/$F91))),($E91/$F91))),0) -> Na startdatum aangekocht
H92: =IFERROR(E92-I92,0) -> 0 | I92: =IFERROR((E92/F92)*(Deelnemersoverzicht!$B$10-(DATEDIF(Startdatum,D92,"D")/365)),0) -> 0 | M92: =+H92*J92 -> 0 | N92: =+H92*K92 -> 0 | O92: =I92*L92 -> 0 | U92: =IFERROR(IF(D92>=Deelnemersoverzicht!$B$9,"Na startdatum aangekocht", IF(DATEDIF('Begroting P'!$D92,Startdatum,"D")>0,IF((('Begroting P'!$F92-((DATEDIF($D92,Startdatum,"M")/12)))*($E92/$F92))<0,0,(('Begroting P'!$F92-((DATEDIF($D92,Startdatum,"M")/12)))*($E92/$F92))),($E92/$F92))),0) -> Na startdatum aangekocht
H93: =IFERROR(E93-I93,0) -> 0 | I93: =IFERROR((E93/F93)*(Deelnemersoverzicht!$B$10-(DATEDIF(Startdatum,D93,"D")/365)),0) -> 0 | M93: =+H93*J93 -> 0 | N93: =+H93*K93 -> 0 | O93: =I93*L93 -> 0 | U93: =IFERROR(IF(D93>=Deelnemersoverzicht!$B$9,"Na startdatum aangekocht", IF(DATEDIF('Begroting P'!$D93,Startdatum,"D")>0,IF((('Begroting P'!$F93-((DATEDIF($D93,Startdatum,"M")/12)))*($E93/$F93))<0,0,(('Begroting P'!$F93-((DATEDIF($D93,Startdatum,"M")/12)))*($E93/$F93))),($E93/$F93))),0) -> Na startdatum aangekocht
H94: =IFERROR(E94-I94,0) -> 0 | I94: =IFERROR((E94/F94)*(Deelnemersoverzicht!$B$10-(DATEDIF(Startdatum,D94,"D")/365)),0) -> 0 | M94: =+H94*J94 -> 0 | N94: =+H94*K94 -> 0 | O94: =I94*L94 -> 0 | U94: =IFERROR(IF(D94>=Deelnemersoverzicht!$B$9,"Na startdatum aangekocht", IF(DATEDIF('Begroting P'!$D94,Startdatum,"D")>0,IF((('Begroting P'!$F94-((DATEDIF($D94,Startdatum,"M")/12)))*($E94/$F94))<0,0,(('Begroting P'!$F94-((DATEDIF($D94,Startdatum,"M")/12)))*($E94/$F94))),($E94/$F94))),0) -> Na startdatum aangekocht
H95: =IFERROR(E95-I95,0) -> 0 | I95: =IFERROR((E95/F95)*(Deelnemersoverzicht!$B$10-(DATEDIF(Startdatum,D95,"D")/365)),0) -> 0 | M95: =+H95*J95 -> 0 | N95: =+H95*K95 -> 0 | O95: =I95*L95 -> 0 | U95: =IFERROR(IF(D95>=Deelnemersoverzicht!$B$9,"Na startdatum aangekocht", IF(DATEDIF('Begroting P'!$D95,Startdatum,"D")>0,IF((('Begroting P'!$F95-((DATEDIF($D95,Startdatum,"M")/12)))*($E95/$F95))<0,0,(('Begroting P'!$F95-((DATEDIF($D95,Startdatum,"M")/12)))*($E95/$F95))),($E95/$F95))),0) -> Na startdatum aangekocht
H96: =IFERROR(E96-I96,0) -> 0 | I96: =IFERROR((E96/F96)*(Deelnemersoverzicht!$B$10-(DATEDIF(Startdatum,D96,"D")/365)),0) -> 0 | M96: =+H96*J96 -> 0 | N96: =+H96*K96 -> 0 | O96: =I96*L96 -> 0 | U96: =IFERROR(IF(D96>=Deelnemersoverzicht!$B$9,"Na startdatum aangekocht", IF(DATEDIF('Begroting P'!$D96,Startdatum,"D")>0,IF((('Begroting P'!$F96-((DATEDIF($D96,Startdatum,"M")/12)))*($E96/$F96))<0,0,(('Begroting P'!$F96-((DATEDIF($D96,Startdatum,"M")/12)))*($E96/$F96))),($E96/$F96))),0) -> Na startdatum aangekocht
H97: =IFERROR(E97-I97,0) -> 0 | I97: =IFERROR((E97/F97)*(Deelnemersoverzicht!$B$10-(DATEDIF(Startdatum,D97,"D")/365)),0) -> 0 | M97: =+H97*J97 -> 0 | N97: =+H97*K97 -> 0 | O97: =I97*L97 -> 0 | U97: =IFERROR(IF(D97>=Deelnemersoverzicht!$B$9,"Na startdatum aangekocht", IF(DATEDIF('Begroting P'!$D97,Startdatum,"D")>0,IF((('Begroting P'!$F97-((DATEDIF($D97,Startdatum,"M")/12)))*($E97/$F97))<0,0,(('Begroting P'!$F97-((DATEDIF($D97,Startdatum,"M")/12)))*($E97/$F97))),($E97/$F97))),0) -> Na startdatum aangekocht
H98: =IFERROR(E98-I98,0) -> 0 | I98: =IFERROR((E98/F98)*(Deelnemersoverzicht!$B$10-(DATEDIF(Startdatum,D98,"D")/365)),0) -> 0 | M98: =+H98*J98 -> 0 | N98: =+H98*K98 -> 0 | O98: =I98*L98 -> 0 | U98: =IFERROR(IF(D98>=Deelnemersoverzicht!$B$9,"Na startdatum aangekocht", IF(DATEDIF('Begroting P'!$D98,Startdatum,"D")>0,IF((('Begroting P'!$F98-((DATEDIF($D98,Startdatum,"M")/12)))*($E98/$F98))<0,0,(('Begroting P'!$F98-((DATEDIF($D98,Startdatum,"M")/12)))*($E98/$F98))),($E98/$F98))),0) -> Na startdatum aangekocht
H99: =IFERROR(E99-I99,0) -> 0 | I99: =IFERROR((E99/F99)*(Deelnemersoverzicht!$B$10-(DATEDIF(Startdatum,D99,"D")/365)),0) -> 0 | M99: =+H99*J99 -> 0 | N99: =+H99*K99 -> 0 | O99: =I99*L99 -> 0 | U99: =IFERROR(IF(D99>=Deelnemersoverzicht!$B$9,"Na startdatum aangekocht", IF(DATEDIF('Begroting P'!$D99,Startdatum,"D")>0,IF((('Begroting P'!$F99-((DATEDIF($D99,Startdatum,"M")/12)))*($E99/$F99))<0,0,(('Begroting P'!$F99-((DATEDIF($D99,Startdatum,"M")/12)))*($E99/$F99))),($E99/$F99))),0) -> Na startdatum aangekocht
H100: =IFERROR(E100-I100,0) -> 0 | I100: =IFERROR((E100/F100)*(Deelnemersoverzicht!$B$10-(DATEDIF(Startdatum,D100,"D")/365)),0) -> 0 | M100: =+H100*J100 -> 0 | N100: =+H100*K100 -> 0 | O100: =I100*L100 -> 0 | U100: =IFERROR(IF(D100>=Deelnemersoverzicht!$B$9,"Na startdatum aangekocht", IF(DATEDIF('Begroting P'!$D100,Startdatum,"D")>0,IF((('Begroting P'!$F100-((DATEDIF($D100,Startdatum,"M")/12)))*($E100/$F100))<0,0,(('Begroting P'!$F100-((DATEDIF($D100,Startdatum,"M")/12)))*($E100/$F100))),($E100/$F100))),0) -> Na startdatum aangekocht
H101: =IFERROR(E101-I101,0) -> 0 | I101: =IFERROR((E101/F101)*(Deelnemersoverzicht!$B$10-(DATEDIF(Startdatum,D101,"D")/365)),0) -> 0 | M101: =+H101*J101 -> 0 | N101: =+H101*K101 -> 0 | O101: =I101*L101 -> 0 | U101: =IFERROR(IF(D101>=Deelnemersoverzicht!$B$9,"Na startdatum aangekocht", IF(DATEDIF('Begroting P'!$D101,Startdatum,"D")>0,IF((('Begroting P'!$F101-((DATEDIF($D101,Startdatum,"M")/12)))*($E101/$F101))<0,0,(('Begroting P'!$F101-((DATEDIF($D101,Startdatum,"M")/12)))*($E101/$F101))),($E101/$F101))),0) -> Na startdatum aangekocht
... H107: =IFERROR(E107-I107,0) -> 0 | I107: =IFERROR((E107/F107)*(Deelnemersoverzicht!$B$10-(DATEDIF(Startdatum,D107,"D")/365)),0) -> 0 | M107: =+H107*J107 -> 0 | N107: =+H107*K107 -> 0 | O107: =I107*L107 -> 0 | U107: =IFERROR(IF(D107>=Deelnemersoverzicht!$B$9,"Na startdatum aangekocht", IF(DATEDIF('Begroting P'!$D107,Startdatum,"D")>0,IF((('Begroting P'!$F107-((DATEDIF($D107,Startdatum,"M")/12)))*($E107/$F107))<0,0,(('Begroting P'!$F107-((DATEDIF($D107,Startdatum,"M")/12)))*($E107/$F107))),($E107/$F107))),0) -> Na startdatum aangekocht
M108: =SUM(M90:M107) -> 0 | N108: =SUM(N90:N107) -> 0 | O108: =SUM(O90:O107) -> 0
B110: A3. b: Verbruikte materialen en hulpmiddelen | J110: Verbruik (aantal eenheden) | M110: Kosten €
B111: Werkpakket | C111: Omschrijving kosten | I111: Prijs per eenheid | J111: =+J19 -> Industrieel onderzoek | K111: =+K19 -> Experimentele ontwikkeling | L111: Niet-econ. Activiteiten | M111: =+J19 -> Industrieel onderzoek | N111: =+K19 -> Experimentele ontwikkeling | O111: Niet-econ. activiteiten
M112: =$I112*J112 -> 0 | N112: =$I112*K112 -> 0 | O112: =$I112*L112 -> 0
M113: =$I113*J113 -> 0 | N113: =$I113*K113 -> 0 | O113: =$I113*L113 -> 0
M114: =$I114*J114 -> 0 | N114: =$I114*K114 -> 0 | O114: =$I114*L114 -> 0
M115: =$I115*J115 -> 0 | N115: =$I115*K115 -> 0 | O115: =$I115*L115 -> 0
M116: =$I116*J116 -> 0 | N116: =$I116*K116 -> 0 | O116: =$I116*L116 -> 0
M117: =$I117*J117 -> 0 | N117: =$I117*K117 -> 0 | O117: =$I117*L117 -> 0
M118: =$I118*J118 -> 0 | N118: =$I118*K118 -> 0 | O118: =$I118*L118 -> 0
M119: =$I119*J119 -> 0 | N119: =$I119*K119 -> 0 | O119: =$I119*L119 -> 0
M120: =$I120*J120 -> 0 | N120: =$I120*K120 -> 0 | O120: =$I120*L120 -> 0
M121: =$I121*J121 -> 0 | N121: =$I121*K121 -> 0 | O121: =$I121*L121 -> 0
M122: =$I122*J122 -> 0 | N122: =$I122*K122 -> 0 | O122: =$I122*L122 -> 0
M123: =$I123*J123 -> 0 | N123: =$I123*K123 -> 0 | O123: =$I123*L123 -> 0
... M129: =$I129*J129 -> 0 | N129: =$I129*K129 -> 0 | O129: =$I129*L129 -> 0
M130: =SUM(M112:M129) -> 0 | N130: =SUM(N112:N129) -> 0 | O130: =SUM(O112:O129) -> 0
B132: A3. c: Overige aan derden verschuldigde kosten | M132: Kosten €
B133: Werkpakket | C133: Handelsnaam derde | E133: Omschrijving kosten | M133: =+J19 -> Industrieel onderzoek | N133: =+K19 -> Experimentele ontwikkeling | O133: Niet-econ. activiteiten
M152: =SUM(M134:M151) -> 0 | N152: =SUM(N134:N151) -> 0 | O152: =SUM(O134:O151) -> 0
I154: Totaal aan derden verschuldigde kosten | M154: =+M108+M130+M152 -> 0 | N154: =+N108+N130+N152 -> 0 | O154: =O108+O130+O152 -> 0
B156: ONDERDEEL B
B157: Overzicht subsidie deelnemer:
B159: Omschrijving | L159: =+J19 -> Industrieel onderzoek | M159: =+K19 -> Experimentele ontwikkeling | N159: Niet-econ. activiteiten | O159: Totaal
B160: A1. | C160: Loonkosten | L160: =M56 -> 0 | M160: =N56 -> 0 | N160: =O56 -> 0 | O160: =SUM(L160:N160) -> 0
B161: A2. | C161: Machines en apparaten die niet uitsluitend voor het project worden gebruikt | L161: =M84 -> 0 | M161: =N84 -> 0 | N161: =O84 -> 0 | O161: =SUM(L161:N161) -> 0
B162: A3. | C162: Aan derden verschuldigde kosten | L162: =M154 -> 0 | M162: =N154 -> 0 | N162: =O154 -> 0 | O162: =SUM(L162:N162) -> 0
B164: A4. | C164: Totaal onderdeel B | L164: =SUM(L160:L162) -> 0 | M164: =SUM(M160:M162) -> 0 | N164: =SUM(N160:N162) -> 0 | O164: =SUM(O160:O162) -> 0
B166: Maximale subsidiepercentage | L166: =+Deelnemersoverzicht!E25 -> #N/A | M166: =+Deelnemersoverzicht!F25 -> #N/A | N166: =+Deelnemersoverzicht!G25 -> 0
B167: Maximale subsidie | L167: =L164*L166 -> #N/A | M167: =M164*M166 -> #N/A | N167: =N164*N166 -> 0
B168: Reeds ontvangen subsidies voor de subsidiabele kosten
B169: Maximale subsidie | O169: =SUM(L167:N167)-O168 -> #N/A
B170: Gevraagde subsidie | J170: =IF(O170<1,"Let op: Vergeet niet de door u gevraagde subsidie in te vullen! →",IF((O170-O169)>1,"LET OP: U vraagt meer dan de maximale berekende subsidie aan!",IF(O170>500000,"LET OP: De maximale subsidie voor deze regeling betreft €500.000 per project!",""))) -> Let op: Vergeet niet de door u gevraagde subsidie in te vullen! → | L170: =IF(L167>0,O170/(O169+O168)*L167,0) -> #N/A | M170: =IF(M167>0,O170/(O169+O168)*M167,0) -> #N/A | N170: =IF(N167>0,O170/(O169+O168)*N167,0) -> 0
B172: ONDERDEEL C
B173: Financiering van het project:
B175: C1. | C175: Totale projectkosten | O175: =O164 -> 0
B176: C2. | C176: Reeds ontvangen subsidies voor de subsidiabele kosten | O176: =O168 -> 0
B177: C3. | C177: Gevraagde subsidie (B) | O177: =O170 -> 0
...

Sheet Begroting D7
C1: Model begroting | H1: =IF(Deelnemersoverzicht!B5="(Dit veld wordt ingevuld door RVO)","",Deelnemersoverzicht!B5) -> Dit veld wordt door RVO ingevuld | U1: KOLOM VERBERGEN!!
C2: NBS Living Labs 2026
C4: Gegevens per deelnemer:
C6: =Deelnemersoverzicht!A26 -> Deelnemer 7 (D7) | F6: =Deelnemersoverzicht!B26 -> 0
C7: Titel project | F7: =Deelnemersoverzicht!B6 -> 0
C8: BTW | F8: <maak een keuze>
C9: Gebruikte loonsystematiek | F9: <maak een keuze>
F10: =IF(F9="Integrale kostensystematiek","Let op! U dient in de begroting de IKS-tarieven zo te specificeren dat deze te controleren zijn op basis van de door u aangeleverde","")
F11: =IF(F9="Integrale kostensystematiek","IKS tarieven aan RVO. Bijvoorbeeld: divisie R&D, loonschaal 10. Vul dit in bij toelichting IKS.","")
B13: ONDERDEEL A
B14: Overzicht kosten
B16: A1. | C16: Loonkosten
G18: =IF(AND($F$9="Integrale kostensystematiek",COUNTA(C20:D55)>COUNTA(G20:G55)),"Let op! U dient de Toelichting IKS in te vullen","") | J18: Aantal uren | M18: Kosten €
B19: Werkpakket | C19: Functie | E19: Rol in het project | G19: Toelichting IKS bijv. divisie R&D, schaal 11 | H19: Uurtarief | J19: =IF(Deelnemersoverzicht!$C$26=Lijsten!$A$23,"",Lijsten!$D$3) -> Industrieel onderzoek | K19: =IF(Deelnemersoverzicht!$C$26=Lijsten!$A$23,"",Lijsten!$D$4) -> Experimentele ontwikkeling | L19: Niet-econ. activiteiten | M19: =IF(Deelnemersoverzicht!$C$26=Lijsten!$A$23,"",Lijsten!$D$3) -> Industrieel onderzoek | N19: =IF(Deelnemersoverzicht!$C$26=Lijsten!$A$23,"",Lijsten!$D$4) -> Experimentele ontwikkeling | O19: Niet-econ. activiteiten
M20: =+H20*J20 -> 0 | N20: =+H20*K20 -> 0 | O20: =H20*L20 -> 0
M21: =+H21*J21 -> 0 | N21: =+H21*K21 -> 0 | O21: =H21*L21 -> 0
M22: =+H22*J22 -> 0 | N22: =+H22*K22 -> 0 | O22: =H22*L22 -> 0
M23: =+H23*J23 -> 0 | N23: =+H23*K23 -> 0 | O23: =H23*L23 -> 0
M24: =+H24*J24 -> 0 | N24: =+H24*K24 -> 0 | O24: =H24*L24 -> 0
M25: =+H25*J25 -> 0 | N25: =+H25*K25 -> 0 | O25: =H25*L25 -> 0
M26: =+H26*J26 -> 0 | N26: =+H26*K26 -> 0 | O26: =H26*L26 -> 0
M27: =+H27*J27 -> 0 | N27: =+H27*K27 -> 0 | O27: =H27*L27 -> 0
M28: =+H28*J28 -> 0 | N28: =+H28*K28 -> 0 | O28: =H28*L28 -> 0
M29: =+H29*J29 -> 0 | N29: =+H29*K29 -> 0 | O29: =H29*L29 -> 0
M30: =+H30*J30 -> 0 | N30: =+H30*K30 -> 0 | O30: =H30*L30 -> 0
M31: =+H31*J31 -> 0 | N31: =+H31*K31 -> 0 | O31: =H31*L31 -> 0
... M55: =+H55*J55 -> 0 | N55: =+H55*K55 -> 0 | O55: =H55*L55 -> 0
I56: Totale loonkosten | M56: =SUM(M20:M55) -> 0 | N56: =SUM(N20:N55) -> 0 | O56: =SUM(O20:O55) -> 0
B58: A2. | C58: Machines en apparaten die niet uitsluitend voor het project worden gebruikt
D60: =IF(COUNTA(D62:D83)<COUNTA(E62:E83),"Let op! Vul ook de aanschafdatum in!","") | J60: Aantal uur in gebruik t.b.v. project | M60: Kosten €
B61: Werkpakket | C61: Omschrijving kosten | D61: Aanschafdatum | E61: Aanschafwaarde | F61: Afschrijving in jaren (minimaal 5 jaar) | G61: Fiscale afschrijving per jaar | H61: Totaal uren bij normale bezetting per jaar | I61: Afschrijving per uur | J61: =+J19 -> Industrieel onderzoek | K61: =+K19 -> Experimentele ontwikkeling | L61: Niet-econ. Activiteiten | M61: =+J19 -> Industrieel onderzoek | N61: =+K19 -> Experimentele ontwikkeling | O61: Niet-econ. activiteiten | U61: Restwaarde afschrijvingen
G62: =IFERROR(E62/F62,0) -> 0 | I62: =IFERROR(G62/H62,0) -> 0 | M62: =+H62*J62 -> 0 | N62: =+H62*K62 -> 0 | O62: =I62*L62 -> 0 | U62: =IFERROR(IF(D62>=Deelnemersoverzicht!$B$9,"Na startdatum aangekocht", IF(DATEDIF('Begroting P'!$D62,Startdatum,"D")>0,IF((('Begroting P'!$F62-((DATEDIF($D62,Startdatum,"M")/12)))*($E62/$F62))<0,"Dit is afgeschreven!",(('Begroting P'!$F62-((DATEDIF($D62,Startdatum,"M")/12)))*($E62/$F62))),($E62/$F62))),0) -> Na startdatum aangekocht
G63: =IFERROR(E63/F63,0) -> 0 | I63: =IFERROR(G63/H63,0) -> 0 | M63: =+H63*J63 -> 0 | N63: =+H63*K63 -> 0 | O63: =I63*L63 -> 0 | U63: =IFERROR(IF(D63>=Deelnemersoverzicht!$B$9,"Na startdatum aangekocht", IF(DATEDIF('Begroting P'!$D63,Startdatum,"D")>0,IF((('Begroting P'!$F63-((DATEDIF($D63,Startdatum,"M")/12)))*($E63/$F63))<0,"Dit is afgeschreven!",(('Begroting P'!$F63-((DATEDIF($D63,Startdatum,"M")/12)))*($E63/$F63))),($E63/$F63))),0) -> Na startdatum aangekocht
G64: =IFERROR(E64/F64,0) -> 0 | I64: =IFERROR(G64/H64,0) -> 0 | M64: =+H64*J64 -> 0 | N64: =+H64*K64 -> 0 | O64: =I64*L64 -> 0 | U64: =IFERROR(IF(D64>=Deelnemersoverzicht!$B$9,"Na startdatum aangekocht", IF(DATEDIF('Begroting P'!$D64,Startdatum,"D")>0,IF((('Begroting P'!$F64-((DATEDIF($D64,Startdatum,"M")/12)))*($E64/$F64))<0,"Dit is afgeschreven!",(('Begroting P'!$F64-((DATEDIF($D64,Startdatum,"M")/12)))*($E64/$F64))),($E64/$F64))),0) -> Na startdatum aangekocht
G65: =IFERROR(E65/F65,0) -> 0 | I65: =IFERROR(G65/H65,0) -> 0 | M65: =+H65*J65 -> 0 | N65: =+H65*K65 -> 0 | O65: =I65*L65 -> 0 | U65: =IFERROR(IF(D65>=Deelnemersoverzicht!$B$9,"Na startdatum aangekocht", IF(DATEDIF('Begroting P'!$D65,Startdatum,"D")>0,IF((('Begroting P'!$F65-((DATEDIF($D65,Startdatum,"M")/12)))*($E65/$F65))<0,"Dit is afgeschreven!",(('Begroting P'!$F65-((DATEDIF($D65,Startdatum,"M")/12)))*($E65/$F65))),($E65/$F65))),0) -> Na startdatum aangekocht
G66: =IFERROR(E66/F66,0) -> 0 | I66: =IFERROR(G66/H66,0) -> 0 | M66: =+H66*J66 -> 0 | N66: =+H66*K66 -> 0 | O66: =I66*L66 -> 0 | U66: =IFERROR(IF(D66>=Deelnemersoverzicht!$B$9,"Na startdatum aangekocht", IF(DATEDIF('Begroting P'!$D66,Startdatum,"D")>0,IF((('Begroting P'!$F66-((DATEDIF($D66,Startdatum,"M")/12)))*($E66/$F66))<0,"Dit is afgeschreven!",(('Begroting P'!$F66-((DATEDIF($D66,Startdatum,"M")/12)))*($E66/$F66))),($E66/$F66))),0) -> Na startdatum aangekocht
G67: =IFERROR(E67/F67,0) -> 0 | I67: =IFERROR(G67/H67,0) -> 0 | M67: =+H67*J67 -> 0 | N67: =+H67*K67 -> 0 | O67: =I67*L67 -> 0 | U67: =IFERROR(IF(D67>=Deelnemersoverzicht!$B$9,"Na startdatum aangekocht", IF(DATEDIF('Begroting P'!$D67,Startdatum,"D")>0,IF((('Begroting P'!$F67-((DATEDIF($D67,Startdatum,"M")/12)))*($E67/$F67))<0,"Dit is afgeschreven!",(('Begroting P'!$F67-((DATEDIF($D67,Startdatum,"M")/12)))*($E67/$F67))),($E67/$F67))),0) -> Na startdatum aangekocht
G68: =IFERROR(E68/F68,0) -> 0 | I68: =IFERROR(G68/H68,0) -> 0 | M68: =+H68*J68 -> 0 | N68: =+H68*K68 -> 0 | O68: =I68*L68 -> 0 | U68: =IFERROR(IF(D68>=Deelnemersoverzicht!$B$9,"Na startdatum aangekocht", IF(DATEDIF('Begroting P'!$D68,Startdatum,"D")>0,IF((('Begroting P'!$F68-((DATEDIF($D68,Startdatum,"M")/12)))*($E68/$F68))<0,"Dit is afgeschreven!",(('Begroting P'!$F68-((DATEDIF($D68,Startdatum,"M")/12)))*($E68/$F68))),($E68/$F68))),0) -> Na startdatum aangekocht
G69: =IFERROR(E69/F69,0) -> 0 | I69: =IFERROR(G69/H69,0) -> 0 | M69: =+H69*J69 -> 0 | N69: =+H69*K69 -> 0 | O69: =I69*L69 -> 0 | U69: =IFERROR(IF(D69>=Deelnemersoverzicht!$B$9,"Na startdatum aangekocht", IF(DATEDIF('Begroting P'!$D69,Startdatum,"D")>0,IF((('Begroting P'!$F69-((DATEDIF($D69,Startdatum,"M")/12)))*($E69/$F69))<0,"Dit is afgeschreven!",(('Begroting P'!$F69-((DATEDIF($D69,Startdatum,"M")/12)))*($E69/$F69))),($E69/$F69))),0) -> Na startdatum aangekocht
G70: =IFERROR(E70/F70,0) -> 0 | I70: =IFERROR(G70/H70,0) -> 0 | M70: =+H70*J70 -> 0 | N70: =+H70*K70 -> 0 | O70: =I70*L70 -> 0 | U70: =IFERROR(IF(D70>=Deelnemersoverzicht!$B$9,"Na startdatum aangekocht", IF(DATEDIF('Begroting P'!$D70,Startdatum,"D")>0,IF((('Begroting P'!$F70-((DATEDIF($D70,Startdatum,"M")/12)))*($E70/$F70))<0,"Dit is afgeschreven!",(('Begroting P'!$F70-((DATEDIF($D70,Startdatum,"M")/12)))*($E70/$F70))),($E70/$F70))),0) -> Na startdatum aangekocht
G71: =IFERROR(E71/F71,0) -> 0 | I71: =IFERROR(G71/H71,0) -> 0 | M71: =+H71*J71 -> 0 | N71: =+H71*K71 -> 0 | O71: =I71*L71 -> 0 | U71: =IFERROR(IF(D71>=Deelnemersoverzicht!$B$9,"Na startdatum aangekocht", IF(DATEDIF('Begroting P'!$D71,Startdatum,"D")>0,IF((('Begroting P'!$F71-((DATEDIF($D71,Startdatum,"M")/12)))*($E71/$F71))<0,"Dit is afgeschreven!",(('Begroting P'!$F71-((DATEDIF($D71,Startdatum,"M")/12)))*($E71/$F71))),($E71/$F71))),0) -> Na startdatum aangekocht
G72: =IFERROR(E72/F72,0) -> 0 | I72: =IFERROR(G72/H72,0) -> 0 | M72: =+H72*J72 -> 0 | N72: =+H72*K72 -> 0 | O72: =I72*L72 -> 0 | U72: =IFERROR(IF(D72>=Deelnemersoverzicht!$B$9,"Na startdatum aangekocht", IF(DATEDIF('Begroting P'!$D72,Startdatum,"D")>0,IF((('Begroting P'!$F72-((DATEDIF($D72,Startdatum,"M")/12)))*($E72/$F72))<0,"Dit is afgeschreven!",(('Begroting P'!$F72-((DATEDIF($D72,Startdatum,"M")/12)))*($E72/$F72))),($E72/$F72))),0) -> Na startdatum aangekocht
G73: =IFERROR(E73/F73,0) -> 0 | I73: =IFERROR(G73/H73,0) -> 0 | M73: =+H73*J73 -> 0 | N73: =+H73*K73 -> 0 | O73: =I73*L73 -> 0 | U73: =IFERROR(IF(D73>=Deelnemersoverzicht!$B$9,"Na startdatum aangekocht", IF(DATEDIF('Begroting P'!$D73,Startdatum,"D")>0,IF((('Begroting P'!$F73-((DATEDIF($D73,Startdatum,"M")/12)))*($E73/$F73))<0,"Dit is afgeschreven!",(('Begroting P'!$F73-((DATEDIF($D73,Startdatum,"M")/12)))*($E73/$F73))),($E73/$F73))),0) -> Na startdatum aangekocht
... G83: =IFERROR(E83/F83,0) -> 0 | I83: =IFERROR(G83/H83,0) -> 0 | M83: =+H83*J83 -> 0 | N83: =+H83*K83 -> 0 | O83: =I83*L83 -> 0 | U83: =IFERROR(IF(D83>=Deelnemersoverzicht!$B$9,"Na startdatum aangekocht", IF(DATEDIF('Begroting P'!$D83,Startdatum,"D")>0,IF((('Begroting P'!$F83-((DATEDIF($D83,Startdatum,"M")/12)))*($E83/$F83))<0,"Dit is afgeschreven!",(('Begroting P'!$F83-((DATEDIF($D83,Startdatum,"M")/12)))*($E83/$F83))),($E83/$F83))),0) -> Na startdatum aangekocht
H84: Totale kosten aangeschafte machines en apparatuur | M84: =SUM(M62:M83) -> 0 | N84: =SUM(N62:N83) -> 0 | O84: =SUM(O62:O83) -> 0
B86: A3. | C86: Aan derden verschuldigde kosten
B87: A3. a: Apparatuur uitsluitend voor het project aangeschaft
D88: =IF(COUNTA(D90:D107)<COUNTA(E90:E107),"Let op! Vul ook de aanschafdatum in!","") | J88: Subsidiabele kosten per onderzoekstype | M88: Kosten €
B89: Werkpakket | C89: Omschrijving kosten | D89: Aanschafdatum, binnen de projectperiode | E89: Aanschafwaarde | F89: Afschrijving in jaren (minimaal 5 jaar) | H89: Restwaarde | I89: Subsidiabele kosten totaal | J89: =+J19 -> Industrieel onderzoek | K89: =+K19 -> Experimentele ontwikkeling | L89: Niet-econ. Activiteiten | M89: =+J19 -> Industrieel onderzoek | N89: =+K19 -> Experimentele ontwikkeling | O89: Niet-econ. activiteiten | U89: Restwaarde afschrijvingen
H90: =IFERROR(E90-I90,0) -> 0 | I90: =IFERROR((E90/F90)*(Deelnemersoverzicht!$B$10-(DATEDIF(Startdatum,D90,"D")/365)),0) -> 0 | M90: =+H90*J90 -> 0 | N90: =+H90*K90 -> 0 | O90: =I90*L90 -> 0 | U90: =IFERROR(IF(D90>=Deelnemersoverzicht!$B$9,"Na startdatum aangekocht", IF(DATEDIF('Begroting P'!$D90,Startdatum,"D")>0,IF((('Begroting P'!$F90-((DATEDIF($D90,Startdatum,"M")/12)))*($E90/$F90))<0,0,(('Begroting P'!$F90-((DATEDIF($D90,Startdatum,"M")/12)))*($E90/$F90))),($E90/$F90))),0) -> Na startdatum aangekocht
H91: =IFERROR(E91-I91,0) -> 0 | I91: =IFERROR((E91/F91)*(Deelnemersoverzicht!$B$10-(DATEDIF(Startdatum,D91,"D")/365)),0) -> 0 | M91: =+H91*J91 -> 0 | N91: =+H91*K91 -> 0 | O91: =I91*L91 -> 0 | U91: =IFERROR(IF(D91>=Deelnemersoverzicht!$B$9,"Na startdatum aangekocht", IF(DATEDIF('Begroting P'!$D91,Startdatum,"D")>0,IF((('Begroting P'!$F91-((DATEDIF($D91,Startdatum,"M")/12)))*($E91/$F91))<0,0,(('Begroting P'!$F91-((DATEDIF($D91,Startdatum,"M")/12)))*($E91/$F91))),($E91/$F91))),0) -> Na startdatum aangekocht
H92: =IFERROR(E92-I92,0) -> 0 | I92: =IFERROR((E92/F92)*(Deelnemersoverzicht!$B$10-(DATEDIF(Startdatum,D92,"D")/365)),0) -> 0 | M92: =+H92*J92 -> 0 | N92: =+H92*K92 -> 0 | O92: =I92*L92 -> 0 | U92: =IFERROR(IF(D92>=Deelnemersoverzicht!$B$9,"Na startdatum aangekocht", IF(DATEDIF('Begroting P'!$D92,Startdatum,"D")>0,IF((('Begroting P'!$F92-((DATEDIF($D92,Startdatum,"M")/12)))*($E92/$F92))<0,0,(('Begroting P'!$F92-((DATEDIF($D92,Startdatum,"M")/12)))*($E92/$F92))),($E92/$F92))),0) -> Na startdatum aangekocht
H93: =IFERROR(E93-I93,0) -> 0 | I93: =IFERROR((E93/F93)*(Deelnemersoverzicht!$B$10-(DATEDIF(Startdatum,D93,"D")/365)),0) -> 0 | M93: =+H93*J93 -> 0 | N93: =+H93*K93 -> 0 | O93: =I93*L93 -> 0 | U93: =IFERROR(IF(D93>=Deelnemersoverzicht!$B$9,"Na startdatum aangekocht", IF(DATEDIF('Begroting P'!$D93,Startdatum,"D")>0,IF((('Begroting P'!$F93-((DATEDIF($D93,Startdatum,"M")/12)))*($E93/$F93))<0,0,(('Begroting P'!$F93-((DATEDIF($D93,Startdatum,"M")/12)))*($E93/$F93))),($E93/$F93))),0) -> Na startdatum aangekocht
H94: =IFERROR(E94-I94,0) -> 0 | I94: =IFERROR((E94/F94)*(Deelnemersoverzicht!$B$10-(DATEDIF(Startdatum,D94,"D")/365)),0) -> 0 | M94: =+H94*J94 -> 0 | N94: =+H94*K94 -> 0 | O94: =I94*L94 -> 0 | U94: =IFERROR(IF(D94>=Deelnemersoverzicht!$B$9,"Na startdatum aangekocht", IF(DATEDIF('Begroting P'!$D94,Startdatum,"D")>0,IF((('Begroting P'!$F94-((DATEDIF($D94,Startdatum,"M")/12)))*($E94/$F94))<0,0,(('Begroting P'!$F94-((DATEDIF($D94,Startdatum,"M")/12)))*($E94/$F94))),($E94/$F94))),0) -> Na startdatum aangekocht
H95: =IFERROR(E95-I95,0) -> 0 | I95: =IFERROR((E95/F95)*(Deelnemersoverzicht!$B$10-(DATEDIF(Startdatum,D95,"D")/365)),0) -> 0 | M95: =+H95*J95 -> 0 | N95: =+H95*K95 -> 0 | O95: =I95*L95 -> 0 | U95: =IFERROR(IF(D95>=Deelnemersoverzicht!$B$9,"Na startdatum aangekocht", IF(DATEDIF('Begroting P'!$D95,Startdatum,"D")>0,IF((('Begroting P'!$F95-((DATEDIF($D95,Startdatum,"M")/12)))*($E95/$F95))<0,0,(('Begroting P'!$F95-((DATEDIF($D95,Startdatum,"M")/12)))*($E95/$F95))),($E95/$F95))),0) -> Na startdatum aangekocht
H96: =IFERROR(E96-I96,0) -> 0 | I96: =IFERROR((E96/F96)*(Deelnemersoverzicht!$B$10-(DATEDIF(Startdatum,D96,"D")/365)),0) -> 0 | M96: =+H96*J96 -> 0 | N96: =+H96*K96 -> 0 | O96: =I96*L96 -> 0 | U96: =IFERROR(IF(D96>=Deelnemersoverzicht!$B$9,"Na startdatum aangekocht", IF(DATEDIF('Begroting P'!$D96,Startdatum,"D")>0,IF((('Begroting P'!$F96-((DATEDIF($D96,Startdatum,"M")/12)))*($E96/$F96))<0,0,(('Begroting P'!$F96-((DATEDIF($D96,Startdatum,"M")/12)))*($E96/$F96))),($E96/$F96))),0) -> Na startdatum aangekocht
H97: =IFERROR(E97-I97,0) -> 0 | I97: =IFERROR((E97/F97)*(Deelnemersoverzicht!$B$10-(DATEDIF(Startdatum,D97,"D")/365)),0) -> 0 | M97: =+H97*J97 -> 0 | N97: =+H97*K97 -> 0 | O97: =I97*L97 -> 0 | U97: =IFERROR(IF(D97>=Deelnemersoverzicht!$B$9,"Na startdatum aangekocht", IF(DATEDIF('Begroting P'!$D97,Startdatum,"D")>0,IF((('Begroting P'!$F97-((DATEDIF($D97,Startdatum,"M")/12)))*($E97/$F97))<0,0,(('Begroting P'!$F97-((DATEDIF($D97,Startdatum,"M")/12)))*($E97/$F97))),($E97/$F97))),0) -> Na startdatum aangekocht
H98: =IFERROR(E98-I98,0) -> 0 | I98: =IFERROR((E98/F98)*(Deelnemersoverzicht!$B$10-(DATEDIF(Startdatum,D98,"D")/365)),0) -> 0 | M98: =+H98*J98 -> 0 | N98: =+H98*K98 -> 0 | O98: =I98*L98 -> 0 | U98: =IFERROR(IF(D98>=Deelnemersoverzicht!$B$9,"Na startdatum aangekocht", IF(DATEDIF('Begroting P'!$D98,Startdatum,"D")>0,IF((('Begroting P'!$F98-((DATEDIF($D98,Startdatum,"M")/12)))*($E98/$F98))<0,0,(('Begroting P'!$F98-((DATEDIF($D98,Startdatum,"M")/12)))*($E98/$F98))),($E98/$F98))),0) -> Na startdatum aangekocht
H99: =IFERROR(E99-I99,0) -> 0 | I99: =IFERROR((E99/F99)*(Deelnemersoverzicht!$B$10-(DATEDIF(Startdatum,D99,"D")/365)),0) -> 0 | M99: =+H99*J99 -> 0 | N99: =+H99*K99 -> 0 | O99: =I99*L99 -> 0 | U99: =IFERROR(IF(D99>=Deelnemersoverzicht!$B$9,"Na startdatum aangekocht", IF(DATEDIF('Begroting P'!$D99,Startdatum,"D")>0,IF((('Begroting P'!$F99-((DATEDIF($D99,Startdatum,"M")/12)))*($E99/$F99))<0,0,(('Begroting P'!$F99-((DATEDIF($D99,Startdatum,"M")/12)))*($E99/$F99))),($E99/$F99))),0) -> Na startdatum aangekocht
H100: =IFERROR(E100-I100,0) -> 0 | I100: =IFERROR((E100/F100)*(Deelnemersoverzicht!$B$10-(DATEDIF(Startdatum,D100,"D")/365)),0) -> 0 | M100: =+H100*J100 -> 0 | N100: =+H100*K100 -> 0 | O100: =I100*L100 -> 0 | U100: =IFERROR(IF(D100>=Deelnemersoverzicht!$B$9,"Na startdatum aangekocht", IF(DATEDIF('Begroting P'!$D100,Startdatum,"D")>0,IF((('Begroting P'!$F100-((DATEDIF($D100,Startdatum,"M")/12)))*($E100/$F100))<0,0,(('Begroting P'!$F100-((DATEDIF($D100,Startdatum,"M")/12)))*($E100/$F100))),($E100/$F100))),0) -> Na startdatum aangekocht
H101: =IFERROR(E101-I101,0) -> 0 | I101: =IFERROR((E101/F101)*(Deelnemersoverzicht!$B$10-(DATEDIF(Startdatum,D101,"D")/365)),0) -> 0 | M101: =+H101*J101 -> 0 | N101: =+H101*K101 -> 0 | O101: =I101*L101 -> 0 | U101: =IFERROR(IF(D101>=Deelnemersoverzicht!$B$9,"Na startdatum aangekocht", IF(DATEDIF('Begroting P'!$D101,Startdatum,"D")>0,IF((('Begroting P'!$F101-((DATEDIF($D101,Startdatum,"M")/12)))*($E101/$F101))<0,0,(('Begroting P'!$F101-((DATEDIF($D101,Startdatum,"M")/12)))*($E101/$F101))),($E101/$F101))),0) -> Na startdatum aangekocht
... H107: =IFERROR(E107-I107,0) -> 0 | I107: =IFERROR((E107/F107)*(Deelnemersoverzicht!$B$10-(DATEDIF(Startdatum,D107,"D")/365)),0) -> 0 | M107: =+H107*J107 -> 0 | N107: =+H107*K107 -> 0 | O107: =I107*L107 -> 0 | U107: =IFERROR(IF(D107>=Deelnemersoverzicht!$B$9,"Na startdatum aangekocht", IF(DATEDIF('Begroting P'!$D107,Startdatum,"D")>0,IF((('Begroting P'!$F107-((DATEDIF($D107,Startdatum,"M")/12)))*($E107/$F107))<0,0,(('Begroting P'!$F107-((DATEDIF($D107,Startdatum,"M")/12)))*($E107/$F107))),($E107/$F107))),0) -> Na startdatum aangekocht
M108: =SUM(M90:M107) -> 0 | N108: =SUM(N90:N107) -> 0 | O108: =SUM(O90:O107) -> 0
B110: A3. b: Verbruikte materialen en hulpmiddelen | J110: Verbruik (aantal eenheden) | M110: Kosten €
B111: Werkpakket | C111: Omschrijving kosten | I111: Prijs per eenheid | J111: =+J19 -> Industrieel onderzoek | K111: =+K19 -> Experimentele ontwikkeling | L111: Niet-econ. Activiteiten | M111: =+J19 -> Industrieel onderzoek | N111: =+K19 -> Experimentele ontwikkeling | O111: Niet-econ. activiteiten
M112: =$I112*J112 -> 0 | N112: =$I112*K112 -> 0 | O112: =$I112*L112 -> 0
M113: =$I113*J113 -> 0 | N113: =$I113*K113 -> 0 | O113: =$I113*L113 -> 0
M114: =$I114*J114 -> 0 | N114: =$I114*K114 -> 0 | O114: =$I114*L114 -> 0
M115: =$I115*J115 -> 0 | N115: =$I115*K115 -> 0 | O115: =$I115*L115 -> 0
M116: =$I116*J116 -> 0 | N116: =$I116*K116 -> 0 | O116: =$I116*L116 -> 0
M117: =$I117*J117 -> 0 | N117: =$I117*K117 -> 0 | O117: =$I117*L117 -> 0
M118: =$I118*J118 -> 0 | N118: =$I118*K118 -> 0 | O118: =$I118*L118 -> 0
M119: =$I119*J119 -> 0 | N119: =$I119*K119 -> 0 | O119: =$I119*L119 -> 0
M120: =$I120*J120 -> 0 | N120: =$I120*K120 -> 0 | O120: =$I120*L120 -> 0
M121: =$I121*J121 -> 0 | N121: =$I121*K121 -> 0 | O121: =$I121*L121 -> 0
M122: =$I122*J122 -> 0 | N122: =$I122*K122 -> 0 | O122: =$I122*L122 -> 0
M123: =$I123*J123 -> 0 | N123: =$I123*K123 -> 0 | O123: =$I123*L123 -> 0
... M129: =$I129*J129 -> 0 | N129: =$I129*K129 -> 0 | O129: =$I129*L129 -> 0
M130: =SUM(M112:M129) -> 0 | N130: =SUM(N112:N129) -> 0 | O130: =SUM(O112:O129) -> 0
B132: A3. c: Overige aan derden verschuldigde kosten | M132: Kosten €
B133: Werkpakket | C133: Handelsnaam derde | E133: Omschrijving kosten | M133: =+J19 -> Industrieel onderzoek | N133: =+K19 -> Experimentele ontwikkeling | O133: Niet-econ. activiteiten
M152: =SUM(M134:M151) -> 0 | N152: =SUM(N134:N151) -> 0 | O152: =SUM(O134:O151) -> 0
I154: Totaal aan derden verschuldigde kosten | M154: =+M108+M130+M152 -> 0 | N154: =+N108+N130+N152 -> 0 | O154: =O108+O130+O152 -> 0
B156: ONDERDEEL B
B157: Overzicht subsidie deelnemer:
B159: Omschrijving | L159: =+J19 -> Industrieel onderzoek | M159: =+K19 -> Experimentele ontwikkeling | N159: Niet-econ. activiteiten | O159: Totaal
B160: A1. | C160: Loonkosten | L160: =M56 -> 0 | M160: =N56 -> 0 | N160: =O56 -> 0 | O160: =SUM(L160:N160) -> 0
B161: A2. | C161: Machines en apparaten die niet uitsluitend voor het project worden gebruikt | L161: =M84 -> 0 | M161: =N84 -> 0 | N161: =O84 -> 0 | O161: =SUM(L161:N161) -> 0
B162: A3. | C162: Aan derden verschuldigde kosten | L162: =M154 -> 0 | M162: =N154 -> 0 | N162: =O154 -> 0 | O162: =SUM(L162:N162) -> 0
B164: A4. | C164: Totaal onderdeel B | L164: =SUM(L160:L162) -> 0 | M164: =SUM(M160:M162) -> 0 | N164: =SUM(N160:N162) -> 0 | O164: =SUM(O160:O162) -> 0
B166: Maximale subsidiepercentage | L166: =+Deelnemersoverzicht!E26 -> #N/A | M166: =+Deelnemersoverzicht!F26 -> #N/A | N166: =+Deelnemersoverzicht!G26 -> 0
B167: Maximale subsidie | L167: =L164*L166 -> #N/A | M167: =M164*M166 -> #N/A | N167: =N164*N166 -> 0
B168: Reeds ontvangen subsidies voor de subsidiabele kosten
B169: Maximale subsidie | O169: =SUM(L167:N167)-O168 -> #N/A
B170: Gevraagde subsidie | J170: =IF(O170<1,"Let op: Vergeet niet de door u gevraagde subsidie in te vullen! →",IF((O170-O169)>1,"LET OP: U vraagt meer dan de maximale berekende subsidie aan!",IF(O170>500000,"LET OP: De maximale subsidie voor deze regeling betreft €500.000 per project!",""))) -> Let op: Vergeet niet de door u gevraagde subsidie in te vullen! → | L170: =IF(L167>0,O170/(O169+O168)*L167,0) -> #N/A | M170: =IF(M167>0,O170/(O169+O168)*M167,0) -> #N/A | N170: =IF(N167>0,O170/(O169+O168)*N167,0) -> 0
B172: ONDERDEEL C
B173: Financiering van het project:
B175: C1. | C175: Totale projectkosten | O175: =O164 -> 0
B176: C2. | C176: Reeds ontvangen subsidies voor de subsidiabele kosten | O176: =O168 -> 0
B177: C3. | C177: Gevraagde subsidie (B) | O177: =O170 -> 0
...

Sheet Begroting D8
C1: Model begroting | H1: =IF(Deelnemersoverzicht!B5="(Dit veld wordt ingevuld door RVO)","",Deelnemersoverzicht!B5) -> Dit veld wordt door RVO ingevuld | U1: KOLOM VERBERGEN!!
C2: NBS Living Labs 2026
C4: Gegevens per deelnemer:
C6: =Deelnemersoverzicht!A27 -> Deelnemer 8 (D8) | F6: =Deelnemersoverzicht!B27 -> 0
C7: Titel project | F7: =Deelnemersoverzicht!B6 -> 0
C8: BTW | F8: <maak een keuze>
C9: Gebruikte loonsystematiek | F9: <maak een keuze>
F10: =IF(F9="Integrale kostensystematiek","Let op! U dient in de begroting de IKS-tarieven zo te specificeren dat deze te controleren zijn op basis van de door u aangeleverde","")
F11: =IF(F9="Integrale kostensystematiek","IKS tarieven aan RVO. Bijvoorbeeld: divisie R&D, loonschaal 10. Vul dit in bij toelichting IKS.","")
B13: ONDERDEEL A
B14: Overzicht kosten
B16: A1. | C16: Loonkosten
G18: =IF(AND($F$9="Integrale kostensystematiek",COUNTA(C20:D55)>COUNTA(G20:G55)),"Let op! U dient de Toelichting IKS in te vullen","") | J18: Aantal uren | M18: Kosten €
B19: Werkpakket | C19: Functie | E19: Rol in het project | G19: Toelichting IKS bijv. divisie R&D, schaal 11 | H19: Uurtarief | J19: =IF(Deelnemersoverzicht!$C$27=Lijsten!$A$23,"",Lijsten!$D$3) -> Industrieel onderzoek | K19: =IF(Deelnemersoverzicht!$C$27=Lijsten!$A$23,"",Lijsten!$D$4) -> Experimentele ontwikkeling | L19: Niet-econ. activiteiten | M19: =IF(Deelnemersoverzicht!$C$27=Lijsten!$A$23,"",Lijsten!$D$3) -> Industrieel onderzoek | N19: =IF(Deelnemersoverzicht!$C$27=Lijsten!$A$23,"",Lijsten!$D$4) -> Experimentele ontwikkeling | O19: Niet-econ. activiteiten
M20: =+H20*J20 -> 0 | N20: =+H20*K20 -> 0 | O20: =H20*L20 -> 0
M21: =+H21*J21 -> 0 | N21: =+H21*K21 -> 0 | O21: =H21*L21 -> 0
M22: =+H22*J22 -> 0 | N22: =+H22*K22 -> 0 | O22: =H22*L22 -> 0
M23: =+H23*J23 -> 0 | N23: =+H23*K23 -> 0 | O23: =H23*L23 -> 0
M24: =+H24*J24 -> 0 | N24: =+H24*K24 -> 0 | O24: =H24*L24 -> 0
M25: =+H25*J25 -> 0 | N25: =+H25*K25 -> 0 | O25: =H25*L25 -> 0
M26: =+H26*J26 -> 0 | N26: =+H26*K26 -> 0 | O26: =H26*L26 -> 0
M27: =+H27*J27 -> 0 | N27: =+H27*K27 -> 0 | O27: =H27*L27 -> 0
M28: =+H28*J28 -> 0 | N28: =+H28*K28 -> 0 | O28: =H28*L28 -> 0
