Workbook
Name BTW: [1]Lijsten!$C$3:$C$5
Name BTW: Lijsten!$C$3:$C$5
Name deelnemers: [1]Deelnemersoverzicht!$B$14:$B$34
Name deelnemers: Deelnemersoverzicht!$B$19:$B$39
Name Einddatum: [1]Deelnemersoverzicht!$C$10
Name Einddatum: Deelnemersoverzicht!$C$9
Name Inkind: [1]Deelnemersoverzicht!$B$49:$B$56
Name Inkind: Deelnemersoverzicht!$B$55:$B$62
Name Loonsystematiek: [1]Lijsten!$G$3:$G$6
Name Loonsystematiek: Lijsten!$G$3:$G$6
Name MaxSubsidie: Lijsten!$D$19
Name Naamregeling: Lijsten!$A$4:$A$5
Name Organisatietype: [1]Lijsten!$A$19:$A$26
Name Organisatietype: Lijsten!$A$20:$A$23
Name Sector: Lijsten!$B$19:$B$26
Name Sponsoren: [1]Deelnemersoverzicht!$B$38:$B$45
Name Sponsoren: Deelnemersoverzicht!$B$43:$B$50
Name Startdatum: [1]Deelnemersoverzicht!$B$10
Name Startdatum: Deelnemersoverzicht!$B$9

Sheet Toelichting begroting
B2: Model begroting Tijdelijke subsidieregeling NBS living labs 2026
B3: Toelichting op de begrotingsposten
B6: Algemeen
B7: Deze begroting bestaat uit gele en blauwe tabbladen:
B8: - De gele tabbladen zijn (deels) bedoeld voor het invullen van gegevens.
B9: - De blauwe tabbladen zijn enkel informatief, hierop kunt u geen gegevens invullen.
B11: Op de gele tabbladen zijn de cellen die u zelf invult geel gemarkeerd. Blauwe cellen worden automatisch ingevuld.
B12: De kosten die onder de subsidie vallen en de subsidie die u vraagt, vult u in op de tabbladen 'Begroting'.
B14: De begroting moet een gedetailleerd beeld geven van de kosten van het project waarvoor u subsidie aanvraagt.
B15: U krijgt subsidie voor onderzoek, om deze reden is de basis het subsidiëren van loonkosten. U kunt subsidie ontvangen voor apparatuur op basis van de afschrijving.
B17: Alle kosten moeten per kostencategorie onderbouwd worden. Zie de toelichtingsvelden onder de begroting.
B19: Projectkosten
B20: Als projectkosten komen de kosten in aanmerking die u in deze begroting opneemt. Voer alleen kosten op die:
B21: l | C21: rechtstreeks zijn toe te rekenen aan het project;
B22: l | C22: voor eigen rekening en risico komen van de aanvrager en de deelnemers in het samenwerkingsverband;
B23: l | C23: werkelijk worden gemaakt en betaald ná indiening van de aanvraag.
B25: 1 Loonkosten
B26: De loonkosten berekent u volgens de door de regeling geaccepteerde systematiek.
B27: De volgende systematieken accepteren wij:
B29: 1. Integrale kostensystematiek (artikel 7 van het Kaderbesluit subsidies I en M)
B30: Voor meer informatie: | E30: https://www.rvo.nl/onderwerpen/subsidiespelregels/ezk/iks
B31: Deze methode is vooral geschikt voor grote organisaties die regelmatig subsidie bij ons aanvragen.
B33: 2. Loonkosten + 50% opslag systematiek (artikel 7 van het Kaderbesluit subsidies I en M)
B34: Voor meer informatie: | E34: www.rvo.nl/subsidies-regelingen/subsidiespelregels/subsidiabele-kosten-algemeen/Loonkosten plus vaste-opslag-systematiek
B35: De directe loonkosten van projectmedewerkers voert u op en wordt automatisch vermeerderd met 50% opslag.
B37: 3. Vast uurtarief van € 80 (artikel 7 van het Kaderbesluit subsidies I en M en artikel 4, lid 6, onder c van de regeling)
B38: Voor meer informatie: | E38: www.rvo.nl/onderwerpen/subsidiespelregels/ezk/vaste-uurtarief
B39: Ook als u geen loonkosten maakt maar er toch arbeid wordt verricht.
B41: Een deelnemer mag slechts één van bovenstaande methodieken gebruiken.
B42: Voor meer informatie: | E42: Subsidiespelregels ministerie van Economische Zaken en Klimaat | RVO.nl
B44: De onder de verschillende links genoemde systematieken en tarieven zijn ook van toepassing bij subsidies van het Ministerie van Infrastructuur en Waterstaat.
B46: 2 Machines en apparaten die u niet uitsluitend voor het project gebruikt
B47: Als u de machine of apparatuur niet uitsluitend voor het project heeft aangeschaft, mag u de afschrijfkosten of leasetermijnen alleen meenemen als u
B48: een sluitende tijdregistratie bijhoudt. U neemt de kosten dan mee naar evenredigheid van de tijd dat de machine of het apparaat tijdens het project
B49: wordt gebruikt, gerelateerd aan de normale bezetting. Als u de integrale kostensystematiek gebruikt, dan kunt u u hier alleen kosten opvoeren als
B50: de kosten geen deel uitmaken van het integrale kostentarief.
B52: Voor meer informatie: | E52: Subsidiespelregels EZK apparatuur
B54: 3 Aan derden verschuldigde kosten
B55: a: Apparatuur uitsluitend voor het project aangeschaft
B57: Houd rekening met een minimale afschrijvingstermijn van 5 jaar. U kunt alleen de afschrijvingskosten opvoeren voor de looptijd van het project.
...

Sheet Subsidiepercentages
B2: Model begroting NBS Living Labs 2026
B3: Overzicht subsidiepercentages
B8: Subsidiepercentages per activiteit
B9: Industrieel onderzoek (IO) door een onderneming | C9: 0.5
B10: Experimentele ontwikkeling (EO) door een onderneming | C10: 0.25
B11: Niet-economische activiteiten door een overige partij (IO, EO) waaronder indsutrieel onderzoek of experimentele ontwikkeling door een onderzoeksorganisatie | C11: 0.8
B12: Opslagen
B13: Voor kleine ondernemers | C13: 0.2
B14: Voor middelgrote ondernemers | C14: 0.1
B15: Indien wordt voldaan aan artikel 26, vijfde lid onder b van de algemene groepsbrijstellingsverordening (AGVV) | C15: 0.15
C17: Het betreft hier de maximale subsidiepercentages per activiteit. Minder aanvragen mag.
B21: AGVV, Artikel 25, lid 6, onderdeel b
B23: b) met 15 procentpunten indien één van de volgende voorwaarden is vervuld:
B25: i) het project behelst daadwerkelijke samenwerking:
B26: — tussen ondernemingen waarvan er ten minste één een kmo is, of wordt uitgevoerd in ten minste twee lidstaten of in een lidstaat en in een overeenkomstsluitende partij bij de EER-overeenkomst, en geen van de ondernemingen neemt meer dan 70 % van de in aanmerking komende kosten voor haar rekening; of
B27: — tussen een onderneming en één of meer organisaties voor onderzoek en kennisverspreiding, waarbij deze organisaties ten minste 10 % van de in aanmerking komende kosten dragen en het recht hebben hun eigen onderzoeksresultaten te publiceren;
B29: ii) de projectresultaten worden ruim verspreid via conferenties, publicaties, open access-repositories, of gratis of opensource-software;
B31: iii) de begunstigde verbindt zich ertoe licenties voor onderzoeksresultaten van gesteunde projecten inzake onderzoek en ontwikkeling die door intellectuele eigendomsrechten worden beschermd, tijdig tegen marktprijs en op niet exclusieve en niet-discriminerende basis beschikbaar te stellen voor gebruik door geïnteresseerde partijen in de EER;
B33: iv) het project inzake onderzoek en ontwikkeling wordt uitgevoerd in een steungebied dat aan de voorwaarden van artikel 107, lid 3, punt a), van het Verdrag voldoet; of
B41: ii) de projectresultaten worden ruim verspreid via conferenties, publicaties, open access-repositories, of gratis of opensource-software;
B43: iii) de begunstigde verbindt zich ertoe licenties voor onderzoeksresultaten van gesteunde projecten inzake onderzoek en ontwikkeling die door intellectuele eigendomsrechten worden beschermd, tijdig tegen marktprijs en op niet exclusieve en niet-discriminerende basis beschikbaar te stellen voor gebruik door geïnteresseerde partijen in de EER;
B45: iv) het project inzake onderzoek en ontwikkeling wordt uitgevoerd in een steungebied dat aan de voorwaarden van artikel 107, lid 3, punt a), van het Verdrag voldoet

Sheet Deelnemersoverzicht
A1: Deelnemers
A2: Afhankelijk van het aantal projectdeelnemers vult u meer of minder tabbladen in. Zo dient het tabblad "Begroting P" voor de
A3: "Aanvrager/penvoerder", het tabblad "Begroting D1" voor deelnemer 1 en zo verder.
A5: Projectnummer: | B5: Dit veld wordt door RVO ingevuld
A6: Titel van het project:
B8: Startdatum project: | C8: Einddatum project:
A10: Looptijd van het project: | B10: =DATEDIF(Startdatum,Einddatum,"Y")+ (DATEDIF(Startdatum,Einddatum,"YD")/365) -> 0 | C10: jaar | D10: =IF(B10>2,"Let op: looptijd project overschrijdt het maximum van 2 jaar","")
B12: Voldoet het project aan ten minste één van de voorwaarden, bedoeld in artikel 25, zesde lid, onderdeel b, van de algemene groepsvrijstellings-verordening?
B13: <maak een keuze>
B15: Onderbouwing:
B18: Naam | C18: Type organisatie | D18: Opslag soort onderneming artikel 25, zesde lid, onderdeel a AGVV | E18: Subsidiepercentage Industrieel onderzoek | F18: Subsidiepercentage experimentele ontwikkeling | G18: niet-economische activiteiten door een overige organisatie
A19: Penvoerder (P) | C19: <maak een keuze> | D19: =VLOOKUP(C19,Lijsten!$D$6:$E$10,2,FALSE) -> #N/A | E19: =MIN(80%,IF($D19=80%,0%,+Lijsten!$E$3+Deelnemersoverzicht!$D19+IF($B$13="Ja",+Lijsten!$E$11,0))) -> #N/A | F19: =IF(D19=80%,0%,+Lijsten!$E$4+Deelnemersoverzicht!$D19+IF($B$13="Ja",+Lijsten!$E$11,0)) -> #N/A | G19: =+IF(C19=Lijsten!$D$10,Lijsten!$E$10,0%) -> 0
A20: Deelnemer 1 (D1) | C20: <maak een keuze> | D20: =VLOOKUP(C20,Lijsten!$D$6:$E$10,2,FALSE) -> #N/A | E20: =MIN(80%,IF($D20=80%,0%,+Lijsten!$E$3+Deelnemersoverzicht!$D20+IF($B$13="Ja",+Lijsten!$E$11,0))) -> #N/A | F20: =IF(D20=80%,0%,+Lijsten!$E$4+Deelnemersoverzicht!$D20+IF($B$13="Ja",+Lijsten!$E$11,0)) -> #N/A | G20: =+IF(C20=Lijsten!$D$10,Lijsten!$E$10,0%) -> 0
A21: Deelnemer 2 (D2) | C21: <maak een keuze> | D21: =VLOOKUP(C21,Lijsten!$D$6:$E$10,2,FALSE) -> #N/A | E21: =MIN(80%,IF($D21=80%,0%,+Lijsten!$E$3+Deelnemersoverzicht!$D21+IF($B$13="Ja",+Lijsten!$E$11,0))) -> #N/A | F21: =IF(D21=80%,0%,+Lijsten!$E$4+Deelnemersoverzicht!$D21+IF($B$13="Ja",+Lijsten!$E$11,0)) -> #N/A | G21: =+IF(C21=Lijsten!$D$10,Lijsten!$E$10,0%) -> 0
A22: Deelnemer 3 (D3) | C22: <maak een keuze> | D22: =VLOOKUP(C22,Lijsten!$D$6:$E$10,2,FALSE) -> #N/A | E22: =MIN(80%,IF($D22=80%,0%,+Lijsten!$E$3+Deelnemersoverzicht!$D22+IF($B$13="Ja",+Lijsten!$E$11,0))) -> #N/A | F22: =IF(D22=80%,0%,+Lijsten!$E$4+Deelnemersoverzicht!$D22+IF($B$13="Ja",+Lijsten!$E$11,0)) -> #N/A | G22: =+IF(C22=Lijsten!$D$10,Lijsten!$E$10,0%) -> 0
A23: Deelnemer 4 (D4) | C23: <maak een keuze> | D23: =VLOOKUP(C23,Lijsten!$D$6:$E$10,2,FALSE) -> #N/A | E23: =MIN(80%,IF($D23=80%,0%,+Lijsten!$E$3+Deelnemersoverzicht!$D23+IF($B$13="Ja",+Lijsten!$E$11,0))) -> #N/A | F23: =IF(D23=80%,0%,+Lijsten!$E$4+Deelnemersoverzicht!$D23+IF($B$13="Ja",+Lijsten!$E$11,0)) -> #N/A | G23: =+IF(C23=Lijsten!$D$10,Lijsten!$E$10,0%) -> 0
A24: Deelnemer 5 (D5) | C24: <maak een keuze> | D24: =VLOOKUP(C24,Lijsten!$D$6:$E$10,2,FALSE) -> #N/A | E24: =MIN(80%,IF($D24=80%,0%,+Lijsten!$E$3+Deelnemersoverzicht!$D24+IF($B$13="Ja",+Lijsten!$E$11,0))) -> #N/A | F24: =IF(D24=80%,0%,+Lijsten!$E$4+Deelnemersoverzicht!$D24+IF($B$13="Ja",+Lijsten!$E$11,0)) -> #N/A | G24: =+IF(C24=Lijsten!$D$10,Lijsten!$E$10,0%) -> 0
A25: Deelnemer 6 (D6) | C25: <maak een keuze> | D25: =VLOOKUP(C25,Lijsten!$D$6:$E$10,2,FALSE) -> #N/A | E25: =MIN(80%,IF($D25=80%,0%,+Lijsten!$E$3+Deelnemersoverzicht!$D25+IF($B$13="Ja",+Lijsten!$E$11,0))) -> #N/A | F25: =IF(D25=80%,0%,+Lijsten!$E$4+Deelnemersoverzicht!$D25+IF($B$13="Ja",+Lijsten!$E$11,0)) -> #N/A | G25: =+IF(C25=Lijsten!$D$10,Lijsten!$E$10,0%) -> 0
A26: Deelnemer 7 (D7) | C26: <maak een keuze> | D26: =VLOOKUP(C26,Lijsten!$D$6:$E$10,2,FALSE) -> #N/A | E26: =MIN(80%,IF($D26=80%,0%,+Lijsten!$E$3+Deelnemersoverzicht!$D26+IF($B$13="Ja",+Lijsten!$E$11,0))) -> #N/A | F26: =IF(D26=80%,0%,+Lijsten!$E$4+Deelnemersoverzicht!$D26+IF($B$13="Ja",+Lijsten!$E$11,0)) -> #N/A | G26: =+IF(C26=Lijsten!$D$10,Lijsten!$E$10,0%) -> 0
A27: Deelnemer 8 (D8) | C27: <maak een keuze> | D27: =VLOOKUP(C27,Lijsten!$D$6:$E$10,2,FALSE) -> #N/A | E27: =MIN(80%,IF($D27=80%,0%,+Lijsten!$E$3+Deelnemersoverzicht!$D27+IF($B$13="Ja",+Lijsten!$E$11,0))) -> #N/A | F27: =IF(D27=80%,0%,+Lijsten!$E$4+Deelnemersoverzicht!$D27+IF($B$13="Ja",+Lijsten!$E$11,0)) -> #N/A | G27: =+IF(C27=Lijsten!$D$10,Lijsten!$E$10,0%) -> 0
A28: Deelnemer 9 (D9) | C28: <maak een keuze> | D28: =VLOOKUP(C28,Lijsten!$D$6:$E$10,2,FALSE) -> #N/A | E28: =MIN(80%,IF($D28=80%,0%,+Lijsten!$E$3+Deelnemersoverzicht!$D28+IF($B$13="Ja",+Lijsten!$E$11,0))) -> #N/A | F28: =IF(D28=80%,0%,+Lijsten!$E$4+Deelnemersoverzicht!$D28+IF($B$13="Ja",+Lijsten!$E$11,0)) -> #N/A | G28: =+IF(C28=Lijsten!$D$10,Lijsten!$E$10,0%) -> 0
A29: Deelnemer 10
A30: Deelnemer 11
A31: Deelnemer 12
A32: Deelnemer 13
A33: Deelnemer 14
A34: Deelnemer 15
A35: Deelnemer 16
A36: Deelnemer 17
A37: Deelnemer 18
A38: Deelnemer 19
A39: Deelnemer 20
A41: Private bijdragen in projectkosten (cash bijdrage)
A42: Derden die financieel bijdragen aan het project.
A43: Sponsor 1 | C43: <maak een keuze>
A44: Sponsor 2 | C44: <maak een keuze>
A45: Sponsor 3 | C45: <maak een keuze>
A46: Sponsor 4 | C46: <maak een keuze>
A47: Sponsor 5 | C47: <maak een keuze>
A48: Sponsor 6 | C48: <maak een keuze>
...

Sheet Projectoverzicht
A1: Projectoverzicht | C1: Projectnummer: | D1: =Deelnemersoverzicht!B5 -> Dit veld wordt door RVO ingevuld
C2: Titel: | D2: =Deelnemersoverzicht!B6 -> 0
B4: Naam | C4: Subsidiabele kosten | G4: Gevraagde subsidie | K4: Nog te financieren | V4: Onderstaande velden zijn nodig om de private In-kind bijdrage te berekenen! | AA4: T.b.v. totale projectkosten incl. DEMO:
C5: industrieel onderzoek | D5: experimentele ontwikkeling | E5: niet-economische activiteiten | F5: Totaal | G5: industrieel onderzoek | H5: experimentele ontwikkeling | I5: niet-economische activiteiten | J5: Totaal | V5: Type organisatie | W5: Sector | X5: Nog te financieren | Y5: Privaat in-Kind | AA5: Investeringskosten
A6: P | B6: =Deelnemersoverzicht!B19 -> 0 | C6: ='Begroting P'!$L$164 -> 0 | D6: ='Begroting P'!$M$164 -> 0 | E6: ='Begroting P'!$N$164 -> 0 | F6: =SUM(C6:E6) -> 0 | G6: ='Begroting P'!$L$170 -> #N/A | H6: ='Begroting P'!$M$170 -> #N/A | I6: ='Begroting P'!$N$170 -> 0 | J6: =G6+H6+I6 -> #N/A | K6: =F6-J6 -> #N/A | V6: =IF(B6>0,VLOOKUP(B6,Deelnemersoverzicht!$B$19:$C$39,2,FALSE),"") | W6: =IF(V6<>"",VLOOKUP(V6,Lijsten!$A$19:$B$26,2,0),"") | X6: =IF(W6="Privaat",K6,0) -> 0 | Y6: =IF(X6>0,X6-AB54,0) -> 0 | AA6: =F6 -> 0
A7: D1 | B7: =Deelnemersoverzicht!B20 -> 0 | C7: ='Begroting D1'!$L$164 -> 0 | D7: ='Begroting D1'!$M$164 -> 0 | E7: ='Begroting D1'!$N$164 -> 0 | F7: =SUM(C7:E7) -> 0 | G7: ='Begroting D1'!$L$170 -> #N/A | H7: ='Begroting D1'!$M$170 -> #N/A | I7: ='Begroting D1'!$N$170 -> 0 | J7: =G7+H7+I7 -> #N/A | K7: =F7-J7 -> #N/A | V7: =IF(B7>0,VLOOKUP(B7,Deelnemersoverzicht!$B$19:$C$39,2,FALSE),"") | W7: =IF(V7<>"",VLOOKUP(V7,Lijsten!$A$19:$B$26,2,0),"") | X7: =IF(W7="Privaat",K7,0) -> 0 | Y7: =IF(X7>0,X7-AB55,0) -> 0 | AA7: =F7 -> 0
A8: D2 | B8: =Deelnemersoverzicht!B21 -> 0 | C8: ='Begroting D2'!$L$164 -> 0 | D8: ='Begroting D2'!$M$164 -> 0 | E8: ='Begroting D2'!$N$164 -> 0 | F8: =SUM(C8:E8) -> 0 | G8: ='Begroting D2'!$L$170 -> #N/A | H8: ='Begroting D2'!$M$170 -> #N/A | I8: ='Begroting D2'!$N$170 -> 0 | J8: =G8+H8+I8 -> #N/A | K8: =F8-J8 -> #N/A | V8: =IF(B8>0,VLOOKUP(B8,Deelnemersoverzicht!$B$19:$C$39,2,FALSE),"") | W8: =IF(V8<>"",VLOOKUP(V8,Lijsten!$A$19:$B$26,2,0),"") | X8: =IF(W8="Privaat",K8,0) -> 0 | Y8: =IF(X8>0,X8-AB56,0) -> 0 | AA8: =F8 -> 0
A9: D3 | B9: =Deelnemersoverzicht!B22 -> 0 | C9: ='Begroting D3'!$L$164 -> 0 | D9: ='Begroting D3'!$M$164 -> 0 | E9: ='Begroting D3'!$N$164 -> 0 | F9: =SUM(C9:E9) -> 0 | G9: ='Begroting D3'!$L$170 -> #N/A | H9: ='Begroting D3'!$M$170 -> #N/A | I9: ='Begroting D3'!$N$170 -> 0 | J9: =G9+H9+I9 -> #N/A | K9: =F9-J9 -> #N/A | V9: =IF(B9>0,VLOOKUP(B9,Deelnemersoverzicht!$B$19:$C$39,2,FALSE),"") | W9: =IF(V9<>"",VLOOKUP(V9,Lijsten!$A$19:$B$26,2,0),"") | X9: =IF(W9="Privaat",K9,0) -> 0 | Y9: =IF(X9>0,X9-AB57,0) -> 0 | AA9: =F9 -> 0
A10: D4 | B10: =Deelnemersoverzicht!B23 -> 0 | C10: ='Begroting D4'!$L$164 -> 0 | D10: ='Begroting D4'!$M$164 -> 0 | E10: ='Begroting D4'!$N$164 -> 0 | F10: =SUM(C10:E10) -> 0 | G10: ='Begroting D4'!$L$170 -> #N/A | H10: ='Begroting D4'!$M$170 -> #N/A | I10: ='Begroting D4'!$N$170 -> 0 | J10: =G10+H10+I10 -> #N/A | K10: =F10-J10 -> #N/A | V10: =IF(B10>0,VLOOKUP(B10,Deelnemersoverzicht!$B$19:$C$39,2,FALSE),"") | W10: =IF(V10<>"",VLOOKUP(V10,Lijsten!$A$19:$B$26,2,0),"") | X10: =IF(W10="Privaat",K10,0) -> 0 | Y10: =IF(X10>0,X10-AB60,0) -> 0 | AA10: =F10 -> 0
A11: D5 | B11: =Deelnemersoverzicht!B24 -> 0 | C11: ='Begroting D5'!$L$164 -> 0 | D11: ='Begroting D5'!$M$164 -> 0 | E11: ='Begroting D5'!$N$164 -> 0 | F11: =SUM(C11:E11) -> 0 | G11: ='Begroting D5'!$L$170 -> #N/A | H11: ='Begroting D5'!$M$170 -> #N/A | I11: ='Begroting D5'!$N$170 -> 0 | J11: =G11+H11+I11 -> #N/A | K11: =F11-J11 -> #N/A | V11: =IF(B11>0,VLOOKUP(B11,Deelnemersoverzicht!$B$19:$C$39,2,FALSE),"") | W11: =IF(V11<>"",VLOOKUP(V11,Lijsten!$A$19:$B$26,2,0),"") | X11: =IF(W11="Privaat",K11,0) -> 0 | Y11: =IF(X11>0,X11-AB59,0) -> 0 | AA11: =F11 -> 0
A12: D6 | B12: =Deelnemersoverzicht!B25 -> 0 | C12: ='Begroting D6'!$L$164 -> 0 | D12: ='Begroting D6'!$M$164 -> 0 | E12: ='Begroting D6'!$N$164 -> 0 | F12: =SUM(C12:E12) -> 0 | G12: ='Begroting D6'!$L$170 -> #N/A | H12: ='Begroting D6'!$M$170 -> #N/A | I12: ='Begroting D6'!$N$170 -> 0 | J12: =G12+H12+I12 -> #N/A | K12: =F12-J12 -> #N/A | V12: =IF(B12>0,VLOOKUP(B12,Deelnemersoverzicht!$B$19:$C$39,2,FALSE),"") | W12: =IF(V12<>"",VLOOKUP(V12,Lijsten!$A$19:$B$26,2,0),"") | X12: =IF(W12="Privaat",K12,0) -> 0 | Y12: =IF(X12>0,X12-#REF!,0) -> 0 | AA12: =F12 -> 0
A13: D7 | B13: =Deelnemersoverzicht!B26 -> 0 | C13: ='Begroting D7'!$L$164 -> 0 | D13: ='Begroting D7'!$M$164 -> 0 | E13: ='Begroting D7'!$N$164 -> 0 | F13: =SUM(C13:E13) -> 0 | G13: ='Begroting D7'!$L$170 -> #N/A | H13: ='Begroting D7'!$M$170 -> #N/A | I13: ='Begroting D7'!$N$170 -> 0 | J13: =G13+H13+I13 -> #N/A | K13: =F13-J13 -> #N/A | V13: =IF(B13>0,VLOOKUP(B13,Deelnemersoverzicht!$B$19:$C$39,2,FALSE),"") | W13: =IF(V13<>"",VLOOKUP(V13,Lijsten!$A$19:$B$26,2,0),"") | X13: =IF(W13="Privaat",K13,0) -> 0 | Y13: =IF(X13>0,X13-#REF!,0) -> 0 | AA13: =F13 -> 0
A14: D8 | B14: =Deelnemersoverzicht!B27 -> 0 | C14: ='Begroting D8'!$L$164 -> 0 | D14: ='Begroting D8'!$M$164 -> 0 | E14: ='Begroting D8'!$N$164 -> 0 | F14: =SUM(C14:E14) -> 0 | G14: ='Begroting D8'!$L$170 -> #N/A | H14: ='Begroting D8'!$M$170 -> #N/A | I14: ='Begroting D8'!$N$170 -> 0 | J14: =G14+H14+I14 -> #N/A | K14: =F14-J14 -> #N/A | V14: =IF(B14>0,VLOOKUP(B14,Deelnemersoverzicht!$B$19:$C$39,2,FALSE),"") | W14: =IF(V14<>"",VLOOKUP(V14,Lijsten!$A$19:$B$26,2,0),"") | X14: =IF(W14="Privaat",K14,0) -> 0 | Y14: =IF(X14>0,X14-#REF!,0) -> 0 | AA14: =F14 -> 0
A15: D9 | B15: =Deelnemersoverzicht!B28 -> 0 | C15: ='Begroting D9'!$L$164 -> 0 | D15: ='Begroting D9'!$M$164 -> 0 | E15: ='Begroting D9'!$N$164 -> 0 | F15: =SUM(C15:E15) -> 0 | G15: ='Begroting D9'!$L$170 -> #N/A | H15: ='Begroting D9'!$M$170 -> #N/A | I15: ='Begroting D9'!$N$170 -> 0 | J15: =G15+H15+I15 -> #N/A | K15: =F15-J15 -> #N/A | V15: =IF(B15>0,VLOOKUP(B15,Deelnemersoverzicht!$B$19:$C$39,2,FALSE),"") | W15: =IF(V15<>"",VLOOKUP(V15,Lijsten!$A$19:$B$26,2,0),"") | X15: =IF(W15="Privaat",K15,0) -> 0 | Y15: =IF(X15>0,X15-AB61,0) -> 0 | AA15: =F15 -> 0
B16: Totaal | C16: =SUM(C6:C15) -> 0 | D16: =SUM(D6:D15) -> 0 | E16: =SUM(E6:E15) -> 0 | F16: =SUM(F6:F15) -> 0 | G16: =SUM(G6:G15) -> #N/A | H16: =SUM(H6:H15) -> #N/A | I16: =SUM(I6:I15) -> 0 | J16: =G16+H16+I16 -> #N/A | K16: =F16-J16 -> #N/A | V16: Totaal privaat nog te financieren | X16: =SUM(X6:X15) -> 0 | Y16: =SUM(Y6:Y15) -> 0 | AA16: =SUM(AA6:AA15) -> 0
N17: =IF(AND(J16>1,J16<150000),"Let op: U vraagt minder dan de minimale subsidie aan. Uw aanvraag wordt afgewezen als de subsidie minder dan €150.000 bedraagt.",IF(J16>500000,"LET OP: De maximale subsidie voor deze regeling betreft €500.000 per project!","")) -> #N/A
B18: Financiering | AA18: {=INDIRECT("'Begroting "&A6&"'!m168")} -> 0
B19: Onderbouwing | C19: Bedrag (€) | D19: Toelichting | H19: Toelichting | AA19: {=INDIRECT("'Begroting "&A7&"'!m168")} -> 0
B20: Reeds ontvangen subsidies voor de subsidiabele kosten | C20: =+'Begroting P'!O168+'Begroting D1'!O168+'Begroting D2'!O168+'Begroting D3'!O168+'Begroting D4'!O168+'Begroting D5'!O168+'Begroting D6'!O168+'Begroting D7'!O168+'Begroting D8'!O168+'Begroting D9'!O168 -> 0 | H20: Geef aan hoe u het project gaat financieren. Specificeer in de gele blokken hoe u de eigen bijdrage gaat financieren. U financiert de eigen bijdrage met bijvoorbeeld: 1. Eigen middelen: voldoende financiële middelen om het project te financieren. 2. Lening en/of investering: toezegging van lening en/of investering waarmee het project zal worden gefinancierd. 3. Andere subsidieverstrekkingen: aantoonbaar door een beslissing op betreffende subsidieaanvraag. Heeft u deze nog niet? Stuur dan een kopie van het aanvraagformulier. Een cumulatie, stapeling van subsidies, is meestal maar beperkt mogelijk door cumulatie- of uitsluitingsbepaling. Dit controleren wij. 4. Financiering van derde: een cash-bijdrage in de vorm van sponsoring. Zie toelichting ‘cash bijdrage’ hieronder. Wij wijzen een aanvraag af als er onvoldoende vertrouwen is dat u het project kan financieren. De kans dat het project mislukt of pas veel later van start gaat, is dan te groot. U mag de eigen bijdrage niet financieren met de aangevraagde subsidie. Mogelijk vragen wij aanvullende informatie op. | AA20: {=INDIRECT("'Begroting "&A8&"'!m168")} -> 0
B21: Gevraagde subsidie | C21: =J16 -> #N/A | AA21: {=INDIRECT("'Begroting "&A9&"'!m168")} -> 0
B22: Cash-bijdrage | C22: =C41 -> 0 | AA22: {=INDIRECT("'Begroting "&A10&"'!m168")} -> 0
B23: In-kind bijdrage | C23: =C52 -> 0 | AA23: {=INDIRECT("'Begroting "&A11&"'!m168")} -> 0
B24: Eigen bijdrage | C24: 0
B25: Eigen bijdrage | C25: 0
B26: Eigen bijdrage | C26: 0
B27: Eigen bijdrage | C27: 0 | AA27: {=INDIRECT("'Begroting "&A12&"'!m168")} -> 0
B28: Eigen bijdrage | C28: 0 | AA28: {=INDIRECT("'Begroting "&A13&"'!m168")} -> 0
B29: Eigen bijdrage | C29: 0 | AA29: {=INDIRECT("'Begroting "&A14&"'!m168")} -> 0
C30: =SUM(C20:C29) -> #N/A | D30: Nog te financieren | F30: =+F16-C30 -> #N/A | AA30: {=INDIRECT("'Begroting "&A15&"'!m168")} -> 0
AA31: =SUM(AA18:AA30) -> 0
B32: Cash bijdrage van: | C32: Bedrag (€) | D32: Cash bijdrage aan: | G32: Toelichting
G33: Cash bijdrage is een financiële bijdrage die een deelnemer ontvangt om zijn activiteiten te bekostigen, zoals sponsoring of een private bijdrage. Voeg de verstrekkende deelnemer/sponsor toe op: • het tabblad "Deelnemersoverzicht" en "Projectoverzicht"; • het projectplan onder de kop “Deelnemersoverzicht”; • het aanvraagformulier van het aanvraagportaal; • het formulier “Aanmelding deelnemer en machtiging penvoerder”.
B41: Totaal | C41: =SUM(C33:C40) -> 0
B43: In-kind bijdrage van: | C43: Bedrag (€) | D43: In-kind bijdrage aan: | G43: Toelichting
G44: In-kind bijdrage is een bijdrage in natura, bijvoorbeeld een machine of mensen die aan het project werken. Een in-kind deelnemer vraagt daar geen subsidie voor aan. Neem de deelnemer op in: • het tabblad "Deelnemersoverzicht" en "Projectoverzicht"; • het projectplan onder de kop “Deelnemersoverzicht”; • het aanvraagformulier van het aanvraagportaal; • het formulier “Aanmelding deelnemer en machtiging penvoerder”; • op een deelnemerstabblad in de begroting met de kosten per activiteiten. Bij gevraagde subsidie vraagt u € 0 subsidie aan.
B52: Totaal | C52: =SUM(C44:C51) -> 0
AA53: Organisatie | AB53: Cash bijdrage | AC53: Cash ontvangen
B54: De onderstaande tabel dient ter informatie en wordt automatisch gevuld. | Z54: =B6 -> 0 | AA54: =SUMIF($B$33:$B$40,Z54,$C$33:$C$40) -> 0 | AB54: =SUMIF($D$33:$F$40,Z54,$C$33:$C$40) -> 0
B55: Kosten en ontvangsten | D55: € | E55: Toelichting | Z55: =B7 -> 0 | AA55: =SUMIF($B$33:$B$40,Z55,$C$33:$C$40) -> 0 | AB55: =SUMIF($D$33:$F$40,Z55,$C$33:$C$40) -> 0
B56: Totale projectkosten | D56: =F16 -> 0 | E56: Het totaal aan subsidiabele projectkosten | Z56: =B8 -> 0 | AA56: =SUMIF($B$33:$B$40,Z56,$C$33:$C$40) -> 0 | AB56: =SUMIF($D$33:$F$40,Z56,$C$33:$C$40) -> 0
...

Sheet Begroting P
C1: Model begroting | H1: =IF(Deelnemersoverzicht!B5="(Dit veld wordt ingevuld door RVO)","",Deelnemersoverzicht!B5) -> Dit veld wordt door RVO ingevuld | U1: KOLOM VERBERGEN!!
C2: NBS Living Labs 2026
C4: Gegevens per deelnemer:
C6: =Deelnemersoverzicht!A19 -> Penvoerder (P) | F6: =Deelnemersoverzicht!B19 -> 0
C7: Titel project | F7: =Deelnemersoverzicht!B6 -> 0
C8: BTW | F8: <maak een keuze>
C9: Gebruikte loonsystematiek | F9: <maak een keuze>
F10: =IF(F9="Integrale kostensystematiek","Let op! U dient in de begroting de IKS-tarieven zo te specificeren dat deze te controleren zijn op basis van de door u aangeleverde","")
F11: =IF(F9="Integrale kostensystematiek","IKS tarieven aan RVO. Bijvoorbeeld: divisie R&D, loonschaal 10. Vul dit in bij toelichting IKS.","")
B13: ONDERDEEL A
B14: Overzicht kosten
B16: A1. | C16: Loonkosten
G18: =IF(AND($F$9="Integrale kostensystematiek",COUNTA(C20:D55)>COUNTA(G20:G55)),"Let op! U dient de Toelichting IKS in te vullen","") | J18: Aantal uren | M18: Kosten €
B19: Werkpakket | C19: Functie | E19: Rol in het project | G19: Toelichting IKS bijv. divisie R&D, schaal 11 | H19: Uurtarief | J19: =IF(Deelnemersoverzicht!$C$19=Lijsten!$A$23,"",Lijsten!$D$3) -> Industrieel onderzoek | K19: =IF(Deelnemersoverzicht!$C$19=Lijsten!$A$23,"",Lijsten!$D$4) -> Experimentele ontwikkeling | L19: Niet-econ. activiteiten | M19: =IF(Deelnemersoverzicht!$C$19=Lijsten!$A$23,"",Lijsten!$D$3) -> Industrieel onderzoek | N19: =IF(Deelnemersoverzicht!$C$19=Lijsten!$A$23,"",Lijsten!$D$4) -> Experimentele ontwikkeling | O19: Niet-econ. activiteiten
M20: =+H20*J20 -> 0 | N20: =+H20*K20 -> 0 | O20: =H20*L20 -> 0
M21: =+H21*J21 -> 0 | N21: =+H21*K21 -> 0 | O21: =H21*L21 -> 0
M22: =+H22*J22 -> 0 | N22: =+H22*K22 -> 0 | O22: =H22*L22 -> 0
M23: =+H23*J23 -> 0 | N23: =+H23*K23 -> 0 | O23: =H23*L23 -> 0
M24: =+H24*J24 -> 0 | N24: =+H24*K24 -> 0 | O24: =H24*L24 -> 0
M25: =+H25*J25 -> 0 | N25: =+H25*K25 -> 0 | O25: =H25*L25 -> 0
M26: =+H26*J26 -> 0 | N26: =+H26*K26 -> 0 | O26: =H26*L26 -> 0
M27: =+H27*J27 -> 0 | N27: =+H27*K27 -> 0 | O27: =H27*L27 -> 0
M28: =+H28*J28 -> 0 | N28: =+H28*K28 -> 0 | O28: =H28*L28 -> 0
M29: =+H29*J29 -> 0 | N29: =+H29*K29 -> 0 | O29: =H29*L29 -> 0
M30: =+H30*J30 -> 0 | N30: =+H30*K30 -> 0 | O30: =H30*L30 -> 0
M31: =+H31*J31 -> 0 | N31: =+H31*K31 -> 0 | O31: =H31*L31 -> 0
... M55: =+H55*J55 -> 0 | N55: =+H55*K55 -> 0 | O55: =H55*L55 -> 0
I56: Totale loonkosten | M56: =SUM(M20:M55) -> 0 | N56: =SUM(N20:N55) -> 0 | O56: =SUM(O20:O55) -> 0
B58: A2. | C58: Machines en apparaten die niet uitsluitend voor het project worden gebruikt
D60: =IF(COUNTA(D62:D83)<COUNTA(E62:E83),"Let op! Vul ook de aanschafdatum in!","") | J60: Aantal uur in gebruik t.b.v. project | M60: Kosten €
B61: Werkpakket | C61: Omschrijving kosten | D61: Aanschafdatum | E61: Aanschafwaarde | F61: Afschrijving in jaren (minimaal 5 jaar) | G61: Fiscale afschrijving per jaar | H61: Totaal uren bij normale bezetting per jaar | I61: Afschrijving per uur | J61: =IF(Deelnemersoverzicht!$C$19=Lijsten!$A$23,"",Lijsten!$D$3) -> Industrieel onderzoek | K61: =IF(Deelnemersoverzicht!$C$19=Lijsten!$A$23,"",Lijsten!$D$4) -> Experimentele ontwikkeling | L61: Niet-econ. Activiteiten | M61: =IF(Deelnemersoverzicht!$C$19=Lijsten!$A$23,"",Lijsten!$D$3) -> Industrieel onderzoek | N61: =IF(Deelnemersoverzicht!$C$19=Lijsten!$A$23,"",Lijsten!$D$4) -> Experimentele ontwikkeling | O61: Niet-econ. activiteiten | U61: Restwaarde afschrijvingen
G62: =IFERROR(E62/F62,0) -> 0 | I62: =IFERROR(G62/H62,0) -> 0 | M62: =+H62*J62 -> 0 | N62: =+H62*K62 -> 0 | O62: =I62*L62 -> 0 | U62: =IFERROR(IF(D62>=Deelnemersoverzicht!$B$9,"Na startdatum aangekocht", IF(DATEDIF('Begroting P'!$D62,Startdatum,"D")>0,IF((('Begroting P'!$F62-((DATEDIF($D62,Startdatum,"M")/12)))*($E62/$F62))<0,"Dit is afgeschreven!",(('Begroting P'!$F62-((DATEDIF($D62,Startdatum,"M")/12)))*($E62/$F62))),($E62/$F62))),0) -> Na startdatum aangekocht
G63: =IFERROR(E63/F63,0) -> 0 | I63: =IFERROR(G63/H63,0) -> 0 | M63: =+H63*J63 -> 0 | N63: =+H63*K63 -> 0 | O63: =I63*L63 -> 0 | U63: =IFERROR(IF(D63>=Deelnemersoverzicht!$B$9,"Na startdatum aangekocht", IF(DATEDIF('Begroting P'!$D63,Startdatum,"D")>0,IF((('Begroting P'!$F63-((DATEDIF($D63,Startdatum,"M")/12)))*($E63/$F63))<0,"Dit is afgeschreven!",(('Begroting P'!$F63-((DATEDIF($D63,Startdatum,"M")/12)))*($E63/$F63))),($E63/$F63))),0) -> Na startdatum aangekocht
G64: =IFERROR(E64/F64,0) -> 0 | I64: =IFERROR(G64/H64,0) -> 0 | M64: =+H64*J64 -> 0 | N64: =+H64*K64 -> 0 | O64: =I64*L64 -> 0 | U64: =IFERROR(IF(D64>=Deelnemersoverzicht!$B$9,"Na startdatum aangekocht", IF(DATEDIF('Begroting P'!$D64,Startdatum,"D")>0,IF((('Begroting P'!$F64-((DATEDIF($D64,Startdatum,"M")/12)))*($E64/$F64))<0,"Dit is afgeschreven!",(('Begroting P'!$F64-((DATEDIF($D64,Startdatum,"M")/12)))*($E64/$F64))),($E64/$F64))),0) -> Na startdatum aangekocht
G65: =IFERROR(E65/F65,0) -> 0 | I65: =IFERROR(G65/H65,0) -> 0 | M65: =+H65*J65 -> 0 | N65: =+H65*K65 -> 0 | O65: =I65*L65 -> 0 | U65: =IFERROR(IF(D65>=Deelnemersoverzicht!$B$9,"Na startdatum aangekocht", IF(DATEDIF('Begroting P'!$D65,Startdatum,"D")>0,IF((('Begroting P'!$F65-((DATEDIF($D65,Startdatum,"M")/12)))*($E65/$F65))<0,"Dit is afgeschreven!",(('Begroting P'!$F65-((DATEDIF($D65,Startdatum,"M")/12)))*($E65/$F65))),($E65/$F65))),0) -> Na startdatum aangekocht
G66: =IFERROR(E66/F66,0) -> 0 | I66: =IFERROR(G66/H66,0) -> 0 | M66: =+H66*J66 -> 0 | N66: =+H66*K66 -> 0 | O66: =I66*L66 -> 0 | U66: =IFERROR(IF(D66>=Deelnemersoverzicht!$B$9,"Na startdatum aangekocht", IF(DATEDIF('Begroting P'!$D66,Startdatum,"D")>0,IF((('Begroting P'!$F66-((DATEDIF($D66,Startdatum,"M")/12)))*($E66/$F66))<0,"Dit is afgeschreven!",(('Begroting P'!$F66-((DATEDIF($D66,Startdatum,"M")/12)))*($E66/$F66))),($E66/$F66))),0) -> Na startdatum aangekocht
G67: =IFERROR(E67/F67,0) -> 0 | I67: =IFERROR(G67/H67,0) -> 0 | M67: =+H67*J67 -> 0 | N67: =+H67*K67 -> 0 | O67: =I67*L67 -> 0 | U67: =IFERROR(IF(D67>=Deelnemersoverzicht!$B$9,"Na startdatum aangekocht", IF(DATEDIF('Begroting P'!$D67,Startdatum,"D")>0,IF((('Begroting P'!$F67-((DATEDIF($D67,Startdatum,"M")/12)))*($E67/$F67))<0,"Dit is afgeschreven!",(('Begroting P'!$F67-((DATEDIF($D67,Startdatum,"M")/12)))*($E67/$F67))),($E67/$F67))),0) -> Na startdatum aangekocht
G68: =IFERROR(E68/F68,0) -> 0 | I68: =IFERROR(G68/H68,0) -> 0 | M68: =+H68*J68 -> 0 | N68: =+H68*K68 -> 0 | O68: =I68*L68 -> 0 | U68: =IFERROR(IF(D68>=Deelnemersoverzicht!$B$9,"Na startdatum aangekocht", IF(DATEDIF('Begroting P'!$D68,Startdatum,"D")>0,IF((('Begroting P'!$F68-((DATEDIF($D68,Startdatum,"M")/12)))*($E68/$F68))<0,"Dit is afgeschreven!",(('Begroting P'!$F68-((DATEDIF($D68,Startdatum,"M")/12)))*($E68/$F68))),($E68/$F68))),0) -> Na startdatum aangekocht
G69: =IFERROR(E69/F69,0) -> 0 | I69: =IFERROR(G69/H69,0) -> 0 | M69: =+H69*J69 -> 0 | N69: =+H69*K69 -> 0 | O69: =I69*L69 -> 0 | U69: =IFERROR(IF(D69>=Deelnemersoverzicht!$B$9,"Na startdatum aangekocht", IF(DATEDIF('Begroting P'!$D69,Startdatum,"D")>0,IF((('Begroting P'!$F69-((DATEDIF($D69,Startdatum,"M")/12)))*($E69/$F69))<0,"Dit is afgeschreven!",(('Begroting P'!$F69-((DATEDIF($D69,Startdatum,"M")/12)))*($E69/$F69))),($E69/$F69))),0) -> Na startdatum aangekocht
G70: =IFERROR(E70/F70,0) -> 0 | I70: =IFERROR(G70/H70,0) -> 0 | M70: =+H70*J70 -> 0 | N70: =+H70*K70 -> 0 | O70: =I70*L70 -> 0 | U70: =IFERROR(IF(D70>=Deelnemersoverzicht!$B$9,"Na startdatum aangekocht", IF(DATEDIF('Begroting P'!$D70,Startdatum,"D")>0,IF((('Begroting P'!$F70-((DATEDIF($D70,Startdatum,"M")/12)))*($E70/$F70))<0,"Dit is afgeschreven!",(('Begroting P'!$F70-((DATEDIF($D70,Startdatum,"M")/12)))*($E70/$F70))),($E70/$F70))),0) -> Na startdatum aangekocht
...

Sheet Begroting D1
C1: Model begroting | H1: =IF(Deelnemersoverzicht!B5="(Dit veld wordt ingevuld door RVO)","",Deelnemersoverzicht!B5) -> Dit veld wordt door RVO ingevuld | U1: KOLOM VERBERGEN!!
C2: NBS Living Labs 2026
C4: Gegevens per deelnemer:
C6: =Deelnemersoverzicht!A20 -> Deelnemer 1 (D1) | F6: =Deelnemersoverzicht!B20 -> 0
C7: Titel project | F7: =Deelnemersoverzicht!B6 -> 0
C8: BTW | F8: <maak een keuze>
C9: Gebruikte loonsystematiek | F9: <maak een keuze>
F10: =IF(F9="Integrale kostensystematiek","Let op! U dient in de begroting de IKS-tarieven zo te specificeren dat deze te controleren zijn op basis van de door u aangeleverde","")
F11: =IF(F9="Integrale kostensystematiek","IKS tarieven aan RVO. Bijvoorbeeld: divisie R&D, loonschaal 10. Vul dit in bij toelichting IKS.","")
B13: ONDERDEEL A
B14: Overzicht kosten
B16: A1. | C16: Loonkosten
G18: =IF(AND($F$9="Integrale kostensystematiek",COUNTA(C20:D55)>COUNTA(G20:G55)),"Let op! U dient de Toelichting IKS in te vullen","") | J18: Aantal uren | M18: Kosten €
B19: Werkpakket | C19: Functie | E19: Rol in het project | G19: Toelichting IKS bijv. divisie R&D, schaal 11 | H19: Uurtarief | J19: =IF(Deelnemersoverzicht!$C$20=Lijsten!$A$23,"",Lijsten!$D$3) -> Industrieel onderzoek | K19: =IF(Deelnemersoverzicht!$C$20=Lijsten!$A$23,"",Lijsten!$D$4) -> Experimentele ontwikkeling | L19: Niet-econ. activiteiten | M19: =IF(Deelnemersoverzicht!$C$20=Lijsten!$A$23,"",Lijsten!$D$3) -> Industrieel onderzoek | N19: =IF(Deelnemersoverzicht!$C$20=Lijsten!$A$23,"",Lijsten!$D$4) -> Experimentele ontwikkeling | O19: Niet-econ. activiteiten
M20: =+H20*J20 -> 0 | N20: =+H20*K20 -> 0 | O20: =H20*L20 -> 0
M21: =+H21*J21 -> 0 | N21: =+H21*K21 -> 0 | O21: =H21*L21 -> 0
M22: =+H22*J22 -> 0 | N22: =+H22*K22 -> 0 | O22: =H22*L22 -> 0
M23: =+H23*J23 -> 0 | N23: =+H23*K23 -> 0 | O23: =H23*L23 -> 0
M24: =+H24*J24 -> 0 | N24: =+H24*K24 -> 0 | O24: =H24*L24 -> 0
M25: =+H25*J25 -> 0 | N25: =+H25*K25 -> 0 | O25: =H25*L25 -> 0
M26: =+H26*J26 -> 0 | N26: =+H26*K26 -> 0 | O26: =H26*L26 -> 0
M27: =+H27*J27 -> 0 | N27: =+H27*K27 -> 0 | O27: =H27*L27 -> 0
M28: =+H28*J28 -> 0 | N28: =+H28*K28 -> 0 | O28: =H28*L28 -> 0
M29: =+H29*J29 -> 0 | N29: =+H29*K29 -> 0 | O29: =H29*L29 -> 0
M30: =+H30*J30 -> 0 | N30: =+H30*K30 -> 0 | O30: =H30*L30 -> 0
M31: =+H31*J31 -> 0 | N31: =+H31*K31 -> 0 | O31: =H31*L31 -> 0
... M55: =+H55*J55 -> 0 | N55: =+H55*K55 -> 0 | O55: =H55*L55 -> 0
I56: Totale loonkosten | M56: =SUM(M20:M55) -> 0 | N56: =SUM(N20:N55) -> 0 | O56: =SUM(O20:O55) -> 0
B58: A2. | C58: Machines en apparaten die niet uitsluitend voor het project worden gebruikt
D60: =IF(COUNTA(D62:D83)<COUNTA(E62:E83),"Let op! Vul ook de aanschafdatum in!","") | J60: Aantal uur in gebruik t.b.v. project | M60: Kosten €
B61: Werkpakket | C61: Omschrijving kosten | D61: Aanschafdatum | E61: Aanschafwaarde | F61: Afschrijving in jaren (minimaal 5 jaar) | G61: Fiscale afschrijving per jaar | H61: Totaal uren bij normale bezetting per jaar | I61: Afschrijving per uur | J61: =+J19 -> Industrieel onderzoek | K61: =+K19 -> Experimentele ontwikkeling | L61: Niet-econ. Activiteiten | M61: =+J19 -> Industrieel onderzoek | N61: =+K19 -> Experimentele ontwikkeling | O61: Niet-econ. activiteiten | U61: Restwaarde afschrijvingen
G62: =IFERROR(E62/F62,0) -> 0 | I62: =IFERROR(G62/H62,0) -> 0 | L62: 200 | M62: =+H62*J62 -> 0 | N62: =+H62*K62 -> 0 | O62: =I62*L62 -> 0 | U62: =IFERROR(IF(D62>=Deelnemersoverzicht!$B$9,"Na startdatum aangekocht", IF(DATEDIF('Begroting P'!$D62,Startdatum,"D")>0,IF((('Begroting P'!$F62-((DATEDIF($D62,Startdatum,"M")/12)))*($E62/$F62))<0,"Dit is afgeschreven!",(('Begroting P'!$F62-((DATEDIF($D62,Startdatum,"M")/12)))*($E62/$F62))),($E62/$F62))),0) -> Na startdatum aangekocht
G63: =IFERROR(E63/F63,0) -> 0 | I63: =IFERROR(G63/H63,0) -> 0 | M63: =+H63*J63 -> 0 | N63: =+H63*K63 -> 0 | O63: =I63*L63 -> 0 | U63: =IFERROR(IF(D63>=Deelnemersoverzicht!$B$9,"Na startdatum aangekocht", IF(DATEDIF('Begroting P'!$D63,Startdatum,"D")>0,IF((('Begroting P'!$F63-((DATEDIF($D63,Startdatum,"M")/12)))*($E63/$F63))<0,"Dit is afgeschreven!",(('Begroting P'!$F63-((DATEDIF($D63,Startdatum,"M")/12)))*($E63/$F63))),($E63/$F63))),0) -> Na startdatum aangekocht
G64: =IFERROR(E64/F64,0) -> 0 | I64: =IFERROR(G64/H64,0) -> 0 | M64: =+H64*J64 -> 0 | N64: =+H64*K64 -> 0 | O64: =I64*L64 -> 0 | U64: =IFERROR(IF(D64>=Deelnemersoverzicht!$B$9,"Na startdatum aangekocht", IF(DATEDIF('Begroting P'!$D64,Startdatum,"D")>0,IF((('Begroting P'!$F64-((DATEDIF($D64,Startdatum,"M")/12)))*($E64/$F64))<0,"Dit is afgeschreven!",(('Begroting P'!$F64-((DATEDIF($D64,Startdatum,"M")/12)))*($E64/$F64))),($E64/$F64))),0) -> Na startdatum aangekocht
G65: =IFERROR(E65/F65,0) -> 0 | I65: =IFERROR(G65/H65,0) -> 0 | M65: =+H65*J65 -> 0 | N65: =+H65*K65 -> 0 | O65: =I65*L65 -> 0 | U65: =IFERROR(IF(D65>=Deelnemersoverzicht!$B$9,"Na startdatum aangekocht", IF(DATEDIF('Begroting P'!$D65,Startdatum,"D")>0,IF((('Begroting P'!$F65-((DATEDIF($D65,Startdatum,"M")/12)))*($E65/$F65))<0,"Dit is afgeschreven!",(('Begroting P'!$F65-((DATEDIF($D65,Startdatum,"M")/12)))*($E65/$F65))),($E65/$F65))),0) -> Na startdatum aangekocht
G66: =IFERROR(E66/F66,0) -> 0 | I66: =IFERROR(G66/H66,0) -> 0 | M66: =+H66*J66 -> 0 | N66: =+H66*K66 -> 0 | O66: =I66*L66 -> 0 | U66: =IFERROR(IF(D66>=Deelnemersoverzicht!$B$9,"Na startdatum aangekocht", IF(DATEDIF('Begroting P'!$D66,Startdatum,"D")>0,IF((('Begroting P'!$F66-((DATEDIF($D66,Startdatum,"M")/12)))*($E66/$F66))<0,"Dit is afgeschreven!",(('Begroting P'!$F66-((DATEDIF($D66,Startdatum,"M")/12)))*($E66/$F66))),($E66/$F66))),0) -> Na startdatum aangekocht
G67: =IFERROR(E67/F67,0) -> 0 | I67: =IFERROR(G67/H67,0) -> 0 | M67: =+H67*J67 -> 0 | N67: =+H67*K67 -> 0 | O67: =I67*L67 -> 0 | U67: =IFERROR(IF(D67>=Deelnemersoverzicht!$B$9,"Na startdatum aangekocht", IF(DATEDIF('Begroting P'!$D67,Startdatum,"D")>0,IF((('Begroting P'!$F67-((DATEDIF($D67,Startdatum,"M")/12)))*($E67/$F67))<0,"Dit is afgeschreven!",(('Begroting P'!$F67-((DATEDIF($D67,Startdatum,"M")/12)))*($E67/$F67))),($E67/$F67))),0) -> Na startdatum aangekocht
G68: =IFERROR(E68/F68,0) -> 0 | I68: =IFERROR(G68/H68,0) -> 0 | M68: =+H68*J68 -> 0 | N68: =+H68*K68 -> 0 | O68: =I68*L68 -> 0 | U68: =IFERROR(IF(D68>=Deelnemersoverzicht!$B$9,"Na startdatum aangekocht", IF(DATEDIF('Begroting P'!$D68,Startdatum,"D")>0,IF((('Begroting P'!$F68-((DATEDIF($D68,Startdatum,"M")/12)))*($E68/$F68))<0,"Dit is afgeschreven!",(('Begroting P'!$F68-((DATEDIF($D68,Startdatum,"M")/12)))*($E68/$F68))),($E68/$F68))),0) -> Na startdatum aangekocht
G69: =IFERROR(E69/F69,0) -> 0 | I69: =IFERROR(G69/H69,0) -> 0 | M69: =+H69*J69 -> 0 | N69: =+H69*K69 -> 0 | O69: =I69*L69 -> 0 | U69: =IFERROR(IF(D69>=Deelnemersoverzicht!$B$9,"Na startdatum aangekocht", IF(DATEDIF('Begroting P'!$D69,Startdatum,"D")>0,IF((('Begroting P'!$F69-((DATEDIF($D69,Startdatum,"M")/12)))*($E69/$F69))<0,"Dit is afgeschreven!",(('Begroting P'!$F69-((DATEDIF($D69,Startdatum,"M")/12)))*($E69/$F69))),($E69/$F69))),0) -> Na startdatum aangekocht
G70: =IFERROR(E70/F70,0) -> 0 | I70: =IFERROR(G70/H70,0) -> 0 | M70: =+H70*J70 -> 0 | N70: =+H70*K70 -> 0 | O70: =I70*L70 -> 0 | U70: =IFERROR(IF(D70>=Deelnemersoverzicht!$B$9,"Na startdatum aangekocht", IF(DATEDIF('Begroting P'!$D70,Startdatum,"D")>0,IF((('Begroting P'!$F70-((DATEDIF($D70,Startdatum,"M")/12)))*($E70/$F70))<0,"Dit is afgeschreven!",(('Begroting P'!$F70-((DATEDIF($D70,Startdatum,"M")/12)))*($E70/$F70))),($E70/$F70))),0) -> Na startdatum aangekocht
...

Sheet Begroting D2
C1: Model begroting | H1: =IF(Deelnemersoverzicht!B5="(Dit veld wordt ingevuld door RVO)","",Deelnemersoverzicht!B5) -> Dit veld wordt door RVO ingevuld | U1: KOLOM VERBERGEN!!
C2: NBS Living Labs 2026
C4: Gegevens per deelnemer:
C6: =Deelnemersoverzicht!A21 -> Deelnemer 2 (D2) | F6: =Deelnemersoverzicht!B21 -> 0
C7: Titel project | F7: =Deelnemersoverzicht!B6 -> 0
C8: BTW | F8: <maak een keuze>
C9: Gebruikte loonsystematiek | F9: <maak een keuze>
F10: =IF(F9="Integrale kostensystematiek","Let op! U dient in de begroting de IKS-tarieven zo te specificeren dat deze te controleren zijn op basis van de door u aangeleverde","")
F11: =IF(F9="Integrale kostensystematiek","IKS tarieven aan RVO. Bijvoorbeeld: divisie R&D, loonschaal 10. Vul dit in bij toelichting IKS.","")
B13: ONDERDEEL A
B14: Overzicht kosten
B16: A1. | C16: Loonkosten
G18: =IF(AND($F$9="Integrale kostensystematiek",COUNTA(C20:D55)>COUNTA(G20:G55)),"Let op! U dient de Toelichting IKS in te vullen","") | J18: Aantal uren | M18: Kosten €
B19: Werkpakket | C19: Functie | E19: Rol in het project | G19: Toelichting IKS bijv. divisie R&D, schaal 11 | H19: Uurtarief | J19: =IF(Deelnemersoverzicht!$C$21=Lijsten!$A$23,"",Lijsten!$D$3) -> Industrieel onderzoek | K19: =IF(Deelnemersoverzicht!$C$21=Lijsten!$A$23,"",Lijsten!$D$4) -> Experimentele ontwikkeling | L19: Niet-econ. activiteiten | M19: =IF(Deelnemersoverzicht!$C$21=Lijsten!$A$23,"",Lijsten!$D$3) -> Industrieel onderzoek | N19: =IF(Deelnemersoverzicht!$C$21=Lijsten!$A$23,"",Lijsten!$D$4) -> Experimentele ontwikkeling | O19: Niet-econ. activiteiten
M20: =+H20*J20 -> 0 | N20: =+H20*K20 -> 0 | O20: =H20*L20 -> 0
M21: =+H21*J21 -> 0 | N21: =+H21*K21 -> 0 | O21: =H21*L21 -> 0
M22: =+H22*J22 -> 0 | N22: =+H22*K22 -> 0 | O22: =H22*L22 -> 0
M23: =+H23*J23 -> 0 | N23: =+H23*K23 -> 0 | O23: =H23*L23 -> 0
M24: =+H24*J24 -> 0 | N24: =+H24*K24 -> 0 | O24: =H24*L24 -> 0
M25: =+H25*J25 -> 0 | N25: =+H25*K25 -> 0 | O25: =H25*L25 -> 0
M26: =+H26*J26 -> 0 | N26: =+H26*K26 -> 0 | O26: =H26*L26 -> 0
M27: =+H27*J27 -> 0 | N27: =+H27*K27 -> 0 | O27: =H27*L27 -> 0
M28: =+H28*J28 -> 0 | N28: =+H28*K28 -> 0 | O28: =H28*L28 -> 0
M29: =+H29*J29 -> 0 | N29: =+H29*K29 -> 0 | O29: =H29*L29 -> 0
M30: =+H30*J30 -> 0 | N30: =+H30*K30 -> 0 | O30: =H30*L30 -> 0
M31: =+H31*J31 -> 0 | N31: =+H31*K31 -> 0 | O31: =H31*L31 -> 0
... M55: =+H55*J55 -> 0 | N55: =+H55*K55 -> 0 | O55: =H55*L55 -> 0
I56: Totale loonkosten | M56: =SUM(M20:M55) -> 0 | N56: =SUM(N20:N55) -> 0 | O56: =SUM(O20:O55) -> 0
B58: A2. | C58: Machines en apparaten die niet uitsluitend voor het project worden gebruikt
D60: =IF(COUNTA(D62:D83)<COUNTA(E62:E83),"Let op! Vul ook de aanschafdatum in!","") | J60: Aantal uur in gebruik t.b.v. project | M60: Kosten €
B61: Werkpakket | C61: Omschrijving kosten | D61: Aanschafdatum | E61: Aanschafwaarde | F61: Afschrijving in jaren (minimaal 5 jaar) | G61: Fiscale afschrijving per jaar | H61: Totaal uren bij normale bezetting per jaar | I61: Afschrijving per uur | J61: =+J19 -> Industrieel onderzoek | K61: =+K19 -> Experimentele ontwikkeling | L61: Niet-econ. Activiteiten | M61: =+J19 -> Industrieel onderzoek | N61: =+K19 -> Experimentele ontwikkeling | O61: Niet-econ. activiteiten | U61: Restwaarde afschrijvingen
G62: =IFERROR(E62/F62,0) -> 0 | I62: =IFERROR(G62/H62,0) -> 0 | M62: =+H62*J62 -> 0 | N62: =+H62*K62 -> 0 | O62: =I62*L62 -> 0 | U62: =IFERROR(IF(D62>=Deelnemersoverzicht!$B$9,"Na startdatum aangekocht", IF(DATEDIF('Begroting P'!$D62,Startdatum,"D")>0,IF((('Begroting P'!$F62-((DATEDIF($D62,Startdatum,"M")/12)))*($E62/$F62))<0,"Dit is afgeschreven!",(('Begroting P'!$F62-((DATEDIF($D62,Startdatum,"M")/12)))*($E62/$F62))),($E62/$F62))),0) -> Na startdatum aangekocht
G63: =IFERROR(E63/F63,0) -> 0 | I63: =IFERROR(G63/H63,0) -> 0 | M63: =+H63*J63 -> 0 | N63: =+H63*K63 -> 0 | O63: =I63*L63 -> 0 | U63: =IFERROR(IF(D63>=Deelnemersoverzicht!$B$9,"Na startdatum aangekocht", IF(DATEDIF('Begroting P'!$D63,Startdatum,"D")>0,IF((('Begroting P'!$F63-((DATEDIF($D63,Startdatum,"M")/12)))*($E63/$F63))<0,"Dit is afgeschreven!",(('Begroting P'!$F63-((DATEDIF($D63,Startdatum,"M")/12)))*($E63/$F63))),($E63/$F63))),0) -> Na startdatum aangekocht
G64: =IFERROR(E64/F64,0) -> 0 | I64: =IFERROR(G64/H64,0) -> 0 | M64: =+H64*J64 -> 0 | N64: =+H64*K64 -> 0 | O64: =I64*L64 -> 0 | U64: =IFERROR(IF(D64>=Deelnemersoverzicht!$B$9,"Na startdatum aangekocht", IF(DATEDIF('Begroting P'!$D64,Startdatum,"D")>0,IF((('Begroting P'!$F64-((DATEDIF($D64,Startdatum,"M")/12)))*($E64/$F64))<0,"Dit is afgeschreven!",(('Begroting P'!$F64-((DATEDIF($D64,Startdatum,"M")/12)))*($E64/$F64))),($E64/$F64))),0) -> Na startdatum aangekocht
G65: =IFERROR(E65/F65,0) -> 0 | I65: =IFERROR(G65/H65,0) -> 0 | M65: =+H65*J65 -> 0 | N65: =+H65*K65 -> 0 | O65: =I65*L65 -> 0 | U65: =IFERROR(IF(D65>=Deelnemersoverzicht!$B$9,"Na startdatum aangekocht", IF(DATEDIF('Begroting P'!$D65,Startdatum,"D")>0,IF((('Begroting P'!$F65-((DATEDIF($D65,Startdatum,"M")/12)))*($E65/$F65))<0,"Dit is afgeschreven!",(('Begroting P'!$F65-((DATEDIF($D65,Startdatum,"M")/12)))*($E65/$F65))),($E65/$F65))),0) -> Na startdatum aangekocht
G66: =IFERROR(E66/F66,0) -> 0 | I66: =IFERROR(G66/H66,0) -> 0 | M66: =+H66*J66 -> 0 | N66: =+H66*K66 -> 0 | O66: =I66*L66 -> 0 | U66: =IFERROR(IF(D66>=Deelnemersoverzicht!$B$9,"Na startdatum aangekocht", IF(DATEDIF('Begroting P'!$D66,Startdatum,"D")>0,IF((('Begroting P'!$F66-((DATEDIF($D66,Startdatum,"M")/12)))*($E66/$F66))<0,"Dit is afgeschreven!",(('Begroting P'!$F66-((DATEDIF($D66,Startdatum,"M")/12)))*($E66/$F66))),($E66/$F66))),0) -> Na startdatum aangekocht
G67: =IFERROR(E67/F67,0) -> 0 | I67: =IFERROR(G67/H67,0) -> 0 | M67: =+H67*J67 -> 0 | N67: =+H67*K67 -> 0 | O67: =I67*L67 -> 0 | U67: =IFERROR(IF(D67>=Deelnemersoverzicht!$B$9,"Na startdatum aangekocht", IF(DATEDIF('Begroting P'!$D67,Startdatum,"D")>0,IF((('Begroting P'!$F67-((DATEDIF($D67,Startdatum,"M")/12)))*($E67/$F67))<0,"Dit is afgeschreven!",(('Begroting P'!$F67-((DATEDIF($D67,Startdatum,"M")/12)))*($E67/$F67))),($E67/$F67))),0) -> Na startdatum aangekocht
G68: =IFERROR(E68/F68,0) -> 0 | I68: =IFERROR(G68/H68,0) -> 0 | M68: =+H68*J68 -> 0 | N68: =+H68*K68 -> 0 | O68: =I68*L68 -> 0 | U68: =IFERROR(IF(D68>=Deelnemersoverzicht!$B$9,"Na startdatum aangekocht", IF(DATEDIF('Begroting P'!$D68,Startdatum,"D")>0,IF((('Begroting P'!$F68-((DATEDIF($D68,Startdatum,"M")/12)))*($E68/$F68))<0,"Dit is afgeschreven!",(('Begroting P'!$F68-((DATEDIF($D68,Startdatum,"M")/12)))*($E68/$F68))),($E68/$F68))),0) -> Na startdatum aangekocht
G69: =IFERROR(E69/F69,0) -> 0 | I69: =IFERROR(G69/H69,0) -> 0 | M69: =+H69*J69 -> 0 | N69: =+H69*K69 -> 0 | O69: =I69*L69 -> 0 | U69: =IFERROR(IF(D69>=Deelnemersoverzicht!$B$9,"Na startdatum aangekocht", IF(DATEDIF('Begroting P'!$D69,Startdatum,"D")>0,IF((('Begroting P'!$F69-((DATEDIF($D69,Startdatum,"M")/12)))*($E69/$F69))<0,"Dit is afgeschreven!",(('Begroting P'!$F69-((DATEDIF($D69,Startdatum,"M")/12)))*($E69/$F69))),($E69/$F69))),0) -> Na startdatum aangekocht
G70: =IFERROR(E70/F70,0) -> 0 | I70: =IFERROR(G70/H70,0) -> 0 | M70: =+H70*J70 -> 0 | N70: =+H70*K70 -> 0 | O70: =I70*L70 -> 0 | U70: =IFERROR(IF(D70>=Deelnemersoverzicht!$B$9,"Na startdatum aangekocht", IF(DATEDIF('Begroting P'!$D70,Startdatum,"D")>0,IF((('Begroting P'!$F70-((DATEDIF($D70,Startdatum,"M")/12)))*($E70/$F70))<0,"Dit is afgeschreven!",(('Begroting P'!$F70-((DATEDIF($D70,Startdatum,"M")/12)))*($E70/$F70))),($E70/$F70))),0) -> Na startdatum aangekocht
...

Sheet Begroting D3
C1: Model begroting | H1: =IF(Deelnemersoverzicht!B5="(Dit veld wordt ingevuld door RVO)","",Deelnemersoverzicht!B5) -> Dit veld wordt door RVO ingevuld | U1: KOLOM VERBERGEN!!
C2: NBS Living Labs 2026
C4: Gegevens per deelnemer:
C6: =Deelnemersoverzicht!A22 -> Deelnemer 3 (D3) | F6: =Deelnemersoverzicht!B22 -> 0
C7: Titel project | F7: =Deelnemersoverzicht!B6 -> 0
C8: BTW | F8: <maak een keuze>
C9: Gebruikte loonsystematiek | F9: <maak een keuze>
F10: =IF(F9="Integrale kostensystematiek","Let op! U dient in de begroting de IKS-tarieven zo te specificeren dat deze te controleren zijn op basis van de door u aangeleverde","")
F11: =IF(F9="Integrale kostensystematiek","IKS tarieven aan RVO. Bijvoorbeeld: divisie R&D, loonschaal 10. Vul dit in bij toelichting IKS.","")
B13: ONDERDEEL A
B14: Overzicht kosten
B16: A1. | C16: Loonkosten
G18: =IF(AND($F$9="Integrale kostensystematiek",COUNTA(C20:D55)>COUNTA(G20:G55)),"Let op! U dient de Toelichting IKS in te vullen","") | J18: Aantal uren | M18: Kosten €
B19: Werkpakket | C19: Functie | E19: Rol in het project | G19: Toelichting IKS bijv. divisie R&D, schaal 11 | H19: Uurtarief | J19: =IF(Deelnemersoverzicht!$C$22=Lijsten!$A$23,"",Lijsten!$D$3) -> Industrieel onderzoek | K19: =IF(Deelnemersoverzicht!$C$22=Lijsten!$A$23,"",Lijsten!$D$4) -> Experimentele ontwikkeling | L19: Niet-econ. activiteiten | M19: =IF(Deelnemersoverzicht!$C$22=Lijsten!$A$23,"",Lijsten!$D$3) -> Industrieel onderzoek | N19: =IF(Deelnemersoverzicht!$C$22=Lijsten!$A$23,"",Lijsten!$D$4) -> Experimentele ontwikkeling | O19: Niet-econ. activiteiten
M20: =+H20*J20 -> 0 | N20: =+H20*K20 -> 0 | O20: =H20*L20 -> 0
M21: =+H21*J21 -> 0 | N21: =+H21*K21 -> 0 | O21: =H21*L21 -> 0
M22: =+H22*J22 -> 0 | N22: =+H22*K22 -> 0 | O22: =H22*L22 -> 0
M23: =+H23*J23 -> 0 | N23: =+H23*K23 -> 0 | O23: =H23*L23 -> 0
M24: =+H24*J24 -> 0 | N24: =+H24*K24 -> 0 | O24: =H24*L24 -> 0
M25: =+H25*J25 -> 0 | N25: =+H25*K25 -> 0 | O25: =H25*L25 -> 0
M26: =+H26*J26 -> 0 | N26: =+H26*K26 -> 0 | O26: =H26*L26 -> 0
M27: =+H27*J27 -> 0 | N27: =+H27*K27 -> 0 | O27: =H27*L27 -> 0
M28: =+H28*J28 -> 0 | N28: =+H28*K28 -> 0 | O28: =H28*L28 -> 0
M29: =+H29*J29 -> 0 | N29: =+H29*K29 -> 0 | O29: =H29*L29 -> 0
M30: =+H30*J30 -> 0 | N30: =+H30*K30 -> 0 | O30: =H30*L30 -> 0
M31: =+H31*J31 -> 0 | N31: =+H31*K31 -> 0 | O31: =H31*L31 -> 0
... M55: =+H55*J55 -> 0 | N55: =+H55*K55 -> 0 | O55: =H55*L55 -> 0
I56: Totale loonkosten | M56: =SUM(M20:M55) -> 0 | N56: =SUM(N20:N55) -> 0 | O56: =SUM(O20:O55) -> 0
B58: A2. | C58: Machines en apparaten die niet uitsluitend voor het project worden gebruikt
D60: =IF(COUNTA(D62:D83)<COUNTA(E62:E83),"Let op! Vul ook de aanschafdatum in!","") | J60: Aantal uur in gebruik t.b.v. project | M60: Kosten €
B61: Werkpakket | C61: Omschrijving kosten | D61: Aanschafdatum | E61: Aanschafwaarde | F61: Afschrijving in jaren (minimaal 5 jaar) | G61: Fiscale afschrijving per jaar | H61: Totaal uren bij normale bezetting per jaar | I61: Afschrijving per uur | J61: =+J19 -> Industrieel onderzoek | K61: =+K19 -> Experimentele ontwikkeling | L61: Niet-econ. Activiteiten | M61: =+J19 -> Industrieel onderzoek | N61: =+K19 -> Experimentele ontwikkeling | O61: Niet-econ. activiteiten | U61: Restwaarde afschrijvingen
G62: =IFERROR(E62/F62,0) -> 0 | I62: =IFERROR(G62/H62,0) -> 0 | M62: =+H62*J62 -> 0 | N62: =+H62*K62 -> 0 | O62: =I62*L62 -> 0 | U62: =IFERROR(IF(D62>=Deelnemersoverzicht!$B$9,"Na startdatum aangekocht", IF(DATEDIF('Begroting P'!$D62,Startdatum,"D")>0,IF((('Begroting P'!$F62-((DATEDIF($D62,Startdatum,"M")/12)))*($E62/$F62))<0,"Dit is afgeschreven!",(('Begroting P'!$F62-((DATEDIF($D62,Startdatum,"M")/12)))*($E62/$F62))),($E62/$F62))),0) -> Na startdatum aangekocht
G63: =IFERROR(E63/F63,0) -> 0 | I63: =IFERROR(G63/H63,0) -> 0 | M63: =+H63*J63 -> 0 | N63: =+H63*K63 -> 0 | O63: =I63*L63 -> 0 | U63: =IFERROR(IF(D63>=Deelnemersoverzicht!$B$9,"Na startdatum aangekocht", IF(DATEDIF('Begroting P'!$D63,Startdatum,"D")>0,IF((('Begroting P'!$F63-((DATEDIF($D63,Startdatum,"M")/12)))*($E63/$F63))<0,"Dit is afgeschreven!",(('Begroting P'!$F63-((DATEDIF($D63,Startdatum,"M")/12)))*($E63/$F63))),($E63/$F63))),0) -> Na startdatum aangekocht
G64: =IFERROR(E64/F64,0) -> 0 | I64: =IFERROR(G64/H64,0) -> 0 | M64: =+H64*J64 -> 0 | N64: =+H64*K64 -> 0 | O64: =I64*L64 -> 0 | U64: =IFERROR(IF(D64>=Deelnemersoverzicht!$B$9,"Na startdatum aangekocht", IF(DATEDIF('Begroting P'!$D64,Startdatum,"D")>0,IF((('Begroting P'!$F64-((DATEDIF($D64,Startdatum,"M")/12)))*($E64/$F64))<0,"Dit is afgeschreven!",(('Begroting P'!$F64-((DATEDIF($D64,Startdatum,"M")/12)))*($E64/$F64))),($E64/$F64))),0) -> Na startdatum aangekocht
G65: =IFERROR(E65/F65,0) -> 0 | I65: =IFERROR(G65/H65,0) -> 0 | M65: =+H65*J65 -> 0 | N65: =+H65*K65 -> 0 | O65: =I65*L65 -> 0 | U65: =IFERROR(IF(D65>=Deelnemersoverzicht!$B$9,"Na startdatum aangekocht", IF(DATEDIF('Begroting P'!$D65,Startdatum,"D")>0,IF((('Begroting P'!$F65-((DATEDIF($D65,Startdatum,"M")/12)))*($E65/$F65))<0,"Dit is afgeschreven!",(('Begroting P'!$F65-((DATEDIF($D65,Startdatum,"M")/12)))*($E65/$F65))),($E65/$F65))),0) -> Na startdatum aangekocht
G66: =IFERROR(E66/F66,0) -> 0 | I66: =IFERROR(G66/H66,0) -> 0 | M66: =+H66*J66 -> 0 | N66: =+H66*K66 -> 0 | O66: =I66*L66 -> 0 | U66: =IFERROR(IF(D66>=Deelnemersoverzicht!$B$9,"Na startdatum aangekocht", IF(DATEDIF('Begroting P'!$D66,Startdatum,"D")>0,IF((('Begroting P'!$F66-((DATEDIF($D66,Startdatum,"M")/12)))*($E66/$F66))<0,"Dit is afgeschreven!",(('Begroting P'!$F66-((DATEDIF($D66,Startdatum,"M")/12)))*($E66/$F66))),($E66/$F66))),0) -> Na startdatum aangekocht
G67: =IFERROR(E67/F67,0) -> 0 | I67: =IFERROR(G67/H67,0) -> 0 | M67: =+H67*J67 -> 0 | N67: =+H67*K67 -> 0 | O67: =I67*L67 -> 0 | U67: =IFERROR(IF(D67>=Deelnemersoverzicht!$B$9,"Na startdatum aangekocht", IF(DATEDIF('Begroting P'!$D67,Startdatum,"D")>0,IF((('Begroting P'!$F67-((DATEDIF($D67,Startdatum,"M")/12)))*($E67/$F67))<0,"Dit is afgeschreven!",(('Begroting P'!$F67-((DATEDIF($D67,Startdatum,"M")/12)))*($E67/$F67))),($E67/$F67))),0) -> Na startdatum aangekocht
G68: =IFERROR(E68/F68,0) -> 0 | I68: =IFERROR(G68/H68,0) -> 0 | M68: =+H68*J68 -> 0 | N68: =+H68*K68 -> 0 | O68: =I68*L68 -> 0 | U68: =IFERROR(IF(D68>=Deelnemersoverzicht!$B$9,"Na startdatum aangekocht", IF(DATEDIF('Begroting P'!$D68,Startdatum,"D")>0,IF((('Begroting P'!$F68-((DATEDIF($D68,Startdatum,"M")/12)))*($E68/$F68))<0,"Dit is afgeschreven!",(('Begroting P'!$F68-((DATEDIF($D68,Startdatum,"M")/12)))*($E68/$F68))),($E68/$F68))),0) -> Na startdatum aangekocht
G69: =IFERROR(E69/F69,0) -> 0 | I69: =IFERROR(G69/H69,0) -> 0 | M69: =+H69*J69 -> 0 | N69: =+H69*K69 -> 0 | O69: =I69*L69 -> 0 | U69: =IFERROR(IF(D69>=Deelnemersoverzicht!$B$9,"Na startdatum aangekocht", IF(DATEDIF('Begroting P'!$D69,Startdatum,"D")>0,IF((('Begroting P'!$F69-((DATEDIF($D69,Startdatum,"M")/12)))*($E69/$F69))<0,"Dit is afgeschreven!",(('Begroting P'!$F69-((DATEDIF($D69,Startdatum,"M")/12)))*($E69/$F69))),($E69/$F69))),0) -> Na startdatum aangekocht
G70: =IFERROR(E70/F70,0) -> 0 | I70: =IFERROR(G70/H70,0) -> 0 | M70: =+H70*J70 -> 0 | N70: =+H70*K70 -> 0 | O70: =I70*L70 -> 0 | U70: =IFERROR(IF(D70>=Deelnemersoverzicht!$B$9,"Na startdatum aangekocht", IF(DATEDIF('Begroting P'!$D70,Startdatum,"D")>0,IF((('Begroting P'!$F70-((DATEDIF($D70,Startdatum,"M")/12)))*($E70/$F70))<0,"Dit is afgeschreven!",(('Begroting P'!$F70-((DATEDIF($D70,Startdatum,"M")/12)))*($E70/$F70))),($E70/$F70))),0) -> Na startdatum aangekocht
...

Sheet Begroting D4
C1: Model begroting | H1: =IF(Deelnemersoverzicht!B5="(Dit veld wordt ingevuld door RVO)","",Deelnemersoverzicht!B5) -> Dit veld wordt door RVO ingevuld | U1: KOLOM VERBERGEN!!
C2: NBS Living Labs 2026
C4: Gegevens per deelnemer:
C6: =Deelnemersoverzicht!A23 -> Deelnemer 4 (D4) | F6: =Deelnemersoverzicht!B23 -> 0
C7: Titel project | F7: =Deelnemersoverzicht!B6 -> 0
C8: BTW | F8: <maak een keuze>
C9: Gebruikte loonsystematiek | F9: <maak een keuze>
F10: =IF(F9="Integrale kostensystematiek","Let op! U dient in de begroting de IKS-tarieven zo te specificeren dat deze te controleren zijn op basis van de door u aangeleverde.","")
F11: =IF(F9="Integrale kostensystematiek","IKS tarieven aan RVO. Bijvoorbeeld: divisie R&D, loonschaal 10. Vul dit in bij toelichting IKS","")
B13: ONDERDEEL A
B14: Overzicht kosten
B16: A1. | C16: Loonkosten
G18: =IF(AND($F$9="Integrale kostensystematiek",COUNTA(C20:D55)>COUNTA(G20:G55)),"Let op! U dient de Toelichting IKS in te vullen","") | J18: Aantal uren | M18: Kosten €
B19: Werkpakket | C19: Functie | E19: Rol in het project | G19: Toelichting IKS bijv. divisie R&D, schaal 11 | H19: Uurtarief | J19: =IF(Deelnemersoverzicht!$C$23=Lijsten!$A$23,"",Lijsten!$D$3) -> Industrieel onderzoek | K19: =IF(Deelnemersoverzicht!$C$23=Lijsten!$A$23,"",Lijsten!$D$4) -> Experimentele ontwikkeling | L19: Niet-econ. activiteiten | M19: =IF(Deelnemersoverzicht!$C$23=Lijsten!$A$23,"",Lijsten!$D$3) -> Industrieel onderzoek | N19: =IF(Deelnemersoverzicht!$C$23=Lijsten!$A$23,"",Lijsten!$D$4) -> Experimentele ontwikkeling | O19: Niet-econ. activiteiten
M20: =+H20*J20 -> 0 | N20: =+H20*K20 -> 0 | O20: =H20*L20 -> 0
M21: =+H21*J21 -> 0 | N21: =+H21*K21 -> 0 | O21: =H21*L21 -> 0
M22: =+H22*J22 -> 0 | N22: =+H22*K22 -> 0 | O22: =H22*L22 -> 0
M23: =+H23*J23 -> 0 | N23: =+H23*K23 -> 0 | O23: =H23*L23 -> 0
M24: =+H24*J24 -> 0 | N24: =+H24*K24 -> 0 | O24: =H24*L24 -> 0
M25: =+H25*J25 -> 0 | N25: =+H25*K25 -> 0 | O25: =H25*L25 -> 0
M26: =+H26*J26 -> 0 | N26: =+H26*K26 -> 0 | O26: =H26*L26 -> 0
M27: =+H27*J27 -> 0 | N27: =+H27*K27 -> 0 | O27: =H27*L27 -> 0
M28: =+H28*J28 -> 0 | N28: =+H28*K28 -> 0 | O28: =H28*L28 -> 0
M29: =+H29*J29 -> 0 | N29: =+H29*K29 -> 0 | O29: =H29*L29 -> 0
M30: =+H30*J30 -> 0 | N30: =+H30*K30 -> 0 | O30: =H30*L30 -> 0
M31: =+H31*J31 -> 0 | N31: =+H31*K31 -> 0 | O31: =H31*L31 -> 0
... M55: =+H55*J55 -> 0 | N55: =+H55*K55 -> 0 | O55: =H55*L55 -> 0
I56: Totale loonkosten | M56: =SUM(M20:M55) -> 0 | N56: =SUM(N20:N55) -> 0 | O56: =SUM(O20:O55) -> 0
B58: A2. | C58: Machines en apparaten die niet uitsluitend voor het project worden gebruikt
D60: =IF(COUNTA(D62:D83)<COUNTA(E62:E83),"Let op! Vul ook de aanschafdatum in!","") | J60: Aantal uur in gebruik t.b.v. project | M60: Kosten €
B61: Werkpakket | C61: Omschrijving kosten | D61: Aanschafdatum | E61: Aanschafwaarde | F61: Afschrijving in jaren (minimaal 5 jaar) | G61: Fiscale afschrijving per jaar | H61: Totaal uren bij normale bezetting per jaar | I61: Afschrijving per uur | J61: =+J19 -> Industrieel onderzoek | K61: =+K19 -> Experimentele ontwikkeling | L61: Niet-econ. Activiteiten | M61: =+J19 -> Industrieel onderzoek | N61: =+K19 -> Experimentele ontwikkeling | O61: Niet-econ. activiteiten | U61: Restwaarde afschrijvingen
G62: =IFERROR(E62/F62,0) -> 0 | I62: =IFERROR(G62/H62,0) -> 0 | M62: =+H62*J62 -> 0 | N62: =+H62*K62 -> 0 | O62: =I62*L62 -> 0 | U62: =IFERROR(IF(D62>=Deelnemersoverzicht!$B$9,"Na startdatum aangekocht", IF(DATEDIF('Begroting P'!$D62,Startdatum,"D")>0,IF((('Begroting P'!$F62-((DATEDIF($D62,Startdatum,"M")/12)))*($E62/$F62))<0,"Dit is afgeschreven!",(('Begroting P'!$F62-((DATEDIF($D62,Startdatum,"M")/12)))*($E62/$F62))),($E62/$F62))),0) -> Na startdatum aangekocht
G63: =IFERROR(E63/F63,0) -> 0 | I63: =IFERROR(G63/H63,0) -> 0 | M63: =+H63*J63 -> 0 | N63: =+H63*K63 -> 0 | O63: =I63*L63 -> 0 | U63: =IFERROR(IF(D63>=Deelnemersoverzicht!$B$9,"Na startdatum aangekocht", IF(DATEDIF('Begroting P'!$D63,Startdatum,"D")>0,IF((('Begroting P'!$F63-((DATEDIF($D63,Startdatum,"M")/12)))*($E63/$F63))<0,"Dit is afgeschreven!",(('Begroting P'!$F63-((DATEDIF($D63,Startdatum,"M")/12)))*($E63/$F63))),($E63/$F63))),0) -> Na startdatum aangekocht
G64: =IFERROR(E64/F64,0) -> 0 | I64: =IFERROR(G64/H64,0) -> 0 | M64: =+H64*J64 -> 0 | N64: =+H64*K64 -> 0 | O64: =I64*L64 -> 0 | U64: =IFERROR(IF(D64>=Deelnemersoverzicht!$B$9,"Na startdatum aangekocht", IF(DATEDIF('Begroting P'!$D64,Startdatum,"D")>0,IF((('Begroting P'!$F64-((DATEDIF($D64,Startdatum,"M")/12)))*($E64/$F64))<0,"Dit is afgeschreven!",(('Begroting P'!$F64-((DATEDIF($D64,Startdatum,"M")/12)))*($E64/$F64))),($E64/$F64))),0) -> Na startdatum aangekocht
G65: =IFERROR(E65/F65,0) -> 0 | I65: =IFERROR(G65/H65,0) -> 0 | M65: =+H65*J65 -> 0 | N65: =+H65*K65 -> 0 | O65: =I65*L65 -> 0 | U65: =IFERROR(IF(D65>=Deelnemersoverzicht!$B$9,"Na startdatum aangekocht", IF(DATEDIF('Begroting P'!$D65,Startdatum,"D")>0,IF((('Begroting P'!$F65-((DATEDIF($D65,Startdatum,"M")/12)))*($E65/$F65))<0,"Dit is afgeschreven!",(('Begroting P'!$F65-((DATEDIF($D65,Startdatum,"M")/12)))*($E65/$F65))),($E65/$F65))),0) -> Na startdatum aangekocht
G66: =IFERROR(E66/F66,0) -> 0 | I66: =IFERROR(G66/H66,0) -> 0 | M66: =+H66*J66 -> 0 | N66: =+H66*K66 -> 0 | O66: =I66*L66 -> 0 | U66: =IFERROR(IF(D66>=Deelnemersoverzicht!$B$9,"Na startdatum aangekocht", IF(DATEDIF('Begroting P'!$D66,Startdatum,"D")>0,IF((('Begroting P'!$F66-((DATEDIF($D66,Startdatum,"M")/12)))*($E66/$F66))<0,"Dit is afgeschreven!",(('Begroting P'!$F66-((DATEDIF($D66,Startdatum,"M")/12)))*($E66/$F66))),($E66/$F66))),0) -> Na startdatum aangekocht
G67: =IFERROR(E67/F67,0) -> 0 | I67: =IFERROR(G67/H67,0) -> 0 | M67: =+H67*J67 -> 0 | N67: =+H67*K67 -> 0 | O67: =I67*L67 -> 0 | U67: =IFERROR(IF(D67>=Deelnemersoverzicht!$B$9,"Na startdatum aangekocht", IF(DATEDIF('Begroting P'!$D67,Startdatum,"D")>0,IF((('Begroting P'!$F67-((DATEDIF($D67,Startdatum,"M")/12)))*($E67/$F67))<0,"Dit is afgeschreven!",(('Begroting P'!$F67-((DATEDIF($D67,Startdatum,"M")/12)))*($E67/$F67))),($E67/$F67))),0) -> Na startdatum aangekocht
