Workbook
Name List_Eenheid: Lists!$J$15:$J$17
Name List_EF_Eenheid: Lists!$F$3:$F$5
Name List_Eff_PosNeg: Lists!$H$15:$H$17
Name List_EoL: Lists!$D$15:$D$17
Name List_EoL_Type: Lists!$F$15:$F$20
Name List_FunctieNIKI: Lists!$D$3:$D$8
Name List_JaNee: Lists!$B$3:$B$5
Name List_JaNeeGed: Lists!$B$15:$B$18
Name List_RefProc_Hier: Lists!$L$3:$L$7
Name List_RefProc_Nr: Lists!$J$3:$J$6
Name List_RigEl: Lists!$N$3:$N$5
Name List_StdEF_Bron: Lists!$H$3:$H$6

Sheet Leeswijzer
B1: NIKI rekenmodel CO2-emissiereductie | D1: Legenda | G1: =RIGHT(CELL("filename",A1),LEN(CELL("filename",A1))-FIND("]",CELL("filename",A1))) -> Leeswijzer
B2: Leeswijzer | D2: Label | I2: Instructies opschalen tooling
D3: In te vullen | I3: Stappen voor de toevoeging van referentieprocessen
D4: Overname gegevens of berekening | I4: Stap | J4: Tabblad
B7: Basisinformatie aanvraag | I7: 1 | J7: Lists (verborgen tabblad) | K7: Breidt de lijst met toegelaten referentienummers uit. Pas op tabblad 'Lists' de variabele 'List_RefProc_Nr' aan.
B8: Aanvraagnummer NIKI | C8: - | K8: Voeg extra nummers toe in het tabblad en pas het bereik van de variabele aan via het Excel-lint Formules>Gedefinieerde namen>Namen beheren .
B9: Projectnaam | C9: - | I9: 2 | J9: S2 Def Referentie | K9: Voeg in de tabel vanaf regel 54 nieuwe regels in voor de nieuwe referentieprocessen.
B10: Naam aanvrager | C10: - | I10: 3 | J10: S2 Def Referentie | K10: Breid de tabellen in kolommen O-W uit. Hieruit worden de referentieproducten onderverdeeld onder de referenties.
B11: Start exploitatie | C11: - | I11: 4 | J11: S2 Def Referentie | K11: Breid de tabel voor RVO emissiewaarden uit in kolommen X-AG
I12: 5 | J12: S3 Grenzen Ref | K12: Kopieer het tabblad 'S3 Grenzen Ref' en geef het tabblad het correcte nummer. Pas de naam in rij 2 aan.
B13: Omschrijving NIKI-project | I13: 6 | J13: S3 Grenzen Ref | K13: Pas de verwijzingsgetallen in kolom E van de onderste tabel aan zodat de juiste waarden uit 'S2 Def Referentie' worden gebruikt. Pas de namen van de in- en outputs in kolom C aan.
B14: Geef een korte samenvatting van het NIKI-project. | I14: 7 | J14: S4 MEB Ref | K14: Kopieer het tabblad 'S4 MEB Ref' en geef het tabblad het correcte nummer. Pas de naam in rij 2 aan.
I15: 8 | J15: S4 MEB Ref | K15: Pas cel AG2 aan naar de het correcte S3 grenzen Ref tabblad
B16: • Het voorliggende NIKI rekenmodel CO2-emissiereductie gebruikt u om de CO2-emissiereductie van een NIKI-project te berekenen. Om dit te doen volgt u de 7 stappen van de NIKI CO2-emissiereductie methode, met behulp van het NIKI rekenmodel CO2-emissiereductie. | I16: 9 | J16: S5 Emissiefactoren Ref | K16: Kopieer het tabblad 'S5 Emissiefactoren Ref' en geef het tabblad het correcte nummer. Pas de naam in rij 2 aan.
B17: • U bent verplicht om voor uw NIKI-aanvraag gebruik te maken van het NIKI rekenmodel CO2-emissiereductie. Bij onduidelijkheden zijn de instructies in de NIKI CO2-emissiereductiemethode leidend boven het NIKI rekenmodel CO2-emissiereductie. | I17: 10 | J17: S5 Emissiefactoren Ref | K17: Pas cellen AC8 en AC9 aan naar de correcte tabbladen 'S3 grenzen Ref' en 'S4 MEB Ref'.
B18: • Lees voor het invullen altijd eerst de instructies op het tabblad aandachtig door om fouten te voorkomen. | I18: 11 | J18: S6 Berekening Emissiereductie | K18: Kopieer de tabel voor de berekening van de referentie-emissies, incl. de 3 rijen boven de tabel (eerst zichtbaar maken). Pas de naam in de tabeltitel aan.
B19: • U heeft op elk tabblad de mogelijkheid om eigen berekeningen toe te voegen en toe te lichten, als u op basis van de NIKI CO2-emissiereductiemethode data of tussenstappen moet toepassen die niet precies in het NIKI rekenmodel CO2-emissiereductie passen. Maak hier gebruik van, zodat RVO uw berekening goed kan begrijpen. | I19: 12 | J19: S6 Berekening Emissiereductie | K19: Pas in de gele velden de juiste verwijzingen aan naar het tabblad Emissiefactoren Ref
B20: • Waar nodig is het mogelijk om gebruikte data verder te onderbouwen met behulp van bijlagen. Deze kunt u samen met uw aanvraag indienen. Vermeld altijd duidelijk om welke bijlage het gaat, en wat u met behulp van de bijlage wilt onderbouwen. | K20: Zoek en vervang in de nieuwe tabel alle verwijzingen naar de cel met 'S5 Emissiefactoren Ref x' die boven de oude tabel staat
K21: Pas in de tabel met de massa-allocatie de verwijzingen in kolom T aan naar de juiste kolom in S2 Def Referentie
I22: 15 | J22: S6 Berekening Emissiereductie | K22: Breid de tabel in cellen B51:P53 uit om de referentie-emissies mee te nemen.
B23: Stappen in NIKI CO2-emissiereductiemethode en NIKI CO2-tool | K23: Pas de formule in cel T49 aan om de nieuwe referenties mee te nemen in de sommatie.
B24: Stap | C24: Tabbladen | D24: Toelichting | I24: 16 | J24: Alle | K24: Hide alle rijen en kolommen weer
B25: Stap 1: Product bepalen | C25: S1 NIKI-producten | D25: Bepaal de NIKI-producten
B26: Stap 2: Referentie bepalen | C26: S2 Def Referentie | D26: Bepaal de referentieproducten die vervangen worden door elk NIKI-product
B27: Stap 3: Systeem- en procesgrenzen | C27: S3 Grenzen NIKI | D27: Bepaal systeem- en procesgrenzen van het NIKI-project
C28: S3 Grenzen Ref 1 | D28: Bepaal systeem- en procesgrenzen van een referentie productieproces
C29: S3 Grenzen Ref 2
C30: S3 Grenzen Ref 3 | J30: Notities hoe de Excel is opgebouwd:
B31: Stap 4: Massa- en energiebalansen bepalen | C31: S4 MEB NIKI | D31: Bepaal de massa- en energiebalansen (MEB) van het NIKI productieproces (inputs, producten, afval- en reststromen en directe emissies) | J31: De eerste rij van tabellen (inhoud) begint altijd in rij 25 van het tabblad. Overbodige rijen daarboven worden verborgen.
C32: S4 MEB Ref 1 | D32: Bepaal de massa- en energiebalansen (MEB) van een referentie productieproces (inputs, producten, co-producten, afvalstromen en directe emissies) | J32: De excel is van voren naar achteren opgebouwd (links naar rechts). Volgende tabbladen verwijzen steeds naar voor de labels en namen naar tabbladen daarvoor.
C33: S4 MEB Ref 2 | J33: De verwijzing gebeurd via een "indirect" functie.
C34: S4 MEB Ref 3 | J34: Verwijzingscellen zijn altijd in kolommen die verborgen zijn. Voor aanpassingen maak altijd eerst alle kolommen zichtbaar.
B35: Stap 5: CO2-emissies over de levenscyclusfasen bepalen | C35: S5 Emissiefactoren NIKI | D35: Bepaal de CO2-emissies over de levenscyclus fasen van het NIKI-project (input, proces, verbranding en einde levensduur) | J35: Indirecte verwijzing gebeurd via een verwijzing naar een tabblad: ergens rechts in het verborgen stuk vindt je een cel met daarin iets als 'S1 NIKI-producten'! De inhoud van die cel ziet eruit als ="'" & AB23 & "'!". Dit is de verwijzing naar het tabblad. Vervolgens is er in een verborgen kolom een celnaam opgenomen. Samen vormt dit de verwijzing naar de cel in een ander tabblad.
C36: S5 Emissiefactoren Ref 1 | D36: Bepaal de CO2-emissies over de levenscyclus fasen van een referentie productieproces (input, proces, verbranding en einde levensduur) | J36: Reden voor deze werkwijze is het kunnen vermeerderen van de tabbladen voor meer referenties. Als er een extra referentie moet komen, volg bovenstaande instructie. De indirect maakt dit mogelijk.
C37: S5 Emissiefactoren Ref 2 | J37: Door alle tabellen in rij 25 te laten beginnen, is dit op elk tabblad de rij waarnaar je verwijst, waardoor het makkelijk aanpasbaar is.
C38: S5 Emissiefactoren Ref 3 | J38: Let op, als er meer producten of grondstoffen oid nodig zijn is hier mogelijk ook aanpassing in nodig.
B39: Stap 6: Berekening totale CO2-emissiereductie | C39: S6 Emissiereductie | D39: Bepaal de totale CO2-emissiereductie van het NIKI-project gedurende de exploitatiefase
B40: Stap 7: Controle op negatieve neveneffecten | C40: S7 Neveneffecten | D40: Controleer of negatieve neveneffecten de emissiereductie overschrijden

Sheet S1 NIKI-producten
C1: Stap 1: Product bepalen | H1: Legenda | K1: Naam tab | L1: =RIGHT(CELL("filename",C1),LEN(CELL("filename",C1))-FIND("]",CELL("filename",C1))) -> S1 NIKI-producten
C2: Bepaal de NIKI-producten | H2: Label
H3: In te vullen
A4: In dit tabblad voert u stap 1 van de CO2 emissiereductie methode uit. U specificeert de beoogde NIKI-producten en beschrijft of het NIKI product in de CO2 emissiereductie methode gestelde eisen voldoet. | H4: Overname gegevens of berekening
C6: • Bepaal op basis van de voorwaarden van NIKI CO2-emissiereductiemethode welke producten uit het NIKI-project in aanmerking komen.
C7: • Zie stap 1 in de NIKI CO2-emissiereductiemethode voor de eisen aan NIKI-producten.
C8: • Eén van de eisen is dat een NIKI-product economisch verhandelbaar moet zijn, dit houdt in dat het product potentieel fysiek getransporteerd kan worden naar afnemers op de markt.
C9: • U bepaalt NIKI-producten zodanig, dat ze samen ten minste 90% van de uitgaande massastroom vormen die een economische waarde heeft.
C10: • Overige product(en) worden als restfractie(s) beschouwd. Ter controle van het 90% criterium kunt u het MEB NIKI tabblad gebruiken in stap 4.
C11: • Heeft u meerdere referentieproducten voor één NIKI-product? Bijvoorbeeld omdat uw NIKI-product meerdere toepassingen heeft met verschillende referenties? Voeg dan het NIKI-product meerdere keren toe en wijs aan ieder product een andere referentie toe. Let op dat u de NIKI-producten in dat geval een unieke naam geeft, bijvoorbeeld Olie_1, Olie_2.
C12: • Vul ook de groene velden in voor alle overige stromen die geen NIKI-product zijn.
C24: Productlabel | D24: Naam product | E24: Functie NIKI-product | F24: Is het product verhandelbaar? | G24: Onderbouwing wel/niet verhandelbaar | H24: Omschrijving van het product of compositie/ fysische eigenschappen
C25: NIKI Product 1 | D25: - | E25: - | F25: - | G25: - | H25: -
C26: NIKI Product 2 | D26: - | E26: - | F26: - | G26: - | H26: -
C27: NIKI Product 3 | D27: - | E27: - | F27: - | G27: - | H27: -
C28: NIKI Product 4 | D28: - | E28: - | F28: - | G28: - | H28: -
C29: NIKI Product 5 | D29: - | E29: - | F29: - | G29: - | H29: -
C30: NIKI Product 6 | D30: - | E30: - | F30: - | G30: - | H30: -
C31: NIKI Product 7 | D31: - | E31: - | F31: - | G31: - | H31: -
C32: NIKI Product 8 | D32: - | E32: - | F32: - | G32: - | H32: -
C33: NIKI Product 9 | D33: - | E33: - | F33: - | G33: - | H33: -
C34: NIKI Product 10 | D34: - | E34: - | F34: - | G34: - | H34: -
C35: NIKI Restfractie 1 | D35: - | E35: - | F35: - | G35: - | H35: -
... C50: NIKI Overige BKG emissies | D50: - | E50: - | F50: Nee | G50: - | H50: -
C52: Omschrijving van de NIKI-producten
C53: Omschrijf en onderbouw waarom de NIKI-producten voldoen aan de in de NIKI CO2-emissiereductie methode gestelde eisen voor NIKI-producten.
C55: Vrije ruimte voor berekeningen, verdere toelichting en notities

Sheet S2 Def Referentie
B1: Stap 2: Referentie bepalen | L1: Legenda | O1: Naam tab | P1: =RIGHT(CELL("filename",B1),LEN(CELL("filename",B1))-FIND("]",CELL("filename",B1))) -> S2 Def Referentie
B2: Bepaal de referentieproducten die vervangen worden door elk NIKI-product | L2: Label | O2: Ref S1 | P2: ='S1 NIKI-producten'!L1 -> S1 NIKI-producten | Q2: ="'" & P2 & "'!" -> 'S1 NIKI-producten'!
L3: In te vullen
L4: Overname gegevens of berekening
B6: • Ken aan ieder NIKI-product een referentieproduct toe.
B7: • Geef aan of het referentieproduct fysiek identiek is aan het NIKI-product, zoals beschreven in stap 2 van de NIKI CO2-emissiereductiemethode. Onderbouw uw antwoord.
B8: • Vul per referentieproduct een correctiefactor in, zoals beschreven in stap 2 van de NIKI CO2-emissiereductiemethode. Onderbouw elke correctiefactor.
B9: • De correctiefactor is 1 kg NIKI-product per kg referentieproduct als het het referentieproduct fysiek identiek is aan het NIKI product. Vul in dat geval 1 in.
B10: • De correctiefactor wordt in stap 6 automatisch toegepast in de berekening van de totale emissiereductie. Let er dus op dat u de massa- en energiebalans van het referentieproces niet wijzigt om te corrigeren voor verschil in functie tussen het referentieproduct en het NIKI-product. Deze correctie wordt volledig gedaan door de correctiefactor.
B11: • Heeft u meerdere referentieproducten voor één NIKI-product? Bijvoorbeeld omdat uw NIKI-product meerdere toepassingen heeft met verschillende referenties? Voeg dan op tab S1 het NIKI-product meerdere keren toe en wijs aan ieder product een andere referentie toe. Let op dat u de NIKI-producten in dat geval een unieke naam geeft, bijvoorbeeld Olie_1, Olie_2.
B12: • U kunt gebruik maken van de ruimte onderaan het tabblad om berekeningen ter onderbouwing toe te voegen. Verwijs in de betreffende tabel naar de cellen waarin de berekening staat. | O12: NIKI-producten linken aan referentieproducten | AK12: Lijst met alle NIKI-product met een standaard emissiefactor en hun emissiefactoren
O20: (Naam referentieproduct) | X20: (Naam referentieproduct)
O21: Stap 1: Maak nieuwe lijsten met whitespaces | X21: Stap 2: Verwijder whitespaces | AK21: Stap 1: Maak nieuwe lijsten met whitespaces | AQ21: Stap 2: Verwijder whitespaces
O23: Referentieproces --> | Y23: Referentieproces --> | AL23: EF beschikbaar? | AM23: =Lists!$B$3 -> Ja
B24: Productlabel | C24: VERW | D24: NIKI-product | E24: VERW | F24: Functie NIKI-product | G24: VERW | H24: Referentieproduct | I24: Is het product fysiek identiek? | J24: Onderbouwing fysiek identiek | K24: Correctiefactor (kg NIKI-product/kg ref product) | L24: Onderbouwing correctiefactor | O24: 1 | P24: 2 | Q24: 3 | R24: 4 | S24: 5 | T24: 6 | U24: 7 | V24: 8 | W24: 9 | Y24: 1 | Z24: 2 | AA24: 3 | AB24: 4 | AC24: 5 | AD24: 6 | AE24: 7 | AF24: 8 | AG24: 9 | AL24: EF beschikbaar? | AM24: Eenheid EF | AN24: Correctie-factor | AO24: Relevante NIKI product label | AP24: Naam referentie-product | AR24: EF beschikbaar? | AS24: Eenheid EF | AT24: Correctie-factor | AU24: Relevante NIKI product label | AV24: Naam referentie-product
B25: {=INDIRECT(_xlfn.CONCAT($Q$2,C25))} -> NIKI Product 1 | C25: C25 | D25: {=_xlfn.SWITCH(INDIRECT(_xlfn.CONCAT($Q$2,E25)),"-","-",0,"-",INDIRECT(_xlfn.CONCAT($Q$2,E25)))} -> - | E25: D25 | F25: {=_xlfn.SWITCH(INDIRECT(_xlfn.CONCAT($Q$2,G25)),"-","-",0,"-",INDIRECT(_xlfn.CONCAT($Q$2,G25)))} -> - | G25: E25 | H25: - | I25: - | J25: - | K25: - | L25: - | O25: =IF($L40=O$24,$D40,"") | P25: =IF($L40=P$24,$D40,"") | Q25: =IF($L40=Q$24,$D40,"") | R25: (Nu maar 3 referentieprocessen voorbereid) | X25: 1 | Y25: {=IFERROR(INDEX(O$25:O$34, SMALL(IF(O$25:O$34<>"", ROW(O$25:O$34)-ROW(O$25)+1), $X25)), "-")} -> - | Z25: {=IFERROR(INDEX(P$25:P$34, SMALL(IF(P$25:P$34<>"", ROW(P$25:P$34)-ROW(P$25)+1), $X25)), "-")} -> - | AA25: {=IFERROR(INDEX(Q$25:Q$34, SMALL(IF(Q$25:Q$34<>"", ROW(Q$25:Q$34)-ROW(Q$25)+1), $X25)), "-")} -> - | AB25: (Nu maar 3 referentieprocessen voorbereid) | AK25: 1 | AL25: =IF($F40=AM$23,$J40,"") | AM25: =IF($F40=AM$23,$K40,"") | AN25: =IF($F40=AM$23,$K25,"") | AO25: =IF($F40=AM$23,$B25,"") | AP25: =IF($F40=AM$23,$D40,"") | AQ25: 1 | AR25: {=IFERROR(INDEX(AL$25:AL$34, SMALL(IF(AL$25:AL$34<>"", ROW(AL$25:AL$34)-ROW(AL$25)+1), $AQ25)), "-")} -> - | AS25: {=IFERROR(INDEX(AM$25:AM$34, SMALL(IF(AM$25:AM$34<>"", ROW(AM$25:AM$34)-ROW(AM$25)+1), $AQ25)), "-")} -> - | AT25: {=IFERROR(INDEX(AN$25:AN$34, SMALL(IF(AN$25:AN$34<>"", ROW(AN$25:AN$34)-ROW(AN$25)+1), $AQ25)), "-")} -> - | AU25: {=IFERROR(INDEX(AO$25:AO$34, SMALL(IF(AO$25:AO$34<>"", ROW(AO$25:AO$34)-ROW(AO$25)+1), $AQ25)), "-")} -> - | AV25: {=IFERROR(INDEX(AP$25:AP$34, SMALL(IF(AP$25:AP$34<>"", ROW(AP$25:AP$34)-ROW(AP$25)+1), $AQ25)), "-")} -> -
B26: {=INDIRECT(_xlfn.CONCAT($Q$2,C26))} -> NIKI Product 2 | C26: C26 | D26: {=_xlfn.SWITCH(INDIRECT(_xlfn.CONCAT($Q$2,E26)),"-","-",0,"-",INDIRECT(_xlfn.CONCAT($Q$2,E26)))} -> - | E26: D26 | F26: {=_xlfn.SWITCH(INDIRECT(_xlfn.CONCAT($Q$2,G26)),"-","-",0,"-",INDIRECT(_xlfn.CONCAT($Q$2,G26)))} -> - | G26: E26 | H26: - | I26: - | J26: - | K26: - | L26: - | O26: =IF($L41=O$24,$D41,"") | P26: =IF($L41=P$24,$D41,"") | Q26: =IF($L41=Q$24,$D41,"") | X26: 2 | Y26: {=IFERROR(INDEX(O$25:O$34, SMALL(IF(O$25:O$34<>"", ROW(O$25:O$34)-ROW(O$25)+1), $X26)), "-")} -> - | Z26: {=IFERROR(INDEX(P$25:P$34, SMALL(IF(P$25:P$34<>"", ROW(P$25:P$34)-ROW(P$25)+1), $X26)), "-")} -> - | AA26: {=IFERROR(INDEX(Q$25:Q$34, SMALL(IF(Q$25:Q$34<>"", ROW(Q$25:Q$34)-ROW(Q$25)+1), $X26)), "-")} -> - | AK26: 2 | AL26: =IF($F41=AM$23,$J41,"") | AM26: =IF($F41=AM$23,$K41,"") | AN26: =IF($F41=AM$23,$K26,"") | AO26: =IF($F41=AM$23,$B26,"") | AP26: =IF($F41=AM$23,$D41,"") | AQ26: 2 | AR26: {=IFERROR(INDEX(AL$25:AL$34, SMALL(IF(AL$25:AL$34<>"", ROW(AL$25:AL$34)-ROW(AL$25)+1), $AQ26)), "-")} -> - | AS26: {=IFERROR(INDEX(AM$25:AM$34, SMALL(IF(AM$25:AM$34<>"", ROW(AM$25:AM$34)-ROW(AM$25)+1), $AQ26)), "-")} -> - | AT26: {=IFERROR(INDEX(AN$25:AN$34, SMALL(IF(AN$25:AN$34<>"", ROW(AN$25:AN$34)-ROW(AN$25)+1), $AQ26)), "-")} -> - | AU26: {=IFERROR(INDEX(AO$25:AO$34, SMALL(IF(AO$25:AO$34<>"", ROW(AO$25:AO$34)-ROW(AO$25)+1), $AQ26)), "-")} -> - | AV26: {=IFERROR(INDEX(AP$25:AP$34, SMALL(IF(AP$25:AP$34<>"", ROW(AP$25:AP$34)-ROW(AP$25)+1), $AQ26)), "-")} -> -
B27: {=INDIRECT(_xlfn.CONCAT($Q$2,C27))} -> NIKI Product 3 | C27: C27 | D27: {=_xlfn.SWITCH(INDIRECT(_xlfn.CONCAT($Q$2,E27)),"-","-",0,"-",INDIRECT(_xlfn.CONCAT($Q$2,E27)))} -> - | E27: D27 | F27: {=_xlfn.SWITCH(INDIRECT(_xlfn.CONCAT($Q$2,G27)),"-","-",0,"-",INDIRECT(_xlfn.CONCAT($Q$2,G27)))} -> - | G27: E27 | H27: - | I27: - | J27: - | K27: - | L27: - | O27: =IF($L42=O$24,$D42,"") | P27: =IF($L42=P$24,$D42,"") | Q27: =IF($L42=Q$24,$D42,"") | X27: 3 | Y27: {=IFERROR(INDEX(O$25:O$34, SMALL(IF(O$25:O$34<>"", ROW(O$25:O$34)-ROW(O$25)+1), $X27)), "-")} -> - | Z27: {=IFERROR(INDEX(P$25:P$34, SMALL(IF(P$25:P$34<>"", ROW(P$25:P$34)-ROW(P$25)+1), $X27)), "-")} -> - | AA27: {=IFERROR(INDEX(Q$25:Q$34, SMALL(IF(Q$25:Q$34<>"", ROW(Q$25:Q$34)-ROW(Q$25)+1), $X27)), "-")} -> - | AK27: 3 | AL27: =IF($F42=AM$23,$J42,"") | AM27: =IF($F42=AM$23,$K42,"") | AN27: =IF($F42=AM$23,$K27,"") | AO27: =IF($F42=AM$23,$B27,"") | AP27: =IF($F42=AM$23,$D42,"") | AQ27: 3 | AR27: {=IFERROR(INDEX(AL$25:AL$34, SMALL(IF(AL$25:AL$34<>"", ROW(AL$25:AL$34)-ROW(AL$25)+1), $AQ27)), "-")} -> - | AS27: {=IFERROR(INDEX(AM$25:AM$34, SMALL(IF(AM$25:AM$34<>"", ROW(AM$25:AM$34)-ROW(AM$25)+1), $AQ27)), "-")} -> - | AT27: {=IFERROR(INDEX(AN$25:AN$34, SMALL(IF(AN$25:AN$34<>"", ROW(AN$25:AN$34)-ROW(AN$25)+1), $AQ27)), "-")} -> - | AU27: {=IFERROR(INDEX(AO$25:AO$34, SMALL(IF(AO$25:AO$34<>"", ROW(AO$25:AO$34)-ROW(AO$25)+1), $AQ27)), "-")} -> - | AV27: {=IFERROR(INDEX(AP$25:AP$34, SMALL(IF(AP$25:AP$34<>"", ROW(AP$25:AP$34)-ROW(AP$25)+1), $AQ27)), "-")} -> -
B28: {=INDIRECT(_xlfn.CONCAT($Q$2,C28))} -> NIKI Product 4 | C28: C28 | D28: {=_xlfn.SWITCH(INDIRECT(_xlfn.CONCAT($Q$2,E28)),"-","-",0,"-",INDIRECT(_xlfn.CONCAT($Q$2,E28)))} -> - | E28: D28 | F28: {=_xlfn.SWITCH(INDIRECT(_xlfn.CONCAT($Q$2,G28)),"-","-",0,"-",INDIRECT(_xlfn.CONCAT($Q$2,G28)))} -> - | G28: E28 | H28: - | I28: - | J28: - | K28: - | L28: - | O28: =IF($L43=O$24,$D43,"") | P28: =IF($L43=P$24,$D43,"") | Q28: =IF($L43=Q$24,$D43,"") | X28: 4 | Y28: {=IFERROR(INDEX(O$25:O$34, SMALL(IF(O$25:O$34<>"", ROW(O$25:O$34)-ROW(O$25)+1), $X28)), "-")} -> - | Z28: {=IFERROR(INDEX(P$25:P$34, SMALL(IF(P$25:P$34<>"", ROW(P$25:P$34)-ROW(P$25)+1), $X28)), "-")} -> - | AA28: {=IFERROR(INDEX(Q$25:Q$34, SMALL(IF(Q$25:Q$34<>"", ROW(Q$25:Q$34)-ROW(Q$25)+1), $X28)), "-")} -> - | AK28: 4 | AL28: =IF($F43=AM$23,$J43,"") | AM28: =IF($F43=AM$23,$K43,"") | AN28: =IF($F43=AM$23,$K28,"") | AO28: =IF($F43=AM$23,$B28,"") | AP28: =IF($F43=AM$23,$D43,"") | AQ28: 4 | AR28: {=IFERROR(INDEX(AL$25:AL$34, SMALL(IF(AL$25:AL$34<>"", ROW(AL$25:AL$34)-ROW(AL$25)+1), $AQ28)), "-")} -> - | AS28: {=IFERROR(INDEX(AM$25:AM$34, SMALL(IF(AM$25:AM$34<>"", ROW(AM$25:AM$34)-ROW(AM$25)+1), $AQ28)), "-")} -> - | AT28: {=IFERROR(INDEX(AN$25:AN$34, SMALL(IF(AN$25:AN$34<>"", ROW(AN$25:AN$34)-ROW(AN$25)+1), $AQ28)), "-")} -> - | AU28: {=IFERROR(INDEX(AO$25:AO$34, SMALL(IF(AO$25:AO$34<>"", ROW(AO$25:AO$34)-ROW(AO$25)+1), $AQ28)), "-")} -> - | AV28: {=IFERROR(INDEX(AP$25:AP$34, SMALL(IF(AP$25:AP$34<>"", ROW(AP$25:AP$34)-ROW(AP$25)+1), $AQ28)), "-")} -> -
B29: {=INDIRECT(_xlfn.CONCAT($Q$2,C29))} -> NIKI Product 5 | C29: C29 | D29: {=_xlfn.SWITCH(INDIRECT(_xlfn.CONCAT($Q$2,E29)),"-","-",0,"-",INDIRECT(_xlfn.CONCAT($Q$2,E29)))} -> - | E29: D29 | F29: {=_xlfn.SWITCH(INDIRECT(_xlfn.CONCAT($Q$2,G29)),"-","-",0,"-",INDIRECT(_xlfn.CONCAT($Q$2,G29)))} -> - | G29: E29 | H29: - | I29: - | J29: - | K29: - | L29: - | O29: =IF($L44=O$24,$D44,"") | P29: =IF($L44=P$24,$D44,"") | Q29: =IF($L44=Q$24,$D44,"") | X29: 5 | Y29: {=IFERROR(INDEX(O$25:O$34, SMALL(IF(O$25:O$34<>"", ROW(O$25:O$34)-ROW(O$25)+1), $X29)), "-")} -> - | Z29: {=IFERROR(INDEX(P$25:P$34, SMALL(IF(P$25:P$34<>"", ROW(P$25:P$34)-ROW(P$25)+1), $X29)), "-")} -> - | AA29: {=IFERROR(INDEX(Q$25:Q$34, SMALL(IF(Q$25:Q$34<>"", ROW(Q$25:Q$34)-ROW(Q$25)+1), $X29)), "-")} -> - | AK29: 5 | AL29: =IF($F44=AM$23,$J44,"") | AM29: =IF($F44=AM$23,$K44,"") | AN29: =IF($F44=AM$23,$K29,"") | AO29: =IF($F44=AM$23,$B29,"") | AP29: =IF($F44=AM$23,$D44,"") | AQ29: 5 | AR29: {=IFERROR(INDEX(AL$25:AL$34, SMALL(IF(AL$25:AL$34<>"", ROW(AL$25:AL$34)-ROW(AL$25)+1), $AQ29)), "-")} -> - | AS29: {=IFERROR(INDEX(AM$25:AM$34, SMALL(IF(AM$25:AM$34<>"", ROW(AM$25:AM$34)-ROW(AM$25)+1), $AQ29)), "-")} -> - | AT29: {=IFERROR(INDEX(AN$25:AN$34, SMALL(IF(AN$25:AN$34<>"", ROW(AN$25:AN$34)-ROW(AN$25)+1), $AQ29)), "-")} -> - | AU29: {=IFERROR(INDEX(AO$25:AO$34, SMALL(IF(AO$25:AO$34<>"", ROW(AO$25:AO$34)-ROW(AO$25)+1), $AQ29)), "-")} -> - | AV29: {=IFERROR(INDEX(AP$25:AP$34, SMALL(IF(AP$25:AP$34<>"", ROW(AP$25:AP$34)-ROW(AP$25)+1), $AQ29)), "-")} -> -
B30: {=INDIRECT(_xlfn.CONCAT($Q$2,C30))} -> NIKI Product 6 | C30: C30 | D30: {=_xlfn.SWITCH(INDIRECT(_xlfn.CONCAT($Q$2,E30)),"-","-",0,"-",INDIRECT(_xlfn.CONCAT($Q$2,E30)))} -> - | E30: D30 | F30: {=_xlfn.SWITCH(INDIRECT(_xlfn.CONCAT($Q$2,G30)),"-","-",0,"-",INDIRECT(_xlfn.CONCAT($Q$2,G30)))} -> - | G30: E30 | H30: - | I30: - | J30: - | K30: - | L30: - | O30: =IF($L45=O$24,$D45,"") | P30: =IF($L45=P$24,$D45,"") | Q30: =IF($L45=Q$24,$D45,"") | X30: 6 | Y30: {=IFERROR(INDEX(O$25:O$34, SMALL(IF(O$25:O$34<>"", ROW(O$25:O$34)-ROW(O$25)+1), $X30)), "-")} -> - | Z30: {=IFERROR(INDEX(P$25:P$34, SMALL(IF(P$25:P$34<>"", ROW(P$25:P$34)-ROW(P$25)+1), $X30)), "-")} -> - | AA30: {=IFERROR(INDEX(Q$25:Q$34, SMALL(IF(Q$25:Q$34<>"", ROW(Q$25:Q$34)-ROW(Q$25)+1), $X30)), "-")} -> - | AK30: 6 | AL30: =IF($F45=AM$23,$J45,"") | AM30: =IF($F45=AM$23,$K45,"") | AN30: =IF($F45=AM$23,$K30,"") | AO30: =IF($F45=AM$23,$B30,"") | AP30: =IF($F45=AM$23,$D45,"") | AQ30: 6 | AR30: {=IFERROR(INDEX(AL$25:AL$34, SMALL(IF(AL$25:AL$34<>"", ROW(AL$25:AL$34)-ROW(AL$25)+1), $AQ30)), "-")} -> - | AS30: {=IFERROR(INDEX(AM$25:AM$34, SMALL(IF(AM$25:AM$34<>"", ROW(AM$25:AM$34)-ROW(AM$25)+1), $AQ30)), "-")} -> - | AT30: {=IFERROR(INDEX(AN$25:AN$34, SMALL(IF(AN$25:AN$34<>"", ROW(AN$25:AN$34)-ROW(AN$25)+1), $AQ30)), "-")} -> - | AU30: {=IFERROR(INDEX(AO$25:AO$34, SMALL(IF(AO$25:AO$34<>"", ROW(AO$25:AO$34)-ROW(AO$25)+1), $AQ30)), "-")} -> - | AV30: {=IFERROR(INDEX(AP$25:AP$34, SMALL(IF(AP$25:AP$34<>"", ROW(AP$25:AP$34)-ROW(AP$25)+1), $AQ30)), "-")} -> -
B31: {=INDIRECT(_xlfn.CONCAT($Q$2,C31))} -> NIKI Product 7 | C31: C31 | D31: {=_xlfn.SWITCH(INDIRECT(_xlfn.CONCAT($Q$2,E31)),"-","-",0,"-",INDIRECT(_xlfn.CONCAT($Q$2,E31)))} -> - | E31: D31 | F31: {=_xlfn.SWITCH(INDIRECT(_xlfn.CONCAT($Q$2,G31)),"-","-",0,"-",INDIRECT(_xlfn.CONCAT($Q$2,G31)))} -> - | G31: E31 | H31: - | I31: - | J31: - | K31: - | L31: - | O31: =IF($L46=O$24,$D46,"") | P31: =IF($L46=P$24,$D46,"") | Q31: =IF($L46=Q$24,$D46,"") | X31: 7 | Y31: {=IFERROR(INDEX(O$25:O$34, SMALL(IF(O$25:O$34<>"", ROW(O$25:O$34)-ROW(O$25)+1), $X31)), "-")} -> - | Z31: {=IFERROR(INDEX(P$25:P$34, SMALL(IF(P$25:P$34<>"", ROW(P$25:P$34)-ROW(P$25)+1), $X31)), "-")} -> - | AA31: {=IFERROR(INDEX(Q$25:Q$34, SMALL(IF(Q$25:Q$34<>"", ROW(Q$25:Q$34)-ROW(Q$25)+1), $X31)), "-")} -> - | AK31: 7 | AL31: =IF($F46=AM$23,$J46,"") | AM31: =IF($F46=AM$23,$K46,"") | AN31: =IF($F46=AM$23,$K31,"") | AO31: =IF($F46=AM$23,$B31,"") | AP31: =IF($F46=AM$23,$D46,"") | AQ31: 7 | AR31: {=IFERROR(INDEX(AL$25:AL$34, SMALL(IF(AL$25:AL$34<>"", ROW(AL$25:AL$34)-ROW(AL$25)+1), $AQ31)), "-")} -> - | AS31: {=IFERROR(INDEX(AM$25:AM$34, SMALL(IF(AM$25:AM$34<>"", ROW(AM$25:AM$34)-ROW(AM$25)+1), $AQ31)), "-")} -> - | AT31: {=IFERROR(INDEX(AN$25:AN$34, SMALL(IF(AN$25:AN$34<>"", ROW(AN$25:AN$34)-ROW(AN$25)+1), $AQ31)), "-")} -> - | AU31: {=IFERROR(INDEX(AO$25:AO$34, SMALL(IF(AO$25:AO$34<>"", ROW(AO$25:AO$34)-ROW(AO$25)+1), $AQ31)), "-")} -> - | AV31: {=IFERROR(INDEX(AP$25:AP$34, SMALL(IF(AP$25:AP$34<>"", ROW(AP$25:AP$34)-ROW(AP$25)+1), $AQ31)), "-")} -> -
B32: {=INDIRECT(_xlfn.CONCAT($Q$2,C32))} -> NIKI Product 8 | C32: C32 | D32: {=_xlfn.SWITCH(INDIRECT(_xlfn.CONCAT($Q$2,E32)),"-","-",0,"-",INDIRECT(_xlfn.CONCAT($Q$2,E32)))} -> - | E32: D32 | F32: {=_xlfn.SWITCH(INDIRECT(_xlfn.CONCAT($Q$2,G32)),"-","-",0,"-",INDIRECT(_xlfn.CONCAT($Q$2,G32)))} -> - | G32: E32 | H32: - | I32: - | J32: - | K32: - | L32: - | O32: =IF($L47=O$24,$D47,"") | P32: =IF($L47=P$24,$D47,"") | Q32: =IF($L47=Q$24,$D47,"") | X32: 8 | Y32: {=IFERROR(INDEX(O$25:O$34, SMALL(IF(O$25:O$34<>"", ROW(O$25:O$34)-ROW(O$25)+1), $X32)), "-")} -> - | Z32: {=IFERROR(INDEX(P$25:P$34, SMALL(IF(P$25:P$34<>"", ROW(P$25:P$34)-ROW(P$25)+1), $X32)), "-")} -> - | AA32: {=IFERROR(INDEX(Q$25:Q$34, SMALL(IF(Q$25:Q$34<>"", ROW(Q$25:Q$34)-ROW(Q$25)+1), $X32)), "-")} -> - | AK32: 8 | AL32: =IF($F47=AM$23,$J47,"") | AM32: =IF($F47=AM$23,$K47,"") | AN32: =IF($F47=AM$23,$K32,"") | AO32: =IF($F47=AM$23,$B32,"") | AP32: =IF($F47=AM$23,$D47,"") | AQ32: 8 | AR32: {=IFERROR(INDEX(AL$25:AL$34, SMALL(IF(AL$25:AL$34<>"", ROW(AL$25:AL$34)-ROW(AL$25)+1), $AQ32)), "-")} -> - | AS32: {=IFERROR(INDEX(AM$25:AM$34, SMALL(IF(AM$25:AM$34<>"", ROW(AM$25:AM$34)-ROW(AM$25)+1), $AQ32)), "-")} -> - | AT32: {=IFERROR(INDEX(AN$25:AN$34, SMALL(IF(AN$25:AN$34<>"", ROW(AN$25:AN$34)-ROW(AN$25)+1), $AQ32)), "-")} -> - | AU32: {=IFERROR(INDEX(AO$25:AO$34, SMALL(IF(AO$25:AO$34<>"", ROW(AO$25:AO$34)-ROW(AO$25)+1), $AQ32)), "-")} -> - | AV32: {=IFERROR(INDEX(AP$25:AP$34, SMALL(IF(AP$25:AP$34<>"", ROW(AP$25:AP$34)-ROW(AP$25)+1), $AQ32)), "-")} -> -
B33: {=INDIRECT(_xlfn.CONCAT($Q$2,C33))} -> NIKI Product 9 | C33: C33 | D33: {=_xlfn.SWITCH(INDIRECT(_xlfn.CONCAT($Q$2,E33)),"-","-",0,"-",INDIRECT(_xlfn.CONCAT($Q$2,E33)))} -> - | E33: D33 | F33: {=_xlfn.SWITCH(INDIRECT(_xlfn.CONCAT($Q$2,G33)),"-","-",0,"-",INDIRECT(_xlfn.CONCAT($Q$2,G33)))} -> - | G33: E33 | H33: - | I33: - | J33: - | K33: - | L33: - | O33: =IF($L48=O$24,$D48,"") | P33: =IF($L48=P$24,$D48,"") | Q33: =IF($L48=Q$24,$D48,"") | X33: 9 | Y33: {=IFERROR(INDEX(O$25:O$34, SMALL(IF(O$25:O$34<>"", ROW(O$25:O$34)-ROW(O$25)+1), $X33)), "-")} -> - | Z33: {=IFERROR(INDEX(P$25:P$34, SMALL(IF(P$25:P$34<>"", ROW(P$25:P$34)-ROW(P$25)+1), $X33)), "-")} -> - | AA33: {=IFERROR(INDEX(Q$25:Q$34, SMALL(IF(Q$25:Q$34<>"", ROW(Q$25:Q$34)-ROW(Q$25)+1), $X33)), "-")} -> - | AK33: 9 | AL33: =IF($F48=AM$23,$J48,"") | AM33: =IF($F48=AM$23,$K48,"") | AN33: =IF($F48=AM$23,$K33,"") | AO33: =IF($F48=AM$23,$B33,"") | AP33: =IF($F48=AM$23,$D48,"") | AQ33: 9 | AR33: {=IFERROR(INDEX(AL$25:AL$34, SMALL(IF(AL$25:AL$34<>"", ROW(AL$25:AL$34)-ROW(AL$25)+1), $AQ33)), "-")} -> - | AS33: {=IFERROR(INDEX(AM$25:AM$34, SMALL(IF(AM$25:AM$34<>"", ROW(AM$25:AM$34)-ROW(AM$25)+1), $AQ33)), "-")} -> - | AT33: {=IFERROR(INDEX(AN$25:AN$34, SMALL(IF(AN$25:AN$34<>"", ROW(AN$25:AN$34)-ROW(AN$25)+1), $AQ33)), "-")} -> - | AU33: {=IFERROR(INDEX(AO$25:AO$34, SMALL(IF(AO$25:AO$34<>"", ROW(AO$25:AO$34)-ROW(AO$25)+1), $AQ33)), "-")} -> - | AV33: {=IFERROR(INDEX(AP$25:AP$34, SMALL(IF(AP$25:AP$34<>"", ROW(AP$25:AP$34)-ROW(AP$25)+1), $AQ33)), "-")} -> -
B34: {=INDIRECT(_xlfn.CONCAT($Q$2,C34))} -> NIKI Product 10 | C34: C34 | D34: {=_xlfn.SWITCH(INDIRECT(_xlfn.CONCAT($Q$2,E34)),"-","-",0,"-",INDIRECT(_xlfn.CONCAT($Q$2,E34)))} -> - | E34: D34 | F34: {=_xlfn.SWITCH(INDIRECT(_xlfn.CONCAT($Q$2,G34)),"-","-",0,"-",INDIRECT(_xlfn.CONCAT($Q$2,G34)))} -> - | G34: E34 | H34: - | I34: - | J34: - | K34: - | L34: - | O34: =IF($L49=O$24,$D49,"") | P34: =IF($L49=P$24,$D49,"") | Q34: =IF($L49=Q$24,$D49,"") | X34: 10 | Y34: {=IFERROR(INDEX(O$25:O$34, SMALL(IF(O$25:O$34<>"", ROW(O$25:O$34)-ROW(O$25)+1), $X34)), "-")} -> - | Z34: {=IFERROR(INDEX(P$25:P$34, SMALL(IF(P$25:P$34<>"", ROW(P$25:P$34)-ROW(P$25)+1), $X34)), "-")} -> - | AA34: {=IFERROR(INDEX(Q$25:Q$34, SMALL(IF(Q$25:Q$34<>"", ROW(Q$25:Q$34)-ROW(Q$25)+1), $X34)), "-")} -> - | AK34: 10 | AL34: =IF($F49=AM$23,$J49,"") | AM34: =IF($F49=AM$23,$K49,"") | AN34: =IF($F49=AM$23,$K34,"") | AO34: =IF($F49=AM$23,$B34,"") | AP34: =IF($F49=AM$23,$D49,"") | AQ34: 10 | AR34: {=IFERROR(INDEX(AL$25:AL$34, SMALL(IF(AL$25:AL$34<>"", ROW(AL$25:AL$34)-ROW(AL$25)+1), $AQ34)), "-")} -> - | AS34: {=IFERROR(INDEX(AM$25:AM$34, SMALL(IF(AM$25:AM$34<>"", ROW(AM$25:AM$34)-ROW(AM$25)+1), $AQ34)), "-")} -> - | AT34: {=IFERROR(INDEX(AN$25:AN$34, SMALL(IF(AN$25:AN$34<>"", ROW(AN$25:AN$34)-ROW(AN$25)+1), $AQ34)), "-")} -> - | AU34: {=IFERROR(INDEX(AO$25:AO$34, SMALL(IF(AO$25:AO$34<>"", ROW(AO$25:AO$34)-ROW(AO$25)+1), $AQ34)), "-")} -> - | AV34: {=IFERROR(INDEX(AP$25:AP$34, SMALL(IF(AP$25:AP$34<>"", ROW(AP$25:AP$34)-ROW(AP$25)+1), $AQ34)), "-")} -> -
B36: • Bepaal of u een beschikbare emissiefactor moet toepassen ◦Ga na of een emissiefactor beschikbaar is op de lijst van co2-emissiefactoren.nl of de lijst van RVO standaard referentie-emissiefactoren (zie tabblad 'A. RVO std ref EF'). ◦U vult bij "Standaard emissiefactor of emissiefactor uit literatuur toepassen?" ja in, als u deze emissiefactor 1-op-1 kunt toepassen. ◦Als u een gedeeltelijke berekening van een emissiefactor toepast (niveau 3 in de hiërarchie), vult u hier "nee" in. In de beschrijving van de procesgrenzen van het referentieproces kunt u vervolgens aangeven dat u een gedeelte van een berekening toepast. | O36: Uitleg formules | X36: Uitleg formules | AK36: Uitleg formules | AQ36: Uitleg formules
B37: • Bepaal of u een emissiefactor uit de literatuur kunt toepassen ◦U mag een emissiefactor uit de literatuur gebruiken als er geen standaard emissiefactor beschikbaar is én het referentieproduct niet fysiek identiek is aan het NIKI-product. ◦U vult bij "Standaard emissiefactor of emissiefactor uit literatuur toepassen?" ja in. • Als u geen standaard emissiefactor of emissiefactor uit literatuur toepast, vult u "Nee" in en laat u de kolommen H-K leeg. U geeft in kolom L aan onder welk referentieproces u de productie van het referentieproduct gaat beschrijven. | O37: -Check voor ieder referentie proces of het NIKI-product aan de referentie is toegewezen | X37: -Geef "-" bij fout -Probeer: -Kijk voor iedere cel in de kolom bij het geselecteerde referentieproces onder Stap 1 of er iets is ingevuld. WAAR als dat zo is, ONWAAR als dat niet zo is. -Pak de n-de cel die is ingevuld, zodat je alle niet-ingevulde cellen overslaat. | AK37: Zie uitleg bij blokken links | AQ37: Zie uitleg bij blokken links
B39: Productlabel | D39: Referentieproduct | F39: Standaard emissiefactor of emissiefactor uit literatuur toepassen? | H39: Bron van de emissiefactor | I39: Toelichting: waarom is beschikbare emissiefactor van toepassing | J39: Indien beschikbaar: neem beschikbare emissiefactor over uit de aangegeven bron | K39: Indien beschikbaar: Emissiefactor eenheid | L39: In welk referentieproces wordt dit referentieproduct uitgewerkt
B40: =B25 -> NIKI Product 1 | D40: =H25 -> - | F40: - | H40: - | I40: - | J40: - | K40: - | L40: -
B41: =B26 -> NIKI Product 2 | D41: =H26 -> - | F41: - | H41: - | I41: - | J41: - | K41: - | L41: -
B42: =B27 -> NIKI Product 3 | D42: =H27 -> - | F42: - | H42: - | I42: - | J42: - | K42: - | L42: -
B43: =B28 -> NIKI Product 4 | D43: =H28 -> - | F43: - | H43: - | I43: - | J43: - | K43: - | L43: -
B44: =B29 -> NIKI Product 5 | D44: =H29 -> - | F44: - | H44: - | I44: - | J44: - | K44: - | L44: -
B45: =B30 -> NIKI Product 6 | D45: =H30 -> - | F45: - | H45: - | I45: - | J45: - | K45: - | L45: -
B46: =B31 -> NIKI Product 7 | D46: =H31 -> - | F46: - | H46: - | I46: - | J46: - | K46: - | L46: -
B47: =B32 -> NIKI Product 8 | D47: =H32 -> - | F47: - | H47: - | I47: - | J47: - | K47: - | L47: -
B48: =B33 -> NIKI Product 9 | D48: =H33 -> - | F48: - | H48: - | I48: - | J48: - | K48: - | L48: -
B49: =B34 -> NIKI Product 10 | D49: =H34 -> - | F49: - | H49: - | I49: - | J49: - | K49: - | L49: -
B51: • Als u geen standaard emissiefactor of emissiefactor uit de literatuur toepast, bepaalt u voor het referentieproduct een referentieproces volgens de hiërarchie, zoals beschreven in stap 2.2 van de NIKI CO2-emissiereductiemethode. Hieronder beschrijft u elk referentieproces.
B52: • Onderbouw het geselecteerde referentieproces. Ga hierbij in op het niveau in de hiërarchie en geef een motivatie waarom u dit proces heeft gekozen, bijvoorbeeld als er meerdere processen bestaan.
B54: Referentieproces Nr. | D54: Naam referentieproces | F54: Omschrijving referentieproces | H54: Niveau in de hiërarchie | I54: Onderbouwing keuze referentieproces
B55: 1 | D55: - | F55: - | H55: - | I55: -
B56: 2 | D56: - | F56: - | H56: - | I56: -
B57: 3 | D57: - | F57: - | H57: - | I57: -
B59: Vrije ruimte voor berekeningen, verdere toelichting en notities

Sheet S3 Grenzen NIKI
A1: Procesgrenzen NIKI | C1: Stap 3: Systeem- en procesgrenzen | S1: Legenda | V1: Naam tab | W1: =RIGHT(CELL("filename",A1),LEN(CELL("filename",A1))-FIND("]",CELL("filename",A1))) -> S3 Grenzen NIKI
C2: Bepaal de systeem- en procesgrenzen van het NIKI-project | S2: Label | V2: Ref S1 | W2: ='S1 NIKI-producten'!L1 -> S1 NIKI-producten | X2: ="'" & W2 & "'!" -> 'S1 NIKI-producten'!
S3: In te vullen | V3: Ref S2 | W3: ='S2 Def Referentie'!P1 -> S2 Def Referentie | X3: ="'" & W3 & "'!" -> 'S2 Def Referentie'!
S4: Overname gegevens of berekening
C6: • Op dit tabblad omschrijft u de verschillende levensfases en de procesgrenzen van het NIKI-project.
C7: • U geeft een kwalitatieve beschrijving van de inputs.
C8: • In kolom "Rigide of elastisch?" geeft u aan of een inputstroom rigide of elastisch is. Gebruik hiervoor de beschrijving in hoofdstuk 5.1.1 van de NIKI CO2-emissiereductiemethode. De vervangingseffecten bij rigide inputs omschrijft u later in het tabblad 'S5 Emissiefactoren NIKI'.
C9: • In hoofdstuk 5.1.2.1 van de NIKI CO2-emissiereductiemethode leest u of een inputstroom als biogeen mag worden aangemerkt. De voorwaarden voor gerecyclede en afvalstromen als input vindt u in hoofdstuk 5.1.2.2. Indien een input niet biogeen of gerecycled is, mag u bij de motivatie "nvt" invullen.
C10: • Onder "functie in het (deel)proces" beschrijft u kort waarvoor een input wordt ingezet, bijvoorbeeld als energiebron, brandstof of grondstof. U refereert naar de betreffende (deel)processtap in het processchema.
C11: • U beschrijft de belangrijkste processtappen en deelprocessen aan de hand van een processchema.
C23: Levensfase input
C24: Input label | D24: Hide | E24: Input naam | F24: Hide | G24: Input omschrijving | H24: Hide | I24: Rigide of elastisch? | J24: Hide | K24: Motivatie rigide of elastisch | M24: Biogeen? (Ja/Nee) | N24: Motivatie biogeen | O24: Gerecycled? (Ja/Nee) | P24: Motivatie gerecycled | R24: Functie in het (deel)proces | S24: Bronnen
C25: NIKI Grondstof 1 | E25: - | G25: - | I25: - | K25: - | M25: - | N25: - | O25: - | P25: - | R25: - | S25: -
C26: NIKI Grondstof 2 | E26: - | G26: - | I26: - | K26: - | M26: - | N26: - | O26: - | P26: - | R26: - | S26: -
C27: NIKI Grondstof 3 | E27: - | G27: - | I27: - | K27: - | M27: - | N27: - | O27: - | P27: - | R27: - | S27: -
C28: NIKI Grondstof 4 | E28: - | G28: - | I28: - | K28: - | M28: - | N28: - | O28: - | P28: - | R28: - | S28: -
C29: NIKI Grondstof 5 | E29: - | G29: - | I29: - | K29: - | M29: - | N29: - | O29: - | P29: - | R29: - | S29: -
C30: NIKI Grondstof 6 | E30: - | G30: - | I30: - | K30: - | M30: - | N30: - | O30: - | P30: - | R30: - | S30: -
C31: NIKI Grondstof 7 | E31: - | G31: - | I31: - | K31: - | M31: - | N31: - | O31: - | P31: - | R31: - | S31: -
C32: NIKI Grondstof 8 | E32: - | G32: - | I32: - | K32: - | M32: - | N32: - | O32: - | P32: - | R32: - | S32: -
C33: NIKI Grondstof 9 | E33: - | G33: - | I33: - | K33: - | M33: - | N33: - | O33: - | P33: - | R33: - | S33: -
C34: NIKI Grondstof 10 | E34: - | G34: - | I34: - | K34: - | M34: - | N34: - | O34: - | P34: - | R34: - | S34: -
C35: NIKI Energie 1 | E35: - | G35: - | I35: - | K35: - | M35: - | N35: - | O35: Nee | P35: nvt | R35: - | S35: -
C36: NIKI Energie 2 | E36: - | G36: - | I36: - | K36: - | M36: - | N36: - | O36: Nee | P36: nvt | R36: - | S36: -
... C39: NIKI Energie 5 | E39: - | G39: - | I39: - | K39: - | M39: - | N39: - | O39: Nee | P39: nvt | R39: - | S39: -
C41: Levensfase proces
C42: Beschrijf het productieproces en de procesgrenzen van het NIKI-proces.
C51: Voeg een processchema in
C52: Plaats een schematische weergaven van het NIKI-project. Laat hierin de inputs en outputs zien, envenals de belangrijkste installaties binnen het NIKI-proces. De grootte van dit invulvak mag aangepast worden om het schema te accomoderen, echter kunt u ook de vrije ruimte onderaan dit tabblad gebruiken. Voeg geen extra rijen in, maar pas de rijhoogte aan.
C63: • U geeft een kwalitatieve beschrijving van de outputs.
C64: • U geeft aan wat er aan het einde van de levensduur met elk van de producten gebeurt. Voor brandstoffen is dit altijd "verbranding", voor andere stromen kiest u "einde levensduur" en kiest vervolgens het type einde levensduur emissie, zie hoofdstuk 5.4 van de NIKI CO2-emissiereductiemethode.
C65: • Indien een NIKI-product fysiek identiek is aan het referentieproduct, laat u de levensfase "einde levensduur" buiten beschouwing. In dit geval zijn verwerking en gerelateerde emissie hetzelfde en hoeven daarom niet meegenomen worden bij de berekening van de emissiereductie. U geeft dit aan per product en onderbouwt kort uw keuze. In stap 5 vult u in dit geval de einde levensfase van de betreffende producten niet in. NB: U mag in dit geval de levensfase einde levensduur buiten beschouwing laten, maar dit hoeft niet. Als u bijvoorbeeld een biogeen NIKI-product maakt dat een fossiel referentieproduct vervangt, kunt u de einde levensduur beter wel meenemen om het effect van de biogene koolstof correct mee te nemen.
C66: • De CO2-emissies van de levensfase proces splitst u op in aparte regels voor proces-CO2 en verbrandings-CO2. U gebruikt een nieuwe regel voor de CO2 van iedere brandstof die in wordt gezet.
C67: • "Overige BKG emissies" betreft CO2-emissies uit het proces ten gevolge van onderhoud, storingen en afblazen, zie hoofdstuk 5.2 van de NIKI CO2-emissiereductiemethode.
C68: • Voor de outputs kunt u een recyclingpercentage invullen. In hoofdstuk 5.4.1 van de NIKI CO2-emissiereductiemethode staan de betreffende regels beschreven. U onderbouwt vervolgens het percentage en verwijst naar bronnen indien van toepassing.
C69: • U kunt ook aangeven of een output (gedeeltelijk) biogeen is. Dit is gerelateerd aan biogene inputstromen in het proces, tenzij er bioenergie als energiebron is ingezet. De biogene koolstof komt in dit geval niet in het product terecht. Onderbouw uw keuze en verwijs indien van toepassing naar bronnen.
D71: Hide | F71: Hide | H71: Hide
C72: Levensfase verbranding of einde levensduur
C73: Output label | E73: Output naam | G73: Output omschrijving | I73: Fysiek identiek? | K73: Einde levensduur buiten beschouwing? | L73: Onderbouwing buiten beschouwing | M73: Verbranding (brandstof) of Einde levensduur | N73: Type einde levensduur emissie | O73: Recycling-percentage einde levensduur product (%) | P73: Onderbouwing recyclingpercentage | Q73: Biogeen (Keuzelijst) | R73: Onderbouwing biogeen | S73: Bronnen
C74: {=INDIRECT(_xlfn.CONCAT($X$2,D74))} -> NIKI Product 1 | D74: C25 | E74: {=_xlfn.SWITCH(INDIRECT(_xlfn.CONCAT($X$2,F74)),"-","-",0,"-",INDIRECT(_xlfn.CONCAT($X$2,F74)))} -> - | F74: D25 | G74: {=_xlfn.SWITCH(INDIRECT(_xlfn.CONCAT($X$2,H74)),"-","-",0,"-",INDIRECT(_xlfn.CONCAT($X$2,H74)))} -> - | H74: G25 | I74: {=_xlfn.SWITCH(INDIRECT(_xlfn.CONCAT($X$2,J74)),"-","-",0,"-",INDIRECT(_xlfn.CONCAT($X$2,J74)))} -> - | J74: I25 | K74: - | L74: - | M74: - | N74: - | O74: - | P74: - | Q74: - | R74: - | S74: -
C75: {=INDIRECT(_xlfn.CONCAT($X$2,D75))} -> NIKI Product 2 | D75: C26 | E75: {=_xlfn.SWITCH(INDIRECT(_xlfn.CONCAT($X$2,F75)),"-","-",0,"-",INDIRECT(_xlfn.CONCAT($X$2,F75)))} -> - | F75: D26 | G75: {=_xlfn.SWITCH(INDIRECT(_xlfn.CONCAT($X$2,H75)),"-","-",0,"-",INDIRECT(_xlfn.CONCAT($X$2,H75)))} -> - | H75: G26 | I75: {=_xlfn.SWITCH(INDIRECT(_xlfn.CONCAT($X$2,J75)),"-","-",0,"-",INDIRECT(_xlfn.CONCAT($X$2,J75)))} -> - | J75: I26 | K75: - | L75: - | M75: - | N75: - | O75: - | P75: - | Q75: - | R75: - | S75: -
C76: {=INDIRECT(_xlfn.CONCAT($X$2,D76))} -> NIKI Product 3 | D76: C27 | E76: {=_xlfn.SWITCH(INDIRECT(_xlfn.CONCAT($X$2,F76)),"-","-",0,"-",INDIRECT(_xlfn.CONCAT($X$2,F76)))} -> - | F76: D27 | G76: {=_xlfn.SWITCH(INDIRECT(_xlfn.CONCAT($X$2,H76)),"-","-",0,"-",INDIRECT(_xlfn.CONCAT($X$2,H76)))} -> - | H76: G27 | I76: {=_xlfn.SWITCH(INDIRECT(_xlfn.CONCAT($X$2,J76)),"-","-",0,"-",INDIRECT(_xlfn.CONCAT($X$2,J76)))} -> - | J76: I27 | K76: - | L76: - | M76: - | N76: - | O76: - | P76: - | Q76: - | R76: - | S76: -
C77: {=INDIRECT(_xlfn.CONCAT($X$2,D77))} -> NIKI Product 4 | D77: C28 | E77: {=_xlfn.SWITCH(INDIRECT(_xlfn.CONCAT($X$2,F77)),"-","-",0,"-",INDIRECT(_xlfn.CONCAT($X$2,F77)))} -> - | F77: D28 | G77: {=_xlfn.SWITCH(INDIRECT(_xlfn.CONCAT($X$2,H77)),"-","-",0,"-",INDIRECT(_xlfn.CONCAT($X$2,H77)))} -> - | H77: G28 | I77: {=_xlfn.SWITCH(INDIRECT(_xlfn.CONCAT($X$2,J77)),"-","-",0,"-",INDIRECT(_xlfn.CONCAT($X$2,J77)))} -> - | J77: I28 | K77: - | L77: - | M77: - | N77: - | O77: - | P77: - | Q77: - | R77: - | S77: -
C78: {=INDIRECT(_xlfn.CONCAT($X$2,D78))} -> NIKI Product 5 | D78: C29 | E78: {=_xlfn.SWITCH(INDIRECT(_xlfn.CONCAT($X$2,F78)),"-","-",0,"-",INDIRECT(_xlfn.CONCAT($X$2,F78)))} -> - | F78: D29 | G78: {=_xlfn.SWITCH(INDIRECT(_xlfn.CONCAT($X$2,H78)),"-","-",0,"-",INDIRECT(_xlfn.CONCAT($X$2,H78)))} -> - | H78: G29 | I78: {=_xlfn.SWITCH(INDIRECT(_xlfn.CONCAT($X$2,J78)),"-","-",0,"-",INDIRECT(_xlfn.CONCAT($X$2,J78)))} -> - | J78: I29 | K78: - | L78: - | M78: - | N78: - | O78: - | P78: - | Q78: - | R78: - | S78: -
C79: {=INDIRECT(_xlfn.CONCAT($X$2,D79))} -> NIKI Product 6 | D79: C30 | E79: {=_xlfn.SWITCH(INDIRECT(_xlfn.CONCAT($X$2,F79)),"-","-",0,"-",INDIRECT(_xlfn.CONCAT($X$2,F79)))} -> - | F79: D30 | G79: {=_xlfn.SWITCH(INDIRECT(_xlfn.CONCAT($X$2,H79)),"-","-",0,"-",INDIRECT(_xlfn.CONCAT($X$2,H79)))} -> - | H79: G30 | I79: {=_xlfn.SWITCH(INDIRECT(_xlfn.CONCAT($X$2,J79)),"-","-",0,"-",INDIRECT(_xlfn.CONCAT($X$2,J79)))} -> - | J79: I30 | K79: - | L79: - | M79: - | N79: - | O79: - | P79: - | Q79: - | R79: - | S79: -
C80: {=INDIRECT(_xlfn.CONCAT($X$2,D80))} -> NIKI Product 7 | D80: C31 | E80: {=_xlfn.SWITCH(INDIRECT(_xlfn.CONCAT($X$2,F80)),"-","-",0,"-",INDIRECT(_xlfn.CONCAT($X$2,F80)))} -> - | F80: D31 | G80: {=_xlfn.SWITCH(INDIRECT(_xlfn.CONCAT($X$2,H80)),"-","-",0,"-",INDIRECT(_xlfn.CONCAT($X$2,H80)))} -> - | H80: G31 | I80: {=_xlfn.SWITCH(INDIRECT(_xlfn.CONCAT($X$2,J80)),"-","-",0,"-",INDIRECT(_xlfn.CONCAT($X$2,J80)))} -> - | J80: I31 | K80: - | L80: - | M80: - | N80: - | O80: - | P80: - | Q80: - | R80: - | S80: -
C81: {=INDIRECT(_xlfn.CONCAT($X$2,D81))} -> NIKI Product 8 | D81: C32 | E81: {=_xlfn.SWITCH(INDIRECT(_xlfn.CONCAT($X$2,F81)),"-","-",0,"-",INDIRECT(_xlfn.CONCAT($X$2,F81)))} -> - | F81: D32 | G81: {=_xlfn.SWITCH(INDIRECT(_xlfn.CONCAT($X$2,H81)),"-","-",0,"-",INDIRECT(_xlfn.CONCAT($X$2,H81)))} -> - | H81: G32 | I81: {=_xlfn.SWITCH(INDIRECT(_xlfn.CONCAT($X$2,J81)),"-","-",0,"-",INDIRECT(_xlfn.CONCAT($X$2,J81)))} -> - | J81: I32 | K81: - | L81: - | M81: - | N81: - | O81: - | P81: - | Q81: - | R81: - | S81: -
C82: {=INDIRECT(_xlfn.CONCAT($X$2,D82))} -> NIKI Product 9 | D82: C33 | E82: {=_xlfn.SWITCH(INDIRECT(_xlfn.CONCAT($X$2,F82)),"-","-",0,"-",INDIRECT(_xlfn.CONCAT($X$2,F82)))} -> - | F82: D33 | G82: {=_xlfn.SWITCH(INDIRECT(_xlfn.CONCAT($X$2,H82)),"-","-",0,"-",INDIRECT(_xlfn.CONCAT($X$2,H82)))} -> - | H82: G33 | I82: {=_xlfn.SWITCH(INDIRECT(_xlfn.CONCAT($X$2,J82)),"-","-",0,"-",INDIRECT(_xlfn.CONCAT($X$2,J82)))} -> - | J82: I33 | K82: - | L82: - | M82: - | N82: - | O82: - | P82: - | Q82: - | R82: - | S82: -
C83: {=INDIRECT(_xlfn.CONCAT($X$2,D83))} -> NIKI Product 10 | D83: C34 | E83: {=_xlfn.SWITCH(INDIRECT(_xlfn.CONCAT($X$2,F83)),"-","-",0,"-",INDIRECT(_xlfn.CONCAT($X$2,F83)))} -> - | F83: D34 | G83: {=_xlfn.SWITCH(INDIRECT(_xlfn.CONCAT($X$2,H83)),"-","-",0,"-",INDIRECT(_xlfn.CONCAT($X$2,H83)))} -> - | H83: G34 | I83: {=_xlfn.SWITCH(INDIRECT(_xlfn.CONCAT($X$2,J83)),"-","-",0,"-",INDIRECT(_xlfn.CONCAT($X$2,J83)))} -> - | J83: I34 | K83: - | L83: - | M83: - | N83: - | O83: - | P83: - | Q83: - | R83: - | S83: -
C84: {=INDIRECT(_xlfn.CONCAT($X$2,D84))} -> NIKI Restfractie 1 | D84: C35 | E84: {=_xlfn.SWITCH(INDIRECT(_xlfn.CONCAT($X$2,F84)),"-","-",0,"-",INDIRECT(_xlfn.CONCAT($X$2,F84)))} -> - | F84: D35 | G84: {=_xlfn.SWITCH(INDIRECT(_xlfn.CONCAT($X$2,H84)),"-","-",0,"-",INDIRECT(_xlfn.CONCAT($X$2,H84)))} -> - | H84: G35 | I84: nvt | K84: nvt | L84: nvt | M84: Einde levensduur | N84: Verbranding | O84: nvt | P84: nvt | Q84: - | R84: - | S84: -
C85: {=INDIRECT(_xlfn.CONCAT($X$2,D85))} -> NIKI Restfractie 2 | D85: C36 | E85: {=_xlfn.SWITCH(INDIRECT(_xlfn.CONCAT($X$2,F85)),"-","-",0,"-",INDIRECT(_xlfn.CONCAT($X$2,F85)))} -> - | F85: D36 | G85: {=_xlfn.SWITCH(INDIRECT(_xlfn.CONCAT($X$2,H85)),"-","-",0,"-",INDIRECT(_xlfn.CONCAT($X$2,H85)))} -> - | H85: G36 | I85: nvt | K85: nvt | L85: nvt | M85: Einde levensduur | N85: Verbranding | O85: nvt | P85: nvt | Q85: - | R85: - | S85: -
C86: {=INDIRECT(_xlfn.CONCAT($X$2,D86))} -> NIKI Restfractie 3 | D86: C37 | E86: {=_xlfn.SWITCH(INDIRECT(_xlfn.CONCAT($X$2,F86)),"-","-",0,"-",INDIRECT(_xlfn.CONCAT($X$2,F86)))} -> - | F86: D37 | G86: {=_xlfn.SWITCH(INDIRECT(_xlfn.CONCAT($X$2,H86)),"-","-",0,"-",INDIRECT(_xlfn.CONCAT($X$2,H86)))} -> - | H86: G37 | I86: nvt | K86: nvt | L86: nvt | M86: Einde levensduur | N86: Verbranding | O86: nvt | P86: nvt | Q86: - | R86: - | S86: -
C87: {=INDIRECT(_xlfn.CONCAT($X$2,D87))} -> NIKI Restfractie 4 | D87: C38 | E87: {=_xlfn.SWITCH(INDIRECT(_xlfn.CONCAT($X$2,F87)),"-","-",0,"-",INDIRECT(_xlfn.CONCAT($X$2,F87)))} -> - | F87: D38 | G87: {=_xlfn.SWITCH(INDIRECT(_xlfn.CONCAT($X$2,H87)),"-","-",0,"-",INDIRECT(_xlfn.CONCAT($X$2,H87)))} -> - | H87: G38 | I87: nvt | K87: nvt | L87: nvt | M87: Einde levensduur | N87: Verbranding | O87: nvt | P87: nvt | Q87: - | R87: - | S87: -
C88: {=INDIRECT(_xlfn.CONCAT($X$2,D88))} -> NIKI Restfractie 5 | D88: C39 | E88: {=_xlfn.SWITCH(INDIRECT(_xlfn.CONCAT($X$2,F88)),"-","-",0,"-",INDIRECT(_xlfn.CONCAT($X$2,F88)))} -> - | F88: D39 | G88: {=_xlfn.SWITCH(INDIRECT(_xlfn.CONCAT($X$2,H88)),"-","-",0,"-",INDIRECT(_xlfn.CONCAT($X$2,H88)))} -> - | H88: G39 | I88: nvt | K88: nvt | L88: nvt | M88: Einde levensduur | N88: Verbranding | O88: nvt | P88: nvt | Q88: - | R88: - | S88: -
C89: NIKI Emissie 1 | D89: C40 | E89: {=_xlfn.SWITCH(INDIRECT(_xlfn.CONCAT($X$2,F89)),"-","-",0,"-",INDIRECT(_xlfn.CONCAT($X$2,F89)))} -> - | F89: D40 | G89: {=_xlfn.SWITCH(INDIRECT(_xlfn.CONCAT($X$2,H89)),"-","-",0,"-",INDIRECT(_xlfn.CONCAT($X$2,H89)))} -> - | H89: G40 | I89: nvt | K89: nvt | L89: nvt | M89: Einde levensduur | N89: Verbranding | O89: nvt | P89: nvt | Q89: - | R89: - | S89: -
C90: NIKI Emissie 2 | D90: C41 | E90: {=_xlfn.SWITCH(INDIRECT(_xlfn.CONCAT($X$2,F90)),"-","-",0,"-",INDIRECT(_xlfn.CONCAT($X$2,F90)))} -> - | F90: D41 | G90: {=_xlfn.SWITCH(INDIRECT(_xlfn.CONCAT($X$2,H90)),"-","-",0,"-",INDIRECT(_xlfn.CONCAT($X$2,H90)))} -> - | H90: G41 | I90: nvt | K90: nvt | L90: nvt | M90: Einde levensduur | N90: Verbranding | O90: nvt | P90: nvt | Q90: - | R90: - | S90: -
C91: NIKI Emissie 3 | D91: C42 | E91: {=_xlfn.SWITCH(INDIRECT(_xlfn.CONCAT($X$2,F91)),"-","-",0,"-",INDIRECT(_xlfn.CONCAT($X$2,F91)))} -> - | F91: D42 | G91: {=_xlfn.SWITCH(INDIRECT(_xlfn.CONCAT($X$2,H91)),"-","-",0,"-",INDIRECT(_xlfn.CONCAT($X$2,H91)))} -> - | H91: G42 | I91: nvt | K91: nvt | L91: nvt | M91: Einde levensduur | N91: Verbranding | O91: nvt | P91: nvt | Q91: - | R91: - | S91: -
C92: NIKI Emissie 4 | D92: C43 | E92: {=_xlfn.SWITCH(INDIRECT(_xlfn.CONCAT($X$2,F92)),"-","-",0,"-",INDIRECT(_xlfn.CONCAT($X$2,F92)))} -> - | F92: D43 | G92: {=_xlfn.SWITCH(INDIRECT(_xlfn.CONCAT($X$2,H92)),"-","-",0,"-",INDIRECT(_xlfn.CONCAT($X$2,H92)))} -> - | H92: G43 | I92: nvt | K92: nvt | L92: nvt | M92: Einde levensduur | N92: Verbranding | O92: nvt | P92: nvt | Q92: - | R92: - | S92: -
C93: NIKI Emissie 5 | D93: C44 | E93: {=_xlfn.SWITCH(INDIRECT(_xlfn.CONCAT($X$2,F93)),"-","-",0,"-",INDIRECT(_xlfn.CONCAT($X$2,F93)))} -> - | F93: D44 | G93: {=_xlfn.SWITCH(INDIRECT(_xlfn.CONCAT($X$2,H93)),"-","-",0,"-",INDIRECT(_xlfn.CONCAT($X$2,H93)))} -> - | H93: G44 | I93: nvt | K93: nvt | L93: nvt | M93: Einde levensduur | N93: Verbranding | O93: nvt | P93: nvt | Q93: - | R93: - | S93: -
C94: NIKI Afvalstof 1 | D94: C45 | E94: {=_xlfn.SWITCH(INDIRECT(_xlfn.CONCAT($X$2,F94)),"-","-",0,"-",INDIRECT(_xlfn.CONCAT($X$2,F94)))} -> - | F94: D45 | G94: {=_xlfn.SWITCH(INDIRECT(_xlfn.CONCAT($X$2,H94)),"-","-",0,"-",INDIRECT(_xlfn.CONCAT($X$2,H94)))} -> - | H94: G45 | I94: nvt | K94: nvt | L94: nvt | M94: Einde levensduur | N94: Verbranding | O94: nvt | P94: nvt | Q94: - | R94: - | S94: -
C95: NIKI Afvalstof 2 | D95: C46 | E95: {=_xlfn.SWITCH(INDIRECT(_xlfn.CONCAT($X$2,F95)),"-","-",0,"-",INDIRECT(_xlfn.CONCAT($X$2,F95)))} -> - | F95: D46 | G95: {=_xlfn.SWITCH(INDIRECT(_xlfn.CONCAT($X$2,H95)),"-","-",0,"-",INDIRECT(_xlfn.CONCAT($X$2,H95)))} -> - | H95: G46 | I95: nvt | K95: nvt | L95: nvt | M95: Einde levensduur | N95: Verbranding | O95: nvt | P95: nvt | Q95: - | R95: - | S95: -
C96: NIKI Afvalstof 3 | D96: C47 | E96: {=_xlfn.SWITCH(INDIRECT(_xlfn.CONCAT($X$2,F96)),"-","-",0,"-",INDIRECT(_xlfn.CONCAT($X$2,F96)))} -> - | F96: D47 | G96: {=_xlfn.SWITCH(INDIRECT(_xlfn.CONCAT($X$2,H96)),"-","-",0,"-",INDIRECT(_xlfn.CONCAT($X$2,H96)))} -> - | H96: G47 | I96: nvt | K96: nvt | L96: nvt | M96: Einde levensduur | N96: Verbranding | O96: nvt | P96: nvt | Q96: - | R96: - | S96: -
C97: NIKI Afvalstof 4 | D97: C48 | E97: {=_xlfn.SWITCH(INDIRECT(_xlfn.CONCAT($X$2,F97)),"-","-",0,"-",INDIRECT(_xlfn.CONCAT($X$2,F97)))} -> - | F97: D48 | G97: {=_xlfn.SWITCH(INDIRECT(_xlfn.CONCAT($X$2,H97)),"-","-",0,"-",INDIRECT(_xlfn.CONCAT($X$2,H97)))} -> - | H97: G48 | I97: nvt | K97: nvt | L97: nvt | M97: Einde levensduur | N97: Verbranding | O97: nvt | P97: nvt | Q97: - | R97: - | S97: -
C98: NIKI Afvalstof 5 | D98: C49 | E98: {=_xlfn.SWITCH(INDIRECT(_xlfn.CONCAT($X$2,F98)),"-","-",0,"-",INDIRECT(_xlfn.CONCAT($X$2,F98)))} -> - | F98: D49 | G98: {=_xlfn.SWITCH(INDIRECT(_xlfn.CONCAT($X$2,H98)),"-","-",0,"-",INDIRECT(_xlfn.CONCAT($X$2,H98)))} -> - | H98: G49 | I98: nvt | K98: nvt | L98: nvt | M98: Einde levensduur | N98: Verbranding | O98: nvt | P98: nvt | Q98: - | R98: - | S98: -
C99: NIKI Overige BKG emissies | D99: C50 | E99: {=_xlfn.SWITCH(INDIRECT(_xlfn.CONCAT($X$2,F99)),"-","-",0,"-",INDIRECT(_xlfn.CONCAT($X$2,F99)))} -> - | F99: D50 | G99: {=_xlfn.SWITCH(INDIRECT(_xlfn.CONCAT($X$2,H99)),"-","-",0,"-",INDIRECT(_xlfn.CONCAT($X$2,H99)))} -> - | H99: G50 | I99: nvt | K99: nvt | L99: nvt | M99: Einde levensduur | N99: Verbranding | O99: nvt | P99: nvt | Q99: - | R99: - | S99: -
C101: Vrije ruimte voor berekeningen, verdere toelichting en notities

Sheet S3 Grenzen Ref 1
A1: Procesgrenzen NIKI | C1: Stap 3: Systeem- en procesgrenzen | O1: Legenda | R1: Naam tab | S1: =RIGHT(CELL("filename",A1),LEN(CELL("filename",A1))-FIND("]",CELL("filename",A1))) -> S3 Grenzen Ref 1
C2: Bepaal de systeem- en procesgrenzen van referentieproces 1 | O2: Label | R2: Verw. S1 | S2: ='S1 NIKI-producten'!L1 -> S1 NIKI-producten | T2: ="'" & S2 & "'!" -> 'S1 NIKI-producten'!
O3: In te vullen | R3: Verw. S2 | S3: ='S2 Def Referentie'!P1 -> S2 Def Referentie | T3: ="'" & S3 & "'!" -> 'S2 Def Referentie'!
O4: Overname gegevens of berekening
C6: • Als u in stap 2 geen referentieprocessen heeft gedefiniëerd, omdat voor alle referentieproducten een emissiefactor beschikbaar is, hoeft u de tabbladen Grenzen Ref 1-3 niet in te vullen.
C7: • Op dit tabblad omschrijft u de verschillende levensfases en de procesgrenzen van het NIKI-project.
C8: • U geeft een kwalitatieve beschrijving van de inputs.
C9: • In kolom "Rigide of elastisch?" geeft u aan of een inputstroom rigide of elastisch is. Gebruik hiervoor de beschrijving in hoofdstuk 5.1.1 van de NIKI CO2-emissiereductiemethode. De vervangingseffecten bij rigide inputs omschrijft u later in het tabblad 'S5 Emissiefactoren NIKI'.
C10: • In hoofdstuk 5.1.2.1 van de NIKI CO2-emissiereductiemethode leest u of een inputstroom als biogeen mag worden aangemerkt. De voorwaarden voor gerecyclede en afvalstromen als input vindt u in hoofdstuk 5.1.2.2. Indien een input niet biogeen of gerecycled is, mag u bij de motivatie "nvt" invullen.
C11: • Onder "functie in het (deel)proces"beschrijft u kort waarvoor een input wordt ingezet, bijvoorbeeld als energiebron, brandstof of grondstof. U refereert naar de bedreffende (deel)processtap in het processchema.
C12: • U beschrijft de belangrijkste processtappen en deelprocessen aan de hand van een processchema.
C23: Levensfase input
C24: Input label | D24: Input naam | E24: Hide | F24: Input omschrijving | G24: Rigide of elastisch? | H24: Motivatie rigide of elastisch | I24: Biogeen? (Ja/Nee) | J24: Motivatie biogeen | K24: Gerecycled? (Ja/Nee) | L24: Motivatie gerecycled | N24: Functie in het (deel)proces | O24: Bronnen
C25: Ref 1 Grondstof 1 | D25: - | F25: - | G25: - | H25: - | I25: - | J25: - | K25: - | L25: - | N25: - | O25: -
C26: Ref 1 Grondstof 2 | D26: - | F26: - | G26: - | H26: - | I26: - | J26: - | K26: - | L26: - | N26: - | O26: -
C27: Ref 1 Grondstof 3 | D27: - | F27: - | G27: - | H27: - | I27: - | J27: - | K27: - | L27: - | N27: - | O27: -
C28: Ref 1 Grondstof 4 | D28: - | F28: - | G28: - | H28: - | I28: - | J28: - | K28: - | L28: - | N28: - | O28: -
C29: Ref 1 Grondstof 5 | D29: - | F29: - | G29: - | H29: - | I29: - | J29: - | K29: - | L29: - | N29: - | O29: -
C30: Ref 1 Grondstof 6 | D30: - | F30: - | G30: - | H30: - | I30: - | J30: - | K30: - | L30: - | N30: - | O30: -
C31: Ref 1 Grondstof 7 | D31: - | F31: - | G31: - | H31: - | I31: - | J31: - | K31: - | L31: - | N31: - | O31: -
C32: Ref 1 Grondstof 8 | D32: - | F32: - | G32: - | H32: - | I32: - | J32: - | K32: - | L32: - | N32: - | O32: -
C33: Ref 1 Grondstof 9 | D33: - | F33: - | G33: - | H33: - | I33: - | J33: - | K33: - | L33: - | N33: - | O33: -
C34: Ref 1 Grondstof 10 | D34: - | F34: - | G34: - | H34: - | I34: - | J34: - | K34: - | L34: - | N34: - | O34: -
C35: Ref 1 Energie 1 | D35: - | F35: - | G35: - | H35: - | I35: - | J35: - | K35: Nee | L35: nvt | N35: - | O35: -
C36: Ref 1 Energie 2 | D36: - | F36: - | G36: - | H36: - | I36: - | J36: - | K36: Nee | L36: nvt | N36: - | O36: -
... C39: Ref 1 Energie 5 | D39: - | F39: - | G39: - | H39: - | I39: - | J39: - | K39: Nee | L39: nvt | N39: - | O39: -
C41: Levensfase proces
C42: Beschrijf het productieproces en de procesgrenzen van het referentieproces.
C51: Voeg een processchema in
C52: Plaats een schematische weergaven van het referentieproces. Laat hierin de inputs en outputs zien, envenals de belangrijkste installaties binnen het referentieproces. De grootte van dit invulvak mag aangepast worden om het schema te accomoderen, echter kunt u ook de vrije ruimte onderaan dit tabblad gebruiken. Voeg geen extra rijen in, maar pas de rijhoogte aan.
C63: • U geeft een kwalitatieve beschrijving van de outputs.
C64: • U geeft aan wat er aan het einde van de levensduur met elk van de producten gebeurt. Voor brandstoffen is dit altijd "verbranding", voor andere stromen kiest u "einde levensduur" en kiest vervolgens het type einde levensduur emissie, zie hoofdstuk 5.4 van de NIKI CO2-emissiereductiemethode.
C65: • Indien een referentieproduct fysiek identiek is aan het NIKI-product, laat u de levensfase "einde levensduur" buiten beschouwing. In dit geval zijn verwerking en gerelateerde emissie hetzelfde en hoeven daarom niet meegenomen worden bij de berekening van de emissiereductie. U geeft dit aan per product en onderbouwt kort uw keuze. In stap 5 vult u in dit geval de einde levensfase van de betreffende producten niet in. NB: U mag in dit geval de levensfase einde levensduur buiten beschouwing laten, maar dit hoeft niet. Als u bijvoorbeeld een biogeen NIKI-product maakt dat een fossiel referentieproduct vervangt, kunt u de einde levensduur beter wel meenemen om het effect van de biogene koolstof correct mee te nemen.
C66: • De CO2-emissies van de levensfase proces splitst u op in aparte regels voor proces-CO2 en verbrandings-CO2. U gebruikt een nieuwe regel voor de CO2 van iedere brandstof die in wordt gezet.
C67: • "Overige BKG emissies" betreft CO2-emissies uit het proces ten gevolge van onderhoud, storingen en afblazen, zie hoofdstuk 5.2 van de NIKI CO2-emissiereductiemethode.
C68: • Voor de outputs kunt u een recyclingpercentage invullen. In hoofdstuk 5.4.1 van de NIKI CO2-emissiereductiemethode staan de betreffende regels beschreven. U onderbouwt vervolgens het percentage en verwijst naar bronnen indien van toepassing.
C69: • U kunt ook aangeven of een output (gedeeltelijk) biogeen is. Dit is gerelateerd aan biogene inputstromen in het proces, tenzij er bioenergie als energiebron is ingezet. De biogene koolstof komt in dit geval niet in het product terecht. Onderbouw uw keuze en verwijs indien van toepassing naar bronnen.
E71: Hide
C72: Levensfase verbranding of einde levensduur
C73: Output label | D73: Output naam | F73: Output omschrijving | G73: Einde levensduur buiten beschouwing? | H73: Onderbouwing buiten beschouwing | I73: Verbranding (brandstof) of Einde levensduur | J73: Type einde levensduur emissie | K73: Recycling-percentage einde levensduur product (%) | L73: Onderbouwing recyclingpercentage | M73: Biogeen (Keuzelijst) | N73: Onderbouwing biogeen | O73: Bronnen
C74: Ref 1 product 1 | D74: {=_xlfn.SWITCH(INDIRECT(_xlfn.CONCAT($T$3,E74)),"-","-",0,"-",INDIRECT(_xlfn.CONCAT($T$3,E74)))} -> - | E74: Y25 | F74: - | G74: - | H74: - | I74: - | J74: - | K74: - | L74: - | M74: - | N74: - | O74: -
C75: Ref 1 product 2 | D75: {=_xlfn.SWITCH(INDIRECT(_xlfn.CONCAT($T$3,E75)),"-","-",0,"-",INDIRECT(_xlfn.CONCAT($T$3,E75)))} -> - | E75: Y26 | F75: - | G75: - | H75: - | I75: - | J75: - | K75: - | L75: - | M75: - | N75: - | O75: -
C76: Ref 1 product 3 | D76: {=_xlfn.SWITCH(INDIRECT(_xlfn.CONCAT($T$3,E76)),"-","-",0,"-",INDIRECT(_xlfn.CONCAT($T$3,E76)))} -> - | E76: Y27 | F76: - | G76: - | H76: - | I76: - | J76: - | K76: - | L76: - | M76: - | N76: - | O76: -
C77: Ref 1 product 4 | D77: {=_xlfn.SWITCH(INDIRECT(_xlfn.CONCAT($T$3,E77)),"-","-",0,"-",INDIRECT(_xlfn.CONCAT($T$3,E77)))} -> - | E77: Y28 | F77: - | G77: - | H77: - | I77: - | J77: - | K77: - | L77: - | M77: - | N77: - | O77: -
C78: Ref 1 product 5 | D78: {=_xlfn.SWITCH(INDIRECT(_xlfn.CONCAT($T$3,E78)),"-","-",0,"-",INDIRECT(_xlfn.CONCAT($T$3,E78)))} -> - | E78: Y29 | F78: - | G78: - | H78: - | I78: - | J78: - | K78: - | L78: - | M78: - | N78: - | O78: -
C79: Ref 1 product 6 | D79: {=_xlfn.SWITCH(INDIRECT(_xlfn.CONCAT($T$3,E79)),"-","-",0,"-",INDIRECT(_xlfn.CONCAT($T$3,E79)))} -> - | E79: Y30 | F79: - | G79: - | H79: - | I79: - | J79: - | K79: - | L79: - | M79: - | N79: - | O79: -
C80: Ref 1 product 7 | D80: {=_xlfn.SWITCH(INDIRECT(_xlfn.CONCAT($T$3,E80)),"-","-",0,"-",INDIRECT(_xlfn.CONCAT($T$3,E80)))} -> - | E80: Y31 | F80: - | G80: - | H80: - | I80: - | J80: - | K80: - | L80: - | M80: - | N80: - | O80: -
C81: Ref 1 product 8 | D81: {=_xlfn.SWITCH(INDIRECT(_xlfn.CONCAT($T$3,E81)),"-","-",0,"-",INDIRECT(_xlfn.CONCAT($T$3,E81)))} -> - | E81: Y32 | F81: - | G81: - | H81: - | I81: - | J81: - | K81: - | L81: - | M81: - | N81: - | O81: -
C82: Ref 1 product 9 | D82: {=_xlfn.SWITCH(INDIRECT(_xlfn.CONCAT($T$3,E82)),"-","-",0,"-",INDIRECT(_xlfn.CONCAT($T$3,E82)))} -> - | E82: Y33 | F82: - | G82: - | H82: - | I82: - | J82: - | K82: - | L82: - | M82: - | N82: - | O82: -
C83: Ref 1 product 10 | D83: {=_xlfn.SWITCH(INDIRECT(_xlfn.CONCAT($T$3,E83)),"-","-",0,"-",INDIRECT(_xlfn.CONCAT($T$3,E83)))} -> - | E83: Y34 | F83: - | G83: - | H83: - | I83: - | J83: - | K83: - | L83: - | M83: - | N83: - | O83: -
C84: Ref 1 Co-product 1 | D84: - | F84: - | G84: nvt | H84: nvt | I84: Einde levensduur | J84: - | K84: - | L84: - | M84: - | N84: - | O84: -
C85: Ref 1 Co-product 2 | D85: - | F85: - | G85: nvt | H85: nvt | I85: Einde levensduur | J85: - | K85: - | L85: - | M85: - | N85: - | O85: -
C86: Ref 1 Co-product 3 | D86: - | F86: - | G86: nvt | H86: nvt | I86: Einde levensduur | J86: - | K86: - | L86: - | M86: - | N86: - | O86: -
C87: Ref 1 Co-product 4 | D87: - | F87: - | G87: nvt | H87: nvt | I87: Einde levensduur | J87: - | K87: - | L87: - | M87: - | N87: - | O87: -
C88: Ref 1 Co-product 5 | D88: - | F88: - | G88: nvt | H88: nvt | I88: Einde levensduur | J88: - | K88: - | L88: - | M88: - | N88: - | O88: -
C89: Ref 1 Emissie 1 | D89: - | F89: - | G89: nvt | H89: nvt | I89: Einde levensduur | J89: Verbranding | K89: nvt | L89: nvt | M89: - | N89: - | O89: -
C90: Ref 1 Emissie 2 | D90: - | F90: - | G90: nvt | H90: nvt | I90: Einde levensduur | J90: Verbranding | K90: nvt | L90: nvt | M90: - | N90: - | O90: -
C91: Ref 1 Emissie 3 | D91: - | F91: - | G91: nvt | H91: nvt | I91: Einde levensduur | J91: Verbranding | K91: nvt | L91: nvt | M91: - | N91: - | O91: -
C92: Ref 1 Emissie 4 | D92: - | F92: - | G92: nvt | H92: nvt | I92: Einde levensduur | J92: Verbranding | K92: nvt | L92: nvt | M92: - | N92: - | O92: -
C93: Ref 1 Emissie 5 | D93: - | F93: - | G93: nvt | H93: nvt | I93: Einde levensduur | J93: Verbranding | K93: nvt | L93: nvt | M93: - | N93: - | O93: -
C94: Ref 1 Afvalstof 1 | D94: - | F94: - | G94: nvt | H94: nvt | I94: Einde levensduur | J94: Verbranding | K94: nvt | L94: nvt | M94: - | N94: - | O94: -
C95: Ref 1 Afvalstof 2 | D95: - | F95: - | G95: nvt | H95: nvt | I95: Einde levensduur | J95: Verbranding | K95: nvt | L95: nvt | M95: - | N95: - | O95: -
... C99: Ref 1 Overige BKG emissies | D99: - | F99: - | G99: nvt | H99: nvt | I99: Einde levensduur | J99: Verbranding | K99: nvt | L99: nvt | M99: - | N99: - | O99: -
C101: Vrije ruimte voor berekeningen, verdere toelichting en notities

Sheet S3 Grenzen Ref 2
A1: Procesgrenzen NIKI | C1: Stap 3: Systeem- en procesgrenzen | O1: Legenda | R1: Naam tab | S1: =RIGHT(CELL("filename",A1),LEN(CELL("filename",A1))-FIND("]",CELL("filename",A1))) -> S3 Grenzen Ref 2
C2: Bepaal de systeem- en procesgrenzen van referentieproces 2 | O2: Label | R2: Verw. S1 | S2: ='S1 NIKI-producten'!L1 -> S1 NIKI-producten | T2: ="'" & S2 & "'!" -> 'S1 NIKI-producten'!
O3: In te vullen | R3: Verw. S2 | S3: ='S2 Def Referentie'!P1 -> S2 Def Referentie | T3: ="'" & S3 & "'!" -> 'S2 Def Referentie'!
O4: Overname gegevens of berekening
C6: • Als u in stap 2 geen referentieprocessen heeft gedefiniëerd, omdat voor alle referentieproducten een emissiefactor beschikbaar is, hoeft u de tabbladen Grenzen Ref 1-3 niet in te vullen.
C7: • Op dit tabblad omschrijft u de verschillende levensfases en de procesgrenzen van het NIKI-project.
C8: • U geeft een kwalitatieve beschrijving van de inputs.
C9: • In kolom "Rigide of elastisch?" geeft u aan of een inputstroom rigide of elastisch is. Gebruik hiervoor de beschrijving in hoofdstuk 5.1.1 van de NIKI CO2-emissiereductiemethode. De vervangingseffecten bij rigide inputs omschrijft u later in het tabblad 'S5 Emissiefactoren NIKI'.
C10: • In hoofdstuk 5.1.2.1 van de NIKI CO2-emissiereductiemethode leest u of een inputstroom als biogeen mag worden aangemerkt. De voorwaarden voor gerecyclede en afvalstromen als input vindt u in hoofdstuk 5.1.2.2. Indien een input niet biogeen of gerecycled is, mag u bij de motivatie "nvt" invullen.
C11: • Onder "functie in het (deel)proces"beschrijft u kort waarvoor een input wordt ingezet, bijvoorbeeld als energiebron, brandstof of grondstof. U refereert naar de bedreffende (deel)processtap in het processchema.
C12: • U beschrijft de belangrijkste processtappen en deelprocessen aan de hand van een processchema.
C23: Levensfase input
C24: Input label | D24: Input naam | E24: Hide | F24: Input omschrijving | G24: Rigide of elastisch? | H24: Motivatie rigide of elastisch | I24: Biogeen? (Ja/Nee) | J24: Motivatie biogeen | K24: Gerecycled? (Ja/Nee) | L24: Motivatie gerecycled | N24: Functie in het (deel)proces | O24: Bronnen
C25: Ref 2 Grondstof 1 | D25: - | F25: - | G25: - | H25: - | I25: - | J25: - | K25: - | L25: - | N25: - | O25: -
C26: Ref 2 Grondstof 2 | D26: - | F26: - | G26: - | H26: - | I26: - | J26: - | K26: - | L26: - | N26: - | O26: -
C27: Ref 2 Grondstof 3 | D27: - | F27: - | G27: - | H27: - | I27: - | J27: - | K27: - | L27: - | N27: - | O27: -
C28: Ref 2 Grondstof 4 | D28: - | F28: - | G28: - | H28: - | I28: - | J28: - | K28: - | L28: - | N28: - | O28: -
C29: Ref 2 Grondstof 5 | D29: - | F29: - | G29: - | H29: - | I29: - | J29: - | K29: - | L29: - | N29: - | O29: -
C30: Ref 2 Grondstof 6 | D30: - | F30: - | G30: - | H30: - | I30: - | J30: - | K30: - | L30: - | N30: - | O30: -
C31: Ref 2 Grondstof 7 | D31: - | F31: - | G31: - | H31: - | I31: - | J31: - | K31: - | L31: - | N31: - | O31: -
C32: Ref 2 Grondstof 8 | D32: - | F32: - | G32: - | H32: - | I32: - | J32: - | K32: - | L32: - | N32: - | O32: -
C33: Ref 2 Grondstof 9 | D33: - | F33: - | G33: - | H33: - | I33: - | J33: - | K33: - | L33: - | N33: - | O33: -
C34: Ref 2 Grondstof 10 | D34: - | F34: - | G34: - | H34: - | I34: - | J34: - | K34: - | L34: - | N34: - | O34: -
C35: Ref 2 Energie 1 | D35: - | F35: - | G35: - | H35: - | I35: - | J35: - | K35: Nee | L35: nvt | N35: - | O35: -
C36: Ref 2 Energie 2 | D36: - | F36: - | G36: - | H36: - | I36: - | J36: - | K36: Nee | L36: nvt | N36: - | O36: -
... C39: Ref 2 Energie 5 | D39: - | F39: - | G39: - | H39: - | I39: - | J39: - | K39: Nee | L39: nvt | N39: - | O39: -
C41: Levensfase proces
C42: Beschrijf het productieproces en de procesgrenzen van het referentieproces.
C51: Voeg een processchema in
C52: Plaats een schematische weergaven van het referentieproces. Laat hierin de inputs en outputs zien, envenals de belangrijkste installaties binnen het referentieproces. De grootte van dit invulvak mag aangepast worden om het schema te accomoderen, echter kunt u ook de vrije ruimte onderaan dit tabblad gebruiken. Voeg geen extra rijen in, maar pas de rijhoogte aan.
C63: • U geeft een kwalitatieve beschrijving van de outputs.
C64: • U geeft aan wat er aan het einde van de levensduur met elk van de producten gebeurt. Voor brandstoffen is dit altijd "verbranding", voor andere stromen kiest u "einde levensduur" en kiest vervolgens het type einde levensduur emissie, zie hoofdstuk 5.4 van de NIKI CO2-emissiereductiemethode.
C65: • Indien een referentieproduct fysiek identiek is aan het NIKI-product, laat u de levensfase "einde levensduur" buiten beschouwing. In dit geval zijn verwerking en gerelateerde emissie hetzelfde en hoeven daarom niet meegenomen worden bij de berekening van de emissiereductie. U geeft dit aan per product en onderbouwt kort uw keuze. In stap 5 vult u in dit geval de einde levensfase van de betreffende producten niet in. NB: U mag in dit geval de levensfase einde levensduur buiten beschouwing laten, maar dit hoeft niet. Als u bijvoorbeeld een biogeen NIKI-product maakt dat een fossiel referentieproduct vervangt, kunt u de einde levensduur beter wel meenemen om het effect van de biogene koolstof correct mee te nemen.
C66: • De CO2-emissies van de levensfase proces splitst u op in aparte regels voor proces-CO2 en verbrandings-CO2. U gebruikt een nieuwe regel voor de CO2 van iedere brandstof die in wordt gezet.
C67: • "Overige BKG emissies" betreft CO2-emissies uit het proces ten gevolge van onderhoud, storingen en afblazen, zie hoofdstuk 5.2 van de NIKI CO2-emissiereductiemethode.
C68: • Voor de outputs kunt u een recyclingpercentage invullen. In hoofdstuk 5.4.1 van de NIKI CO2-emissiereductiemethode staan de betreffende regels beschreven. U onderbouwt vervolgens het percentage en verwijst naar bronnen indien van toepassing.
C69: • U kunt ook aangeven of een output (gedeeltelijk) biogeen is. Dit is gerelateerd aan biogene inputstromen in het proces, tenzij er bioenergie als energiebron is ingezet. De biogene koolstof komt in dit geval niet in het product terecht. Onderbouw uw keuze en verwijs indien van toepassing naar bronnen.
E71: Hide
C72: Levensfase verbranding of einde levensduur
C73: Output label | D73: Output naam | F73: Output omschrijving | G73: Einde levensduur buiten beschouwing? | H73: Onderbouwing buiten beschouwing | I73: Verbranding (brandstof) of Einde levensduur | J73: Type einde levensduur emissie | K73: Recycling-percentage einde levensduur product (%) | L73: Onderbouwing recyclingpercentage | M73: Biogeen (Keuzelijst) | N73: Onderbouwing biogeen | O73: Bronnen
C74: Ref 2 product 1 | D74: {=_xlfn.SWITCH(INDIRECT(_xlfn.CONCAT($T$3,E74)),"-","-",0,"-",INDIRECT(_xlfn.CONCAT($T$3,E74)))} -> - | E74: Z25 | F74: - | G74: - | H74: - | I74: - | J74: - | K74: - | L74: - | M74: - | N74: - | O74: -
C75: Ref 2 product 2 | D75: {=_xlfn.SWITCH(INDIRECT(_xlfn.CONCAT($T$3,E75)),"-","-",0,"-",INDIRECT(_xlfn.CONCAT($T$3,E75)))} -> - | E75: Z26 | F75: - | G75: - | H75: - | I75: - | J75: - | K75: - | L75: - | M75: - | N75: - | O75: -
C76: Ref 2 product 3 | D76: {=_xlfn.SWITCH(INDIRECT(_xlfn.CONCAT($T$3,E76)),"-","-",0,"-",INDIRECT(_xlfn.CONCAT($T$3,E76)))} -> - | E76: Z27 | F76: - | G76: - | H76: - | I76: - | J76: - | K76: - | L76: - | M76: - | N76: - | O76: -
C77: Ref 2 product 4 | D77: {=_xlfn.SWITCH(INDIRECT(_xlfn.CONCAT($T$3,E77)),"-","-",0,"-",INDIRECT(_xlfn.CONCAT($T$3,E77)))} -> - | E77: Z28 | F77: - | G77: - | H77: - | I77: - | J77: - | K77: - | L77: - | M77: - | N77: - | O77: -
C78: Ref 2 product 5 | D78: {=_xlfn.SWITCH(INDIRECT(_xlfn.CONCAT($T$3,E78)),"-","-",0,"-",INDIRECT(_xlfn.CONCAT($T$3,E78)))} -> - | E78: Z29 | F78: - | G78: - | H78: - | I78: - | J78: - | K78: - | L78: - | M78: - | N78: - | O78: -
C79: Ref 2 product 6 | D79: {=_xlfn.SWITCH(INDIRECT(_xlfn.CONCAT($T$3,E79)),"-","-",0,"-",INDIRECT(_xlfn.CONCAT($T$3,E79)))} -> - | E79: Z30 | F79: - | G79: - | H79: - | I79: - | J79: - | K79: - | L79: - | M79: - | N79: - | O79: -
C80: Ref 2 product 7 | D80: {=_xlfn.SWITCH(INDIRECT(_xlfn.CONCAT($T$3,E80)),"-","-",0,"-",INDIRECT(_xlfn.CONCAT($T$3,E80)))} -> - | E80: Z31 | F80: - | G80: - | H80: - | I80: - | J80: - | K80: - | L80: - | M80: - | N80: - | O80: -
C81: Ref 2 product 8 | D81: {=_xlfn.SWITCH(INDIRECT(_xlfn.CONCAT($T$3,E81)),"-","-",0,"-",INDIRECT(_xlfn.CONCAT($T$3,E81)))} -> - | E81: Z32 | F81: - | G81: - | H81: - | I81: - | J81: - | K81: - | L81: - | M81: - | N81: - | O81: -
C82: Ref 2 product 9 | D82: {=_xlfn.SWITCH(INDIRECT(_xlfn.CONCAT($T$3,E82)),"-","-",0,"-",INDIRECT(_xlfn.CONCAT($T$3,E82)))} -> - | E82: Z33 | F82: - | G82: - | H82: - | I82: - | J82: - | K82: - | L82: - | M82: - | N82: - | O82: -
C83: Ref 2 product 10 | D83: {=_xlfn.SWITCH(INDIRECT(_xlfn.CONCAT($T$3,E83)),"-","-",0,"-",INDIRECT(_xlfn.CONCAT($T$3,E83)))} -> - | E83: Z34 | F83: - | G83: - | H83: - | I83: - | J83: - | K83: - | L83: - | M83: - | N83: - | O83: -
C84: Ref 2 Co-product 1 | D84: - | F84: - | G84: nvt | H84: nvt | I84: Einde levensduur | J84: - | K84: - | L84: - | M84: - | N84: - | O84: -
C85: Ref 2 Co-product 2 | D85: - | F85: - | G85: nvt | H85: nvt | I85: Einde levensduur | J85: - | K85: - | L85: - | M85: - | N85: - | O85: -
C86: Ref 2 Co-product 3 | D86: - | F86: - | G86: nvt | H86: nvt | I86: Einde levensduur | J86: - | K86: - | L86: - | M86: - | N86: - | O86: -
C87: Ref 2 Co-product 4 | D87: - | F87: - | G87: nvt | H87: nvt | I87: Einde levensduur | J87: - | K87: - | L87: - | M87: - | N87: - | O87: -
C88: Ref 2 Co-product 5 | D88: - | F88: - | G88: nvt | H88: nvt | I88: Einde levensduur | J88: - | K88: - | L88: - | M88: - | N88: - | O88: -
C89: Ref 2 Emissie 1 | D89: - | F89: - | G89: nvt | H89: nvt | I89: Einde levensduur | J89: Verbranding | K89: nvt | L89: nvt | M89: - | N89: - | O89: -
C90: Ref 2 Emissie 2 | D90: - | F90: - | G90: nvt | H90: nvt | I90: Einde levensduur | J90: Verbranding | K90: nvt | L90: nvt | M90: - | N90: - | O90: -
C91: Ref 2 Emissie 3 | D91: - | F91: - | G91: nvt | H91: nvt | I91: Einde levensduur | J91: Verbranding | K91: nvt | L91: nvt | M91: - | N91: - | O91: -
C92: Ref 2 Emissie 4 | D92: - | F92: - | G92: nvt | H92: nvt | I92: Einde levensduur | J92: Verbranding | K92: nvt | L92: nvt | M92: - | N92: - | O92: -
C93: Ref 2 Emissie 5 | D93: - | F93: - | G93: nvt | H93: nvt | I93: Einde levensduur | J93: Verbranding | K93: nvt | L93: nvt | M93: - | N93: - | O93: -
C94: Ref 2 Afvalstof 1 | D94: - | F94: - | G94: nvt | H94: nvt | I94: Einde levensduur | J94: Verbranding | K94: nvt | L94: nvt | M94: - | N94: - | O94: -
C95: Ref 2 Afvalstof 2 | D95: - | F95: - | G95: nvt | H95: nvt | I95: Einde levensduur | J95: Verbranding | K95: nvt | L95: nvt | M95: - | N95: - | O95: -
... C99: Ref 2 Overige BKG emissies | D99: - | F99: - | G99: nvt | H99: nvt | I99: Einde levensduur | J99: Verbranding | K99: nvt | L99: nvt | M99: - | N99: - | O99: -
C101: Vrije ruimte voor berekeningen, verdere toelichting en notities

Sheet S3 Grenzen Ref 3
A1: Procesgrenzen NIKI | C1: Stap 3: Systeem- en procesgrenzen | O1: Legenda | R1: Naam tab | S1: =RIGHT(CELL("filename",A1),LEN(CELL("filename",A1))-FIND("]",CELL("filename",A1))) -> S3 Grenzen Ref 3
C2: Bepaal de systeem- en procesgrenzen van referentieproces 3 | O2: Label | R2: Verw. S1 | S2: ='S1 NIKI-producten'!L1 -> S1 NIKI-producten | T2: ="'" & S2 & "'!" -> 'S1 NIKI-producten'!
O3: In te vullen | R3: Verw. S2 | S3: ='S2 Def Referentie'!P1 -> S2 Def Referentie | T3: ="'" & S3 & "'!" -> 'S2 Def Referentie'!
O4: Overname gegevens of berekening
C6: • Als u in stap 2 geen referentieprocessen heeft gedefiniëerd, omdat voor alle referentieproducten een emissiefactor beschikbaar is, hoeft u de tabbladen Grenzen Ref 1-3 niet in te vullen.
C7: • Op dit tabblad omschrijft u de verschillende levensfases en de procesgrenzen van het NIKI-project.
C8: • U geeft een kwalitatieve beschrijving van de inputs.
C9: • In kolom "Rigide of elastisch?" geeft u aan of een inputstroom rigide of elastisch is. Gebruik hiervoor de beschrijving in hoofdstuk 5.1.1 van de NIKI CO2-emissiereductiemethode. De vervangingseffecten bij rigide inputs omschrijft u later in het tabblad 'S5 Emissiefactoren NIKI'.
C10: • In hoofdstuk 5.1.2.1 van de NIKI CO2-emissiereductiemethode leest u of een inputstroom als biogeen mag worden aangemerkt. De voorwaarden voor gerecyclede en afvalstromen als input vindt u in hoofdstuk 5.1.2.2. Indien een input niet biogeen of gerecycled is, mag u bij de motivatie "nvt" invullen.
C11: • Onder "functie in het (deel)proces"beschrijft u kort waarvoor een input wordt ingezet, bijvoorbeeld als energiebron, brandstof of grondstof. U refereert naar de bedreffende (deel)processtap in het processchema.
C12: • U beschrijft de belangrijkste processtappen en deelprocessen aan de hand van een processchema.
C23: Levensfase input
C24: Input label | D24: Input naam | E24: Hide | F24: Input omschrijving | G24: Rigide of elastisch? | H24: Motivatie rigide of elastisch | I24: Biogeen? (Ja/Nee) | J24: Motivatie biogeen | K24: Gerecycled? (Ja/Nee) | L24: Motivatie gerecycled | N24: Functie in het (deel)proces | O24: Bronnen
C25: Ref 3 Grondstof 1 | D25: - | F25: - | G25: - | H25: - | I25: - | J25: - | K25: - | L25: - | N25: - | O25: -
C26: Ref 3 Grondstof 2 | D26: - | F26: - | G26: - | H26: - | I26: - | J26: - | K26: - | L26: - | N26: - | O26: -
C27: Ref 3 Grondstof 3 | D27: - | F27: - | G27: - | H27: - | I27: - | J27: - | K27: - | L27: - | N27: - | O27: -
C28: Ref 3 Grondstof 4 | D28: - | F28: - | G28: - | H28: - | I28: - | J28: - | K28: - | L28: - | N28: - | O28: -
C29: Ref 3 Grondstof 5 | D29: - | F29: - | G29: - | H29: - | I29: - | J29: - | K29: - | L29: - | N29: - | O29: -
C30: Ref 3 Grondstof 6 | D30: - | F30: - | G30: - | H30: - | I30: - | J30: - | K30: - | L30: - | N30: - | O30: -
C31: Ref 3 Grondstof 7 | D31: - | F31: - | G31: - | H31: - | I31: - | J31: - | K31: - | L31: - | N31: - | O31: -
C32: Ref 3 Grondstof 8 | D32: - | F32: - | G32: - | H32: - | I32: - | J32: - | K32: - | L32: - | N32: - | O32: -
C33: Ref 3 Grondstof 9 | D33: - | F33: - | G33: - | H33: - | I33: - | J33: - | K33: - | L33: - | N33: - | O33: -
C34: Ref 3 Grondstof 10 | D34: - | F34: - | G34: - | H34: - | I34: - | J34: - | K34: - | L34: - | N34: - | O34: -
C35: Ref 3 Energie 1 | D35: - | F35: - | G35: - | H35: - | I35: - | J35: - | K35: Nee | L35: nvt | N35: - | O35: -
C36: Ref 3 Energie 2 | D36: - | F36: - | G36: - | H36: - | I36: - | J36: - | K36: Nee | L36: nvt | N36: - | O36: -
... C39: Ref 3 Energie 5 | D39: - | F39: - | G39: - | H39: - | I39: - | J39: - | K39: Nee | L39: nvt | N39: - | O39: -
C41: Levensfase proces
C42: Beschrijf het productieproces en de procesgrenzen van het referentieproces.
C51: Voeg een processchema in
C52: Plaats een schematische weergaven van het referentieproces. Laat hierin de inputs en outputs zien, envenals de belangrijkste installaties binnen het referentieproces. De grootte van dit invulvak mag aangepast worden om het schema te accomoderen, echter kunt u ook de vrije ruimte onderaan dit tabblad gebruiken. Voeg geen extra rijen in, maar pas de rijhoogte aan.
C63: • U geeft een kwalitatieve beschrijving van de outputs.
C64: • U geeft aan wat er aan het einde van de levensduur met elk van de producten gebeurt. Voor brandstoffen is dit altijd "verbranding", voor andere stromen kiest u "einde levensduur" en kiest vervolgens het type einde levensduur emissie, zie hoofdstuk 5.4 van de NIKI CO2-emissiereductiemethode.
C65: • Indien een referentieproduct fysiek identiek is aan het NIKI-product, laat u de levensfase "einde levensduur" buiten beschouwing. In dit geval zijn verwerking en gerelateerde emissie hetzelfde en hoeven daarom niet meegenomen worden bij de berekening van de emissiereductie. U geeft dit aan per product en onderbouwt kort uw keuze. In stap 5 vult u in dit geval de einde levensfase van de betreffende producten niet in. NB: U mag in dit geval de levensfase einde levensduur buiten beschouwing laten, maar dit hoeft niet. Als u bijvoorbeeld een biogeen NIKI-product maakt dat een fossiel referentieproduct vervangt, kunt u de einde levensduur beter wel meenemen om het effect van de biogene koolstof correct mee te nemen.
C66: • De CO2-emissies van de levensfase proces splitst u op in aparte regels voor proces-CO2 en verbrandings-CO2. U gebruikt een nieuwe regel voor de CO2 van iedere brandstof die in wordt gezet.
C67: • "Overige BKG emissies" betreft CO2-emissies uit het proces ten gevolge van onderhoud, storingen en afblazen, zie hoofdstuk 5.2 van de NIKI CO2-emissiereductiemethode.
C68: • Voor de outputs kunt u een recyclingpercentage invullen. In hoofdstuk 5.4.1 van de NIKI CO2-emissiereductiemethode staan de betreffende regels beschreven. U onderbouwt vervolgens het percentage en verwijst naar bronnen indien van toepassing.
C69: • U kunt ook aangeven of een output (gedeeltelijk) biogeen is. Dit is gerelateerd aan biogene inputstromen in het proces, tenzij er bioenergie als energiebron is ingezet. De biogene koolstof komt in dit geval niet in het product terecht. Onderbouw uw keuze en verwijs indien van toepassing naar bronnen.
E71: Hide
C72: Levensfase verbranding of einde levensduur
C73: Output label | D73: Output naam | F73: Output omschrijving | G73: Einde levensduur buiten beschouwing? | H73: Onderbouwing buiten beschouwing | I73: Verbranding (brandstof) of Einde levensduur | J73: Type einde levensduur emissie | K73: Recycling-percentage einde levensduur product (%) | L73: Onderbouwing recyclingpercentage | M73: Biogeen (Keuzelijst) | N73: Onderbouwing biogeen | O73: Bronnen
C74: Ref 3 product 1 | D74: {=_xlfn.SWITCH(INDIRECT(_xlfn.CONCAT($T$3,E74)),"-","-",0,"-",INDIRECT(_xlfn.CONCAT($T$3,E74)))} -> - | E74: AA25 | F74: - | G74: - | H74: - | I74: - | J74: - | K74: - | L74: - | M74: - | N74: - | O74: -
C75: Ref 3 product 2 | D75: {=_xlfn.SWITCH(INDIRECT(_xlfn.CONCAT($T$3,E75)),"-","-",0,"-",INDIRECT(_xlfn.CONCAT($T$3,E75)))} -> - | E75: AA26 | F75: - | G75: - | H75: - | I75: - | J75: - | K75: - | L75: - | M75: - | N75: - | O75: -
C76: Ref 3 product 3 | D76: {=_xlfn.SWITCH(INDIRECT(_xlfn.CONCAT($T$3,E76)),"-","-",0,"-",INDIRECT(_xlfn.CONCAT($T$3,E76)))} -> - | E76: AA27 | F76: - | G76: - | H76: - | I76: - | J76: - | K76: - | L76: - | M76: - | N76: - | O76: -
C77: Ref 3 product 4 | D77: {=_xlfn.SWITCH(INDIRECT(_xlfn.CONCAT($T$3,E77)),"-","-",0,"-",INDIRECT(_xlfn.CONCAT($T$3,E77)))} -> - | E77: AA28 | F77: - | G77: - | H77: - | I77: - | J77: - | K77: - | L77: - | M77: - | N77: - | O77: -
C78: Ref 3 product 5 | D78: {=_xlfn.SWITCH(INDIRECT(_xlfn.CONCAT($T$3,E78)),"-","-",0,"-",INDIRECT(_xlfn.CONCAT($T$3,E78)))} -> - | E78: AA29 | F78: - | G78: - | H78: - | I78: - | J78: - | K78: - | L78: - | M78: - | N78: - | O78: -
C79: Ref 3 product 6 | D79: {=_xlfn.SWITCH(INDIRECT(_xlfn.CONCAT($T$3,E79)),"-","-",0,"-",INDIRECT(_xlfn.CONCAT($T$3,E79)))} -> - | E79: AA30 | F79: - | G79: - | H79: - | I79: - | J79: - | K79: - | L79: - | M79: - | N79: - | O79: -
C80: Ref 3 product 7 | D80: {=_xlfn.SWITCH(INDIRECT(_xlfn.CONCAT($T$3,E80)),"-","-",0,"-",INDIRECT(_xlfn.CONCAT($T$3,E80)))} -> - | E80: AA31 | F80: - | G80: - | H80: - | I80: - | J80: - | K80: - | L80: - | M80: - | N80: - | O80: -
C81: Ref 3 product 8 | D81: {=_xlfn.SWITCH(INDIRECT(_xlfn.CONCAT($T$3,E81)),"-","-",0,"-",INDIRECT(_xlfn.CONCAT($T$3,E81)))} -> - | E81: AA32 | F81: - | G81: - | H81: - | I81: - | J81: - | K81: - | L81: - | M81: - | N81: - | O81: -
C82: Ref 3 product 9 | D82: {=_xlfn.SWITCH(INDIRECT(_xlfn.CONCAT($T$3,E82)),"-","-",0,"-",INDIRECT(_xlfn.CONCAT($T$3,E82)))} -> - | E82: AA33 | F82: - | G82: - | H82: - | I82: - | J82: - | K82: - | L82: - | M82: - | N82: - | O82: -
C83: Ref 3 product 10 | D83: {=_xlfn.SWITCH(INDIRECT(_xlfn.CONCAT($T$3,E83)),"-","-",0,"-",INDIRECT(_xlfn.CONCAT($T$3,E83)))} -> - | E83: AA34 | F83: - | G83: - | H83: - | I83: - | J83: - | K83: - | L83: - | M83: - | N83: - | O83: -
C84: Ref 3 Co-product 1 | D84: - | F84: - | G84: nvt | H84: nvt | I84: Einde levensduur | J84: - | K84: - | L84: - | M84: - | N84: - | O84: -
C85: Ref 3 Co-product 2 | D85: - | F85: - | G85: nvt | H85: nvt | I85: Einde levensduur | J85: - | K85: - | L85: - | M85: - | N85: - | O85: -
C86: Ref 3 Co-product 3 | D86: - | F86: - | G86: nvt | H86: nvt | I86: Einde levensduur | J86: - | K86: - | L86: - | M86: - | N86: - | O86: -
C87: Ref 3 Co-product 4 | D87: - | F87: - | G87: nvt | H87: nvt | I87: Einde levensduur | J87: - | K87: - | L87: - | M87: - | N87: - | O87: -
C88: Ref 3 Co-product 5 | D88: - | F88: - | G88: nvt | H88: nvt | I88: Einde levensduur | J88: - | K88: - | L88: - | M88: - | N88: - | O88: -
C89: Ref 3 Emissie 1 | D89: - | F89: - | G89: nvt | H89: nvt | I89: Einde levensduur | J89: Verbranding | K89: nvt | L89: nvt | M89: - | N89: - | O89: -
C90: Ref 3 Emissie 2 | D90: - | F90: - | G90: nvt | H90: nvt | I90: Einde levensduur | J90: Verbranding | K90: nvt | L90: nvt | M90: - | N90: - | O90: -
C91: Ref 3 Emissie 3 | D91: - | F91: - | G91: nvt | H91: nvt | I91: Einde levensduur | J91: Verbranding | K91: nvt | L91: nvt | M91: - | N91: - | O91: -
C92: Ref 3 Emissie 4 | D92: - | F92: - | G92: nvt | H92: nvt | I92: Einde levensduur | J92: Verbranding | K92: nvt | L92: nvt | M92: - | N92: - | O92: -
C93: Ref 3 Emissie 5 | D93: - | F93: - | G93: nvt | H93: nvt | I93: Einde levensduur | J93: Verbranding | K93: nvt | L93: nvt | M93: - | N93: - | O93: -
C94: Ref 3 Afvalstof 1 | D94: - | F94: - | G94: nvt | H94: nvt | I94: Einde levensduur | J94: Verbranding | K94: nvt | L94: nvt | M94: - | N94: - | O94: -
C95: Ref 3 Afvalstof 2 | D95: - | F95: - | G95: nvt | H95: nvt | I95: Einde levensduur | J95: Verbranding | K95: nvt | L95: nvt | M95: - | N95: - | O95: -
... C99: Ref 3 Overige BKG emissies | D99: - | F99: - | G99: nvt | H99: nvt | I99: Einde levensduur | J99: Verbranding | K99: nvt | L99: nvt | M99: - | N99: - | O99: -
C101: Vrije ruimte voor berekeningen, verdere toelichting en notities

Sheet S4 MEB NIKI
C1: Stap 4: Massa- en energiebalansen bepalen | X1: Legenda | AA1: Naam tab | AB1: =RIGHT(CELL("filename",A1),LEN(CELL("filename",A1))-FIND("]",CELL("filename",A1))) -> S4 MEB NIKI
C2: Bepaal de massa- en energiebalansen (MEB) van het NIKI productieproces (inputs, producten, afval- en reststromen en directe emissies) | X2: Label | AA2: Verw. S3 NIKI | AB2: ='S3 Grenzen NIKI'!W1 -> S3 Grenzen NIKI | AC2: ="'" & AB2 & "'!" -> 'S3 Grenzen NIKI'!
X3: In te vullen
X4: Overname gegevens of berekening
C6: • In dit tabblad wordt de massa- en energiebalans opgesteld.
C7: • Eerst neemt u in de balans op welke inputs, procesemissies, afvalstoffen, producten en reststoffen er zijn. U voert alle massastromen in die in en uit uw procesgrens gaan.
C8: • Hierna vult u de grootte van de massa- en energiestromen in zodat de MEB kloppend is. Restwarmte kan ook een een productstroom zijn. In dat geval moet u een energiestroom definiëren.
C9: • Geef voor alle in- en uitgaande stromen zowel een massa- als energiestroom op, tenzij de stromen geen massa hebben (bijvoorbeeld elektriciteit) of geen energie bevatten (bijvoorbeeld CO2). Energie voert u op in onderste verbrandingswaarde (LHV).
C10: • De omvang van iedere stroom is gebaseerd op 1 vollastuur van de installatie. Zie ook NIKI CO2-emissiereductiemethode stap 6.
C11: • De CO2 die voortkomt uit verbranding van brandstoffen in het proces zelf, moet u opgevoeren als uitgaande massastroom onder "NIKI Emissie [...]". U mag dit omrekenen op basis van volledige omzetting van het koolstofgehalte in CO2. De CO2 die in het proces ontstaat op een andere manier dan verbranding (proces-CO2), voert u apart op.
C12: • Dit tabblad bevat tevens een controle of de NIKI-producten ten minste 90% van de uitgaande massastroom vormen die een economische waarde heeft. Zie "Percentage NIKI producten t.o.v. totaal aan uitgaande stromen".
C13: • Er wordt ook een energiebalans berekend. Energie mag als product of als restfractie worden opgenomen om de energiebalans kloppend te maken. Als de energiebalans niet kloppend is door energieverliezen of chemisch gebonden energie, legt u dit uit onder "Uitleg verschillen MEB".
C14: • In uw uitleg over verschillen in de energiebalans legt u uit waarom het verschil optreedt en onderbouwt u de grootte van het verschil. Hieruit moet aannemelijk worden dat het verschil niet wordt veroorzaakt door een tekort aan inkomende energiestromen.
C15: • Het doel van een gebalanceerde MEB is om aan te kunnen tonen dat alle relevante input- en outputstromen zijn meegenomen. Als dit niet het geval is, zijn ook niet alle relevante emissies in kaart gebracht. Daarmee voldoet u niet aan de minimale kwaliteitsvereisten van de NIKI-regeling.
C16: • In de tabellen onderaan onderbouwt u de waarden van elke input- en outputstroom in de MEB.
D22: Hide | F22: Hide | L22: Hide | Q22: Hide | S22: Hide | Y22: Hide
C23: Inkomende stromen | P23: Uitgaande stromen
C24: Input label | E24: Input naam | G24: Massastroom (ton/uur) | H24: Energiestroom (MWh/uur) | I24: Koolstof-inhoud (%) | J24: Percentage biogene koolstof (%) | K24: Verwijzing naar onderbouwing | P24: Output label | R24: Output naam | T24: Massastroom (ton/uur) | U24: Energiestroom (MWh/uur) | V24: Koolstof-inhoud (%) | W24: Percentage biogene koolstof (%) | X24: Verwijzing naar onderbouwing
C25: {=INDIRECT(_xlfn.CONCAT($AC$2,D25))} -> NIKI Grondstof 1 | D25: C25 | E25: {=_xlfn.SWITCH(INDIRECT(_xlfn.CONCAT($AC$2,F25)),"-","-",0,"-",INDIRECT(_xlfn.CONCAT($AC$2,F25)))} -> - | F25: E25 | G25: - | H25: - | I25: - | J25: - | K25: =HYPERLINK(_xlfn.CONCAT("#'",$AB$1,"'!",L25),L25) -> $A$69 | L25: =A69 -> $A$69 | P25: {=INDIRECT(_xlfn.CONCAT($AC$2,Q25))} -> NIKI Product 1 | Q25: C74 | R25: {=_xlfn.SWITCH(INDIRECT(_xlfn.CONCAT($AC$2,S25)),"-","-",0,"-",INDIRECT(_xlfn.CONCAT($AC$2,S25)))} -> - | S25: E74 | T25: - | U25: - | V25: - | W25: - | X25: =HYPERLINK(_xlfn.CONCAT("#'",$AB$1,"'!",Y25),Y25) -> $A$87 | Y25: =A87 -> $A$87
C26: {=INDIRECT(_xlfn.CONCAT($AC$2,D26))} -> NIKI Grondstof 2 | D26: C26 | E26: {=_xlfn.SWITCH(INDIRECT(_xlfn.CONCAT($AC$2,F26)),"-","-",0,"-",INDIRECT(_xlfn.CONCAT($AC$2,F26)))} -> - | F26: E26 | G26: - | H26: - | I26: - | J26: - | K26: =HYPERLINK(_xlfn.CONCAT("#'",$AB$1,"'!",L26),L26) -> $A$70 | L26: =A70 -> $A$70 | P26: {=INDIRECT(_xlfn.CONCAT($AC$2,Q26))} -> NIKI Product 2 | Q26: C75 | R26: {=_xlfn.SWITCH(INDIRECT(_xlfn.CONCAT($AC$2,S26)),"-","-",0,"-",INDIRECT(_xlfn.CONCAT($AC$2,S26)))} -> - | S26: E75 | T26: - | U26: - | V26: - | W26: - | X26: =HYPERLINK(_xlfn.CONCAT("#'",$AB$1,"'!",Y26),Y26) -> $A$88 | Y26: =A88 -> $A$88
C27: {=INDIRECT(_xlfn.CONCAT($AC$2,D27))} -> NIKI Grondstof 3 | D27: C27 | E27: {=_xlfn.SWITCH(INDIRECT(_xlfn.CONCAT($AC$2,F27)),"-","-",0,"-",INDIRECT(_xlfn.CONCAT($AC$2,F27)))} -> - | F27: E27 | G27: - | H27: - | I27: - | J27: - | K27: =HYPERLINK(_xlfn.CONCAT("#'",$AB$1,"'!",L27),L27) -> $A$71 | L27: =A71 -> $A$71 | P27: {=INDIRECT(_xlfn.CONCAT($AC$2,Q27))} -> NIKI Product 3 | Q27: C76 | R27: {=_xlfn.SWITCH(INDIRECT(_xlfn.CONCAT($AC$2,S27)),"-","-",0,"-",INDIRECT(_xlfn.CONCAT($AC$2,S27)))} -> - | S27: E76 | T27: - | U27: - | V27: - | W27: - | X27: =HYPERLINK(_xlfn.CONCAT("#'",$AB$1,"'!",Y27),Y27) -> $A$89 | Y27: =A89 -> $A$89
C28: {=INDIRECT(_xlfn.CONCAT($AC$2,D28))} -> NIKI Grondstof 4 | D28: C28 | E28: {=_xlfn.SWITCH(INDIRECT(_xlfn.CONCAT($AC$2,F28)),"-","-",0,"-",INDIRECT(_xlfn.CONCAT($AC$2,F28)))} -> - | F28: E28 | G28: - | H28: - | I28: - | J28: - | K28: =HYPERLINK(_xlfn.CONCAT("#'",$AB$1,"'!",L28),L28) -> $A$72 | L28: =A72 -> $A$72 | P28: {=INDIRECT(_xlfn.CONCAT($AC$2,Q28))} -> NIKI Product 4 | Q28: C77 | R28: {=_xlfn.SWITCH(INDIRECT(_xlfn.CONCAT($AC$2,S28)),"-","-",0,"-",INDIRECT(_xlfn.CONCAT($AC$2,S28)))} -> - | S28: E77 | T28: - | U28: - | V28: - | W28: - | X28: =HYPERLINK(_xlfn.CONCAT("#'",$AB$1,"'!",Y28),Y28) -> $A$90 | Y28: =A90 -> $A$90
C29: {=INDIRECT(_xlfn.CONCAT($AC$2,D29))} -> NIKI Grondstof 5 | D29: C29 | E29: {=_xlfn.SWITCH(INDIRECT(_xlfn.CONCAT($AC$2,F29)),"-","-",0,"-",INDIRECT(_xlfn.CONCAT($AC$2,F29)))} -> - | F29: E29 | G29: - | H29: - | I29: - | J29: - | K29: =HYPERLINK(_xlfn.CONCAT("#'",$AB$1,"'!",L29),L29) -> $A$73 | L29: =A73 -> $A$73 | P29: {=INDIRECT(_xlfn.CONCAT($AC$2,Q29))} -> NIKI Product 5 | Q29: C78 | R29: {=_xlfn.SWITCH(INDIRECT(_xlfn.CONCAT($AC$2,S29)),"-","-",0,"-",INDIRECT(_xlfn.CONCAT($AC$2,S29)))} -> - | S29: E78 | T29: - | U29: - | V29: - | W29: - | X29: =HYPERLINK(_xlfn.CONCAT("#'",$AB$1,"'!",Y29),Y29) -> $A$91 | Y29: =A91 -> $A$91
C30: {=INDIRECT(_xlfn.CONCAT($AC$2,D30))} -> NIKI Grondstof 6 | D30: C30 | E30: {=_xlfn.SWITCH(INDIRECT(_xlfn.CONCAT($AC$2,F30)),"-","-",0,"-",INDIRECT(_xlfn.CONCAT($AC$2,F30)))} -> - | F30: E30 | G30: - | H30: - | I30: - | J30: - | K30: =HYPERLINK(_xlfn.CONCAT("#'",$AB$1,"'!",L30),L30) -> $A$74 | L30: =A74 -> $A$74 | P30: {=INDIRECT(_xlfn.CONCAT($AC$2,Q30))} -> NIKI Product 6 | Q30: C79 | R30: {=_xlfn.SWITCH(INDIRECT(_xlfn.CONCAT($AC$2,S30)),"-","-",0,"-",INDIRECT(_xlfn.CONCAT($AC$2,S30)))} -> - | S30: E79 | T30: - | U30: - | V30: - | W30: - | X30: =HYPERLINK(_xlfn.CONCAT("#'",$AB$1,"'!",Y30),Y30) -> $A$92 | Y30: =A92 -> $A$92
C31: {=INDIRECT(_xlfn.CONCAT($AC$2,D31))} -> NIKI Grondstof 7 | D31: C31 | E31: {=_xlfn.SWITCH(INDIRECT(_xlfn.CONCAT($AC$2,F31)),"-","-",0,"-",INDIRECT(_xlfn.CONCAT($AC$2,F31)))} -> - | F31: E31 | G31: - | H31: - | I31: - | J31: - | K31: =HYPERLINK(_xlfn.CONCAT("#'",$AB$1,"'!",L31),L31) -> $A$75 | L31: =A75 -> $A$75 | P31: {=INDIRECT(_xlfn.CONCAT($AC$2,Q31))} -> NIKI Product 7 | Q31: C80 | R31: {=_xlfn.SWITCH(INDIRECT(_xlfn.CONCAT($AC$2,S31)),"-","-",0,"-",INDIRECT(_xlfn.CONCAT($AC$2,S31)))} -> - | S31: E80 | T31: - | U31: - | V31: - | W31: - | X31: =HYPERLINK(_xlfn.CONCAT("#'",$AB$1,"'!",Y31),Y31) -> $A$93 | Y31: =A93 -> $A$93
C32: {=INDIRECT(_xlfn.CONCAT($AC$2,D32))} -> NIKI Grondstof 8 | D32: C32 | E32: {=_xlfn.SWITCH(INDIRECT(_xlfn.CONCAT($AC$2,F32)),"-","-",0,"-",INDIRECT(_xlfn.CONCAT($AC$2,F32)))} -> - | F32: E32 | G32: - | H32: - | I32: - | J32: - | K32: =HYPERLINK(_xlfn.CONCAT("#'",$AB$1,"'!",L32),L32) -> $A$76 | L32: =A76 -> $A$76 | P32: {=INDIRECT(_xlfn.CONCAT($AC$2,Q32))} -> NIKI Product 8 | Q32: C81 | R32: {=_xlfn.SWITCH(INDIRECT(_xlfn.CONCAT($AC$2,S32)),"-","-",0,"-",INDIRECT(_xlfn.CONCAT($AC$2,S32)))} -> - | S32: E81 | T32: - | U32: - | V32: - | W32: - | X32: =HYPERLINK(_xlfn.CONCAT("#'",$AB$1,"'!",Y32),Y32) -> $A$94 | Y32: =A94 -> $A$94
C33: {=INDIRECT(_xlfn.CONCAT($AC$2,D33))} -> NIKI Grondstof 9 | D33: C33 | E33: {=_xlfn.SWITCH(INDIRECT(_xlfn.CONCAT($AC$2,F33)),"-","-",0,"-",INDIRECT(_xlfn.CONCAT($AC$2,F33)))} -> - | F33: E33 | G33: - | H33: - | I33: - | J33: - | K33: =HYPERLINK(_xlfn.CONCAT("#'",$AB$1,"'!",L33),L33) -> $A$77 | L33: =A77 -> $A$77 | P33: {=INDIRECT(_xlfn.CONCAT($AC$2,Q33))} -> NIKI Product 9 | Q33: C82 | R33: {=_xlfn.SWITCH(INDIRECT(_xlfn.CONCAT($AC$2,S33)),"-","-",0,"-",INDIRECT(_xlfn.CONCAT($AC$2,S33)))} -> - | S33: E82 | T33: - | U33: - | V33: - | W33: - | X33: =HYPERLINK(_xlfn.CONCAT("#'",$AB$1,"'!",Y33),Y33) -> $A$95 | Y33: =A95 -> $A$95
C34: {=INDIRECT(_xlfn.CONCAT($AC$2,D34))} -> NIKI Grondstof 10 | D34: C34 | E34: {=_xlfn.SWITCH(INDIRECT(_xlfn.CONCAT($AC$2,F34)),"-","-",0,"-",INDIRECT(_xlfn.CONCAT($AC$2,F34)))} -> - | F34: E34 | G34: - | H34: - | I34: - | J34: - | K34: =HYPERLINK(_xlfn.CONCAT("#'",$AB$1,"'!",L34),L34) -> $A$78 | L34: =A78 -> $A$78 | P34: {=INDIRECT(_xlfn.CONCAT($AC$2,Q34))} -> NIKI Product 10 | Q34: C83 | R34: {=_xlfn.SWITCH(INDIRECT(_xlfn.CONCAT($AC$2,S34)),"-","-",0,"-",INDIRECT(_xlfn.CONCAT($AC$2,S34)))} -> - | S34: E83 | T34: - | U34: - | V34: - | W34: - | X34: =HYPERLINK(_xlfn.CONCAT("#'",$AB$1,"'!",Y34),Y34) -> $A$96 | Y34: =A96 -> $A$96
C35: {=INDIRECT(_xlfn.CONCAT($AC$2,D35))} -> NIKI Energie 1 | D35: C35 | E35: {=_xlfn.SWITCH(INDIRECT(_xlfn.CONCAT($AC$2,F35)),"-","-",0,"-",INDIRECT(_xlfn.CONCAT($AC$2,F35)))} -> - | F35: E35 | G35: - | H35: - | I35: - | J35: - | K35: =HYPERLINK(_xlfn.CONCAT("#'",$AB$1,"'!",L35),L35) -> $A$79 | L35: =A79 -> $A$79 | P35: {=INDIRECT(_xlfn.CONCAT($AC$2,Q35))} -> NIKI Restfractie 1 | Q35: C84 | R35: {=_xlfn.SWITCH(INDIRECT(_xlfn.CONCAT($AC$2,S35)),"-","-",0,"-",INDIRECT(_xlfn.CONCAT($AC$2,S35)))} -> - | S35: E84 | T35: - | U35: - | V35: - | W35: - | X35: =HYPERLINK(_xlfn.CONCAT("#'",$AB$1,"'!",Y35),Y35) -> $A$97 | Y35: =A97 -> $A$97
C36: {=INDIRECT(_xlfn.CONCAT($AC$2,D36))} -> NIKI Energie 2 | D36: C36 | E36: {=_xlfn.SWITCH(INDIRECT(_xlfn.CONCAT($AC$2,F36)),"-","-",0,"-",INDIRECT(_xlfn.CONCAT($AC$2,F36)))} -> - | F36: E36 | G36: - | H36: - | I36: - | J36: - | K36: =HYPERLINK(_xlfn.CONCAT("#'",$AB$1,"'!",L36),L36) -> $A$80 | L36: =A80 -> $A$80 | P36: {=INDIRECT(_xlfn.CONCAT($AC$2,Q36))} -> NIKI Restfractie 2 | Q36: C85 | R36: {=_xlfn.SWITCH(INDIRECT(_xlfn.CONCAT($AC$2,S36)),"-","-",0,"-",INDIRECT(_xlfn.CONCAT($AC$2,S36)))} -> - | S36: E85 | T36: - | U36: - | V36: - | W36: - | X36: =HYPERLINK(_xlfn.CONCAT("#'",$AB$1,"'!",Y36),Y36) -> $A$98 | Y36: =A98 -> $A$98
... C39: {=INDIRECT(_xlfn.CONCAT($AC$2,D39))} -> NIKI Energie 5 | D39: C39 | E39: {=_xlfn.SWITCH(INDIRECT(_xlfn.CONCAT($AC$2,F39)),"-","-",0,"-",INDIRECT(_xlfn.CONCAT($AC$2,F39)))} -> - | F39: E39 | G39: - | H39: - | I39: - | J39: - | K39: =HYPERLINK(_xlfn.CONCAT("#'",$AB$1,"'!",L39),L39) -> $A$83 | L39: =A83 -> $A$83 | P39: {=INDIRECT(_xlfn.CONCAT($AC$2,Q39))} -> NIKI Restfractie 5 | Q39: C88 | R39: {=_xlfn.SWITCH(INDIRECT(_xlfn.CONCAT($AC$2,S39)),"-","-",0,"-",INDIRECT(_xlfn.CONCAT($AC$2,S39)))} -> - | S39: E88 | T39: - | U39: - | V39: - | W39: - | X39: =HYPERLINK(_xlfn.CONCAT("#'",$AB$1,"'!",Y39),Y39) -> $A$101 | Y39: =A101 -> $A$101
P40: {=INDIRECT(_xlfn.CONCAT($AC$2,Q40))} -> NIKI Emissie 1 | Q40: C89 | R40: {=_xlfn.SWITCH(INDIRECT(_xlfn.CONCAT($AC$2,S40)),"-","-",0,"-",INDIRECT(_xlfn.CONCAT($AC$2,S40)))} -> - | S40: E89 | T40: - | U40: - | V40: - | W40: - | X40: =HYPERLINK(_xlfn.CONCAT("#'",$AB$1,"'!",Y40),Y40) -> $A$102 | Y40: =A102 -> $A$102
P41: {=INDIRECT(_xlfn.CONCAT($AC$2,Q41))} -> NIKI Emissie 2 | Q41: C90 | R41: {=_xlfn.SWITCH(INDIRECT(_xlfn.CONCAT($AC$2,S41)),"-","-",0,"-",INDIRECT(_xlfn.CONCAT($AC$2,S41)))} -> - | S41: E90 | T41: - | U41: - | V41: - | W41: - | X41: =HYPERLINK(_xlfn.CONCAT("#'",$AB$1,"'!",Y41),Y41) -> $A$103 | Y41: =A103 -> $A$103
P42: {=INDIRECT(_xlfn.CONCAT($AC$2,Q42))} -> NIKI Emissie 3 | Q42: C91 | R42: {=_xlfn.SWITCH(INDIRECT(_xlfn.CONCAT($AC$2,S42)),"-","-",0,"-",INDIRECT(_xlfn.CONCAT($AC$2,S42)))} -> - | S42: E91 | T42: - | U42: - | V42: - | W42: - | X42: =HYPERLINK(_xlfn.CONCAT("#'",$AB$1,"'!",Y42),Y42) -> $A$104 | Y42: =A104 -> $A$104
P43: {=INDIRECT(_xlfn.CONCAT($AC$2,Q43))} -> NIKI Emissie 4 | Q43: C92 | R43: {=_xlfn.SWITCH(INDIRECT(_xlfn.CONCAT($AC$2,S43)),"-","-",0,"-",INDIRECT(_xlfn.CONCAT($AC$2,S43)))} -> - | S43: E92 | T43: - | U43: - | V43: - | W43: - | X43: =HYPERLINK(_xlfn.CONCAT("#'",$AB$1,"'!",Y43),Y43) -> $A$105 | Y43: =A105 -> $A$105
P44: {=INDIRECT(_xlfn.CONCAT($AC$2,Q44))} -> NIKI Emissie 5 | Q44: C93 | R44: {=_xlfn.SWITCH(INDIRECT(_xlfn.CONCAT($AC$2,S44)),"-","-",0,"-",INDIRECT(_xlfn.CONCAT($AC$2,S44)))} -> - | S44: E93 | T44: - | U44: - | V44: - | W44: - | X44: =HYPERLINK(_xlfn.CONCAT("#'",$AB$1,"'!",Y44),Y44) -> $A$106 | Y44: =A106 -> $A$106
P45: {=INDIRECT(_xlfn.CONCAT($AC$2,Q45))} -> NIKI Afvalstof 1 | Q45: C94 | R45: {=_xlfn.SWITCH(INDIRECT(_xlfn.CONCAT($AC$2,S45)),"-","-",0,"-",INDIRECT(_xlfn.CONCAT($AC$2,S45)))} -> - | S45: E94 | T45: - | U45: - | V45: - | W45: - | X45: =HYPERLINK(_xlfn.CONCAT("#'",$AB$1,"'!",Y45),Y45) -> $A$107 | Y45: =A107 -> $A$107
P46: {=INDIRECT(_xlfn.CONCAT($AC$2,Q46))} -> NIKI Afvalstof 2 | Q46: C95 | R46: {=_xlfn.SWITCH(INDIRECT(_xlfn.CONCAT($AC$2,S46)),"-","-",0,"-",INDIRECT(_xlfn.CONCAT($AC$2,S46)))} -> - | S46: E95 | T46: - | U46: - | V46: - | W46: - | X46: =HYPERLINK(_xlfn.CONCAT("#'",$AB$1,"'!",Y46),Y46) -> $A$108 | Y46: =A108 -> $A$108
P47: {=INDIRECT(_xlfn.CONCAT($AC$2,Q47))} -> NIKI Afvalstof 3 | Q47: C96 | R47: {=_xlfn.SWITCH(INDIRECT(_xlfn.CONCAT($AC$2,S47)),"-","-",0,"-",INDIRECT(_xlfn.CONCAT($AC$2,S47)))} -> - | S47: E96 | T47: - | U47: - | V47: - | W47: - | X47: =HYPERLINK(_xlfn.CONCAT("#'",$AB$1,"'!",Y47),Y47) -> $A$109 | Y47: =A109 -> $A$109
P48: {=INDIRECT(_xlfn.CONCAT($AC$2,Q48))} -> NIKI Afvalstof 4 | Q48: C97 | R48: {=_xlfn.SWITCH(INDIRECT(_xlfn.CONCAT($AC$2,S48)),"-","-",0,"-",INDIRECT(_xlfn.CONCAT($AC$2,S48)))} -> - | S48: E97 | T48: - | U48: - | V48: - | W48: - | X48: =HYPERLINK(_xlfn.CONCAT("#'",$AB$1,"'!",Y48),Y48) -> $A$110 | Y48: =A110 -> $A$110
P49: {=INDIRECT(_xlfn.CONCAT($AC$2,Q49))} -> NIKI Afvalstof 5 | Q49: C98 | R49: {=_xlfn.SWITCH(INDIRECT(_xlfn.CONCAT($AC$2,S49)),"-","-",0,"-",INDIRECT(_xlfn.CONCAT($AC$2,S49)))} -> - | S49: E98 | T49: - | U49: - | V49: - | W49: - | X49: =HYPERLINK(_xlfn.CONCAT("#'",$AB$1,"'!",Y49),Y49) -> $A$111 | Y49: =A111 -> $A$111
P50: {=INDIRECT(_xlfn.CONCAT($AC$2,Q50))} -> NIKI Overige BKG emissies | Q50: C99 | R50: {=_xlfn.SWITCH(INDIRECT(_xlfn.CONCAT($AC$2,S50)),"-","-",0,"-",INDIRECT(_xlfn.CONCAT($AC$2,S50)))} -> - | S50: E99 | T50: - | U50: =0 -> 0 | V50: - | W50: - | X50: =HYPERLINK(_xlfn.CONCAT("#'",$AB$1,"'!",Y50),Y50) -> $A$112 | Y50: =A112 -> $A$112
P54: Totale massa product | T54: =SUM(T25:T34) -> 0
C55: Totaal massa | G55: =SUM(G25:G39) -> 0 | M55: Verschil massa | N55: =IFERROR((T55-G55)/(G55+T55),"-") -> - | P55: Totaal massa | T55: =SUM(T25:T50) -> 0
C56: Totaal energie | H56: =SUM(H25:H39) -> 0 | M56: Verschil energie | N56: =IFERROR((U56-H56)/(U56+H56),"-") -> - | P56: Totaal energie | U56: =SUM(U25:U50) -> 0
C57: Totaal Koolstof | I57: =SUMPRODUCT(G25:G39,I25:I39) -> 0 | J57: =SUMPRODUCT(G25:G39,I25:I39,J25:J39) -> 0 | M57: Biogeen koolstof | N57: =IFERROR((W57-J57)/(W57+J57),"-") -> - | P57: Totaal koolstof | V57: =SUMPRODUCT(T25:T50,V25:V50) -> 0 | W57: =SUMPRODUCT(T25:T50,V25:V50,W25:W50) -> 0
C60: Percentage NIKI-producten t.o.v. totaal aan uitgaande verhandelbare stromen:
C61: =IFERROR(SUM(T25:T34)/SUM(T25:T39),"-") -> - | E61: Onderbouw indien nodig het percentage NIKI-producten t.o.v. totaal aan uitgaande verhandelbare stromen.
C63: Uitleg verschillen MEB
C64: Beschrijf indien nodig waardoor het verschil in massa of energie ontstaat.
C67: Onderbouwing inkomende stromen
A68: De invulling van dit tabblad is doelbewust open gelaten om vrijheid te geven in de onderbouwing van de massastromen. | C68: Input label | E68: Input naam | G68: Massastroom (ton/uur) | H68: Energiestroom (MWh/uur) | I68: Koolstof-inhoud (%) | J68: Percentage biogene koolstof (%) | K68: Bron | M68: Onderbouw voor elke stroom de gekozen bron | R68: Zo nodig conversieberekening naar benodigde eenheid MEB | W68: Onderbouwing koolstofinhoud | X68: Onderbouwing percentage biogene koolstof
A69: =ADDRESS(ROW(A69),COLUMN(A69),1,1) -> $A$69 | C69: =C25 -> NIKI Grondstof 1 | E69: =E25 -> - | G69: =G25 -> - | H69: =H25 -> - | I69: =I25 -> - | J69: =J25 -> - | K69: - | L69: - | M69: - | Q69: - | R69: - | W69: - | X69: -
A70: =ADDRESS(ROW(A70),COLUMN(A70),1,1) -> $A$70 | C70: =C26 -> NIKI Grondstof 2 | E70: =E26 -> - | G70: =G26 -> - | H70: =H26 -> - | I70: =I26 -> - | J70: =J26 -> - | K70: - | L70: - | M70: - | Q70: - | R70: - | W70: - | X70: -
A71: =ADDRESS(ROW(A71),COLUMN(A71),1,1) -> $A$71 | C71: =C27 -> NIKI Grondstof 3 | E71: =E27 -> - | G71: =G27 -> - | H71: =H27 -> - | I71: =I27 -> - | J71: =J27 -> - | K71: - | L71: - | M71: - | Q71: - | R71: - | W71: - | X71: -
A72: =ADDRESS(ROW(A72),COLUMN(A72),1,1) -> $A$72 | C72: =C28 -> NIKI Grondstof 4 | E72: =E28 -> - | G72: =G28 -> - | H72: =H28 -> - | I72: =I28 -> - | J72: =J28 -> - | K72: - | L72: - | M72: - | Q72: - | R72: - | W72: - | X72: -
A73: =ADDRESS(ROW(A73),COLUMN(A73),1,1) -> $A$73 | C73: =C29 -> NIKI Grondstof 5 | E73: =E29 -> - | G73: =G29 -> - | H73: =H29 -> - | I73: =I29 -> - | J73: =J29 -> - | K73: - | L73: - | M73: - | Q73: - | R73: - | W73: - | X73: -
A74: =ADDRESS(ROW(A74),COLUMN(A74),1,1) -> $A$74 | C74: =C30 -> NIKI Grondstof 6 | E74: =E30 -> - | G74: =G30 -> - | H74: =H30 -> - | I74: =I30 -> - | J74: =J30 -> - | K74: - | L74: - | M74: - | Q74: - | R74: - | W74: - | X74: -
A75: =ADDRESS(ROW(A75),COLUMN(A75),1,1) -> $A$75 | C75: =C31 -> NIKI Grondstof 7 | E75: =E31 -> - | G75: =G31 -> - | H75: =H31 -> - | I75: =I31 -> - | J75: =J31 -> - | K75: - | L75: - | M75: - | Q75: - | R75: - | W75: - | X75: -
A76: =ADDRESS(ROW(A76),COLUMN(A76),1,1) -> $A$76 | C76: =C32 -> NIKI Grondstof 8 | E76: =E32 -> - | G76: =G32 -> - | H76: =H32 -> - | I76: =I32 -> - | J76: =J32 -> - | K76: - | L76: - | M76: - | Q76: - | R76: - | W76: - | X76: -
A77: =ADDRESS(ROW(A77),COLUMN(A77),1,1) -> $A$77 | C77: =C33 -> NIKI Grondstof 9 | E77: =E33 -> - | G77: =G33 -> - | H77: =H33 -> - | I77: =I33 -> - | J77: =J33 -> - | K77: - | L77: - | M77: - | Q77: - | R77: - | W77: - | X77: -
A78: =ADDRESS(ROW(A78),COLUMN(A78),1,1) -> $A$78 | C78: =C34 -> NIKI Grondstof 10 | E78: =E34 -> - | G78: =G34 -> - | H78: =H34 -> - | I78: =I34 -> - | J78: =J34 -> - | K78: - | L78: - | M78: - | Q78: - | R78: - | W78: - | X78: -
A79: =ADDRESS(ROW(A79),COLUMN(A79),1,1) -> $A$79 | C79: =C35 -> NIKI Energie 1 | E79: =E35 -> - | G79: =G35 -> - | H79: =H35 -> - | I79: =I35 -> - | J79: =J35 -> - | K79: - | L79: - | M79: - | Q79: - | R79: - | W79: - | X79: -
A80: =ADDRESS(ROW(A80),COLUMN(A80),1,1) -> $A$80 | C80: =C36 -> NIKI Energie 2 | E80: =E36 -> - | G80: =G36 -> - | H80: =H36 -> - | I80: =I36 -> - | J80: =J36 -> - | K80: - | L80: - | M80: - | Q80: - | R80: - | W80: - | X80: -
... A83: =ADDRESS(ROW(A83),COLUMN(A83),1,1) -> $A$83 | C83: =C39 -> NIKI Energie 5 | E83: =E39 -> - | G83: =G39 -> - | H83: =H39 -> - | I83: =I39 -> - | J83: =J39 -> - | K83: - | L83: - | M83: - | Q83: - | R83: - | W83: - | X83: -
C85: Onderbouwing uitgaande stromen
C86: Output label | E86: Output naam | G86: Massastroom (ton/uur) | H86: Energiestroom (MWh/uur) | I86: Koolstof-inhoud (%) | J86: Percentage biogene koolstof (%) | K86: Bron | M86: Onderbouw voor elke stroom de gekozen bron | R86: Zo nodig conversieberekening naar benodigde eenheid MEB | W86: Onderbouwing koolstofinhoud | X86: Onderbouwing percentage biogene koolstof
A87: =ADDRESS(ROW(A87),COLUMN(A87),1,1) -> $A$87 | C87: =P25 -> NIKI Product 1 | E87: =R25 -> - | G87: =T25 -> - | H87: =U25 -> - | I87: =V25 -> - | J87: =W25 -> - | K87: - | L87: - | M87: - | Q87: - | R87: - | W87: - | X87: -
A88: =ADDRESS(ROW(A88),COLUMN(A88),1,1) -> $A$88 | C88: =P26 -> NIKI Product 2 | E88: =R26 -> - | G88: =T26 -> - | H88: =U26 -> - | I88: =V26 -> - | J88: =W26 -> - | K88: - | L88: - | M88: - | Q88: - | R88: - | W88: - | X88: -
A89: =ADDRESS(ROW(A89),COLUMN(A89),1,1) -> $A$89 | C89: =P27 -> NIKI Product 3 | E89: =R27 -> - | G89: =T27 -> - | H89: =U27 -> - | I89: =V27 -> - | J89: =W27 -> - | K89: - | L89: - | M89: - | Q89: - | R89: - | W89: - | X89: -
A90: =ADDRESS(ROW(A90),COLUMN(A90),1,1) -> $A$90 | C90: =P28 -> NIKI Product 4 | E90: =R28 -> - | G90: =T28 -> - | H90: =U28 -> - | I90: =V28 -> - | J90: =W28 -> - | K90: - | L90: - | M90: - | Q90: - | R90: - | W90: - | X90: -
A91: =ADDRESS(ROW(A91),COLUMN(A91),1,1) -> $A$91 | C91: =P29 -> NIKI Product 5 | E91: =R29 -> - | G91: =T29 -> - | H91: =U29 -> - | I91: =V29 -> - | J91: =W29 -> - | K91: - | L91: - | M91: - | Q91: - | R91: - | W91: - | X91: -
A92: =ADDRESS(ROW(A92),COLUMN(A92),1,1) -> $A$92 | C92: =P30 -> NIKI Product 6 | E92: =R30 -> - | G92: =T30 -> - | H92: =U30 -> - | I92: =V30 -> - | J92: =W30 -> - | K92: - | L92: - | M92: - | Q92: - | R92: - | W92: - | X92: -
A93: =ADDRESS(ROW(A93),COLUMN(A93),1,1) -> $A$93 | C93: =P31 -> NIKI Product 7 | E93: =R31 -> - | G93: =T31 -> - | H93: =U31 -> - | I93: =V31 -> - | J93: =W31 -> - | K93: - | L93: - | M93: - | Q93: - | R93: - | W93: - | X93: -
A94: =ADDRESS(ROW(A94),COLUMN(A94),1,1) -> $A$94 | C94: =P32 -> NIKI Product 8 | E94: =R32 -> - | G94: =T32 -> - | H94: =U32 -> - | I94: =V32 -> - | J94: =W32 -> - | K94: - | L94: - | M94: - | Q94: - | R94: - | W94: - | X94: -
A95: =ADDRESS(ROW(A95),COLUMN(A95),1,1) -> $A$95 | C95: =P33 -> NIKI Product 9 | E95: =R33 -> - | G95: =T33 -> - | H95: =U33 -> - | I95: =V33 -> - | J95: =W33 -> - | K95: - | L95: - | M95: - | Q95: - | R95: - | W95: - | X95: -
A96: =ADDRESS(ROW(A96),COLUMN(A96),1,1) -> $A$96 | C96: =P34 -> NIKI Product 10 | E96: =R34 -> - | G96: =T34 -> - | H96: =U34 -> - | I96: =V34 -> - | J96: =W34 -> - | K96: - | L96: - | M96: - | Q96: - | R96: - | W96: - | X96: -
A97: =ADDRESS(ROW(A97),COLUMN(A97),1,1) -> $A$97 | C97: =P35 -> NIKI Restfractie 1 | E97: =R35 -> - | G97: =T35 -> - | H97: =U35 -> - | I97: =V35 -> - | J97: =W35 -> - | K97: - | L97: - | M97: - | Q97: - | R97: - | W97: - | X97: -
A98: =ADDRESS(ROW(A98),COLUMN(A98),1,1) -> $A$98 | C98: =P36 -> NIKI Restfractie 2 | E98: =R36 -> - | G98: =T36 -> - | H98: =U36 -> - | I98: =V36 -> - | J98: =W36 -> - | K98: - | L98: - | M98: - | Q98: - | R98: - | W98: - | X98: -
... A112: =ADDRESS(ROW(A112),COLUMN(A112),1,1) -> $A$112 | C112: =P50 -> NIKI Overige BKG emissies | E112: =R50 -> - | G112: =T50 -> - | H112: =U50 -> 0 | I112: =V50 -> - | J112: =W50 -> - | K112: - | L112: - | M112: - | Q112: - | R112: - | W112: - | X112: -
C114: Vrije ruimte voor berekeningen, verdere toelichting en notities

Sheet S4 MEB Ref 1
C1: Stap 4: Massa- en energiebalansen bepalen | X1: Legenda | AA1: Naam tab | AB1: =RIGHT(CELL("filename",A1),LEN(CELL("filename",A1))-FIND("]",CELL("filename",A1))) -> S4 MEB Ref 1
C2: Bepaal de massa- en energiebalansen (MEB) van referentieproces 1 (inputs, producten, afval- en reststromen en directe emissies) | X2: Label | AA2: Verw. S3 Ref 1 | AB2: ='S3 Grenzen Ref 1'!S1 -> S3 Grenzen Ref 1 | AC2: ="'" & AB2 & "'!" -> 'S3 Grenzen Ref 1'!
X3: In te vullen
X4: Overname gegevens of berekening
C6: • In dit tabblad wordt de massa- en energiebalans opgesteld.
C7: • Eerst neemt u in de balans op welke inputs, procesemissies, afvalstoffen, producten en reststoffen er zijn. U voert alle massastromen in die in en uit uw procesgrens gaan.
C8: • Hierna vult u de grootte van de massa- en energiestromen in zodat de MEB kloppend is. Restwarmte kan ook een een productstroom zijn. In dat geval moet u een energiestroom definiëren.
C9: • Geef voor alle in- en uitgaande stromen zowel een massa- als energiestroom op, tenzij de stromen geen massa hebben (bijvoorbeeld elektriciteit) of geen energie bevatten (bijvoorbeeld CO2). Energie voert u op in onderste verbrandingswaarde (LHV).
C10: • De CO2 die voortkomt uit verbranding van brandstoffen in het proces zelf, moet u opgevoeren als uitgaande massastroom onder "NIKI Emissie [...]". U mag dit omrekenen op basis van volledige omzetting van het koolstofgehalte in CO2. De CO2 die in het proces ontstaat op een andere manier dan verbranding (proces-CO2), voert u apart op.
C11: • De omvang van iedere stroom is gebaseerd op 1 vollastuur van de installatie. Zie ook NIKI CO2-emissiereductiemethode stap 6.
C12: • Er wordt ook een energiebalans berekend. Energie mag als product of als restfractie worden opgenomen om de energiebalans kloppend te maken. Als de energiebalans niet kloppend is door energieverliezen of chemisch gebonden energie, legt u dit uit onder "Uitleg verschillen MEB".
C13: • In uw uitleg over verschillen in de energiebalans legt u uit waarom het verschil optreedt en onderbouwt u de grootte van het verschil. Hieruit moet aannemelijk worden dat het verschil niet wordt veroorzaakt door een tekort aan inkomende energiestromen.
C14: • Het doel van een gebalanceerde MEB is om aan te kunnen tonen dat alle relevante input- en outputstromen zijn meegenomen. Als dit niet het geval is, zijn ook niet alle relevante emissies in kaart gebracht. Daarmee voldoet u niet aan de minimale kwaliteitsvereisten van de NIKI-regeling.
C15: • In de tabellen onderaan onderbouwt u de waarden van elke input- en outputstroom in de MEB.
D22: Hide | F22: Hide | L22: Hide | Q22: Hide | S22: Hide | Y22: Hide
C23: Inkomende stromen | P23: Uitgaande stromen
C24: Input label | E24: Input naam | G24: Massastroom (ton/uur) | H24: Energiestroom (MWh/uur) | I24: Koolstof-inhoud (%) | J24: Percentage biogene koolstof (%) | K24: Verwijzing naar onderbouwing | P24: Output label | R24: Output naam | T24: Massastroom (ton/uur) | U24: Energiestroom (MWh/uur) | V24: Koolstof-inhoud (%) | W24: Percentage biogene koolstof (%) | X24: Verwijzing naar onderbouwing
C25: {=INDIRECT(_xlfn.CONCAT($AC$2,D25))} -> Ref 1 Grondstof 1 | D25: C25 | E25: {=_xlfn.SWITCH(INDIRECT(_xlfn.CONCAT($AC$2,F25)),"-","-",0,"-",INDIRECT(_xlfn.CONCAT($AC$2,F25)))} -> - | F25: D25 | G25: - | H25: - | I25: - | J25: - | K25: =HYPERLINK(_xlfn.CONCAT("#'",$AB$1,"'!",L25),L25) -> $A$69 | L25: =A69 -> $A$69 | P25: {=INDIRECT(_xlfn.CONCAT($AC$2,Q25))} -> Ref 1 product 1 | Q25: C74 | R25: {=_xlfn.SWITCH(INDIRECT(_xlfn.CONCAT($AC$2,S25)),"-","-",0,"-",INDIRECT(_xlfn.CONCAT($AC$2,S25)))} -> - | S25: D74 | T25: - | U25: - | V25: - | W25: - | X25: =HYPERLINK(_xlfn.CONCAT("#'",$AB$1,"'!",Y25),Y25) -> $A$87 | Y25: =A87 -> $A$87
C26: {=INDIRECT(_xlfn.CONCAT($AC$2,D26))} -> Ref 1 Grondstof 2 | D26: C26 | E26: {=_xlfn.SWITCH(INDIRECT(_xlfn.CONCAT($AC$2,F26)),"-","-",0,"-",INDIRECT(_xlfn.CONCAT($AC$2,F26)))} -> - | F26: D26 | G26: - | H26: - | I26: - | J26: - | K26: =HYPERLINK(_xlfn.CONCAT("#'",$AB$1,"'!",L26),L26) -> $A$70 | L26: =A70 -> $A$70 | P26: {=INDIRECT(_xlfn.CONCAT($AC$2,Q26))} -> Ref 1 product 2 | Q26: C75 | R26: {=_xlfn.SWITCH(INDIRECT(_xlfn.CONCAT($AC$2,S26)),"-","-",0,"-",INDIRECT(_xlfn.CONCAT($AC$2,S26)))} -> - | S26: D75 | T26: - | U26: - | V26: - | W26: - | X26: =HYPERLINK(_xlfn.CONCAT("#'",$AB$1,"'!",Y26),Y26) -> $A$88 | Y26: =A88 -> $A$88
C27: {=INDIRECT(_xlfn.CONCAT($AC$2,D27))} -> Ref 1 Grondstof 3 | D27: C27 | E27: {=_xlfn.SWITCH(INDIRECT(_xlfn.CONCAT($AC$2,F27)),"-","-",0,"-",INDIRECT(_xlfn.CONCAT($AC$2,F27)))} -> - | F27: D27 | G27: - | H27: - | I27: - | J27: - | K27: =HYPERLINK(_xlfn.CONCAT("#'",$AB$1,"'!",L27),L27) -> $A$71 | L27: =A71 -> $A$71 | P27: {=INDIRECT(_xlfn.CONCAT($AC$2,Q27))} -> Ref 1 product 3 | Q27: C76 | R27: {=_xlfn.SWITCH(INDIRECT(_xlfn.CONCAT($AC$2,S27)),"-","-",0,"-",INDIRECT(_xlfn.CONCAT($AC$2,S27)))} -> - | S27: D76 | T27: - | U27: - | V27: - | W27: - | X27: =HYPERLINK(_xlfn.CONCAT("#'",$AB$1,"'!",Y27),Y27) -> $A$89 | Y27: =A89 -> $A$89
C28: {=INDIRECT(_xlfn.CONCAT($AC$2,D28))} -> Ref 1 Grondstof 4 | D28: C28 | E28: {=_xlfn.SWITCH(INDIRECT(_xlfn.CONCAT($AC$2,F28)),"-","-",0,"-",INDIRECT(_xlfn.CONCAT($AC$2,F28)))} -> - | F28: D28 | G28: - | H28: - | I28: - | J28: - | K28: =HYPERLINK(_xlfn.CONCAT("#'",$AB$1,"'!",L28),L28) -> $A$72 | L28: =A72 -> $A$72 | P28: {=INDIRECT(_xlfn.CONCAT($AC$2,Q28))} -> Ref 1 product 4 | Q28: C77 | R28: {=_xlfn.SWITCH(INDIRECT(_xlfn.CONCAT($AC$2,S28)),"-","-",0,"-",INDIRECT(_xlfn.CONCAT($AC$2,S28)))} -> - | S28: D77 | T28: - | U28: - | V28: - | W28: - | X28: =HYPERLINK(_xlfn.CONCAT("#'",$AB$1,"'!",Y28),Y28) -> $A$90 | Y28: =A90 -> $A$90
C29: {=INDIRECT(_xlfn.CONCAT($AC$2,D29))} -> Ref 1 Grondstof 5 | D29: C29 | E29: {=_xlfn.SWITCH(INDIRECT(_xlfn.CONCAT($AC$2,F29)),"-","-",0,"-",INDIRECT(_xlfn.CONCAT($AC$2,F29)))} -> - | F29: D29 | G29: - | H29: - | I29: - | J29: - | K29: =HYPERLINK(_xlfn.CONCAT("#'",$AB$1,"'!",L29),L29) -> $A$73 | L29: =A73 -> $A$73 | P29: {=INDIRECT(_xlfn.CONCAT($AC$2,Q29))} -> Ref 1 product 5 | Q29: C78 | R29: {=_xlfn.SWITCH(INDIRECT(_xlfn.CONCAT($AC$2,S29)),"-","-",0,"-",INDIRECT(_xlfn.CONCAT($AC$2,S29)))} -> - | S29: D78 | T29: - | U29: - | V29: - | W29: - | X29: =HYPERLINK(_xlfn.CONCAT("#'",$AB$1,"'!",Y29),Y29) -> $A$91 | Y29: =A91 -> $A$91
C30: {=INDIRECT(_xlfn.CONCAT($AC$2,D30))} -> Ref 1 Grondstof 6 | D30: C30 | E30: {=_xlfn.SWITCH(INDIRECT(_xlfn.CONCAT($AC$2,F30)),"-","-",0,"-",INDIRECT(_xlfn.CONCAT($AC$2,F30)))} -> - | F30: D30 | G30: - | H30: - | I30: - | J30: - | K30: =HYPERLINK(_xlfn.CONCAT("#'",$AB$1,"'!",L30),L30) -> $A$74 | L30: =A74 -> $A$74 | P30: {=INDIRECT(_xlfn.CONCAT($AC$2,Q30))} -> Ref 1 product 6 | Q30: C79 | R30: {=_xlfn.SWITCH(INDIRECT(_xlfn.CONCAT($AC$2,S30)),"-","-",0,"-",INDIRECT(_xlfn.CONCAT($AC$2,S30)))} -> - | S30: D79 | T30: - | U30: - | V30: - | W30: - | X30: =HYPERLINK(_xlfn.CONCAT("#'",$AB$1,"'!",Y30),Y30) -> $A$92 | Y30: =A92 -> $A$92
C31: {=INDIRECT(_xlfn.CONCAT($AC$2,D31))} -> Ref 1 Grondstof 7 | D31: C31 | E31: {=_xlfn.SWITCH(INDIRECT(_xlfn.CONCAT($AC$2,F31)),"-","-",0,"-",INDIRECT(_xlfn.CONCAT($AC$2,F31)))} -> - | F31: D31 | G31: - | H31: - | I31: - | J31: - | K31: =HYPERLINK(_xlfn.CONCAT("#'",$AB$1,"'!",L31),L31) -> $A$75 | L31: =A75 -> $A$75 | P31: {=INDIRECT(_xlfn.CONCAT($AC$2,Q31))} -> Ref 1 product 7 | Q31: C80 | R31: {=_xlfn.SWITCH(INDIRECT(_xlfn.CONCAT($AC$2,S31)),"-","-",0,"-",INDIRECT(_xlfn.CONCAT($AC$2,S31)))} -> - | S31: D80 | T31: - | U31: - | V31: - | W31: - | X31: =HYPERLINK(_xlfn.CONCAT("#'",$AB$1,"'!",Y31),Y31) -> $A$93 | Y31: =A93 -> $A$93
C32: {=INDIRECT(_xlfn.CONCAT($AC$2,D32))} -> Ref 1 Grondstof 8 | D32: C32 | E32: {=_xlfn.SWITCH(INDIRECT(_xlfn.CONCAT($AC$2,F32)),"-","-",0,"-",INDIRECT(_xlfn.CONCAT($AC$2,F32)))} -> - | F32: D32 | G32: - | H32: - | I32: - | J32: - | K32: =HYPERLINK(_xlfn.CONCAT("#'",$AB$1,"'!",L32),L32) -> $A$76 | L32: =A76 -> $A$76 | P32: {=INDIRECT(_xlfn.CONCAT($AC$2,Q32))} -> Ref 1 product 8 | Q32: C81 | R32: {=_xlfn.SWITCH(INDIRECT(_xlfn.CONCAT($AC$2,S32)),"-","-",0,"-",INDIRECT(_xlfn.CONCAT($AC$2,S32)))} -> - | S32: D81 | T32: - | U32: - | V32: - | W32: - | X32: =HYPERLINK(_xlfn.CONCAT("#'",$AB$1,"'!",Y32),Y32) -> $A$94 | Y32: =A94 -> $A$94
C33: {=INDIRECT(_xlfn.CONCAT($AC$2,D33))} -> Ref 1 Grondstof 9 | D33: C33 | E33: {=_xlfn.SWITCH(INDIRECT(_xlfn.CONCAT($AC$2,F33)),"-","-",0,"-",INDIRECT(_xlfn.CONCAT($AC$2,F33)))} -> - | F33: D33 | G33: - | H33: - | I33: - | J33: - | K33: =HYPERLINK(_xlfn.CONCAT("#'",$AB$1,"'!",L33),L33) -> $A$77 | L33: =A77 -> $A$77 | P33: {=INDIRECT(_xlfn.CONCAT($AC$2,Q33))} -> Ref 1 product 9 | Q33: C82 | R33: {=_xlfn.SWITCH(INDIRECT(_xlfn.CONCAT($AC$2,S33)),"-","-",0,"-",INDIRECT(_xlfn.CONCAT($AC$2,S33)))} -> - | S33: D82 | T33: - | U33: - | V33: - | W33: - | X33: =HYPERLINK(_xlfn.CONCAT("#'",$AB$1,"'!",Y33),Y33) -> $A$95 | Y33: =A95 -> $A$95
C34: {=INDIRECT(_xlfn.CONCAT($AC$2,D34))} -> Ref 1 Grondstof 10 | D34: C34 | E34: {=_xlfn.SWITCH(INDIRECT(_xlfn.CONCAT($AC$2,F34)),"-","-",0,"-",INDIRECT(_xlfn.CONCAT($AC$2,F34)))} -> - | F34: D34 | G34: - | H34: - | I34: - | J34: - | K34: =HYPERLINK(_xlfn.CONCAT("#'",$AB$1,"'!",L34),L34) -> $A$78 | L34: =A78 -> $A$78 | P34: {=INDIRECT(_xlfn.CONCAT($AC$2,Q34))} -> Ref 1 product 10 | Q34: C83 | R34: {=_xlfn.SWITCH(INDIRECT(_xlfn.CONCAT($AC$2,S34)),"-","-",0,"-",INDIRECT(_xlfn.CONCAT($AC$2,S34)))} -> - | S34: D83 | T34: - | U34: - | V34: - | W34: - | X34: =HYPERLINK(_xlfn.CONCAT("#'",$AB$1,"'!",Y34),Y34) -> $A$96 | Y34: =A96 -> $A$96
C35: {=INDIRECT(_xlfn.CONCAT($AC$2,D35))} -> Ref 1 Energie 1 | D35: C35 | E35: {=_xlfn.SWITCH(INDIRECT(_xlfn.CONCAT($AC$2,F35)),"-","-",0,"-",INDIRECT(_xlfn.CONCAT($AC$2,F35)))} -> - | F35: D35 | G35: - | H35: - | I35: - | J35: - | K35: =HYPERLINK(_xlfn.CONCAT("#'",$AB$1,"'!",L35),L35) -> $A$79 | L35: =A79 -> $A$79 | P35: {=INDIRECT(_xlfn.CONCAT($AC$2,Q35))} -> Ref 1 Co-product 1 | Q35: C84 | R35: {=_xlfn.SWITCH(INDIRECT(_xlfn.CONCAT($AC$2,S35)),"-","-",0,"-",INDIRECT(_xlfn.CONCAT($AC$2,S35)))} -> - | S35: D84 | T35: - | U35: - | V35: - | W35: - | X35: =HYPERLINK(_xlfn.CONCAT("#'",$AB$1,"'!",Y35),Y35) -> $A$97 | Y35: =A97 -> $A$97
C36: {=INDIRECT(_xlfn.CONCAT($AC$2,D36))} -> Ref 1 Energie 2 | D36: C36 | E36: {=_xlfn.SWITCH(INDIRECT(_xlfn.CONCAT($AC$2,F36)),"-","-",0,"-",INDIRECT(_xlfn.CONCAT($AC$2,F36)))} -> - | F36: D36 | G36: - | H36: - | I36: - | J36: - | K36: =HYPERLINK(_xlfn.CONCAT("#'",$AB$1,"'!",L36),L36) -> $A$80 | L36: =A80 -> $A$80 | P36: {=INDIRECT(_xlfn.CONCAT($AC$2,Q36))} -> Ref 1 Co-product 2 | Q36: C85 | R36: {=_xlfn.SWITCH(INDIRECT(_xlfn.CONCAT($AC$2,S36)),"-","-",0,"-",INDIRECT(_xlfn.CONCAT($AC$2,S36)))} -> - | S36: D85 | T36: - | U36: - | V36: - | W36: - | X36: =HYPERLINK(_xlfn.CONCAT("#'",$AB$1,"'!",Y36),Y36) -> $A$98 | Y36: =A98 -> $A$98
... C39: {=INDIRECT(_xlfn.CONCAT($AC$2,D39))} -> Ref 1 Energie 5 | D39: C39 | E39: {=_xlfn.SWITCH(INDIRECT(_xlfn.CONCAT($AC$2,F39)),"-","-",0,"-",INDIRECT(_xlfn.CONCAT($AC$2,F39)))} -> - | F39: D39 | G39: - | H39: - | I39: - | J39: - | K39: =HYPERLINK(_xlfn.CONCAT("#'",$AB$1,"'!",L39),L39) -> $A$83 | L39: =A83 -> $A$83 | P39: {=INDIRECT(_xlfn.CONCAT($AC$2,Q39))} -> Ref 1 Co-product 5 | Q39: C88 | R39: {=_xlfn.SWITCH(INDIRECT(_xlfn.CONCAT($AC$2,S39)),"-","-",0,"-",INDIRECT(_xlfn.CONCAT($AC$2,S39)))} -> - | S39: D88 | T39: - | U39: - | V39: - | W39: - | X39: =HYPERLINK(_xlfn.CONCAT("#'",$AB$1,"'!",Y39),Y39) -> $A$101 | Y39: =A101 -> $A$101
P40: {=INDIRECT(_xlfn.CONCAT($AC$2,Q40))} -> Ref 1 Emissie 1 | Q40: C89 | R40: {=_xlfn.SWITCH(INDIRECT(_xlfn.CONCAT($AC$2,S40)),"-","-",0,"-",INDIRECT(_xlfn.CONCAT($AC$2,S40)))} -> - | S40: D89 | T40: - | U40: - | V40: - | W40: - | X40: =HYPERLINK(_xlfn.CONCAT("#'",$AB$1,"'!",Y40),Y40) -> $A$102 | Y40: =A102 -> $A$102
P41: {=INDIRECT(_xlfn.CONCAT($AC$2,Q41))} -> Ref 1 Emissie 2 | Q41: C90 | R41: {=_xlfn.SWITCH(INDIRECT(_xlfn.CONCAT($AC$2,S41)),"-","-",0,"-",INDIRECT(_xlfn.CONCAT($AC$2,S41)))} -> - | S41: D90 | T41: - | U41: - | V41: - | W41: - | X41: =HYPERLINK(_xlfn.CONCAT("#'",$AB$1,"'!",Y41),Y41) -> $A$103 | Y41: =A103 -> $A$103
P42: {=INDIRECT(_xlfn.CONCAT($AC$2,Q42))} -> Ref 1 Emissie 3 | Q42: C91 | R42: {=_xlfn.SWITCH(INDIRECT(_xlfn.CONCAT($AC$2,S42)),"-","-",0,"-",INDIRECT(_xlfn.CONCAT($AC$2,S42)))} -> - | S42: D91 | T42: - | U42: - | V42: - | W42: - | X42: =HYPERLINK(_xlfn.CONCAT("#'",$AB$1,"'!",Y42),Y42) -> $A$104 | Y42: =A104 -> $A$104
P43: {=INDIRECT(_xlfn.CONCAT($AC$2,Q43))} -> Ref 1 Emissie 4 | Q43: C92 | R43: {=_xlfn.SWITCH(INDIRECT(_xlfn.CONCAT($AC$2,S43)),"-","-",0,"-",INDIRECT(_xlfn.CONCAT($AC$2,S43)))} -> - | S43: D92 | T43: - | U43: - | V43: - | W43: - | X43: =HYPERLINK(_xlfn.CONCAT("#'",$AB$1,"'!",Y43),Y43) -> $A$105 | Y43: =A105 -> $A$105
P44: {=INDIRECT(_xlfn.CONCAT($AC$2,Q44))} -> Ref 1 Emissie 5 | Q44: C93 | R44: {=_xlfn.SWITCH(INDIRECT(_xlfn.CONCAT($AC$2,S44)),"-","-",0,"-",INDIRECT(_xlfn.CONCAT($AC$2,S44)))} -> - | S44: D93 | T44: - | U44: - | V44: - | W44: - | X44: =HYPERLINK(_xlfn.CONCAT("#'",$AB$1,"'!",Y44),Y44) -> $A$106 | Y44: =A106 -> $A$106
P45: {=INDIRECT(_xlfn.CONCAT($AC$2,Q45))} -> Ref 1 Afvalstof 1 | Q45: C94 | R45: {=_xlfn.SWITCH(INDIRECT(_xlfn.CONCAT($AC$2,S45)),"-","-",0,"-",INDIRECT(_xlfn.CONCAT($AC$2,S45)))} -> - | S45: D94 | T45: - | U45: - | V45: - | W45: - | X45: =HYPERLINK(_xlfn.CONCAT("#'",$AB$1,"'!",Y45),Y45) -> $A$107 | Y45: =A107 -> $A$107
P46: {=INDIRECT(_xlfn.CONCAT($AC$2,Q46))} -> Ref 1 Afvalstof 2 | Q46: C95 | R46: {=_xlfn.SWITCH(INDIRECT(_xlfn.CONCAT($AC$2,S46)),"-","-",0,"-",INDIRECT(_xlfn.CONCAT($AC$2,S46)))} -> - | S46: D95 | T46: - | U46: - | V46: - | W46: - | X46: =HYPERLINK(_xlfn.CONCAT("#'",$AB$1,"'!",Y46),Y46) -> $A$108 | Y46: =A108 -> $A$108
P47: {=INDIRECT(_xlfn.CONCAT($AC$2,Q47))} -> Ref 1 Afvalstof 3 | Q47: C96 | R47: {=_xlfn.SWITCH(INDIRECT(_xlfn.CONCAT($AC$2,S47)),"-","-",0,"-",INDIRECT(_xlfn.CONCAT($AC$2,S47)))} -> - | S47: D96 | T47: - | U47: - | V47: - | W47: - | X47: =HYPERLINK(_xlfn.CONCAT("#'",$AB$1,"'!",Y47),Y47) -> $A$109 | Y47: =A109 -> $A$109
P48: {=INDIRECT(_xlfn.CONCAT($AC$2,Q48))} -> Ref 1 Afvalstof 4 | Q48: C97 | R48: {=_xlfn.SWITCH(INDIRECT(_xlfn.CONCAT($AC$2,S48)),"-","-",0,"-",INDIRECT(_xlfn.CONCAT($AC$2,S48)))} -> - | S48: D97 | T48: - | U48: - | V48: - | W48: - | X48: =HYPERLINK(_xlfn.CONCAT("#'",$AB$1,"'!",Y48),Y48) -> $A$110 | Y48: =A110 -> $A$110
P49: {=INDIRECT(_xlfn.CONCAT($AC$2,Q49))} -> Ref 1 Afvalstof 5 | Q49: C98 | R49: {=_xlfn.SWITCH(INDIRECT(_xlfn.CONCAT($AC$2,S49)),"-","-",0,"-",INDIRECT(_xlfn.CONCAT($AC$2,S49)))} -> - | S49: D98 | T49: - | U49: - | V49: - | W49: - | X49: =HYPERLINK(_xlfn.CONCAT("#'",$AB$1,"'!",Y49),Y49) -> $A$111 | Y49: =A111 -> $A$111
P50: {=INDIRECT(_xlfn.CONCAT($AC$2,Q50))} -> Ref 1 Overige BKG emissies | Q50: C99 | R50: {=_xlfn.SWITCH(INDIRECT(_xlfn.CONCAT($AC$2,S50)),"-","-",0,"-",INDIRECT(_xlfn.CONCAT($AC$2,S50)))} -> - | S50: D99 | T50: - | U50: =0 -> 0 | V50: - | W50: - | X50: =HYPERLINK(_xlfn.CONCAT("#'",$AB$1,"'!",Y50),Y50) -> $A$112 | Y50: =A112 -> $A$112
P54: Totale massa product | T54: =SUM(T25:T34) -> 0
C55: Totaal massa | G55: =SUM(G25:G39) -> 0 | M55: Verschil massa | N55: =IFERROR((T55-G55)/(G55+T55),"-") -> - | P55: Totaal massa | T55: =SUM(T25:T50) -> 0
C56: Totaal energie | H56: =SUM(H25:H39) -> 0 | M56: Verschil energie | N56: =IFERROR((U56-H56)/(U56+H56),"-") -> - | P56: Totaal energie | U56: =SUM(U25:U50) -> 0
C57: Totaal Koolstof | I57: =SUMPRODUCT(G25:G39,I25:I39) -> 0 | J57: =SUMPRODUCT(G25:G39,I25:I39,J25:J39) -> 0 | M57: Biogeen koolstof | N57: =IFERROR((W57-J57)/(W57+J57),"-") -> - | P57: Totaal koolstof | V57: =SUMPRODUCT(T25:T50,V25:V50) -> 0 | W57: =SUMPRODUCT(T25:T50,V25:V50,W25:W50) -> 0
C60: Allocatiepercentage
C61: =IFERROR(SUM(T25:T34)/SUM(T25:T39),"-") -> - | E61: Onderbouw indien nodig het allocatiepercentage.
C63: Uitleg verschillen MEB
C64: Beschrijf indien nodig waardoor het verschil in massa of energie ontstaat.
C67: Onderbouwing inkomende stromen
A68: De invulling van dit tabblad is doelbewust open gelaten om vrijheid te geven in de onderbouwing van de massastromen. | C68: Input label | E68: Input naam | G68: Massastroom (ton/uur) | H68: Energiestroom (MWh/uur) | I68: Koolstof-inhoud (%) | J68: Percentage biogene koolstof (%) | K68: Bron | M68: Onderbouw voor elke stroom de gekozen bron | R68: Zo nodig conversieberekening naar benodigde eenheid MEB | W68: Onderbouwing koolstofinhoud | X68: Onderbouwing percentage biogene koolstof
A69: =ADDRESS(ROW(A69),COLUMN(A69),1,1) -> $A$69 | C69: =C25 -> Ref 1 Grondstof 1 | E69: =E25 -> - | G69: =G25 -> - | H69: =H25 -> - | I69: =I25 -> - | J69: =J25 -> - | K69: - | L69: - | M69: - | Q69: - | R69: - | W69: - | X69: -
A70: =ADDRESS(ROW(A70),COLUMN(A70),1,1) -> $A$70 | C70: =C26 -> Ref 1 Grondstof 2 | E70: =E26 -> - | G70: =G26 -> - | H70: =H26 -> - | I70: =I26 -> - | J70: =J26 -> - | K70: - | L70: - | M70: - | Q70: - | R70: - | W70: - | X70: -
A71: =ADDRESS(ROW(A71),COLUMN(A71),1,1) -> $A$71 | C71: =C27 -> Ref 1 Grondstof 3 | E71: =E27 -> - | G71: =G27 -> - | H71: =H27 -> - | I71: =I27 -> - | J71: =J27 -> - | K71: - | L71: - | M71: - | Q71: - | R71: - | W71: - | X71: -
A72: =ADDRESS(ROW(A72),COLUMN(A72),1,1) -> $A$72 | C72: =C28 -> Ref 1 Grondstof 4 | E72: =E28 -> - | G72: =G28 -> - | H72: =H28 -> - | I72: =I28 -> - | J72: =J28 -> - | K72: - | L72: - | M72: - | Q72: - | R72: - | W72: - | X72: -
A73: =ADDRESS(ROW(A73),COLUMN(A73),1,1) -> $A$73 | C73: =C29 -> Ref 1 Grondstof 5 | E73: =E29 -> - | G73: =G29 -> - | H73: =H29 -> - | I73: =I29 -> - | J73: =J29 -> - | K73: - | L73: - | M73: - | Q73: - | R73: - | W73: - | X73: -
A74: =ADDRESS(ROW(A74),COLUMN(A74),1,1) -> $A$74 | C74: =C30 -> Ref 1 Grondstof 6 | E74: =E30 -> - | G74: =G30 -> - | H74: =H30 -> - | I74: =I30 -> - | J74: =J30 -> - | K74: - | L74: - | M74: - | Q74: - | R74: - | W74: - | X74: -
A75: =ADDRESS(ROW(A75),COLUMN(A75),1,1) -> $A$75 | C75: =C31 -> Ref 1 Grondstof 7 | E75: =E31 -> - | G75: =G31 -> - | H75: =H31 -> - | I75: =I31 -> - | J75: =J31 -> - | K75: - | L75: - | M75: - | Q75: - | R75: - | W75: - | X75: -
A76: =ADDRESS(ROW(A76),COLUMN(A76),1,1) -> $A$76 | C76: =C32 -> Ref 1 Grondstof 8 | E76: =E32 -> - | G76: =G32 -> - | H76: =H32 -> - | I76: =I32 -> - | J76: =J32 -> - | K76: - | L76: - | M76: - | Q76: - | R76: - | W76: - | X76: -
A77: =ADDRESS(ROW(A77),COLUMN(A77),1,1) -> $A$77 | C77: =C33 -> Ref 1 Grondstof 9 | E77: =E33 -> - | G77: =G33 -> - | H77: =H33 -> - | I77: =I33 -> - | J77: =J33 -> - | K77: - | L77: - | M77: - | Q77: - | R77: - | W77: - | X77: -
A78: =ADDRESS(ROW(A78),COLUMN(A78),1,1) -> $A$78 | C78: =C34 -> Ref 1 Grondstof 10 | E78: =E34 -> - | G78: =G34 -> - | H78: =H34 -> - | I78: =I34 -> - | J78: =J34 -> - | K78: - | L78: - | M78: - | Q78: - | R78: - | W78: - | X78: -
A79: =ADDRESS(ROW(A79),COLUMN(A79),1,1) -> $A$79 | C79: =C35 -> Ref 1 Energie 1 | E79: =E35 -> - | G79: =G35 -> - | H79: =H35 -> - | I79: =I35 -> - | J79: =J35 -> - | K79: - | L79: - | M79: - | Q79: - | R79: - | W79: - | X79: -
A80: =ADDRESS(ROW(A80),COLUMN(A80),1,1) -> $A$80 | C80: =C36 -> Ref 1 Energie 2 | E80: =E36 -> - | G80: =G36 -> - | H80: =H36 -> - | I80: =I36 -> - | J80: =J36 -> - | K80: - | L80: - | M80: - | Q80: - | R80: - | W80: - | X80: -
... A83: =ADDRESS(ROW(A83),COLUMN(A83),1,1) -> $A$83 | C83: =C39 -> Ref 1 Energie 5 | E83: =E39 -> - | G83: =G39 -> - | H83: =H39 -> - | I83: =I39 -> - | J83: =J39 -> - | K83: - | L83: - | M83: - | Q83: - | R83: - | W83: - | X83: -
C85: Onderbouwing uitgaande stromen
C86: Output label | E86: Output naam | G86: Massastroom (ton/uur) | H86: Energiestroom (MWh/uur) | I86: Koolstof-inhoud (%) | J86: Percentage biogene koolstof (%) | K86: Bron | M86: Onderbouw voor elke stroom de gekozen bron | R86: Zo nodig conversieberekening naar benodigde eenheid MEB | W86: Onderbouwing koolstofinhoud | X86: Onderbouwing percentage biogene koolstof
A87: =ADDRESS(ROW(A87),COLUMN(A87),1,1) -> $A$87 | C87: =P25 -> Ref 1 product 1 | E87: =R25 -> - | G87: =T25 -> - | H87: =U25 -> - | I87: =V25 -> - | J87: =W25 -> - | K87: - | L87: - | M87: - | Q87: - | R87: - | W87: - | X87: -
A88: =ADDRESS(ROW(A88),COLUMN(A88),1,1) -> $A$88 | C88: =P26 -> Ref 1 product 2 | E88: =R26 -> - | G88: =T26 -> - | H88: =U26 -> - | I88: =V26 -> - | J88: =W26 -> - | K88: - | L88: - | M88: - | Q88: - | R88: - | W88: - | X88: -
A89: =ADDRESS(ROW(A89),COLUMN(A89),1,1) -> $A$89 | C89: =P27 -> Ref 1 product 3 | E89: =R27 -> - | G89: =T27 -> - | H89: =U27 -> - | I89: =V27 -> - | J89: =W27 -> - | K89: - | L89: - | M89: - | Q89: - | R89: - | W89: - | X89: -
A90: =ADDRESS(ROW(A90),COLUMN(A90),1,1) -> $A$90 | C90: =P28 -> Ref 1 product 4 | E90: =R28 -> - | G90: =T28 -> - | H90: =U28 -> - | I90: =V28 -> - | J90: =W28 -> - | K90: - | L90: - | M90: - | Q90: - | R90: - | W90: - | X90: -
A91: =ADDRESS(ROW(A91),COLUMN(A91),1,1) -> $A$91 | C91: =P29 -> Ref 1 product 5 | E91: =R29 -> - | G91: =T29 -> - | H91: =U29 -> - | I91: =V29 -> - | J91: =W29 -> - | K91: - | L91: - | M91: - | Q91: - | R91: - | W91: - | X91: -
A92: =ADDRESS(ROW(A92),COLUMN(A92),1,1) -> $A$92 | C92: =P30 -> Ref 1 product 6 | E92: =R30 -> - | G92: =T30 -> - | H92: =U30 -> - | I92: =V30 -> - | J92: =W30 -> - | K92: - | L92: - | M92: - | Q92: - | R92: - | W92: - | X92: -
A93: =ADDRESS(ROW(A93),COLUMN(A93),1,1) -> $A$93 | C93: =P31 -> Ref 1 product 7 | E93: =R31 -> - | G93: =T31 -> - | H93: =U31 -> - | I93: =V31 -> - | J93: =W31 -> - | K93: - | L93: - | M93: - | Q93: - | R93: - | W93: - | X93: -
A94: =ADDRESS(ROW(A94),COLUMN(A94),1,1) -> $A$94 | C94: =P32 -> Ref 1 product 8 | E94: =R32 -> - | G94: =T32 -> - | H94: =U32 -> - | I94: =V32 -> - | J94: =W32 -> - | K94: - | L94: - | M94: - | Q94: - | R94: - | W94: - | X94: -
A95: =ADDRESS(ROW(A95),COLUMN(A95),1,1) -> $A$95 | C95: =P33 -> Ref 1 product 9 | E95: =R33 -> - | G95: =T33 -> - | H95: =U33 -> - | I95: =V33 -> - | J95: =W33 -> - | K95: - | L95: - | M95: - | Q95: - | R95: - | W95: - | X95: -
A96: =ADDRESS(ROW(A96),COLUMN(A96),1,1) -> $A$96 | C96: =P34 -> Ref 1 product 10 | E96: =R34 -> - | G96: =T34 -> - | H96: =U34 -> - | I96: =V34 -> - | J96: =W34 -> - | K96: - | L96: - | M96: - | Q96: - | R96: - | W96: - | X96: -
A97: =ADDRESS(ROW(A97),COLUMN(A97),1,1) -> $A$97 | C97: =P35 -> Ref 1 Co-product 1 | E97: =R35 -> - | G97: =T35 -> - | H97: =U35 -> - | I97: =V35 -> - | J97: =W35 -> - | K97: - | L97: - | M97: - | Q97: - | R97: - | W97: - | X97: -
A98: =ADDRESS(ROW(A98),COLUMN(A98),1,1) -> $A$98 | C98: =P36 -> Ref 1 Co-product 2 | E98: =R36 -> - | G98: =T36 -> - | H98: =U36 -> - | I98: =V36 -> - | J98: =W36 -> - | K98: - | L98: - | M98: - | Q98: - | R98: - | W98: - | X98: -
... A112: =ADDRESS(ROW(A112),COLUMN(A112),1,1) -> $A$112 | C112: =P50 -> Ref 1 Overige BKG emissies | E112: =R50 -> - | G112: =T50 -> - | H112: =U50 -> 0 | I112: =V50 -> - | J112: =W50 -> - | K112: - | L112: - | M112: - | Q112: - | R112: - | W112: - | X112: -
C114: Vrije ruimte voor berekeningen, verdere toelichting en notities

Sheet S4 MEB Ref 2
C1: Stap 4: Massa- en energiebalansen bepalen | X1: Legenda | AA1: Naam tab | AB1: =RIGHT(CELL("filename",A1),LEN(CELL("filename",A1))-FIND("]",CELL("filename",A1))) -> S4 MEB Ref 2
C2: Bepaal de massa- en energiebalansen (MEB) van referentieproces 2 (inputs, producten, afval- en reststromen en directe emissies) | X2: Label | AA2: Verw. S3 Ref 2 | AB2: ='S3 Grenzen Ref 2'!S1 -> S3 Grenzen Ref 2 | AC2: ="'" & AB2 & "'!" -> 'S3 Grenzen Ref 2'!
X3: In te vullen
X4: Overname gegevens of berekening
C6: • In dit tabblad wordt de massa- en energiebalans opgesteld.
C7: • Eerst neemt u in de balans op welke inputs, procesemissies, afvalstoffen, producten en reststoffen er zijn. U voert alle massastromen in die in en uit uw procesgrens gaan.
C8: • Hierna vult u de grootte van de massa- en energiestromen in zodat de MEB kloppend is. Restwarmte kan ook een een productstroom zijn. In dat geval moet u een energiestroom definiëren.
C9: • Geef voor alle in- en uitgaande stromen zowel een massa- als energiestroom op, tenzij de stromen geen massa hebben (bijvoorbeeld elektriciteit) of geen energie bevatten (bijvoorbeeld CO2). Energie voert u op in onderste verbrandingswaarde (LHV).
C10: • De CO2 die voortkomt uit verbranding van brandstoffen in het proces zelf, moet u opgevoeren als uitgaande massastroom onder "NIKI Emissie [...]". U mag dit omrekenen op basis van volledige omzetting van het koolstofgehalte in CO2. De CO2 die in het proces ontstaat op een andere manier dan verbranding (proces-CO2), voert u apart op.
C11: • De omvang van iedere stroom is gebaseerd op 1 vollastuur van de installatie. Zie ook NIKI CO2-emissiereductiemethode stap 6.
C12: • Er wordt ook een energiebalans berekend. Energie mag als product of als restfractie worden opgenomen om de energiebalans kloppend te maken. Als de energiebalans niet kloppend is door energieverliezen of chemisch gebonden energie, legt u dit uit onder "Uitleg verschillen MEB".
C13: • In uw uitleg over verschillen in de energiebalans legt u uit waarom het verschil optreedt en onderbouwt u de grootte van het verschil. Hieruit moet aannemelijk worden dat het verschil niet wordt veroorzaakt door een tekort aan inkomende energiestromen.
C14: • Het doel van een gebalanceerde MEB is om aan te kunnen tonen dat alle relevante input- en outputstromen zijn meegenomen. Als dit niet het geval is, zijn ook niet alle relevante emissies in kaart gebracht. Daarmee voldoet u niet aan de minimale kwaliteitsvereisten van de NIKI-regeling.
C15: • In de tabellen onderaan onderbouwt u de waarden van elke input- en outputstroom in de MEB.
D22: Hide | F22: Hide | L22: Hide | Q22: Hide | S22: Hide | Y22: Hide
C23: Inkomende stromen | P23: Uitgaande stromen
C24: Input label | E24: Input naam | G24: Massastroom (ton/uur) | H24: Energiestroom (MWh/uur) | I24: Koolstof-inhoud (%) | J24: Percentage biogene koolstof (%) | K24: Verwijzing naar onderbouwing | P24: Output label | R24: Output naam | T24: Massastroom (ton/uur) | U24: Energiestroom (MWh/uur) | V24: Koolstof-inhoud (%) | W24: Percentage biogene koolstof (%) | X24: Verwijzing naar onderbouwing
C25: {=INDIRECT(_xlfn.CONCAT($AC$2,D25))} -> Ref 2 Grondstof 1 | D25: C25 | E25: {=_xlfn.SWITCH(INDIRECT(_xlfn.CONCAT($AC$2,F25)),"-","-",0,"-",INDIRECT(_xlfn.CONCAT($AC$2,F25)))} -> - | F25: D25 | G25: - | H25: - | I25: - | J25: - | K25: =HYPERLINK(_xlfn.CONCAT("#'",$AB$1,"'!",L25),L25) -> $A$69 | L25: =A69 -> $A$69 | P25: {=INDIRECT(_xlfn.CONCAT($AC$2,Q25))} -> Ref 2 product 1 | Q25: C74 | R25: {=_xlfn.SWITCH(INDIRECT(_xlfn.CONCAT($AC$2,S25)),"-","-",0,"-",INDIRECT(_xlfn.CONCAT($AC$2,S25)))} -> - | S25: D74 | T25: - | U25: - | V25: - | W25: - | X25: =HYPERLINK(_xlfn.CONCAT("#'",$AB$1,"'!",Y25),Y25) -> $A$87 | Y25: =A87 -> $A$87
C26: {=INDIRECT(_xlfn.CONCAT($AC$2,D26))} -> Ref 2 Grondstof 2 | D26: C26 | E26: {=_xlfn.SWITCH(INDIRECT(_xlfn.CONCAT($AC$2,F26)),"-","-",0,"-",INDIRECT(_xlfn.CONCAT($AC$2,F26)))} -> - | F26: D26 | G26: - | H26: - | I26: - | J26: - | K26: =HYPERLINK(_xlfn.CONCAT("#'",$AB$1,"'!",L26),L26) -> $A$70 | L26: =A70 -> $A$70 | P26: {=INDIRECT(_xlfn.CONCAT($AC$2,Q26))} -> Ref 2 product 2 | Q26: C75 | R26: {=_xlfn.SWITCH(INDIRECT(_xlfn.CONCAT($AC$2,S26)),"-","-",0,"-",INDIRECT(_xlfn.CONCAT($AC$2,S26)))} -> - | S26: D75 | T26: - | U26: - | V26: - | W26: - | X26: =HYPERLINK(_xlfn.CONCAT("#'",$AB$1,"'!",Y26),Y26) -> $A$88 | Y26: =A88 -> $A$88
C27: {=INDIRECT(_xlfn.CONCAT($AC$2,D27))} -> Ref 2 Grondstof 3 | D27: C27 | E27: {=_xlfn.SWITCH(INDIRECT(_xlfn.CONCAT($AC$2,F27)),"-","-",0,"-",INDIRECT(_xlfn.CONCAT($AC$2,F27)))} -> - | F27: D27 | G27: - | H27: - | I27: - | J27: - | K27: =HYPERLINK(_xlfn.CONCAT("#'",$AB$1,"'!",L27),L27) -> $A$71 | L27: =A71 -> $A$71 | P27: {=INDIRECT(_xlfn.CONCAT($AC$2,Q27))} -> Ref 2 product 3 | Q27: C76 | R27: {=_xlfn.SWITCH(INDIRECT(_xlfn.CONCAT($AC$2,S27)),"-","-",0,"-",INDIRECT(_xlfn.CONCAT($AC$2,S27)))} -> - | S27: D76 | T27: - | U27: - | V27: - | W27: - | X27: =HYPERLINK(_xlfn.CONCAT("#'",$AB$1,"'!",Y27),Y27) -> $A$89 | Y27: =A89 -> $A$89
C28: {=INDIRECT(_xlfn.CONCAT($AC$2,D28))} -> Ref 2 Grondstof 4 | D28: C28 | E28: {=_xlfn.SWITCH(INDIRECT(_xlfn.CONCAT($AC$2,F28)),"-","-",0,"-",INDIRECT(_xlfn.CONCAT($AC$2,F28)))} -> - | F28: D28 | G28: - | H28: - | I28: - | J28: - | K28: =HYPERLINK(_xlfn.CONCAT("#'",$AB$1,"'!",L28),L28) -> $A$72 | L28: =A72 -> $A$72 | P28: {=INDIRECT(_xlfn.CONCAT($AC$2,Q28))} -> Ref 2 product 4 | Q28: C77 | R28: {=_xlfn.SWITCH(INDIRECT(_xlfn.CONCAT($AC$2,S28)),"-","-",0,"-",INDIRECT(_xlfn.CONCAT($AC$2,S28)))} -> - | S28: D77 | T28: - | U28: - | V28: - | W28: - | X28: =HYPERLINK(_xlfn.CONCAT("#'",$AB$1,"'!",Y28),Y28) -> $A$90 | Y28: =A90 -> $A$90
C29: {=INDIRECT(_xlfn.CONCAT($AC$2,D29))} -> Ref 2 Grondstof 5 | D29: C29 | E29: {=_xlfn.SWITCH(INDIRECT(_xlfn.CONCAT($AC$2,F29)),"-","-",0,"-",INDIRECT(_xlfn.CONCAT($AC$2,F29)))} -> - | F29: D29 | G29: - | H29: - | I29: - | J29: - | K29: =HYPERLINK(_xlfn.CONCAT("#'",$AB$1,"'!",L29),L29) -> $A$73 | L29: =A73 -> $A$73 | P29: {=INDIRECT(_xlfn.CONCAT($AC$2,Q29))} -> Ref 2 product 5 | Q29: C78 | R29: {=_xlfn.SWITCH(INDIRECT(_xlfn.CONCAT($AC$2,S29)),"-","-",0,"-",INDIRECT(_xlfn.CONCAT($AC$2,S29)))} -> - | S29: D78 | T29: - | U29: - | V29: - | W29: - | X29: =HYPERLINK(_xlfn.CONCAT("#'",$AB$1,"'!",Y29),Y29) -> $A$91 | Y29: =A91 -> $A$91
C30: {=INDIRECT(_xlfn.CONCAT($AC$2,D30))} -> Ref 2 Grondstof 6 | D30: C30 | E30: {=_xlfn.SWITCH(INDIRECT(_xlfn.CONCAT($AC$2,F30)),"-","-",0,"-",INDIRECT(_xlfn.CONCAT($AC$2,F30)))} -> - | F30: D30 | G30: - | H30: - | I30: - | J30: - | K30: =HYPERLINK(_xlfn.CONCAT("#'",$AB$1,"'!",L30),L30) -> $A$74 | L30: =A74 -> $A$74 | P30: {=INDIRECT(_xlfn.CONCAT($AC$2,Q30))} -> Ref 2 product 6 | Q30: C79 | R30: {=_xlfn.SWITCH(INDIRECT(_xlfn.CONCAT($AC$2,S30)),"-","-",0,"-",INDIRECT(_xlfn.CONCAT($AC$2,S30)))} -> - | S30: D79 | T30: - | U30: - | V30: - | W30: - | X30: =HYPERLINK(_xlfn.CONCAT("#'",$AB$1,"'!",Y30),Y30) -> $A$92 | Y30: =A92 -> $A$92
C31: {=INDIRECT(_xlfn.CONCAT($AC$2,D31))} -> Ref 2 Grondstof 7 | D31: C31 | E31: {=_xlfn.SWITCH(INDIRECT(_xlfn.CONCAT($AC$2,F31)),"-","-",0,"-",INDIRECT(_xlfn.CONCAT($AC$2,F31)))} -> - | F31: D31 | G31: - | H31: - | I31: - | J31: - | K31: =HYPERLINK(_xlfn.CONCAT("#'",$AB$1,"'!",L31),L31) -> $A$75 | L31: =A75 -> $A$75 | P31: {=INDIRECT(_xlfn.CONCAT($AC$2,Q31))} -> Ref 2 product 7 | Q31: C80 | R31: {=_xlfn.SWITCH(INDIRECT(_xlfn.CONCAT($AC$2,S31)),"-","-",0,"-",INDIRECT(_xlfn.CONCAT($AC$2,S31)))} -> - | S31: D80 | T31: - | U31: - | V31: - | W31: - | X31: =HYPERLINK(_xlfn.CONCAT("#'",$AB$1,"'!",Y31),Y31) -> $A$93 | Y31: =A93 -> $A$93
C32: {=INDIRECT(_xlfn.CONCAT($AC$2,D32))} -> Ref 2 Grondstof 8 | D32: C32 | E32: {=_xlfn.SWITCH(INDIRECT(_xlfn.CONCAT($AC$2,F32)),"-","-",0,"-",INDIRECT(_xlfn.CONCAT($AC$2,F32)))} -> - | F32: D32 | G32: - | H32: - | I32: - | J32: - | K32: =HYPERLINK(_xlfn.CONCAT("#'",$AB$1,"'!",L32),L32) -> $A$76 | L32: =A76 -> $A$76 | P32: {=INDIRECT(_xlfn.CONCAT($AC$2,Q32))} -> Ref 2 product 8 | Q32: C81 | R32: {=_xlfn.SWITCH(INDIRECT(_xlfn.CONCAT($AC$2,S32)),"-","-",0,"-",INDIRECT(_xlfn.CONCAT($AC$2,S32)))} -> - | S32: D81 | T32: - | U32: - | V32: - | W32: - | X32: =HYPERLINK(_xlfn.CONCAT("#'",$AB$1,"'!",Y32),Y32) -> $A$94 | Y32: =A94 -> $A$94
C33: {=INDIRECT(_xlfn.CONCAT($AC$2,D33))} -> Ref 2 Grondstof 9 | D33: C33 | E33: {=_xlfn.SWITCH(INDIRECT(_xlfn.CONCAT($AC$2,F33)),"-","-",0,"-",INDIRECT(_xlfn.CONCAT($AC$2,F33)))} -> - | F33: D33 | G33: - | H33: - | I33: - | J33: - | K33: =HYPERLINK(_xlfn.CONCAT("#'",$AB$1,"'!",L33),L33) -> $A$77 | L33: =A77 -> $A$77 | P33: {=INDIRECT(_xlfn.CONCAT($AC$2,Q33))} -> Ref 2 product 9 | Q33: C82 | R33: {=_xlfn.SWITCH(INDIRECT(_xlfn.CONCAT($AC$2,S33)),"-","-",0,"-",INDIRECT(_xlfn.CONCAT($AC$2,S33)))} -> - | S33: D82 | T33: - | U33: - | V33: - | W33: - | X33: =HYPERLINK(_xlfn.CONCAT("#'",$AB$1,"'!",Y33),Y33) -> $A$95 | Y33: =A95 -> $A$95
C34: {=INDIRECT(_xlfn.CONCAT($AC$2,D34))} -> Ref 2 Grondstof 10 | D34: C34 | E34: {=_xlfn.SWITCH(INDIRECT(_xlfn.CONCAT($AC$2,F34)),"-","-",0,"-",INDIRECT(_xlfn.CONCAT($AC$2,F34)))} -> - | F34: D34 | G34: - | H34: - | I34: - | J34: - | K34: =HYPERLINK(_xlfn.CONCAT("#'",$AB$1,"'!",L34),L34) -> $A$78 | L34: =A78 -> $A$78 | P34: {=INDIRECT(_xlfn.CONCAT($AC$2,Q34))} -> Ref 2 product 10 | Q34: C83 | R34: {=_xlfn.SWITCH(INDIRECT(_xlfn.CONCAT($AC$2,S34)),"-","-",0,"-",INDIRECT(_xlfn.CONCAT($AC$2,S34)))} -> - | S34: D83 | T34: - | U34: - | V34: - | W34: - | X34: =HYPERLINK(_xlfn.CONCAT("#'",$AB$1,"'!",Y34),Y34) -> $A$96 | Y34: =A96 -> $A$96
C35: {=INDIRECT(_xlfn.CONCAT($AC$2,D35))} -> Ref 2 Energie 1 | D35: C35 | E35: {=_xlfn.SWITCH(INDIRECT(_xlfn.CONCAT($AC$2,F35)),"-","-",0,"-",INDIRECT(_xlfn.CONCAT($AC$2,F35)))} -> - | F35: D35 | G35: - | H35: - | I35: - | J35: - | K35: =HYPERLINK(_xlfn.CONCAT("#'",$AB$1,"'!",L35),L35) -> $A$79 | L35: =A79 -> $A$79 | P35: {=INDIRECT(_xlfn.CONCAT($AC$2,Q35))} -> Ref 2 Co-product 1 | Q35: C84 | R35: {=_xlfn.SWITCH(INDIRECT(_xlfn.CONCAT($AC$2,S35)),"-","-",0,"-",INDIRECT(_xlfn.CONCAT($AC$2,S35)))} -> - | S35: D84 | T35: - | U35: - | V35: - | W35: - | X35: =HYPERLINK(_xlfn.CONCAT("#'",$AB$1,"'!",Y35),Y35) -> $A$97 | Y35: =A97 -> $A$97
C36: {=INDIRECT(_xlfn.CONCAT($AC$2,D36))} -> Ref 2 Energie 2 | D36: C36 | E36: {=_xlfn.SWITCH(INDIRECT(_xlfn.CONCAT($AC$2,F36)),"-","-",0,"-",INDIRECT(_xlfn.CONCAT($AC$2,F36)))} -> - | F36: D36 | G36: - | H36: - | I36: - | J36: - | K36: =HYPERLINK(_xlfn.CONCAT("#'",$AB$1,"'!",L36),L36) -> $A$80 | L36: =A80 -> $A$80 | P36: {=INDIRECT(_xlfn.CONCAT($AC$2,Q36))} -> Ref 2 Co-product 2 | Q36: C85 | R36: {=_xlfn.SWITCH(INDIRECT(_xlfn.CONCAT($AC$2,S36)),"-","-",0,"-",INDIRECT(_xlfn.CONCAT($AC$2,S36)))} -> - | S36: D85 | T36: - | U36: - | V36: - | W36: - | X36: =HYPERLINK(_xlfn.CONCAT("#'",$AB$1,"'!",Y36),Y36) -> $A$98 | Y36: =A98 -> $A$98
... C39: {=INDIRECT(_xlfn.CONCAT($AC$2,D39))} -> Ref 2 Energie 5 | D39: C39 | E39: {=_xlfn.SWITCH(INDIRECT(_xlfn.CONCAT($AC$2,F39)),"-","-",0,"-",INDIRECT(_xlfn.CONCAT($AC$2,F39)))} -> - | F39: D39 | G39: - | H39: - | I39: - | J39: - | K39: =HYPERLINK(_xlfn.CONCAT("#'",$AB$1,"'!",L39),L39) -> $A$83 | L39: =A83 -> $A$83 | P39: {=INDIRECT(_xlfn.CONCAT($AC$2,Q39))} -> Ref 2 Co-product 5 | Q39: C88 | R39: {=_xlfn.SWITCH(INDIRECT(_xlfn.CONCAT($AC$2,S39)),"-","-",0,"-",INDIRECT(_xlfn.CONCAT($AC$2,S39)))} -> - | S39: D88 | T39: - | U39: - | V39: - | W39: - | X39: =HYPERLINK(_xlfn.CONCAT("#'",$AB$1,"'!",Y39),Y39) -> $A$101 | Y39: =A101 -> $A$101
P40: {=INDIRECT(_xlfn.CONCAT($AC$2,Q40))} -> Ref 2 Emissie 1 | Q40: C89 | R40: {=_xlfn.SWITCH(INDIRECT(_xlfn.CONCAT($AC$2,S40)),"-","-",0,"-",INDIRECT(_xlfn.CONCAT($AC$2,S40)))} -> - | S40: D89 | T40: - | U40: - | V40: - | W40: - | X40: =HYPERLINK(_xlfn.CONCAT("#'",$AB$1,"'!",Y40),Y40) -> $A$102 | Y40: =A102 -> $A$102
P41: {=INDIRECT(_xlfn.CONCAT($AC$2,Q41))} -> Ref 2 Emissie 2 | Q41: C90 | R41: {=_xlfn.SWITCH(INDIRECT(_xlfn.CONCAT($AC$2,S41)),"-","-",0,"-",INDIRECT(_xlfn.CONCAT($AC$2,S41)))} -> - | S41: D90 | T41: - | U41: - | V41: - | W41: - | X41: =HYPERLINK(_xlfn.CONCAT("#'",$AB$1,"'!",Y41),Y41) -> $A$103 | Y41: =A103 -> $A$103
P42: {=INDIRECT(_xlfn.CONCAT($AC$2,Q42))} -> Ref 2 Emissie 3 | Q42: C91 | R42: {=_xlfn.SWITCH(INDIRECT(_xlfn.CONCAT($AC$2,S42)),"-","-",0,"-",INDIRECT(_xlfn.CONCAT($AC$2,S42)))} -> - | S42: D91 | T42: - | U42: - | V42: - | W42: - | X42: =HYPERLINK(_xlfn.CONCAT("#'",$AB$1,"'!",Y42),Y42) -> $A$104 | Y42: =A104 -> $A$104
P43: {=INDIRECT(_xlfn.CONCAT($AC$2,Q43))} -> Ref 2 Emissie 4 | Q43: C92 | R43: {=_xlfn.SWITCH(INDIRECT(_xlfn.CONCAT($AC$2,S43)),"-","-",0,"-",INDIRECT(_xlfn.CONCAT($AC$2,S43)))} -> - | S43: D92 | T43: - | U43: - | V43: - | W43: - | X43: =HYPERLINK(_xlfn.CONCAT("#'",$AB$1,"'!",Y43),Y43) -> $A$105 | Y43: =A105 -> $A$105
P44: {=INDIRECT(_xlfn.CONCAT($AC$2,Q44))} -> Ref 2 Emissie 5 | Q44: C93 | R44: {=_xlfn.SWITCH(INDIRECT(_xlfn.CONCAT($AC$2,S44)),"-","-",0,"-",INDIRECT(_xlfn.CONCAT($AC$2,S44)))} -> - | S44: D93 | T44: - | U44: - | V44: - | W44: - | X44: =HYPERLINK(_xlfn.CONCAT("#'",$AB$1,"'!",Y44),Y44) -> $A$106 | Y44: =A106 -> $A$106
P45: {=INDIRECT(_xlfn.CONCAT($AC$2,Q45))} -> Ref 2 Afvalstof 1 | Q45: C94 | R45: {=_xlfn.SWITCH(INDIRECT(_xlfn.CONCAT($AC$2,S45)),"-","-",0,"-",INDIRECT(_xlfn.CONCAT($AC$2,S45)))} -> - | S45: D94 | T45: - | U45: - | V45: - | W45: - | X45: =HYPERLINK(_xlfn.CONCAT("#'",$AB$1,"'!",Y45),Y45) -> $A$107 | Y45: =A107 -> $A$107
P46: {=INDIRECT(_xlfn.CONCAT($AC$2,Q46))} -> Ref 2 Afvalstof 2 | Q46: C95 | R46: {=_xlfn.SWITCH(INDIRECT(_xlfn.CONCAT($AC$2,S46)),"-","-",0,"-",INDIRECT(_xlfn.CONCAT($AC$2,S46)))} -> - | S46: D95 | T46: - | U46: - | V46: - | W46: - | X46: =HYPERLINK(_xlfn.CONCAT("#'",$AB$1,"'!",Y46),Y46) -> $A$108 | Y46: =A108 -> $A$108
P47: {=INDIRECT(_xlfn.CONCAT($AC$2,Q47))} -> Ref 2 Afvalstof 3 | Q47: C96 | R47: {=_xlfn.SWITCH(INDIRECT(_xlfn.CONCAT($AC$2,S47)),"-","-",0,"-",INDIRECT(_xlfn.CONCAT($AC$2,S47)))} -> - | S47: D96 | T47: - | U47: - | V47: - | W47: - | X47: =HYPERLINK(_xlfn.CONCAT("#'",$AB$1,"'!",Y47),Y47) -> $A$109 | Y47: =A109 -> $A$109
P48: {=INDIRECT(_xlfn.CONCAT($AC$2,Q48))} -> Ref 2 Afvalstof 4 | Q48: C97 | R48: {=_xlfn.SWITCH(INDIRECT(_xlfn.CONCAT($AC$2,S48)),"-","-",0,"-",INDIRECT(_xlfn.CONCAT($AC$2,S48)))} -> - | S48: D97 | T48: - | U48: - | V48: - | W48: - | X48: =HYPERLINK(_xlfn.CONCAT("#'",$AB$1,"'!",Y48),Y48) -> $A$110 | Y48: =A110 -> $A$110
P49: {=INDIRECT(_xlfn.CONCAT($AC$2,Q49))} -> Ref 2 Afvalstof 5 | Q49: C98 | R49: {=_xlfn.SWITCH(INDIRECT(_xlfn.CONCAT($AC$2,S49)),"-","-",0,"-",INDIRECT(_xlfn.CONCAT($AC$2,S49)))} -> - | S49: D98 | T49: - | U49: - | V49: - | W49: - | X49: =HYPERLINK(_xlfn.CONCAT("#'",$AB$1,"'!",Y49),Y49) -> $A$111 | Y49: =A111 -> $A$111
P50: {=INDIRECT(_xlfn.CONCAT($AC$2,Q50))} -> Ref 2 Overige BKG emissies | Q50: C99 | R50: {=_xlfn.SWITCH(INDIRECT(_xlfn.CONCAT($AC$2,S50)),"-","-",0,"-",INDIRECT(_xlfn.CONCAT($AC$2,S50)))} -> - | S50: D99 | T50: - | U50: =0 -> 0 | V50: - | W50: - | X50: =HYPERLINK(_xlfn.CONCAT("#'",$AB$1,"'!",Y50),Y50) -> $A$112 | Y50: =A112 -> $A$112
P54: Totale massa product | T54: =SUM(T25:T34) -> 0
C55: Totaal massa | G55: =SUM(G25:G39) -> 0 | M55: Verschil massa | N55: =IFERROR((T55-G55)/(G55+T55),"-") -> - | P55: Totaal massa | T55: =SUM(T25:T50) -> 0
C56: Totaal energie | H56: =SUM(H25:H39) -> 0 | M56: Verschil energie | N56: =IFERROR((U56-H56)/(U56+H56),"-") -> - | P56: Totaal energie | U56: =SUM(U25:U50) -> 0
C57: Totaal Koolstof | I57: =SUMPRODUCT(G25:G39,I25:I39) -> 0 | J57: =SUMPRODUCT(G25:G39,I25:I39,J25:J39) -> 0 | M57: Biogeen koolstof | N57: =IFERROR((W57-J57)/(W57+J57),"-") -> - | P57: Totaal koolstof | V57: =SUMPRODUCT(T25:T50,V25:V50) -> 0 | W57: =SUMPRODUCT(T25:T50,V25:V50,W25:W50) -> 0
C60: Allocatiepercentage
C61: =IFERROR(SUM(T25:T34)/SUM(T25:T39),"-") -> - | E61: Onderbouw indien nodig het allocatiepercentage.
C63: Uitleg verschillen MEB
C64: Beschrijf indien nodig waardoor het verschil in massa of energie ontstaat.
C67: Onderbouwing inkomende stromen
A68: De invulling van dit tabblad is doelbewust open gelaten om vrijheid te geven in de onderbouwing van de massastromen. | C68: Input label | E68: Input naam | G68: Massastroom (ton/uur) | H68: Energiestroom (MWh/uur) | I68: Koolstof-inhoud (%) | J68: Percentage biogene koolstof (%) | K68: Bron | M68: Onderbouw voor elke stroom de gekozen bron | R68: Zo nodig conversieberekening naar benodigde eenheid MEB | W68: Onderbouwing koolstofinhoud | X68: Onderbouwing percentage biogene koolstof
A69: =ADDRESS(ROW(A69),COLUMN(A69),1,1) -> $A$69 | C69: =C25 -> Ref 2 Grondstof 1 | E69: =E25 -> - | G69: =G25 -> - | H69: =H25 -> - | I69: =I25 -> - | J69: =J25 -> - | K69: - | L69: - | M69: - | Q69: - | R69: - | W69: - | X69: -
A70: =ADDRESS(ROW(A70),COLUMN(A70),1,1) -> $A$70 | C70: =C26 -> Ref 2 Grondstof 2 | E70: =E26 -> - | G70: =G26 -> - | H70: =H26 -> - | I70: =I26 -> - | J70: =J26 -> - | K70: - | L70: - | M70: - | Q70: - | R70: - | W70: - | X70: -
A71: =ADDRESS(ROW(A71),COLUMN(A71),1,1) -> $A$71 | C71: =C27 -> Ref 2 Grondstof 3 | E71: =E27 -> - | G71: =G27 -> - | H71: =H27 -> - | I71: =I27 -> - | J71: =J27 -> - | K71: - | L71: - | M71: - | Q71: - | R71: - | W71: - | X71: -
A72: =ADDRESS(ROW(A72),COLUMN(A72),1,1) -> $A$72 | C72: =C28 -> Ref 2 Grondstof 4 | E72: =E28 -> - | G72: =G28 -> - | H72: =H28 -> - | I72: =I28 -> - | J72: =J28 -> - | K72: - | L72: - | M72: - | Q72: - | R72: - | W72: - | X72: -
A73: =ADDRESS(ROW(A73),COLUMN(A73),1,1) -> $A$73 | C73: =C29 -> Ref 2 Grondstof 5 | E73: =E29 -> - | G73: =G29 -> - | H73: =H29 -> - | I73: =I29 -> - | J73: =J29 -> - | K73: - | L73: - | M73: - | Q73: - | R73: - | W73: - | X73: -
A74: =ADDRESS(ROW(A74),COLUMN(A74),1,1) -> $A$74 | C74: =C30 -> Ref 2 Grondstof 6 | E74: =E30 -> - | G74: =G30 -> - | H74: =H30 -> - | I74: =I30 -> - | J74: =J30 -> - | K74: - | L74: - | M74: - | Q74: - | R74: - | W74: - | X74: -
A75: =ADDRESS(ROW(A75),COLUMN(A75),1,1) -> $A$75 | C75: =C31 -> Ref 2 Grondstof 7 | E75: =E31 -> - | G75: =G31 -> - | H75: =H31 -> - | I75: =I31 -> - | J75: =J31 -> - | K75: - | L75: - | M75: - | Q75: - | R75: - | W75: - | X75: -
A76: =ADDRESS(ROW(A76),COLUMN(A76),1,1) -> $A$76 | C76: =C32 -> Ref 2 Grondstof 8 | E76: =E32 -> - | G76: =G32 -> - | H76: =H32 -> - | I76: =I32 -> - | J76: =J32 -> - | K76: - | L76: - | M76: - | Q76: - | R76: - | W76: - | X76: -
A77: =ADDRESS(ROW(A77),COLUMN(A77),1,1) -> $A$77 | C77: =C33 -> Ref 2 Grondstof 9 | E77: =E33 -> - | G77: =G33 -> - | H77: =H33 -> - | I77: =I33 -> - | J77: =J33 -> - | K77: - | L77: - | M77: - | Q77: - | R77: - | W77: - | X77: -
A78: =ADDRESS(ROW(A78),COLUMN(A78),1,1) -> $A$78 | C78: =C34 -> Ref 2 Grondstof 10 | E78: =E34 -> - | G78: =G34 -> - | H78: =H34 -> - | I78: =I34 -> - | J78: =J34 -> - | K78: - | L78: - | M78: - | Q78: - | R78: - | W78: - | X78: -
A79: =ADDRESS(ROW(A79),COLUMN(A79),1,1) -> $A$79 | C79: =C35 -> Ref 2 Energie 1 | E79: =E35 -> - | G79: =G35 -> - | H79: =H35 -> - | I79: =I35 -> - | J79: =J35 -> - | K79: - | L79: - | M79: - | Q79: - | R79: - | W79: - | X79: -
A80: =ADDRESS(ROW(A80),COLUMN(A80),1,1) -> $A$80 | C80: =C36 -> Ref 2 Energie 2 | E80: =E36 -> - | G80: =G36 -> - | H80: =H36 -> - | I80: =I36 -> - | J80: =J36 -> - | K80: - | L80: - | M80: - | Q80: - | R80: - | W80: - | X80: -
... A83: =ADDRESS(ROW(A83),COLUMN(A83),1,1) -> $A$83 | C83: =C39 -> Ref 2 Energie 5 | E83: =E39 -> - | G83: =G39 -> - | H83: =H39 -> - | I83: =I39 -> - | J83: =J39 -> - | K83: - | L83: - | M83: - | Q83: - | R83: - | W83: - | X83: -
C85: Onderbouwing uitgaande stromen
C86: Output label | E86: Output naam | G86: Massastroom (ton/uur) | H86: Energiestroom (MWh/uur) | I86: Koolstof-inhoud (%) | J86: Percentage biogene koolstof (%) | K86: Bron | M86: Onderbouw voor elke stroom de gekozen bron | R86: Zo nodig conversieberekening naar benodigde eenheid MEB | W86: Onderbouwing koolstofinhoud | X86: Onderbouwing percentage biogene koolstof
A87: =ADDRESS(ROW(A87),COLUMN(A87),1,1) -> $A$87 | C87: =P25 -> Ref 2 product 1 | E87: =R25 -> - | G87: =T25 -> - | H87: =U25 -> - | I87: =V25 -> - | J87: =W25 -> - | K87: - | L87: - | M87: - | Q87: - | R87: - | W87: - | X87: -
A88: =ADDRESS(ROW(A88),COLUMN(A88),1,1) -> $A$88 | C88: =P26 -> Ref 2 product 2 | E88: =R26 -> - | G88: =T26 -> - | H88: =U26 -> - | I88: =V26 -> - | J88: =W26 -> - | K88: - | L88: - | M88: - | Q88: - | R88: - | W88: - | X88: -
A89: =ADDRESS(ROW(A89),COLUMN(A89),1,1) -> $A$89 | C89: =P27 -> Ref 2 product 3 | E89: =R27 -> - | G89: =T27 -> - | H89: =U27 -> - | I89: =V27 -> - | J89: =W27 -> - | K89: - | L89: - | M89: - | Q89: - | R89: - | W89: - | X89: -
A90: =ADDRESS(ROW(A90),COLUMN(A90),1,1) -> $A$90 | C90: =P28 -> Ref 2 product 4 | E90: =R28 -> - | G90: =T28 -> - | H90: =U28 -> - | I90: =V28 -> - | J90: =W28 -> - | K90: - | L90: - | M90: - | Q90: - | R90: - | W90: - | X90: -
A91: =ADDRESS(ROW(A91),COLUMN(A91),1,1) -> $A$91 | C91: =P29 -> Ref 2 product 5 | E91: =R29 -> - | G91: =T29 -> - | H91: =U29 -> - | I91: =V29 -> - | J91: =W29 -> - | K91: - | L91: - | M91: - | Q91: - | R91: - | W91: - | X91: -
A92: =ADDRESS(ROW(A92),COLUMN(A92),1,1) -> $A$92 | C92: =P30 -> Ref 2 product 6 | E92: =R30 -> - | G92: =T30 -> - | H92: =U30 -> - | I92: =V30 -> - | J92: =W30 -> - | K92: - | L92: - | M92: - | Q92: - | R92: - | W92: - | X92: -
A93: =ADDRESS(ROW(A93),COLUMN(A93),1,1) -> $A$93 | C93: =P31 -> Ref 2 product 7 | E93: =R31 -> - | G93: =T31 -> - | H93: =U31 -> - | I93: =V31 -> - | J93: =W31 -> - | K93: - | L93: - | M93: - | Q93: - | R93: - | W93: - | X93: -
A94: =ADDRESS(ROW(A94),COLUMN(A94),1,1) -> $A$94 | C94: =P32 -> Ref 2 product 8 | E94: =R32 -> - | G94: =T32 -> - | H94: =U32 -> - | I94: =V32 -> - | J94: =W32 -> - | K94: - | L94: - | M94: - | Q94: - | R94: - | W94: - | X94: -
A95: =ADDRESS(ROW(A95),COLUMN(A95),1,1) -> $A$95 | C95: =P33 -> Ref 2 product 9 | E95: =R33 -> - | G95: =T33 -> - | H95: =U33 -> - | I95: =V33 -> - | J95: =W33 -> - | K95: - | L95: - | M95: - | Q95: - | R95: - | W95: - | X95: -
A96: =ADDRESS(ROW(A96),COLUMN(A96),1,1) -> $A$96 | C96: =P34 -> Ref 2 product 10 | E96: =R34 -> - | G96: =T34 -> - | H96: =U34 -> - | I96: =V34 -> - | J96: =W34 -> - | K96: - | L96: - | M96: - | Q96: - | R96: - | W96: - | X96: -
A97: =ADDRESS(ROW(A97),COLUMN(A97),1,1) -> $A$97 | C97: =P35 -> Ref 2 Co-product 1 | E97: =R35 -> - | G97: =T35 -> - | H97: =U35 -> - | I97: =V35 -> - | J97: =W35 -> - | K97: - | L97: - | M97: - | Q97: - | R97: - | W97: - | X97: -
A98: =ADDRESS(ROW(A98),COLUMN(A98),1,1) -> $A$98 | C98: =P36 -> Ref 2 Co-product 2 | E98: =R36 -> - | G98: =T36 -> - | H98: =U36 -> - | I98: =V36 -> - | J98: =W36 -> - | K98: - | L98: - | M98: - | Q98: - | R98: - | W98: - | X98: -
... A112: =ADDRESS(ROW(A112),COLUMN(A112),1,1) -> $A$112 | C112: =P50 -> Ref 2 Overige BKG emissies | E112: =R50 -> - | G112: =T50 -> - | H112: =U50 -> 0 | I112: =V50 -> - | J112: =W50 -> - | K112: - | L112: - | M112: - | Q112: - | R112: - | W112: - | X112: -
C114: Vrije ruimte voor berekeningen, verdere toelichting en notities

Sheet S4 MEB Ref 3
C1: Stap 4: Massa- en energiebalansen bepalen | X1: Legenda | AA1: Naam tab | AB1: =RIGHT(CELL("filename",A1),LEN(CELL("filename",A1))-FIND("]",CELL("filename",A1))) -> S4 MEB Ref 3
C2: Bepaal de massa- en energiebalansen (MEB) van referentieproces 3 (inputs, producten, afval- en reststromen en directe emissies) | X2: Label | AA2: Verw. S3 Ref 3 | AB2: ='S3 Grenzen Ref 3'!S1 -> S3 Grenzen Ref 3 | AC2: ="'" & AB2 & "'!" -> 'S3 Grenzen Ref 3'!
X3: In te vullen
X4: Overname gegevens of berekening
C6: • In dit tabblad wordt de massa- en energiebalans opgesteld.
C7: • Eerst neemt u in de balans op welke inputs, procesemissies, afvalstoffen, producten en reststoffen er zijn. U voert alle massastromen in die in en uit uw procesgrens gaan.
C8: • Hierna vult u de grootte van de massa- en energiestromen in zodat de MEB kloppend is. Restwarmte kan ook een een productstroom zijn. In dat geval moet u een energiestroom definiëren.
C9: • Geef voor alle in- en uitgaande stromen zowel een massa- als energiestroom op, tenzij de stromen geen massa hebben (bijvoorbeeld elektriciteit) of geen energie bevatten (bijvoorbeeld CO2). Energie voert u op in onderste verbrandingswaarde (LHV).
C10: • De CO2 die voortkomt uit verbranding van brandstoffen in het proces zelf, moet u opgevoeren als uitgaande massastroom onder "NIKI Emissie [...]". U mag dit omrekenen op basis van volledige omzetting van het koolstofgehalte in CO2. De CO2 die in het proces ontstaat op een andere manier dan verbranding (proces-CO2), voert u apart op.
C11: • De omvang van iedere stroom is gebaseerd op 1 vollastuur van de installatie. Zie ook NIKI CO2-emissiereductiemethode stap 6.
C12: • Er wordt ook een energiebalans berekend. Energie mag als product of als restfractie worden opgenomen om de energiebalans kloppend te maken. Als de energiebalans niet kloppend is door energieverliezen of chemisch gebonden energie, legt u dit uit onder "Uitleg verschillen MEB".
C13: • In uw uitleg over verschillen in de energiebalans legt u uit waarom het verschil optreedt en onderbouwt u de grootte van het verschil. Hieruit moet aannemelijk worden dat het verschil niet wordt veroorzaakt door een tekort aan inkomende energiestromen.
C14: • Het doel van een gebalanceerde MEB is om aan te kunnen tonen dat alle relevante input- en outputstromen zijn meegenomen. Als dit niet het geval is, zijn ook niet alle relevante emissies in kaart gebracht. Daarmee voldoet u niet aan de minimale kwaliteitsvereisten van de NIKI-regeling.
C15: • In de tabellen onderaan onderbouwt u de waarden van elke input- en outputstroom in de MEB.
D22: Hide | F22: Hide | L22: Hide | Q22: Hide | S22: Hide | Y22: Hide
C23: Inkomende stromen | P23: Uitgaande stromen
C24: Input label | E24: Input naam | G24: Massastroom (ton/uur) | H24: Energiestroom (MWh/uur) | I24: Koolstof-inhoud (%) | J24: Percentage biogene koolstof (%) | K24: Verwijzing naar onderbouwing | P24: Output label | R24: Output naam | T24: Massastroom (ton/uur) | U24: Energiestroom (MWh/uur) | V24: Koolstof-inhoud (%) | W24: Percentage biogene koolstof (%) | X24: Verwijzing naar onderbouwing
C25: {=INDIRECT(_xlfn.CONCAT($AC$2,D25))} -> Ref 3 Grondstof 1 | D25: C25 | E25: {=_xlfn.SWITCH(INDIRECT(_xlfn.CONCAT($AC$2,F25)),"-","-",0,"-",INDIRECT(_xlfn.CONCAT($AC$2,F25)))} -> - | F25: D25 | G25: - | H25: - | I25: - | J25: - | K25: =HYPERLINK(_xlfn.CONCAT("#'",$AB$1,"'!",L25),L25) -> $A$69 | L25: =A69 -> $A$69 | P25: {=INDIRECT(_xlfn.CONCAT($AC$2,Q25))} -> Ref 3 product 1 | Q25: C74 | R25: {=_xlfn.SWITCH(INDIRECT(_xlfn.CONCAT($AC$2,S25)),"-","-",0,"-",INDIRECT(_xlfn.CONCAT($AC$2,S25)))} -> - | S25: D74 | T25: - | U25: - | V25: - | W25: - | X25: =HYPERLINK(_xlfn.CONCAT("#'",$AB$1,"'!",Y25),Y25) -> $A$87 | Y25: =A87 -> $A$87
C26: {=INDIRECT(_xlfn.CONCAT($AC$2,D26))} -> Ref 3 Grondstof 2 | D26: C26 | E26: {=_xlfn.SWITCH(INDIRECT(_xlfn.CONCAT($AC$2,F26)),"-","-",0,"-",INDIRECT(_xlfn.CONCAT($AC$2,F26)))} -> - | F26: D26 | G26: - | H26: - | I26: - | J26: - | K26: =HYPERLINK(_xlfn.CONCAT("#'",$AB$1,"'!",L26),L26) -> $A$70 | L26: =A70 -> $A$70 | P26: {=INDIRECT(_xlfn.CONCAT($AC$2,Q26))} -> Ref 3 product 2 | Q26: C75 | R26: {=_xlfn.SWITCH(INDIRECT(_xlfn.CONCAT($AC$2,S26)),"-","-",0,"-",INDIRECT(_xlfn.CONCAT($AC$2,S26)))} -> - | S26: D75 | T26: - | U26: - | V26: - | W26: - | X26: =HYPERLINK(_xlfn.CONCAT("#'",$AB$1,"'!",Y26),Y26) -> $A$88 | Y26: =A88 -> $A$88
C27: {=INDIRECT(_xlfn.CONCAT($AC$2,D27))} -> Ref 3 Grondstof 3 | D27: C27 | E27: {=_xlfn.SWITCH(INDIRECT(_xlfn.CONCAT($AC$2,F27)),"-","-",0,"-",INDIRECT(_xlfn.CONCAT($AC$2,F27)))} -> - | F27: D27 | G27: - | H27: - | I27: - | J27: - | K27: =HYPERLINK(_xlfn.CONCAT("#'",$AB$1,"'!",L27),L27) -> $A$71 | L27: =A71 -> $A$71 | P27: {=INDIRECT(_xlfn.CONCAT($AC$2,Q27))} -> Ref 3 product 3 | Q27: C76 | R27: {=_xlfn.SWITCH(INDIRECT(_xlfn.CONCAT($AC$2,S27)),"-","-",0,"-",INDIRECT(_xlfn.CONCAT($AC$2,S27)))} -> - | S27: D76 | T27: - | U27: - | V27: - | W27: - | X27: =HYPERLINK(_xlfn.CONCAT("#'",$AB$1,"'!",Y27),Y27) -> $A$89 | Y27: =A89 -> $A$89
C28: {=INDIRECT(_xlfn.CONCAT($AC$2,D28))} -> Ref 3 Grondstof 4 | D28: C28 | E28: {=_xlfn.SWITCH(INDIRECT(_xlfn.CONCAT($AC$2,F28)),"-","-",0,"-",INDIRECT(_xlfn.CONCAT($AC$2,F28)))} -> - | F28: D28 | G28: - | H28: - | I28: - | J28: - | K28: =HYPERLINK(_xlfn.CONCAT("#'",$AB$1,"'!",L28),L28) -> $A$72 | L28: =A72 -> $A$72 | P28: {=INDIRECT(_xlfn.CONCAT($AC$2,Q28))} -> Ref 3 product 4 | Q28: C77 | R28: {=_xlfn.SWITCH(INDIRECT(_xlfn.CONCAT($AC$2,S28)),"-","-",0,"-",INDIRECT(_xlfn.CONCAT($AC$2,S28)))} -> - | S28: D77 | T28: - | U28: - | V28: - | W28: - | X28: =HYPERLINK(_xlfn.CONCAT("#'",$AB$1,"'!",Y28),Y28) -> $A$90 | Y28: =A90 -> $A$90
C29: {=INDIRECT(_xlfn.CONCAT($AC$2,D29))} -> Ref 3 Grondstof 5 | D29: C29 | E29: {=_xlfn.SWITCH(INDIRECT(_xlfn.CONCAT($AC$2,F29)),"-","-",0,"-",INDIRECT(_xlfn.CONCAT($AC$2,F29)))} -> - | F29: D29 | G29: - | H29: - | I29: - | J29: - | K29: =HYPERLINK(_xlfn.CONCAT("#'",$AB$1,"'!",L29),L29) -> $A$73 | L29: =A73 -> $A$73 | P29: {=INDIRECT(_xlfn.CONCAT($AC$2,Q29))} -> Ref 3 product 5 | Q29: C78 | R29: {=_xlfn.SWITCH(INDIRECT(_xlfn.CONCAT($AC$2,S29)),"-","-",0,"-",INDIRECT(_xlfn.CONCAT($AC$2,S29)))} -> - | S29: D78 | T29: - | U29: - | V29: - | W29: - | X29: =HYPERLINK(_xlfn.CONCAT("#'",$AB$1,"'!",Y29),Y29) -> $A$91 | Y29: =A91 -> $A$91
C30: {=INDIRECT(_xlfn.CONCAT($AC$2,D30))} -> Ref 3 Grondstof 6 | D30: C30 | E30: {=_xlfn.SWITCH(INDIRECT(_xlfn.CONCAT($AC$2,F30)),"-","-",0,"-",INDIRECT(_xlfn.CONCAT($AC$2,F30)))} -> - | F30: D30 | G30: - | H30: - | I30: - | J30: - | K30: =HYPERLINK(_xlfn.CONCAT("#'",$AB$1,"'!",L30),L30) -> $A$74 | L30: =A74 -> $A$74 | P30: {=INDIRECT(_xlfn.CONCAT($AC$2,Q30))} -> Ref 3 product 6 | Q30: C79 | R30: {=_xlfn.SWITCH(INDIRECT(_xlfn.CONCAT($AC$2,S30)),"-","-",0,"-",INDIRECT(_xlfn.CONCAT($AC$2,S30)))} -> - | S30: D79 | T30: - | U30: - | V30: - | W30: - | X30: =HYPERLINK(_xlfn.CONCAT("#'",$AB$1,"'!",Y30),Y30) -> $A$92 | Y30: =A92 -> $A$92
C31: {=INDIRECT(_xlfn.CONCAT($AC$2,D31))} -> Ref 3 Grondstof 7 | D31: C31 | E31: {=_xlfn.SWITCH(INDIRECT(_xlfn.CONCAT($AC$2,F31)),"-","-",0,"-",INDIRECT(_xlfn.CONCAT($AC$2,F31)))} -> - | F31: D31 | G31: - | H31: - | I31: - | J31: - | K31: =HYPERLINK(_xlfn.CONCAT("#'",$AB$1,"'!",L31),L31) -> $A$75 | L31: =A75 -> $A$75 | P31: {=INDIRECT(_xlfn.CONCAT($AC$2,Q31))} -> Ref 3 product 7 | Q31: C80 | R31: {=_xlfn.SWITCH(INDIRECT(_xlfn.CONCAT($AC$2,S31)),"-","-",0,"-",INDIRECT(_xlfn.CONCAT($AC$2,S31)))} -> - | S31: D80 | T31: - | U31: - | V31: - | W31: - | X31: =HYPERLINK(_xlfn.CONCAT("#'",$AB$1,"'!",Y31),Y31) -> $A$93 | Y31: =A93 -> $A$93
C32: {=INDIRECT(_xlfn.CONCAT($AC$2,D32))} -> Ref 3 Grondstof 8 | D32: C32 | E32: {=_xlfn.SWITCH(INDIRECT(_xlfn.CONCAT($AC$2,F32)),"-","-",0,"-",INDIRECT(_xlfn.CONCAT($AC$2,F32)))} -> - | F32: D32 | G32: - | H32: - | I32: - | J32: - | K32: =HYPERLINK(_xlfn.CONCAT("#'",$AB$1,"'!",L32),L32) -> $A$76 | L32: =A76 -> $A$76 | P32: {=INDIRECT(_xlfn.CONCAT($AC$2,Q32))} -> Ref 3 product 8 | Q32: C81 | R32: {=_xlfn.SWITCH(INDIRECT(_xlfn.CONCAT($AC$2,S32)),"-","-",0,"-",INDIRECT(_xlfn.CONCAT($AC$2,S32)))} -> - | S32: D81 | T32: - | U32: - | V32: - | W32: - | X32: =HYPERLINK(_xlfn.CONCAT("#'",$AB$1,"'!",Y32),Y32) -> $A$94 | Y32: =A94 -> $A$94
C33: {=INDIRECT(_xlfn.CONCAT($AC$2,D33))} -> Ref 3 Grondstof 9 | D33: C33 | E33: {=_xlfn.SWITCH(INDIRECT(_xlfn.CONCAT($AC$2,F33)),"-","-",0,"-",INDIRECT(_xlfn.CONCAT($AC$2,F33)))} -> - | F33: D33 | G33: - | H33: - | I33: - | J33: - | K33: =HYPERLINK(_xlfn.CONCAT("#'",$AB$1,"'!",L33),L33) -> $A$77 | L33: =A77 -> $A$77 | P33: {=INDIRECT(_xlfn.CONCAT($AC$2,Q33))} -> Ref 3 product 9 | Q33: C82 | R33: {=_xlfn.SWITCH(INDIRECT(_xlfn.CONCAT($AC$2,S33)),"-","-",0,"-",INDIRECT(_xlfn.CONCAT($AC$2,S33)))} -> - | S33: D82 | T33: - | U33: - | V33: - | W33: - | X33: =HYPERLINK(_xlfn.CONCAT("#'",$AB$1,"'!",Y33),Y33) -> $A$95 | Y33: =A95 -> $A$95
C34: {=INDIRECT(_xlfn.CONCAT($AC$2,D34))} -> Ref 3 Grondstof 10 | D34: C34 | E34: {=_xlfn.SWITCH(INDIRECT(_xlfn.CONCAT($AC$2,F34)),"-","-",0,"-",INDIRECT(_xlfn.CONCAT($AC$2,F34)))} -> - | F34: D34 | G34: - | H34: - | I34: - | J34: - | K34: =HYPERLINK(_xlfn.CONCAT("#'",$AB$1,"'!",L34),L34) -> $A$78 | L34: =A78 -> $A$78 | P34: {=INDIRECT(_xlfn.CONCAT($AC$2,Q34))} -> Ref 3 product 10 | Q34: C83 | R34: {=_xlfn.SWITCH(INDIRECT(_xlfn.CONCAT($AC$2,S34)),"-","-",0,"-",INDIRECT(_xlfn.CONCAT($AC$2,S34)))} -> - | S34: D83 | T34: - | U34: - | V34: - | W34: - | X34: =HYPERLINK(_xlfn.CONCAT("#'",$AB$1,"'!",Y34),Y34) -> $A$96 | Y34: =A96 -> $A$96
C35: {=INDIRECT(_xlfn.CONCAT($AC$2,D35))} -> Ref 3 Energie 1 | D35: C35 | E35: {=_xlfn.SWITCH(INDIRECT(_xlfn.CONCAT($AC$2,F35)),"-","-",0,"-",INDIRECT(_xlfn.CONCAT($AC$2,F35)))} -> - | F35: D35 | G35: - | H35: - | I35: - | J35: - | K35: =HYPERLINK(_xlfn.CONCAT("#'",$AB$1,"'!",L35),L35) -> $A$79 | L35: =A79 -> $A$79 | P35: {=INDIRECT(_xlfn.CONCAT($AC$2,Q35))} -> Ref 3 Co-product 1 | Q35: C84 | R35: {=_xlfn.SWITCH(INDIRECT(_xlfn.CONCAT($AC$2,S35)),"-","-",0,"-",INDIRECT(_xlfn.CONCAT($AC$2,S35)))} -> - | S35: D84 | T35: - | U35: - | V35: - | W35: - | X35: =HYPERLINK(_xlfn.CONCAT("#'",$AB$1,"'!",Y35),Y35) -> $A$97 | Y35: =A97 -> $A$97
C36: {=INDIRECT(_xlfn.CONCAT($AC$2,D36))} -> Ref 3 Energie 2 | D36: C36 | E36: {=_xlfn.SWITCH(INDIRECT(_xlfn.CONCAT($AC$2,F36)),"-","-",0,"-",INDIRECT(_xlfn.CONCAT($AC$2,F36)))} -> - | F36: D36 | G36: - | H36: - | I36: - | J36: - | K36: =HYPERLINK(_xlfn.CONCAT("#'",$AB$1,"'!",L36),L36) -> $A$80 | L36: =A80 -> $A$80 | P36: {=INDIRECT(_xlfn.CONCAT($AC$2,Q36))} -> Ref 3 Co-product 2 | Q36: C85 | R36: {=_xlfn.SWITCH(INDIRECT(_xlfn.CONCAT($AC$2,S36)),"-","-",0,"-",INDIRECT(_xlfn.CONCAT($AC$2,S36)))} -> - | S36: D85 | T36: - | U36: - | V36: - | W36: - | X36: =HYPERLINK(_xlfn.CONCAT("#'",$AB$1,"'!",Y36),Y36) -> $A$98 | Y36: =A98 -> $A$98
... C39: {=INDIRECT(_xlfn.CONCAT($AC$2,D39))} -> Ref 3 Energie 5 | D39: C39 | E39: {=_xlfn.SWITCH(INDIRECT(_xlfn.CONCAT($AC$2,F39)),"-","-",0,"-",INDIRECT(_xlfn.CONCAT($AC$2,F39)))} -> - | F39: D39 | G39: - | H39: - | I39: - | J39: - | K39: =HYPERLINK(_xlfn.CONCAT("#'",$AB$1,"'!",L39),L39) -> $A$83 | L39: =A83 -> $A$83 | P39: {=INDIRECT(_xlfn.CONCAT($AC$2,Q39))} -> Ref 3 Co-product 5 | Q39: C88 | R39: {=_xlfn.SWITCH(INDIRECT(_xlfn.CONCAT($AC$2,S39)),"-","-",0,"-",INDIRECT(_xlfn.CONCAT($AC$2,S39)))} -> - | S39: D88 | T39: - | U39: - | V39: - | W39: - | X39: =HYPERLINK(_xlfn.CONCAT("#'",$AB$1,"'!",Y39),Y39) -> $A$101 | Y39: =A101 -> $A$101
P40: {=INDIRECT(_xlfn.CONCAT($AC$2,Q40))} -> Ref 3 Emissie 1 | Q40: C89 | R40: {=_xlfn.SWITCH(INDIRECT(_xlfn.CONCAT($AC$2,S40)),"-","-",0,"-",INDIRECT(_xlfn.CONCAT($AC$2,S40)))} -> - | S40: D89 | T40: - | U40: - | V40: - | W40: - | X40: =HYPERLINK(_xlfn.CONCAT("#'",$AB$1,"'!",Y40),Y40) -> $A$102 | Y40: =A102 -> $A$102
P41: {=INDIRECT(_xlfn.CONCAT($AC$2,Q41))} -> Ref 3 Emissie 2 | Q41: C90 | R41: {=_xlfn.SWITCH(INDIRECT(_xlfn.CONCAT($AC$2,S41)),"-","-",0,"-",INDIRECT(_xlfn.CONCAT($AC$2,S41)))} -> - | S41: D90 | T41: - | U41: - | V41: - | W41: - | X41: =HYPERLINK(_xlfn.CONCAT("#'",$AB$1,"'!",Y41),Y41) -> $A$103 | Y41: =A103 -> $A$103
P42: {=INDIRECT(_xlfn.CONCAT($AC$2,Q42))} -> Ref 3 Emissie 3 | Q42: C91 | R42: {=_xlfn.SWITCH(INDIRECT(_xlfn.CONCAT($AC$2,S42)),"-","-",0,"-",INDIRECT(_xlfn.CONCAT($AC$2,S42)))} -> - | S42: D91 | T42: - | U42: - | V42: - | W42: - | X42: =HYPERLINK(_xlfn.CONCAT("#'",$AB$1,"'!",Y42),Y42) -> $A$104 | Y42: =A104 -> $A$104
P43: {=INDIRECT(_xlfn.CONCAT($AC$2,Q43))} -> Ref 3 Emissie 4 | Q43: C92 | R43: {=_xlfn.SWITCH(INDIRECT(_xlfn.CONCAT($AC$2,S43)),"-","-",0,"-",INDIRECT(_xlfn.CONCAT($AC$2,S43)))} -> - | S43: D92 | T43: - | U43: - | V43: - | W43: - | X43: =HYPERLINK(_xlfn.CONCAT("#'",$AB$1,"'!",Y43),Y43) -> $A$105 | Y43: =A105 -> $A$105
P44: {=INDIRECT(_xlfn.CONCAT($AC$2,Q44))} -> Ref 3 Emissie 5 | Q44: C93 | R44: {=_xlfn.SWITCH(INDIRECT(_xlfn.CONCAT($AC$2,S44)),"-","-",0,"-",INDIRECT(_xlfn.CONCAT($AC$2,S44)))} -> - | S44: D93 | T44: - | U44: - | V44: - | W44: - | X44: =HYPERLINK(_xlfn.CONCAT("#'",$AB$1,"'!",Y44),Y44) -> $A$106 | Y44: =A106 -> $A$106
P45: {=INDIRECT(_xlfn.CONCAT($AC$2,Q45))} -> Ref 3 Afvalstof 1 | Q45: C94 | R45: {=_xlfn.SWITCH(INDIRECT(_xlfn.CONCAT($AC$2,S45)),"-","-",0,"-",INDIRECT(_xlfn.CONCAT($AC$2,S45)))} -> - | S45: D94 | T45: - | U45: - | V45: - | W45: - | X45: =HYPERLINK(_xlfn.CONCAT("#'",$AB$1,"'!",Y45),Y45) -> $A$107 | Y45: =A107 -> $A$107
P46: {=INDIRECT(_xlfn.CONCAT($AC$2,Q46))} -> Ref 3 Afvalstof 2 | Q46: C95 | R46: {=_xlfn.SWITCH(INDIRECT(_xlfn.CONCAT($AC$2,S46)),"-","-",0,"-",INDIRECT(_xlfn.CONCAT($AC$2,S46)))} -> - | S46: D95 | T46: - | U46: - | V46: - | W46: - | X46: =HYPERLINK(_xlfn.CONCAT("#'",$AB$1,"'!",Y46),Y46) -> $A$108 | Y46: =A108 -> $A$108
P47: {=INDIRECT(_xlfn.CONCAT($AC$2,Q47))} -> Ref 3 Afvalstof 3 | Q47: C96 | R47: {=_xlfn.SWITCH(INDIRECT(_xlfn.CONCAT($AC$2,S47)),"-","-",0,"-",INDIRECT(_xlfn.CONCAT($AC$2,S47)))} -> - | S47: D96 | T47: - | U47: - | V47: - | W47: - | X47: =HYPERLINK(_xlfn.CONCAT("#'",$AB$1,"'!",Y47),Y47) -> $A$109 | Y47: =A109 -> $A$109
P48: {=INDIRECT(_xlfn.CONCAT($AC$2,Q48))} -> Ref 3 Afvalstof 4 | Q48: C97 | R48: {=_xlfn.SWITCH(INDIRECT(_xlfn.CONCAT($AC$2,S48)),"-","-",0,"-",INDIRECT(_xlfn.CONCAT($AC$2,S48)))} -> - | S48: D97 | T48: - | U48: - | V48: - | W48: - | X48: =HYPERLINK(_xlfn.CONCAT("#'",$AB$1,"'!",Y48),Y48) -> $A$110 | Y48: =A110 -> $A$110
P49: {=INDIRECT(_xlfn.CONCAT($AC$2,Q49))} -> Ref 3 Afvalstof 5 | Q49: C98 | R49: {=_xlfn.SWITCH(INDIRECT(_xlfn.CONCAT($AC$2,S49)),"-","-",0,"-",INDIRECT(_xlfn.CONCAT($AC$2,S49)))} -> - | S49: D98 | T49: - | U49: - | V49: - | W49: - | X49: =HYPERLINK(_xlfn.CONCAT("#'",$AB$1,"'!",Y49),Y49) -> $A$111 | Y49: =A111 -> $A$111
P50: {=INDIRECT(_xlfn.CONCAT($AC$2,Q50))} -> Ref 3 Overige BKG emissies | Q50: C99 | R50: {=_xlfn.SWITCH(INDIRECT(_xlfn.CONCAT($AC$2,S50)),"-","-",0,"-",INDIRECT(_xlfn.CONCAT($AC$2,S50)))} -> - | S50: D99 | T50: - | U50: =0 -> 0 | V50: - | W50: - | X50: =HYPERLINK(_xlfn.CONCAT("#'",$AB$1,"'!",Y50),Y50) -> $A$112 | Y50: =A112 -> $A$112
P54: Totale massa product | T54: =SUM(T25:T34) -> 0
C55: Totaal massa | G55: =SUM(G25:G39) -> 0 | M55: Verschil massa | N55: =IFERROR((T55-G55)/(G55+T55),"-") -> - | P55: Totaal massa | T55: =SUM(T25:T50) -> 0
C56: Totaal energie | H56: =SUM(H25:H39) -> 0 | M56: Verschil energie | N56: =IFERROR((U56-H56)/(U56+H56),"-") -> - | P56: Totaal energie | U56: =SUM(U25:U50) -> 0
C57: Totaal Koolstof | I57: =SUMPRODUCT(G25:G39,I25:I39) -> 0 | J57: =SUMPRODUCT(G25:G39,I25:I39,J25:J39) -> 0 | M57: Biogeen koolstof | N57: =IFERROR((W57-J57)/(W57+J57),"-") -> - | P57: Totaal koolstof | V57: =SUMPRODUCT(T25:T50,V25:V50) -> 0 | W57: =SUMPRODUCT(T25:T50,V25:V50,W25:W50) -> 0
C60: Allocatiepercentage
C61: =IFERROR(SUM(T25:T34)/SUM(T25:T39),"-") -> - | E61: Onderbouw indien nodig het allocatiepercentage.
C63: Uitleg verschillen MEB
C64: Beschrijf indien nodig waardoor het verschil in massa of energie ontstaat.
C67: Onderbouwing inkomende stromen
A68: De invulling van dit tabblad is doelbewust open gelaten om vrijheid te geven in de onderbouwing van de massastromen. | C68: Input label | E68: Input naam | G68: Massastroom (ton/uur) | H68: Energiestroom (MWh/uur) | I68: Koolstof-inhoud (%) | J68: Percentage biogene koolstof (%) | K68: Bron | M68: Onderbouw voor elke stroom de gekozen bron | R68: Zo nodig conversieberekening naar benodigde eenheid MEB | W68: Onderbouwing koolstofinhoud | X68: Onderbouwing percentage biogene koolstof
A69: =ADDRESS(ROW(A69),COLUMN(A69),1,1) -> $A$69 | C69: =C25 -> Ref 3 Grondstof 1 | E69: =E25 -> - | G69: =G25 -> - | H69: =H25 -> - | I69: =I25 -> - | J69: =J25 -> - | K69: - | L69: - | M69: - | Q69: - | R69: - | W69: - | X69: -
A70: =ADDRESS(ROW(A70),COLUMN(A70),1,1) -> $A$70 | C70: =C26 -> Ref 3 Grondstof 2 | E70: =E26 -> - | G70: =G26 -> - | H70: =H26 -> - | I70: =I26 -> - | J70: =J26 -> - | K70: - | L70: - | M70: - | Q70: - | R70: - | W70: - | X70: -
A71: =ADDRESS(ROW(A71),COLUMN(A71),1,1) -> $A$71 | C71: =C27 -> Ref 3 Grondstof 3 | E71: =E27 -> - | G71: =G27 -> - | H71: =H27 -> - | I71: =I27 -> - | J71: =J27 -> - | K71: - | L71: - | M71: - | Q71: - | R71: - | W71: - | X71: -
A72: =ADDRESS(ROW(A72),COLUMN(A72),1,1) -> $A$72 | C72: =C28 -> Ref 3 Grondstof 4 | E72: =E28 -> - | G72: =G28 -> - | H72: =H28 -> - | I72: =I28 -> - | J72: =J28 -> - | K72: - | L72: - | M72: - | Q72: - | R72: - | W72: - | X72: -
A73: =ADDRESS(ROW(A73),COLUMN(A73),1,1) -> $A$73 | C73: =C29 -> Ref 3 Grondstof 5 | E73: =E29 -> - | G73: =G29 -> - | H73: =H29 -> - | I73: =I29 -> - | J73: =J29 -> - | K73: - | L73: - | M73: - | Q73: - | R73: - | W73: - | X73: -
A74: =ADDRESS(ROW(A74),COLUMN(A74),1,1) -> $A$74 | C74: =C30 -> Ref 3 Grondstof 6 | E74: =E30 -> - | G74: =G30 -> - | H74: =H30 -> - | I74: =I30 -> - | J74: =J30 -> - | K74: - | L74: - | M74: - | Q74: - | R74: - | W74: - | X74: -
A75: =ADDRESS(ROW(A75),COLUMN(A75),1,1) -> $A$75 | C75: =C31 -> Ref 3 Grondstof 7 | E75: =E31 -> - | G75: =G31 -> - | H75: =H31 -> - | I75: =I31 -> - | J75: =J31 -> - | K75: - | L75: - | M75: - | Q75: - | R75: - | W75: - | X75: -
A76: =ADDRESS(ROW(A76),COLUMN(A76),1,1) -> $A$76 | C76: =C32 -> Ref 3 Grondstof 8 | E76: =E32 -> - | G76: =G32 -> - | H76: =H32 -> - | I76: =I32 -> - | J76: =J32 -> - | K76: - | L76: - | M76: - | Q76: - | R76: - | W76: - | X76: -
A77: =ADDRESS(ROW(A77),COLUMN(A77),1,1) -> $A$77 | C77: =C33 -> Ref 3 Grondstof 9 | E77: =E33 -> - | G77: =G33 -> - | H77: =H33 -> - | I77: =I33 -> - | J77: =J33 -> - | K77: - | L77: - | M77: - | Q77: - | R77: - | W77: - | X77: -
A78: =ADDRESS(ROW(A78),COLUMN(A78),1,1) -> $A$78 | C78: =C34 -> Ref 3 Grondstof 10 | E78: =E34 -> - | G78: =G34 -> - | H78: =H34 -> - | I78: =I34 -> - | J78: =J34 -> - | K78: - | L78: - | M78: - | Q78: - | R78: - | W78: - | X78: -
A79: =ADDRESS(ROW(A79),COLUMN(A79),1,1) -> $A$79 | C79: =C35 -> Ref 3 Energie 1 | E79: =E35 -> - | G79: =G35 -> - | H79: =H35 -> - | I79: =I35 -> - | J79: =J35 -> - | K79: - | L79: - | M79: - | Q79: - | R79: - | W79: - | X79: -
A80: =ADDRESS(ROW(A80),COLUMN(A80),1,1) -> $A$80 | C80: =C36 -> Ref 3 Energie 2 | E80: =E36 -> - | G80: =G36 -> - | H80: =H36 -> - | I80: =I36 -> - | J80: =J36 -> - | K80: - | L80: - | M80: - | Q80: - | R80: - | W80: - | X80: -
... A83: =ADDRESS(ROW(A83),COLUMN(A83),1,1) -> $A$83 | C83: =C39 -> Ref 3 Energie 5 | E83: =E39 -> - | G83: =G39 -> - | H83: =H39 -> - | I83: =I39 -> - | J83: =J39 -> - | K83: - | L83: - | M83: - | Q83: - | R83: - | W83: - | X83: -
C85: Onderbouwing uitgaande stromen
C86: Output label | E86: Output naam | G86: Massastroom (ton/uur) | H86: Energiestroom (MWh/uur) | I86: Koolstof-inhoud (%) | J86: Percentage biogene koolstof (%) | K86: Bron | M86: Onderbouw voor elke stroom de gekozen bron | R86: Zo nodig conversieberekening naar benodigde eenheid MEB | W86: Onderbouwing koolstofinhoud | X86: Onderbouwing percentage biogene koolstof
A87: =ADDRESS(ROW(A87),COLUMN(A87),1,1) -> $A$87 | C87: =P25 -> Ref 3 product 1 | E87: =R25 -> - | G87: =T25 -> - | H87: =U25 -> - | I87: =V25 -> - | J87: =W25 -> - | K87: - | L87: - | M87: - | Q87: - | R87: - | W87: - | X87: -
A88: =ADDRESS(ROW(A88),COLUMN(A88),1,1) -> $A$88 | C88: =P26 -> Ref 3 product 2 | E88: =R26 -> - | G88: =T26 -> - | H88: =U26 -> - | I88: =V26 -> - | J88: =W26 -> - | K88: - | L88: - | M88: - | Q88: - | R88: - | W88: - | X88: -
A89: =ADDRESS(ROW(A89),COLUMN(A89),1,1) -> $A$89 | C89: =P27 -> Ref 3 product 3 | E89: =R27 -> - | G89: =T27 -> - | H89: =U27 -> - | I89: =V27 -> - | J89: =W27 -> - | K89: - | L89: - | M89: - | Q89: - | R89: - | W89: - | X89: -
A90: =ADDRESS(ROW(A90),COLUMN(A90),1,1) -> $A$90 | C90: =P28 -> Ref 3 product 4 | E90: =R28 -> - | G90: =T28 -> - | H90: =U28 -> - | I90: =V28 -> - | J90: =W28 -> - | K90: - | L90: - | M90: - | Q90: - | R90: - | W90: - | X90: -
A91: =ADDRESS(ROW(A91),COLUMN(A91),1,1) -> $A$91 | C91: =P29 -> Ref 3 product 5 | E91: =R29 -> - | G91: =T29 -> - | H91: =U29 -> - | I91: =V29 -> - | J91: =W29 -> - | K91: - | L91: - | M91: - | Q91: - | R91: - | W91: - | X91: -
A92: =ADDRESS(ROW(A92),COLUMN(A92),1,1) -> $A$92 | C92: =P30 -> Ref 3 product 6 | E92: =R30 -> - | G92: =T30 -> - | H92: =U30 -> - | I92: =V30 -> - | J92: =W30 -> - | K92: - | L92: - | M92: - | Q92: - | R92: - | W92: - | X92: -
A93: =ADDRESS(ROW(A93),COLUMN(A93),1,1) -> $A$93 | C93: =P31 -> Ref 3 product 7 | E93: =R31 -> - | G93: =T31 -> - | H93: =U31 -> - | I93: =V31 -> - | J93: =W31 -> - | K93: - | L93: - | M93: - | Q93: - | R93: - | W93: - | X93: -
A94: =ADDRESS(ROW(A94),COLUMN(A94),1,1) -> $A$94 | C94: =P32 -> Ref 3 product 8 | E94: =R32 -> - | G94: =T32 -> - | H94: =U32 -> - | I94: =V32 -> - | J94: =W32 -> - | K94: - | L94: - | M94: - | Q94: - | R94: - | W94: - | X94: -
A95: =ADDRESS(ROW(A95),COLUMN(A95),1,1) -> $A$95 | C95: =P33 -> Ref 3 product 9 | E95: =R33 -> - | G95: =T33 -> - | H95: =U33 -> - | I95: =V33 -> - | J95: =W33 -> - | K95: - | L95: - | M95: - | Q95: - | R95: - | W95: - | X95: -
A96: =ADDRESS(ROW(A96),COLUMN(A96),1,1) -> $A$96 | C96: =P34 -> Ref 3 product 10 | E96: =R34 -> - | G96: =T34 -> - | H96: =U34 -> - | I96: =V34 -> - | J96: =W34 -> - | K96: - | L96: - | M96: - | Q96: - | R96: - | W96: - | X96: -
A97: =ADDRESS(ROW(A97),COLUMN(A97),1,1) -> $A$97 | C97: =P35 -> Ref 3 Co-product 1 | E97: =R35 -> - | G97: =T35 -> - | H97: =U35 -> - | I97: =V35 -> - | J97: =W35 -> - | K97: - | L97: - | M97: - | Q97: - | R97: - | W97: - | X97: -
A98: =ADDRESS(ROW(A98),COLUMN(A98),1,1) -> $A$98 | C98: =P36 -> Ref 3 Co-product 2 | E98: =R36 -> - | G98: =T36 -> - | H98: =U36 -> - | I98: =V36 -> - | J98: =W36 -> - | K98: - | L98: - | M98: - | Q98: - | R98: - | W98: - | X98: -
... A112: =ADDRESS(ROW(A112),COLUMN(A112),1,1) -> $A$112 | C112: =P50 -> Ref 3 Overige BKG emissies | E112: =R50 -> - | G112: =T50 -> - | H112: =U50 -> 0 | I112: =V50 -> - | J112: =W50 -> - | K112: - | L112: - | M112: - | Q112: - | R112: - | W112: - | X112: -
C114: Vrije ruimte voor berekeningen, verdere toelichting en notities

Sheet S5 Emissiefactoren NIKI
C1: Stap 5: CO2-emissies over de levenscyclusfasen bepalen | X1: Legenda | AA1: Naam tab | AB1: =RIGHT(CELL("filename",A1),LEN(CELL("filename",A1))-FIND("]",CELL("filename",A1))) -> S5 Emissiefactoren NIKI
C2: Bepaal de CO2-emissies over de levenscyclusfasen van het NIKI-project (input, proces, verbranding en einde levensduur) | X2: Label | AA2: Verw. S3 NIKI | AB2: ='S3 Grenzen NIKI'!W1 -> S3 Grenzen NIKI | AC2: ="'" & AB2 & "'!" -> 'S3 Grenzen NIKI'!
X3: In te vullen | AA3: Verw. S4 NIKI | AB3: ='S4 MEB NIKI'!AB1 -> S4 MEB NIKI | AC3: ="'" & AB3 & "'!" -> 'S4 MEB NIKI'!
X4: Overname gegevens of berekening
C6: • In dit tabblad vult u de relevante gegevens in om de CO2-emissiefactor te bepalen. De informatie uit de overige tabbladen wordt ter informatie weergegeven, maar wordt niet automatisch door het format gebruikt in de berekening van de emissiefactor. U dient dus zelf te corrigeren voor koolstofinhoud, biogeen koolstof, recycling etc. bij invoer van de emissiefactor.
C7: • Per massastroom vult u een CO2-emissiefactor in en benoemt u de bijbehorende bron.
C8: • Dit tabblad is opgebouwd in 2 gedeeltes. In de bovenste 3 tabellen vult u een emissiefactor en eenheid in voor elke input, procesonderdeel en output.
C9: • In de onderste 3 tabellen vult u een onderbouwing in voor alle emissiefactoren. U onderbouwt bijvoorbeeld de gekozen bron en u laat eventueel zien hoe u een brongetal heeft toegerekend naar de emissiefactoren in ton CO2eq/ton of ton CO2eq/MWh.
C10: • Voor elektriciteit gebruikt u de voorgeschreven emissiefactor. Voor stoom of andere extern aangevoerde warmte gebruikt u de EU ETS warmtebenchmark als emissiefactor (zie hoofdstuk 5.1.3.1 en 5.1.3.2 van de NIKI CO2-emissiereductie methode).
C17: Emissiefactoren inputs
C18: • Voor CO2-emissiefactoren van inputs dient u zelf te corrigeren voor transportemissies van biogene of gerecyclede oorsprong en mogelijke rigide neveneffecten. Denk eraan om een gedegen onderbouwing toe te voegen in de tabel "Onderbouwing emissiefactoren inputs" onderaan op dit tabblad.
C19: • Voor elektriciteit gebruikt u de voorgeschreven emissiefactor. Voor stoom of andere extern aangevoerde warmte gebruikt u de EU ETS warmtebenchmark als emissiefactor (zie hoofdstuk 5.1.3.1 en 5.1.3.2 van de NIKI CO2-emissiereductie methode).
C20: • Voor ingaande stromen die als brandstof worden ingezet in het proces, voert u hier de volledige emissies over de levensduur op (WTW-emissiefactor).
C21: • Voor biogene input: gebruik de emissiefactor incl. teelt, verwerking en transport, maar excl. LULUC en ILUC (verandering in landgebruik). Voor de emissiefactor dient u bij voorkeur en waar mogelijk de emissiefactoren uit de RED II te gebruiken, bijlage V tabel D en E.
C24: Input label | E24: Input naam | G24: Biogeen? | I24: Rigide of elastisch? | K24: Gerecycled? | M24: Koolstof-inhoud (%) | O24: Percentage biogene koolstof (%) | Q24: Emissiefactor (ton CO2eq/ton of ton CO2eq/MWh) | R24: Eenheid emissiefactor | S24: Massastroom (ton/uur) | U24: Energiestroom (MWh/uur) | W24: CO2-emissie (ton CO2eq/uur) | X24: Verwijzing naar onderbouwing
C25: {=INDIRECT(_xlfn.CONCAT($AC$3,D25))} -> NIKI Grondstof 1 | D25: C25 | E25: {=_xlfn.SWITCH(INDIRECT(_xlfn.CONCAT($AC$3,F25)),"-","-",0,"-",INDIRECT(_xlfn.CONCAT($AC$3,F25)))} -> - | F25: E25 | G25: {=_xlfn.SWITCH(INDIRECT(_xlfn.CONCAT($AC$2,H25)),"-","-",0,"-",INDIRECT(_xlfn.CONCAT($AC$2,H25)))} -> - | H25: M25 | I25: {=_xlfn.SWITCH(INDIRECT(_xlfn.CONCAT($AC$2,J25)),"-","-",0,"-",INDIRECT(_xlfn.CONCAT($AC$2,J25)))} -> - | J25: I25 | K25: {=_xlfn.SWITCH(INDIRECT(_xlfn.CONCAT($AC$2,L25)),"-","-",0,"-",INDIRECT(_xlfn.CONCAT($AC$2,L25)))} -> - | L25: O25 | M25: {=_xlfn.SWITCH(INDIRECT(_xlfn.CONCAT($AC$3,N25)),"-","-",0,"-",INDIRECT(_xlfn.CONCAT($AC$3,N25)))} -> - | N25: I25 | O25: {=_xlfn.SWITCH(INDIRECT(_xlfn.CONCAT($AC$3,P25)),"-","-",0,"-",INDIRECT(_xlfn.CONCAT($AC$3,P25)))} -> - | P25: J25 | Q25: - | R25: - | S25: {=_xlfn.SWITCH(INDIRECT(_xlfn.CONCAT($AC$3,T25)),"-","-",0,"-",INDIRECT(_xlfn.CONCAT($AC$3,T25)))} -> - | T25: G25 | U25: {=_xlfn.SWITCH(INDIRECT(_xlfn.CONCAT($AC$3,V25)),"-","-",0,"-",INDIRECT(_xlfn.CONCAT($AC$3,V25)))} -> - | V25: H25 | W25: =IFERROR(IF(R25="ton CO2eq/MWh",U25*Q25,S25*Q25),"-") -> - | X25: =HYPERLINK(_xlfn.CONCAT("#'",$AB$1,"'!",A96),A96) -> $A$96
C26: {=INDIRECT(_xlfn.CONCAT($AC$3,D26))} -> NIKI Grondstof 2 | D26: C26 | E26: {=_xlfn.SWITCH(INDIRECT(_xlfn.CONCAT($AC$3,F26)),"-","-",0,"-",INDIRECT(_xlfn.CONCAT($AC$3,F26)))} -> - | F26: E26 | G26: {=_xlfn.SWITCH(INDIRECT(_xlfn.CONCAT($AC$2,H26)),"-","-",0,"-",INDIRECT(_xlfn.CONCAT($AC$2,H26)))} -> - | H26: M26 | I26: {=_xlfn.SWITCH(INDIRECT(_xlfn.CONCAT($AC$2,J26)),"-","-",0,"-",INDIRECT(_xlfn.CONCAT($AC$2,J26)))} -> - | J26: I26 | K26: {=_xlfn.SWITCH(INDIRECT(_xlfn.CONCAT($AC$2,L26)),"-","-",0,"-",INDIRECT(_xlfn.CONCAT($AC$2,L26)))} -> - | L26: O26 | M26: {=_xlfn.SWITCH(INDIRECT(_xlfn.CONCAT($AC$3,N26)),"-","-",0,"-",INDIRECT(_xlfn.CONCAT($AC$3,N26)))} -> - | N26: I26 | O26: {=_xlfn.SWITCH(INDIRECT(_xlfn.CONCAT($AC$3,P26)),"-","-",0,"-",INDIRECT(_xlfn.CONCAT($AC$3,P26)))} -> - | P26: J26 | Q26: - | R26: - | S26: {=_xlfn.SWITCH(INDIRECT(_xlfn.CONCAT($AC$3,T26)),"-","-",0,"-",INDIRECT(_xlfn.CONCAT($AC$3,T26)))} -> - | T26: G26 | U26: {=_xlfn.SWITCH(INDIRECT(_xlfn.CONCAT($AC$3,V26)),"-","-",0,"-",INDIRECT(_xlfn.CONCAT($AC$3,V26)))} -> - | V26: H26 | W26: =IFERROR(IF(R26="ton CO2eq/MWh",U26*Q26,S26*Q26),"-") -> - | X26: =HYPERLINK(_xlfn.CONCAT("#'",$AB$1,"'!",A97),A97) -> $A$97
C27: {=INDIRECT(_xlfn.CONCAT($AC$3,D27))} -> NIKI Grondstof 3 | D27: C27 | E27: {=_xlfn.SWITCH(INDIRECT(_xlfn.CONCAT($AC$3,F27)),"-","-",0,"-",INDIRECT(_xlfn.CONCAT($AC$3,F27)))} -> - | F27: E27 | G27: {=_xlfn.SWITCH(INDIRECT(_xlfn.CONCAT($AC$2,H27)),"-","-",0,"-",INDIRECT(_xlfn.CONCAT($AC$2,H27)))} -> - | H27: M27 | I27: {=_xlfn.SWITCH(INDIRECT(_xlfn.CONCAT($AC$2,J27)),"-","-",0,"-",INDIRECT(_xlfn.CONCAT($AC$2,J27)))} -> - | J27: I27 | K27: {=_xlfn.SWITCH(INDIRECT(_xlfn.CONCAT($AC$2,L27)),"-","-",0,"-",INDIRECT(_xlfn.CONCAT($AC$2,L27)))} -> - | L27: O27 | M27: {=_xlfn.SWITCH(INDIRECT(_xlfn.CONCAT($AC$3,N27)),"-","-",0,"-",INDIRECT(_xlfn.CONCAT($AC$3,N27)))} -> - | N27: I27 | O27: {=_xlfn.SWITCH(INDIRECT(_xlfn.CONCAT($AC$3,P27)),"-","-",0,"-",INDIRECT(_xlfn.CONCAT($AC$3,P27)))} -> - | P27: J27 | Q27: - | R27: - | S27: {=_xlfn.SWITCH(INDIRECT(_xlfn.CONCAT($AC$3,T27)),"-","-",0,"-",INDIRECT(_xlfn.CONCAT($AC$3,T27)))} -> - | T27: G27 | U27: {=_xlfn.SWITCH(INDIRECT(_xlfn.CONCAT($AC$3,V27)),"-","-",0,"-",INDIRECT(_xlfn.CONCAT($AC$3,V27)))} -> - | V27: H27 | W27: =IFERROR(IF(R27="ton CO2eq/MWh",U27*Q27,S27*Q27),"-") -> - | X27: =HYPERLINK(_xlfn.CONCAT("#'",$AB$1,"'!",A98),A98) -> $A$98
C28: {=INDIRECT(_xlfn.CONCAT($AC$3,D28))} -> NIKI Grondstof 4 | D28: C28 | E28: {=_xlfn.SWITCH(INDIRECT(_xlfn.CONCAT($AC$3,F28)),"-","-",0,"-",INDIRECT(_xlfn.CONCAT($AC$3,F28)))} -> - | F28: E28 | G28: {=_xlfn.SWITCH(INDIRECT(_xlfn.CONCAT($AC$2,H28)),"-","-",0,"-",INDIRECT(_xlfn.CONCAT($AC$2,H28)))} -> - | H28: M28 | I28: {=_xlfn.SWITCH(INDIRECT(_xlfn.CONCAT($AC$2,J28)),"-","-",0,"-",INDIRECT(_xlfn.CONCAT($AC$2,J28)))} -> - | J28: I28 | K28: {=_xlfn.SWITCH(INDIRECT(_xlfn.CONCAT($AC$2,L28)),"-","-",0,"-",INDIRECT(_xlfn.CONCAT($AC$2,L28)))} -> - | L28: O28 | M28: {=_xlfn.SWITCH(INDIRECT(_xlfn.CONCAT($AC$3,N28)),"-","-",0,"-",INDIRECT(_xlfn.CONCAT($AC$3,N28)))} -> - | N28: I28 | O28: {=_xlfn.SWITCH(INDIRECT(_xlfn.CONCAT($AC$3,P28)),"-","-",0,"-",INDIRECT(_xlfn.CONCAT($AC$3,P28)))} -> - | P28: J28 | Q28: - | R28: - | S28: {=_xlfn.SWITCH(INDIRECT(_xlfn.CONCAT($AC$3,T28)),"-","-",0,"-",INDIRECT(_xlfn.CONCAT($AC$3,T28)))} -> - | T28: G28 | U28: {=_xlfn.SWITCH(INDIRECT(_xlfn.CONCAT($AC$3,V28)),"-","-",0,"-",INDIRECT(_xlfn.CONCAT($AC$3,V28)))} -> - | V28: H28 | W28: =IFERROR(IF(R28="ton CO2eq/MWh",U28*Q28,S28*Q28),"-") -> - | X28: =HYPERLINK(_xlfn.CONCAT("#'",$AB$1,"'!",A99),A99) -> $A$99
C29: {=INDIRECT(_xlfn.CONCAT($AC$3,D29))} -> NIKI Grondstof 5 | D29: C29 | E29: {=_xlfn.SWITCH(INDIRECT(_xlfn.CONCAT($AC$3,F29)),"-","-",0,"-",INDIRECT(_xlfn.CONCAT($AC$3,F29)))} -> - | F29: E29 | G29: {=_xlfn.SWITCH(INDIRECT(_xlfn.CONCAT($AC$2,H29)),"-","-",0,"-",INDIRECT(_xlfn.CONCAT($AC$2,H29)))} -> - | H29: M29 | I29: {=_xlfn.SWITCH(INDIRECT(_xlfn.CONCAT($AC$2,J29)),"-","-",0,"-",INDIRECT(_xlfn.CONCAT($AC$2,J29)))} -> - | J29: I29 | K29: {=_xlfn.SWITCH(INDIRECT(_xlfn.CONCAT($AC$2,L29)),"-","-",0,"-",INDIRECT(_xlfn.CONCAT($AC$2,L29)))} -> - | L29: O29 | M29: {=_xlfn.SWITCH(INDIRECT(_xlfn.CONCAT($AC$3,N29)),"-","-",0,"-",INDIRECT(_xlfn.CONCAT($AC$3,N29)))} -> - | N29: I29 | O29: {=_xlfn.SWITCH(INDIRECT(_xlfn.CONCAT($AC$3,P29)),"-","-",0,"-",INDIRECT(_xlfn.CONCAT($AC$3,P29)))} -> - | P29: J29 | Q29: - | R29: - | S29: {=_xlfn.SWITCH(INDIRECT(_xlfn.CONCAT($AC$3,T29)),"-","-",0,"-",INDIRECT(_xlfn.CONCAT($AC$3,T29)))} -> - | T29: G29 | U29: {=_xlfn.SWITCH(INDIRECT(_xlfn.CONCAT($AC$3,V29)),"-","-",0,"-",INDIRECT(_xlfn.CONCAT($AC$3,V29)))} -> - | V29: H29 | W29: =IFERROR(IF(R29="ton CO2eq/MWh",U29*Q29,S29*Q29),"-") -> - | X29: =HYPERLINK(_xlfn.CONCAT("#'",$AB$1,"'!",A100),A100) -> $A$100
C30: {=INDIRECT(_xlfn.CONCAT($AC$3,D30))} -> NIKI Grondstof 6 | D30: C30 | E30: {=_xlfn.SWITCH(INDIRECT(_xlfn.CONCAT($AC$3,F30)),"-","-",0,"-",INDIRECT(_xlfn.CONCAT($AC$3,F30)))} -> - | F30: E30 | G30: {=_xlfn.SWITCH(INDIRECT(_xlfn.CONCAT($AC$2,H30)),"-","-",0,"-",INDIRECT(_xlfn.CONCAT($AC$2,H30)))} -> - | H30: M30 | I30: {=_xlfn.SWITCH(INDIRECT(_xlfn.CONCAT($AC$2,J30)),"-","-",0,"-",INDIRECT(_xlfn.CONCAT($AC$2,J30)))} -> - | J30: I30 | K30: {=_xlfn.SWITCH(INDIRECT(_xlfn.CONCAT($AC$2,L30)),"-","-",0,"-",INDIRECT(_xlfn.CONCAT($AC$2,L30)))} -> - | L30: O30 | M30: {=_xlfn.SWITCH(INDIRECT(_xlfn.CONCAT($AC$3,N30)),"-","-",0,"-",INDIRECT(_xlfn.CONCAT($AC$3,N30)))} -> - | N30: I30 | O30: {=_xlfn.SWITCH(INDIRECT(_xlfn.CONCAT($AC$3,P30)),"-","-",0,"-",INDIRECT(_xlfn.CONCAT($AC$3,P30)))} -> - | P30: J30 | Q30: - | R30: - | S30: {=_xlfn.SWITCH(INDIRECT(_xlfn.CONCAT($AC$3,T30)),"-","-",0,"-",INDIRECT(_xlfn.CONCAT($AC$3,T30)))} -> - | T30: G30 | U30: {=_xlfn.SWITCH(INDIRECT(_xlfn.CONCAT($AC$3,V30)),"-","-",0,"-",INDIRECT(_xlfn.CONCAT($AC$3,V30)))} -> - | V30: H30 | W30: =IFERROR(IF(R30="ton CO2eq/MWh",U30*Q30,S30*Q30),"-") -> - | X30: =HYPERLINK(_xlfn.CONCAT("#'",$AB$1,"'!",A101),A101) -> $A$101
C31: {=INDIRECT(_xlfn.CONCAT($AC$3,D31))} -> NIKI Grondstof 7 | D31: C31 | E31: {=_xlfn.SWITCH(INDIRECT(_xlfn.CONCAT($AC$3,F31)),"-","-",0,"-",INDIRECT(_xlfn.CONCAT($AC$3,F31)))} -> - | F31: E31 | G31: {=_xlfn.SWITCH(INDIRECT(_xlfn.CONCAT($AC$2,H31)),"-","-",0,"-",INDIRECT(_xlfn.CONCAT($AC$2,H31)))} -> - | H31: M31 | I31: {=_xlfn.SWITCH(INDIRECT(_xlfn.CONCAT($AC$2,J31)),"-","-",0,"-",INDIRECT(_xlfn.CONCAT($AC$2,J31)))} -> - | J31: I31 | K31: {=_xlfn.SWITCH(INDIRECT(_xlfn.CONCAT($AC$2,L31)),"-","-",0,"-",INDIRECT(_xlfn.CONCAT($AC$2,L31)))} -> - | L31: O31 | M31: {=_xlfn.SWITCH(INDIRECT(_xlfn.CONCAT($AC$3,N31)),"-","-",0,"-",INDIRECT(_xlfn.CONCAT($AC$3,N31)))} -> - | N31: I31 | O31: {=_xlfn.SWITCH(INDIRECT(_xlfn.CONCAT($AC$3,P31)),"-","-",0,"-",INDIRECT(_xlfn.CONCAT($AC$3,P31)))} -> - | P31: J31 | Q31: - | R31: - | S31: {=_xlfn.SWITCH(INDIRECT(_xlfn.CONCAT($AC$3,T31)),"-","-",0,"-",INDIRECT(_xlfn.CONCAT($AC$3,T31)))} -> - | T31: G31 | U31: {=_xlfn.SWITCH(INDIRECT(_xlfn.CONCAT($AC$3,V31)),"-","-",0,"-",INDIRECT(_xlfn.CONCAT($AC$3,V31)))} -> - | V31: H31 | W31: =IFERROR(IF(R31="ton CO2eq/MWh",U31*Q31,S31*Q31),"-") -> - | X31: =HYPERLINK(_xlfn.CONCAT("#'",$AB$1,"'!",A102),A102) -> $A$102
C32: {=INDIRECT(_xlfn.CONCAT($AC$3,D32))} -> NIKI Grondstof 8 | D32: C32 | E32: {=_xlfn.SWITCH(INDIRECT(_xlfn.CONCAT($AC$3,F32)),"-","-",0,"-",INDIRECT(_xlfn.CONCAT($AC$3,F32)))} -> - | F32: E32 | G32: {=_xlfn.SWITCH(INDIRECT(_xlfn.CONCAT($AC$2,H32)),"-","-",0,"-",INDIRECT(_xlfn.CONCAT($AC$2,H32)))} -> - | H32: M32 | I32: {=_xlfn.SWITCH(INDIRECT(_xlfn.CONCAT($AC$2,J32)),"-","-",0,"-",INDIRECT(_xlfn.CONCAT($AC$2,J32)))} -> - | J32: I32 | K32: {=_xlfn.SWITCH(INDIRECT(_xlfn.CONCAT($AC$2,L32)),"-","-",0,"-",INDIRECT(_xlfn.CONCAT($AC$2,L32)))} -> - | L32: O32 | M32: {=_xlfn.SWITCH(INDIRECT(_xlfn.CONCAT($AC$3,N32)),"-","-",0,"-",INDIRECT(_xlfn.CONCAT($AC$3,N32)))} -> - | N32: I32 | O32: {=_xlfn.SWITCH(INDIRECT(_xlfn.CONCAT($AC$3,P32)),"-","-",0,"-",INDIRECT(_xlfn.CONCAT($AC$3,P32)))} -> - | P32: J32 | Q32: - | R32: - | S32: {=_xlfn.SWITCH(INDIRECT(_xlfn.CONCAT($AC$3,T32)),"-","-",0,"-",INDIRECT(_xlfn.CONCAT($AC$3,T32)))} -> - | T32: G32 | U32: {=_xlfn.SWITCH(INDIRECT(_xlfn.CONCAT($AC$3,V32)),"-","-",0,"-",INDIRECT(_xlfn.CONCAT($AC$3,V32)))} -> - | V32: H32 | W32: =IFERROR(IF(R32="ton CO2eq/MWh",U32*Q32,S32*Q32),"-") -> - | X32: =HYPERLINK(_xlfn.CONCAT("#'",$AB$1,"'!",A103),A103) -> $A$103
C33: {=INDIRECT(_xlfn.CONCAT($AC$3,D33))} -> NIKI Grondstof 9 | D33: C33 | E33: {=_xlfn.SWITCH(INDIRECT(_xlfn.CONCAT($AC$3,F33)),"-","-",0,"-",INDIRECT(_xlfn.CONCAT($AC$3,F33)))} -> - | F33: E33 | G33: {=_xlfn.SWITCH(INDIRECT(_xlfn.CONCAT($AC$2,H33)),"-","-",0,"-",INDIRECT(_xlfn.CONCAT($AC$2,H33)))} -> - | H33: M33 | I33: {=_xlfn.SWITCH(INDIRECT(_xlfn.CONCAT($AC$2,J33)),"-","-",0,"-",INDIRECT(_xlfn.CONCAT($AC$2,J33)))} -> - | J33: I33 | K33: {=_xlfn.SWITCH(INDIRECT(_xlfn.CONCAT($AC$2,L33)),"-","-",0,"-",INDIRECT(_xlfn.CONCAT($AC$2,L33)))} -> - | L33: O33 | M33: {=_xlfn.SWITCH(INDIRECT(_xlfn.CONCAT($AC$3,N33)),"-","-",0,"-",INDIRECT(_xlfn.CONCAT($AC$3,N33)))} -> - | N33: I33 | O33: {=_xlfn.SWITCH(INDIRECT(_xlfn.CONCAT($AC$3,P33)),"-","-",0,"-",INDIRECT(_xlfn.CONCAT($AC$3,P33)))} -> - | P33: J33 | Q33: - | R33: - | S33: {=_xlfn.SWITCH(INDIRECT(_xlfn.CONCAT($AC$3,T33)),"-","-",0,"-",INDIRECT(_xlfn.CONCAT($AC$3,T33)))} -> - | T33: G33 | U33: {=_xlfn.SWITCH(INDIRECT(_xlfn.CONCAT($AC$3,V33)),"-","-",0,"-",INDIRECT(_xlfn.CONCAT($AC$3,V33)))} -> - | V33: H33 | W33: =IFERROR(IF(R33="ton CO2eq/MWh",U33*Q33,S33*Q33),"-") -> - | X33: =HYPERLINK(_xlfn.CONCAT("#'",$AB$1,"'!",A104),A104) -> $A$104
C34: {=INDIRECT(_xlfn.CONCAT($AC$3,D34))} -> NIKI Grondstof 10 | D34: C34 | E34: {=_xlfn.SWITCH(INDIRECT(_xlfn.CONCAT($AC$3,F34)),"-","-",0,"-",INDIRECT(_xlfn.CONCAT($AC$3,F34)))} -> - | F34: E34 | G34: {=_xlfn.SWITCH(INDIRECT(_xlfn.CONCAT($AC$2,H34)),"-","-",0,"-",INDIRECT(_xlfn.CONCAT($AC$2,H34)))} -> - | H34: M34 | I34: {=_xlfn.SWITCH(INDIRECT(_xlfn.CONCAT($AC$2,J34)),"-","-",0,"-",INDIRECT(_xlfn.CONCAT($AC$2,J34)))} -> - | J34: I34 | K34: {=_xlfn.SWITCH(INDIRECT(_xlfn.CONCAT($AC$2,L34)),"-","-",0,"-",INDIRECT(_xlfn.CONCAT($AC$2,L34)))} -> - | L34: O34 | M34: {=_xlfn.SWITCH(INDIRECT(_xlfn.CONCAT($AC$3,N34)),"-","-",0,"-",INDIRECT(_xlfn.CONCAT($AC$3,N34)))} -> - | N34: I34 | O34: {=_xlfn.SWITCH(INDIRECT(_xlfn.CONCAT($AC$3,P34)),"-","-",0,"-",INDIRECT(_xlfn.CONCAT($AC$3,P34)))} -> - | P34: J34 | Q34: - | R34: - | S34: {=_xlfn.SWITCH(INDIRECT(_xlfn.CONCAT($AC$3,T34)),"-","-",0,"-",INDIRECT(_xlfn.CONCAT($AC$3,T34)))} -> - | T34: G34 | U34: {=_xlfn.SWITCH(INDIRECT(_xlfn.CONCAT($AC$3,V34)),"-","-",0,"-",INDIRECT(_xlfn.CONCAT($AC$3,V34)))} -> - | V34: H34 | W34: =IFERROR(IF(R34="ton CO2eq/MWh",U34*Q34,S34*Q34),"-") -> - | X34: =HYPERLINK(_xlfn.CONCAT("#'",$AB$1,"'!",A105),A105) -> $A$105
C35: {=INDIRECT(_xlfn.CONCAT($AC$3,D35))} -> NIKI Energie 1 | D35: C35 | E35: {=_xlfn.SWITCH(INDIRECT(_xlfn.CONCAT($AC$3,F35)),"-","-",0,"-",INDIRECT(_xlfn.CONCAT($AC$3,F35)))} -> - | F35: E35 | G35: {=_xlfn.SWITCH(INDIRECT(_xlfn.CONCAT($AC$2,H35)),"-","-",0,"-",INDIRECT(_xlfn.CONCAT($AC$2,H35)))} -> - | H35: M35 | I35: {=_xlfn.SWITCH(INDIRECT(_xlfn.CONCAT($AC$2,J35)),"-","-",0,"-",INDIRECT(_xlfn.CONCAT($AC$2,J35)))} -> - | J35: I35 | K35: {=INDIRECT(_xlfn.CONCAT($AC$2,L35))} -> Nee | L35: O35 | M35: {=_xlfn.SWITCH(INDIRECT(_xlfn.CONCAT($AC$3,N35)),"-","-",0,"-",INDIRECT(_xlfn.CONCAT($AC$3,N35)))} -> - | N35: I35 | O35: {=_xlfn.SWITCH(INDIRECT(_xlfn.CONCAT($AC$3,P35)),"-","-",0,"-",INDIRECT(_xlfn.CONCAT($AC$3,P35)))} -> - | P35: J35 | Q35: - | R35: - | S35: {=_xlfn.SWITCH(INDIRECT(_xlfn.CONCAT($AC$3,T35)),"-","-",0,"-",INDIRECT(_xlfn.CONCAT($AC$3,T35)))} -> - | T35: G35 | U35: {=_xlfn.SWITCH(INDIRECT(_xlfn.CONCAT($AC$3,V35)),"-","-",0,"-",INDIRECT(_xlfn.CONCAT($AC$3,V35)))} -> - | V35: H35 | W35: =IFERROR(IF(R35="ton CO2eq/MWh",U35*Q35,S35*Q35),"-") -> - | X35: =HYPERLINK(_xlfn.CONCAT("#'",$AB$1,"'!",A106),A106) -> $A$106
C36: {=INDIRECT(_xlfn.CONCAT($AC$3,D36))} -> NIKI Energie 2 | D36: C36 | E36: {=_xlfn.SWITCH(INDIRECT(_xlfn.CONCAT($AC$3,F36)),"-","-",0,"-",INDIRECT(_xlfn.CONCAT($AC$3,F36)))} -> - | F36: E36 | G36: {=_xlfn.SWITCH(INDIRECT(_xlfn.CONCAT($AC$2,H36)),"-","-",0,"-",INDIRECT(_xlfn.CONCAT($AC$2,H36)))} -> - | H36: M36 | I36: {=_xlfn.SWITCH(INDIRECT(_xlfn.CONCAT($AC$2,J36)),"-","-",0,"-",INDIRECT(_xlfn.CONCAT($AC$2,J36)))} -> - | J36: I36 | K36: {=INDIRECT(_xlfn.CONCAT($AC$2,L36))} -> Nee | L36: O36 | M36: {=_xlfn.SWITCH(INDIRECT(_xlfn.CONCAT($AC$3,N36)),"-","-",0,"-",INDIRECT(_xlfn.CONCAT($AC$3,N36)))} -> - | N36: I36 | O36: {=_xlfn.SWITCH(INDIRECT(_xlfn.CONCAT($AC$3,P36)),"-","-",0,"-",INDIRECT(_xlfn.CONCAT($AC$3,P36)))} -> - | P36: J36 | Q36: - | R36: - | S36: {=_xlfn.SWITCH(INDIRECT(_xlfn.CONCAT($AC$3,T36)),"-","-",0,"-",INDIRECT(_xlfn.CONCAT($AC$3,T36)))} -> - | T36: G36 | U36: {=_xlfn.SWITCH(INDIRECT(_xlfn.CONCAT($AC$3,V36)),"-","-",0,"-",INDIRECT(_xlfn.CONCAT($AC$3,V36)))} -> - | V36: H36 | W36: =IFERROR(IF(R36="ton CO2eq/MWh",U36*Q36,S36*Q36),"-") -> - | X36: =HYPERLINK(_xlfn.CONCAT("#'",$AB$1,"'!",A107),A107) -> $A$107
C37: {=INDIRECT(_xlfn.CONCAT($AC$3,D37))} -> NIKI Energie 3 | D37: C37 | E37: {=_xlfn.SWITCH(INDIRECT(_xlfn.CONCAT($AC$3,F37)),"-","-",0,"-",INDIRECT(_xlfn.CONCAT($AC$3,F37)))} -> - | F37: E37 | G37: {=_xlfn.SWITCH(INDIRECT(_xlfn.CONCAT($AC$2,H37)),"-","-",0,"-",INDIRECT(_xlfn.CONCAT($AC$2,H37)))} -> - | H37: M37 | I37: {=_xlfn.SWITCH(INDIRECT(_xlfn.CONCAT($AC$2,J37)),"-","-",0,"-",INDIRECT(_xlfn.CONCAT($AC$2,J37)))} -> - | J37: I37 | K37: {=INDIRECT(_xlfn.CONCAT($AC$2,L37))} -> Nee | L37: O37 | M37: {=_xlfn.SWITCH(INDIRECT(_xlfn.CONCAT($AC$3,N37)),"-","-",0,"-",INDIRECT(_xlfn.CONCAT($AC$3,N37)))} -> - | N37: I37 | O37: {=_xlfn.SWITCH(INDIRECT(_xlfn.CONCAT($AC$3,P37)),"-","-",0,"-",INDIRECT(_xlfn.CONCAT($AC$3,P37)))} -> - | P37: J37 | Q37: - | R37: - | S37: {=_xlfn.SWITCH(INDIRECT(_xlfn.CONCAT($AC$3,T37)),"-","-",0,"-",INDIRECT(_xlfn.CONCAT($AC$3,T37)))} -> - | T37: G37 | U37: {=_xlfn.SWITCH(INDIRECT(_xlfn.CONCAT($AC$3,V37)),"-","-",0,"-",INDIRECT(_xlfn.CONCAT($AC$3,V37)))} -> - | V37: H37 | W37: =IFERROR(IF(R37="ton CO2eq/MWh",U37*Q37,S37*Q37),"-") -> - | X37: =HYPERLINK(_xlfn.CONCAT("#'",$AB$1,"'!",A108),A108) -> $A$108
C38: {=INDIRECT(_xlfn.CONCAT($AC$3,D38))} -> NIKI Energie 4 | D38: C38 | E38: {=_xlfn.SWITCH(INDIRECT(_xlfn.CONCAT($AC$3,F38)),"-","-",0,"-",INDIRECT(_xlfn.CONCAT($AC$3,F38)))} -> - | F38: E38 | G38: {=_xlfn.SWITCH(INDIRECT(_xlfn.CONCAT($AC$2,H38)),"-","-",0,"-",INDIRECT(_xlfn.CONCAT($AC$2,H38)))} -> - | H38: M38 | I38: {=_xlfn.SWITCH(INDIRECT(_xlfn.CONCAT($AC$2,J38)),"-","-",0,"-",INDIRECT(_xlfn.CONCAT($AC$2,J38)))} -> - | J38: I38 | K38: {=INDIRECT(_xlfn.CONCAT($AC$2,L38))} -> Nee | L38: O38 | M38: {=_xlfn.SWITCH(INDIRECT(_xlfn.CONCAT($AC$3,N38)),"-","-",0,"-",INDIRECT(_xlfn.CONCAT($AC$3,N38)))} -> - | N38: I38 | O38: {=_xlfn.SWITCH(INDIRECT(_xlfn.CONCAT($AC$3,P38)),"-","-",0,"-",INDIRECT(_xlfn.CONCAT($AC$3,P38)))} -> - | P38: J38 | Q38: - | R38: - | S38: {=_xlfn.SWITCH(INDIRECT(_xlfn.CONCAT($AC$3,T38)),"-","-",0,"-",INDIRECT(_xlfn.CONCAT($AC$3,T38)))} -> - | T38: G38 | U38: {=_xlfn.SWITCH(INDIRECT(_xlfn.CONCAT($AC$3,V38)),"-","-",0,"-",INDIRECT(_xlfn.CONCAT($AC$3,V38)))} -> - | V38: H38 | W38: =IFERROR(IF(R38="ton CO2eq/MWh",U38*Q38,S38*Q38),"-") -> - | X38: =HYPERLINK(_xlfn.CONCAT("#'",$AB$1,"'!",A109),A109) -> $A$109
C39: {=INDIRECT(_xlfn.CONCAT($AC$3,D39))} -> NIKI Energie 5 | D39: C39 | E39: {=_xlfn.SWITCH(INDIRECT(_xlfn.CONCAT($AC$3,F39)),"-","-",0,"-",INDIRECT(_xlfn.CONCAT($AC$3,F39)))} -> - | F39: E39 | G39: {=_xlfn.SWITCH(INDIRECT(_xlfn.CONCAT($AC$2,H39)),"-","-",0,"-",INDIRECT(_xlfn.CONCAT($AC$2,H39)))} -> - | H39: M39 | I39: {=_xlfn.SWITCH(INDIRECT(_xlfn.CONCAT($AC$2,J39)),"-","-",0,"-",INDIRECT(_xlfn.CONCAT($AC$2,J39)))} -> - | J39: I39 | K39: {=INDIRECT(_xlfn.CONCAT($AC$2,L39))} -> Nee | L39: O39 | M39: {=_xlfn.SWITCH(INDIRECT(_xlfn.CONCAT($AC$3,N39)),"-","-",0,"-",INDIRECT(_xlfn.CONCAT($AC$3,N39)))} -> - | N39: I39 | O39: {=_xlfn.SWITCH(INDIRECT(_xlfn.CONCAT($AC$3,P39)),"-","-",0,"-",INDIRECT(_xlfn.CONCAT($AC$3,P39)))} -> - | P39: J39 | Q39: - | R39: - | S39: {=_xlfn.SWITCH(INDIRECT(_xlfn.CONCAT($AC$3,T39)),"-","-",0,"-",INDIRECT(_xlfn.CONCAT($AC$3,T39)))} -> - | T39: G39 | U39: {=_xlfn.SWITCH(INDIRECT(_xlfn.CONCAT($AC$3,V39)),"-","-",0,"-",INDIRECT(_xlfn.CONCAT($AC$3,V39)))} -> - | V39: H39 | W39: =IFERROR(IF(R39="ton CO2eq/MWh",U39*Q39,S39*Q39),"-") -> - | X39: =HYPERLINK(_xlfn.CONCAT("#'",$AB$1,"'!",A110),A110) -> $A$110
C41: Totalen | S41: =SUM(S25:S39) -> 0 | U41: =SUM(U25:U39) -> 0 | W41: =SUM(W25:W39) -> 0
C43: Emissiefactoren proces
C44: • Emissiefactoren van productieprocesemissies corrigeert u voor biogene inhoud en langetermijn koolstofopslag indien van toepassing en niet reeds opgenomen in de emissiefactor uit de bron.
C45: • Voor CO2-uitstoot door verbranding van ingaande brandstofstromen voert u hier de emissiefactor 0 voor de CO2-emissies op. Deze emissies worden al meegenomen in de WTW-emissiefactor van de ingaande brandstof.
C46: • Voor proces-CO2 voert u hier de emissiefactor 1 ton CO2eq/ton op.
C50: Output label | E50: Output naam | G50: Biogeen? | I50: n.v.t. | K50: Type einde levensduur emissie | M50: Koolstof-inhoud (%) | O50: Percentage biogene koolstof (%) | Q50: Emissiefactor (ton CO2eq/ton of ton CO2eq/MWh) | R50: Eenheid emissiefactor | S50: Massastroom (ton/uur) | U50: Energiestroom (MWh/uur) | W50: CO2-emissie (ton CO2eq/uur) | X50: Verwijzing naar onderbouwing
C51: {=INDIRECT(_xlfn.CONCAT($AC$3,D51))} -> NIKI Emissie 1 | D51: P40 | E51: {=_xlfn.SWITCH(INDIRECT(_xlfn.CONCAT($AC$3,F51)),"-","-",0,"-",INDIRECT(_xlfn.CONCAT($AC$3,F51)))} -> - | F51: R40 | G51: {=_xlfn.SWITCH(INDIRECT(_xlfn.CONCAT($AC$2,H51)),"-","-",0,"-",INDIRECT(_xlfn.CONCAT($AC$2,H51)))} -> - | H51: Q89 | K51: {=INDIRECT(_xlfn.CONCAT($AC$2,L51))} -> Verbranding | L51: N89 | M51: {=_xlfn.SWITCH(INDIRECT(_xlfn.CONCAT($AC$3,N51)),"-","-",0,"-",INDIRECT(_xlfn.CONCAT($AC$3,N51)))} -> - | N51: V40 | O51: {=_xlfn.SWITCH(INDIRECT(_xlfn.CONCAT($AC$3,P51)),"-","-",0,"-",INDIRECT(_xlfn.CONCAT($AC$3,P51)))} -> - | P51: W40 | Q51: - | R51: - | S51: {=_xlfn.SWITCH(INDIRECT(_xlfn.CONCAT($AC$3,T51)),"-","-",0,"-",INDIRECT(_xlfn.CONCAT($AC$3,T51)))} -> - | T51: T40 | U51: {=_xlfn.SWITCH(INDIRECT(_xlfn.CONCAT($AC$3,V51)),"-","-",0,"-",INDIRECT(_xlfn.CONCAT($AC$3,V51)))} -> - | V51: U40 | W51: =IFERROR(IF(R51="ton CO2eq/MWh",U51*Q51,S51*Q51),"-") -> - | X51: =HYPERLINK(_xlfn.CONCAT("#'",$AB$1,"'!",A114),A114) -> $A$114
