Workbook
Name List_Eenheid: Lists!$J$15:$J$17
Name List_EF_Eenheid: Lists!$F$3:$F$5
Name List_Eff_PosNeg: Lists!$H$15:$H$17
Name List_EoL: Lists!$D$15:$D$17
Name List_EoL_Type: Lists!$F$15:$F$20
Name List_FunctieNIKI: Lists!$D$3:$D$8
Name List_JaNee: Lists!$B$3:$B$5
Name List_JaNeeGed: Lists!$B$15:$B$18
Name List_RefProc_Hier: Lists!$L$3:$L$7
Name List_RefProc_Nr: Lists!$J$3:$J$6
Name List_RigEl: Lists!$N$3:$N$5
Name List_StdEF_Bron: Lists!$H$3:$H$6

Sheet Leeswijzer
B1: NIKI rekenmodel CO2-emissiereductie | D1: Legenda | G1: =RIGHT(CELL("filename",A1),LEN(CELL("filename",A1))-FIND("]",CELL("filename",A1))) -> Leeswijzer
B2: Leeswijzer | D2: Label | I2: Instructies opschalen tooling
D3: In te vullen | I3: Stappen voor de toevoeging van referentieprocessen
D4: Overname gegevens of berekening | I4: Stap | J4: Tabblad
B7: Basisinformatie aanvraag | I7: 1 | J7: Lists (verborgen tabblad) | K7: Breidt de lijst met toegelaten referentienummers uit. Pas op tabblad 'Lists' de variabele 'List_RefProc_Nr' aan.
B8: Aanvraagnummer NIKI | C8: - | K8: Voeg extra nummers toe in het tabblad en pas het bereik van de variabele aan via het Excel-lint Formules>Gedefinieerde namen>Namen beheren .
B9: Projectnaam | C9: - | I9: 2 | J9: S2 Def Referentie | K9: Voeg in de tabel vanaf regel 54 nieuwe regels in voor de nieuwe referentieprocessen.
B10: Naam aanvrager | C10: - | I10: 3 | J10: S2 Def Referentie | K10: Breid de tabellen in kolommen O-W uit. Hieruit worden de referentieproducten onderverdeeld onder de referenties.
B11: Start exploitatie | C11: - | I11: 4 | J11: S2 Def Referentie | K11: Breid de tabel voor RVO emissiewaarden uit in kolommen X-AG
I12: 5 | J12: S3 Grenzen Ref | K12: Kopieer het tabblad 'S3 Grenzen Ref' en geef het tabblad het correcte nummer. Pas de naam in rij 2 aan.
B13: Omschrijving NIKI-project | I13: 6 | J13: S3 Grenzen Ref | K13: Pas de verwijzingsgetallen in kolom E van de onderste tabel aan zodat de juiste waarden uit 'S2 Def Referentie' worden gebruikt. Pas de namen van de in- en outputs in kolom C aan.
B14: Geef een korte samenvatting van het NIKI-project. | I14: 7 | J14: S4 MEB Ref | K14: Kopieer het tabblad 'S4 MEB Ref' en geef het tabblad het correcte nummer. Pas de naam in rij 2 aan.
I15: 8 | J15: S4 MEB Ref | K15: Pas cel AG2 aan naar de het correcte S3 grenzen Ref tabblad
B16: • Het voorliggende NIKI rekenmodel CO2-emissiereductie gebruikt u om de CO2-emissiereductie van een NIKI-project te berekenen. Om dit te doen volgt u de 7 stappen van de NIKI CO2-emissiereductie methode, met behulp van het NIKI rekenmodel CO2-emissiereductie. | I16: 9 | J16: S5 Emissiefactoren Ref | K16: Kopieer het tabblad 'S5 Emissiefactoren Ref' en geef het tabblad het correcte nummer. Pas de naam in rij 2 aan.
B17: • U bent verplicht om voor uw NIKI-aanvraag gebruik te maken van het NIKI rekenmodel CO2-emissiereductie. Bij onduidelijkheden zijn de instructies in de NIKI CO2-emissiereductiemethode leidend boven het NIKI rekenmodel CO2-emissiereductie. | I17: 10 | J17: S5 Emissiefactoren Ref | K17: Pas cellen AC8 en AC9 aan naar de correcte tabbladen 'S3 grenzen Ref' en 'S4 MEB Ref'.
B18: • Lees voor het invullen altijd eerst de instructies op het tabblad aandachtig door om fouten te voorkomen. | I18: 11 | J18: S6 Berekening Emissiereductie | K18: Kopieer de tabel voor de berekening van de referentie-emissies, incl. de 3 rijen boven de tabel (eerst zichtbaar maken). Pas de naam in de tabeltitel aan.
B19: • U heeft op elk tabblad de mogelijkheid om eigen berekeningen toe te voegen en toe te lichten, als u op basis van de NIKI CO2-emissiereductiemethode data of tussenstappen moet toepassen die niet precies in het NIKI rekenmodel CO2-emissiereductie passen. Maak hier gebruik van, zodat RVO uw berekening goed kan begrijpen. | I19: 12 | J19: S6 Berekening Emissiereductie | K19: Pas in de gele velden de juiste verwijzingen aan naar het tabblad Emissiefactoren Ref
B20: • Waar nodig is het mogelijk om gebruikte data verder te onderbouwen met behulp van bijlagen. Deze kunt u samen met uw aanvraag indienen. Vermeld altijd duidelijk om welke bijlage het gaat, en wat u met behulp van de bijlage wilt onderbouwen. | K20: Zoek en vervang in de nieuwe tabel alle verwijzingen naar de cel met 'S5 Emissiefactoren Ref x' die boven de oude tabel staat
K21: Pas in de tabel met de massa-allocatie de verwijzingen in kolom T aan naar de juiste kolom in S2 Def Referentie
I22: 15 | J22: S6 Berekening Emissiereductie | K22: Breid de tabel in cellen B51:P53 uit om de referentie-emissies mee te nemen.
B23: Stappen in NIKI CO2-emissiereductiemethode en NIKI CO2-tool | K23: Pas de formule in cel T49 aan om de nieuwe referenties mee te nemen in de sommatie.
B24: Stap | C24: Tabbladen | D24: Toelichting | I24: 16 | J24: Alle | K24: Hide alle rijen en kolommen weer
B25: Stap 1: Product bepalen | C25: S1 NIKI-producten | D25: Bepaal de NIKI-producten
B26: Stap 2: Referentie bepalen | C26: S2 Def Referentie | D26: Bepaal de referentieproducten die vervangen worden door elk NIKI-product
B27: Stap 3: Systeem- en procesgrenzen | C27: S3 Grenzen NIKI | D27: Bepaal systeem- en procesgrenzen van het NIKI-project
C28: S3 Grenzen Ref 1 | D28: Bepaal systeem- en procesgrenzen van een referentie productieproces
C29: S3 Grenzen Ref 2
C30: S3 Grenzen Ref 3 | J30: Notities hoe de Excel is opgebouwd:
B31: Stap 4: Massa- en energiebalansen bepalen | C31: S4 MEB NIKI | D31: Bepaal de massa- en energiebalansen (MEB) van het NIKI productieproces (inputs, producten, afval- en reststromen en directe emissies) | J31: De eerste rij van tabellen (inhoud) begint altijd in rij 25 van het tabblad. Overbodige rijen daarboven worden verborgen.
C32: S4 MEB Ref 1 | D32: Bepaal de massa- en energiebalansen (MEB) van een referentie productieproces (inputs, producten, co-producten, afvalstromen en directe emissies) | J32: De excel is van voren naar achteren opgebouwd (links naar rechts). Volgende tabbladen verwijzen steeds naar voor de labels en namen naar tabbladen daarvoor.
C33: S4 MEB Ref 2 | J33: De verwijzing gebeurd via een "indirect" functie.
C34: S4 MEB Ref 3 | J34: Verwijzingscellen zijn altijd in kolommen die verborgen zijn. Voor aanpassingen maak altijd eerst alle kolommen zichtbaar.
B35: Stap 5: CO2-emissies over de levenscyclusfasen bepalen | C35: S5 Emissiefactoren NIKI | D35: Bepaal de CO2-emissies over de levenscyclus fasen van het NIKI-project (input, proces, verbranding en einde levensduur) | J35: Indirecte verwijzing gebeurd via een verwijzing naar een tabblad: ergens rechts in het verborgen stuk vindt je een cel met daarin iets als 'S1 NIKI-producten'! De inhoud van die cel ziet eruit als ="'" & AB23 & "'!". Dit is de verwijzing naar het tabblad. Vervolgens is er in een verborgen kolom een celnaam opgenomen. Samen vormt dit de verwijzing naar de cel in een ander tabblad.
C36: S5 Emissiefactoren Ref 1 | D36: Bepaal de CO2-emissies over de levenscyclus fasen van een referentie productieproces (input, proces, verbranding en einde levensduur) | J36: Reden voor deze werkwijze is het kunnen vermeerderen van de tabbladen voor meer referenties. Als er een extra referentie moet komen, volg bovenstaande instructie. De indirect maakt dit mogelijk.
C37: S5 Emissiefactoren Ref 2 | J37: Door alle tabellen in rij 25 te laten beginnen, is dit op elk tabblad de rij waarnaar je verwijst, waardoor het makkelijk aanpasbaar is.
C38: S5 Emissiefactoren Ref 3 | J38: Let op, als er meer producten of grondstoffen oid nodig zijn is hier mogelijk ook aanpassing in nodig.
B39: Stap 6: Berekening totale CO2-emissiereductie | C39: S6 Emissiereductie | D39: Bepaal de totale CO2-emissiereductie van het NIKI-project gedurende de exploitatiefase
B40: Stap 7: Controle op negatieve neveneffecten | C40: S7 Neveneffecten | D40: Controleer of negatieve neveneffecten de emissiereductie overschrijden

Sheet S1 NIKI-producten
C1: Stap 1: Product bepalen | H1: Legenda | K1: Naam tab | L1: =RIGHT(CELL("filename",C1),LEN(CELL("filename",C1))-FIND("]",CELL("filename",C1))) -> S1 NIKI-producten
C2: Bepaal de NIKI-producten | H2: Label
H3: In te vullen
A4: In dit tabblad voert u stap 1 van de CO2 emissiereductie methode uit. U specificeert de beoogde NIKI-producten en beschrijft of het NIKI product in de CO2 emissiereductie methode gestelde eisen voldoet. | H4: Overname gegevens of berekening
C6: • Bepaal op basis van de voorwaarden van NIKI CO2-emissiereductiemethode welke producten uit het NIKI-project in aanmerking komen.
C7: • Zie stap 1 in de NIKI CO2-emissiereductiemethode voor de eisen aan NIKI-producten.
C8: • Eén van de eisen is dat een NIKI-product economisch verhandelbaar moet zijn, dit houdt in dat het product potentieel fysiek getransporteerd kan worden naar afnemers op de markt.
C9: • U bepaalt NIKI-producten zodanig, dat ze samen ten minste 90% van de uitgaande massastroom vormen die een economische waarde heeft.
C10: • Overige product(en) worden als restfractie(s) beschouwd. Ter controle van het 90% criterium kunt u het MEB NIKI tabblad gebruiken in stap 4.
C11: • Heeft u meerdere referentieproducten voor één NIKI-product? Bijvoorbeeld omdat uw NIKI-product meerdere toepassingen heeft met verschillende referenties? Voeg dan het NIKI-product meerdere keren toe en wijs aan ieder product een andere referentie toe. Let op dat u de NIKI-producten in dat geval een unieke naam geeft, bijvoorbeeld Olie_1, Olie_2.
C12: • Vul ook de groene velden in voor alle overige stromen die geen NIKI-product zijn.
C24: Productlabel | D24: Naam product | E24: Functie NIKI-product | F24: Is het product verhandelbaar? | G24: Onderbouwing wel/niet verhandelbaar | H24: Omschrijving van het product of compositie/ fysische eigenschappen
C25: NIKI Product 1 | D25: - | E25: - | F25: - | G25: - | H25: -
C26: NIKI Product 2 | D26: - | E26: - | F26: - | G26: - | H26: -
C27: NIKI Product 3 | D27: - | E27: - | F27: - | G27: - | H27: -
C28: NIKI Product 4 | D28: - | E28: - | F28: - | G28: - | H28: -
C29: NIKI Product 5 | D29: - | E29: - | F29: - | G29: - | H29: -
C30: NIKI Product 6 | D30: - | E30: - | F30: - | G30: - | H30: -
C31: NIKI Product 7 | D31: - | E31: - | F31: - | G31: - | H31: -
C32: NIKI Product 8 | D32: - | E32: - | F32: - | G32: - | H32: -
C33: NIKI Product 9 | D33: - | E33: - | F33: - | G33: - | H33: -
C34: NIKI Product 10 | D34: - | E34: - | F34: - | G34: - | H34: -
C35: NIKI Restfractie 1 | D35: - | E35: - | F35: - | G35: - | H35: -
... C50: NIKI Overige BKG emissies | D50: - | E50: - | F50: Nee | G50: - | H50: -
C52: Omschrijving van de NIKI-producten
C53: Omschrijf en onderbouw waarom de NIKI-producten voldoen aan de in de NIKI CO2-emissiereductie methode gestelde eisen voor NIKI-producten.
C55: Vrije ruimte voor berekeningen, verdere toelichting en notities

Sheet S2 Def Referentie
B1: Stap 2: Referentie bepalen | L1: Legenda | O1: Naam tab | P1: =RIGHT(CELL("filename",B1),LEN(CELL("filename",B1))-FIND("]",CELL("filename",B1))) -> S2 Def Referentie
B2: Bepaal de referentieproducten die vervangen worden door elk NIKI-product | L2: Label | O2: Ref S1 | P2: ='S1 NIKI-producten'!L1 -> S1 NIKI-producten | Q2: ="'" & P2 & "'!" -> 'S1 NIKI-producten'!
L3: In te vullen
L4: Overname gegevens of berekening
B6: • Ken aan ieder NIKI-product een referentieproduct toe.
B7: • Geef aan of het referentieproduct fysiek identiek is aan het NIKI-product, zoals beschreven in stap 2 van de NIKI CO2-emissiereductiemethode. Onderbouw uw antwoord.
B8: • Vul per referentieproduct een correctiefactor in, zoals beschreven in stap 2 van de NIKI CO2-emissiereductiemethode. Onderbouw elke correctiefactor.
B9: • De correctiefactor is 1 kg NIKI-product per kg referentieproduct als het het referentieproduct fysiek identiek is aan het NIKI product. Vul in dat geval 1 in.
B10: • De correctiefactor wordt in stap 6 automatisch toegepast in de berekening van de totale emissiereductie. Let er dus op dat u de massa- en energiebalans van het referentieproces niet wijzigt om te corrigeren voor verschil in functie tussen het referentieproduct en het NIKI-product. Deze correctie wordt volledig gedaan door de correctiefactor.
B11: • Heeft u meerdere referentieproducten voor één NIKI-product? Bijvoorbeeld omdat uw NIKI-product meerdere toepassingen heeft met verschillende referenties? Voeg dan op tab S1 het NIKI-product meerdere keren toe en wijs aan ieder product een andere referentie toe. Let op dat u de NIKI-producten in dat geval een unieke naam geeft, bijvoorbeeld Olie_1, Olie_2.
B12: • U kunt gebruik maken van de ruimte onderaan het tabblad om berekeningen ter onderbouwing toe te voegen. Verwijs in de betreffende tabel naar de cellen waarin de berekening staat. | O12: NIKI-producten linken aan referentieproducten | AK12: Lijst met alle NIKI-product met een standaard emissiefactor en hun emissiefactoren
O20: (Naam referentieproduct) | X20: (Naam referentieproduct)
O21: Stap 1: Maak nieuwe lijsten met whitespaces | X21: Stap 2: Verwijder whitespaces | AK21: Stap 1: Maak nieuwe lijsten met whitespaces | AQ21: Stap 2: Verwijder whitespaces
O23: Referentieproces --> | Y23: Referentieproces --> | AL23: EF beschikbaar? | AM23: =Lists!$B$3 -> Ja
B24: Productlabel | C24: VERW | D24: NIKI-product | E24: VERW | F24: Functie NIKI-product | G24: VERW | H24: Referentieproduct | I24: Is het product fysiek identiek? | J24: Onderbouwing fysiek identiek | K24: Correctiefactor (kg NIKI-product/kg ref product) | L24: Onderbouwing correctiefactor | O24: 1 | P24: 2 | Q24: 3 | R24: 4 | S24: 5 | T24: 6 | U24: 7 | V24: 8 | W24: 9 | Y24: 1 | Z24: 2 | AA24: 3 | AB24: 4 | AC24: 5 | AD24: 6 | AE24: 7 | AF24: 8 | AG24: 9 | AL24: EF beschikbaar? | AM24: Eenheid EF | AN24: Correctie-factor | AO24: Relevante NIKI product label | AP24: Naam referentie-product | AR24: EF beschikbaar? | AS24: Eenheid EF | AT24: Correctie-factor | AU24: Relevante NIKI product label | AV24: Naam referentie-product
B25: {=INDIRECT(_xlfn.CONCAT($Q$2,C25))} -> NIKI Product 1 | C25: C25 | D25: {=_xlfn.SWITCH(INDIRECT(_xlfn.CONCAT($Q$2,E25)),"-","-",0,"-",INDIRECT(_xlfn.CONCAT($Q$2,E25)))} -> - | E25: D25 | F25: {=_xlfn.SWITCH(INDIRECT(_xlfn.CONCAT($Q$2,G25)),"-","-",0,"-",INDIRECT(_xlfn.CONCAT($Q$2,G25)))} -> - | G25: E25 | H25: - | I25: - | J25: - | K25: - | L25: - | O25: =IF($L40=O$24,$D40,"") | P25: =IF($L40=P$24,$D40,"") | Q25: =IF($L40=Q$24,$D40,"") | R25: (Nu maar 3 referentieprocessen voorbereid) | X25: 1 | Y25: {=IFERROR(INDEX(O$25:O$34, SMALL(IF(O$25:O$34<>"", ROW(O$25:O$34)-ROW(O$25)+1), $X25)), "-")} -> - | Z25: {=IFERROR(INDEX(P$25:P$34, SMALL(IF(P$25:P$34<>"", ROW(P$25:P$34)-ROW(P$25)+1), $X25)), "-")} -> - | AA25: {=IFERROR(INDEX(Q$25:Q$34, SMALL(IF(Q$25:Q$34<>"", ROW(Q$25:Q$34)-ROW(Q$25)+1), $X25)), "-")} -> - | AB25: (Nu maar 3 referentieprocessen voorbereid) | AK25: 1 | AL25: =IF($F40=AM$23,$J40,"") | AM25: =IF($F40=AM$23,$K40,"") | AN25: =IF($F40=AM$23,$K25,"") | AO25: =IF($F40=AM$23,$B25,"") | AP25: =IF($F40=AM$23,$D40,"") | AQ25: 1 | AR25: {=IFERROR(INDEX(AL$25:AL$34, SMALL(IF(AL$25:AL$34<>"", ROW(AL$25:AL$34)-ROW(AL$25)+1), $AQ25)), "-")} -> - | AS25: {=IFERROR(INDEX(AM$25:AM$34, SMALL(IF(AM$25:AM$34<>"", ROW(AM$25:AM$34)-ROW(AM$25)+1), $AQ25)), "-")} -> - | AT25: {=IFERROR(INDEX(AN$25:AN$34, SMALL(IF(AN$25:AN$34<>"", ROW(AN$25:AN$34)-ROW(AN$25)+1), $AQ25)), "-")} -> - | AU25: {=IFERROR(INDEX(AO$25:AO$34, SMALL(IF(AO$25:AO$34<>"", ROW(AO$25:AO$34)-ROW(AO$25)+1), $AQ25)), "-")} -> - | AV25: {=IFERROR(INDEX(AP$25:AP$34, SMALL(IF(AP$25:AP$34<>"", ROW(AP$25:AP$34)-ROW(AP$25)+1), $AQ25)), "-")} -> -
B26: {=INDIRECT(_xlfn.CONCAT($Q$2,C26))} -> NIKI Product 2 | C26: C26 | D26: {=_xlfn.SWITCH(INDIRECT(_xlfn.CONCAT($Q$2,E26)),"-","-",0,"-",INDIRECT(_xlfn.CONCAT($Q$2,E26)))} -> - | E26: D26 | F26: {=_xlfn.SWITCH(INDIRECT(_xlfn.CONCAT($Q$2,G26)),"-","-",0,"-",INDIRECT(_xlfn.CONCAT($Q$2,G26)))} -> - | G26: E26 | H26: - | I26: - | J26: - | K26: - | L26: - | O26: =IF($L41=O$24,$D41,"") | P26: =IF($L41=P$24,$D41,"") | Q26: =IF($L41=Q$24,$D41,"") | X26: 2 | Y26: {=IFERROR(INDEX(O$25:O$34, SMALL(IF(O$25:O$34<>"", ROW(O$25:O$34)-ROW(O$25)+1), $X26)), "-")} -> - | Z26: {=IFERROR(INDEX(P$25:P$34, SMALL(IF(P$25:P$34<>"", ROW(P$25:P$34)-ROW(P$25)+1), $X26)), "-")} -> - | AA26: {=IFERROR(INDEX(Q$25:Q$34, SMALL(IF(Q$25:Q$34<>"", ROW(Q$25:Q$34)-ROW(Q$25)+1), $X26)), "-")} -> - | AK26: 2 | AL26: =IF($F41=AM$23,$J41,"") | AM26: =IF($F41=AM$23,$K41,"") | AN26: =IF($F41=AM$23,$K26,"") | AO26: =IF($F41=AM$23,$B26,"") | AP26: =IF($F41=AM$23,$D41,"") | AQ26: 2 | AR26: {=IFERROR(INDEX(AL$25:AL$34, SMALL(IF(AL$25:AL$34<>"", ROW(AL$25:AL$34)-ROW(AL$25)+1), $AQ26)), "-")} -> - | AS26: {=IFERROR(INDEX(AM$25:AM$34, SMALL(IF(AM$25:AM$34<>"", ROW(AM$25:AM$34)-ROW(AM$25)+1), $AQ26)), "-")} -> - | AT26: {=IFERROR(INDEX(AN$25:AN$34, SMALL(IF(AN$25:AN$34<>"", ROW(AN$25:AN$34)-ROW(AN$25)+1), $AQ26)), "-")} -> - | AU26: {=IFERROR(INDEX(AO$25:AO$34, SMALL(IF(AO$25:AO$34<>"", ROW(AO$25:AO$34)-ROW(AO$25)+1), $AQ26)), "-")} -> - | AV26: {=IFERROR(INDEX(AP$25:AP$34, SMALL(IF(AP$25:AP$34<>"", ROW(AP$25:AP$34)-ROW(AP$25)+1), $AQ26)), "-")} -> -
B27: {=INDIRECT(_xlfn.CONCAT($Q$2,C27))} -> NIKI Product 3 | C27: C27 | D27: {=_xlfn.SWITCH(INDIRECT(_xlfn.CONCAT($Q$2,E27)),"-","-",0,"-",INDIRECT(_xlfn.CONCAT($Q$2,E27)))} -> - | E27: D27 | F27: {=_xlfn.SWITCH(INDIRECT(_xlfn.CONCAT($Q$2,G27)),"-","-",0,"-",INDIRECT(_xlfn.CONCAT($Q$2,G27)))} -> - | G27: E27 | H27: - | I27: - | J27: - | K27: - | L27: - | O27: =IF($L42=O$24,$D42,"") | P27: =IF($L42=P$24,$D42,"") | Q27: =IF($L42=Q$24,$D42,"") | X27: 3 | Y27: {=IFERROR(INDEX(O$25:O$34, SMALL(IF(O$25:O$34<>"", ROW(O$25:O$34)-ROW(O$25)+1), $X27)), "-")} -> - | Z27: {=IFERROR(INDEX(P$25:P$34, SMALL(IF(P$25:P$34<>"", ROW(P$25:P$34)-ROW(P$25)+1), $X27)), "-")} -> - | AA27: {=IFERROR(INDEX(Q$25:Q$34, SMALL(IF(Q$25:Q$34<>"", ROW(Q$25:Q$34)-ROW(Q$25)+1), $X27)), "-")} -> - | AK27: 3 | AL27: =IF($F42=AM$23,$J42,"") | AM27: =IF($F42=AM$23,$K42,"") | AN27: =IF($F42=AM$23,$K27,"") | AO27: =IF($F42=AM$23,$B27,"") | AP27: =IF($F42=AM$23,$D42,"") | AQ27: 3 | AR27: {=IFERROR(INDEX(AL$25:AL$34, SMALL(IF(AL$25:AL$34<>"", ROW(AL$25:AL$34)-ROW(AL$25)+1), $AQ27)), "-")} -> - | AS27: {=IFERROR(INDEX(AM$25:AM$34, SMALL(IF(AM$25:AM$34<>"", ROW(AM$25:AM$34)-ROW(AM$25)+1), $AQ27)), "-")} -> - | AT27: {=IFERROR(INDEX(AN$25:AN$34, SMALL(IF(AN$25:AN$34<>"", ROW(AN$25:AN$34)-ROW(AN$25)+1), $AQ27)), "-")} -> - | AU27: {=IFERROR(INDEX(AO$25:AO$34, SMALL(IF(AO$25:AO$34<>"", ROW(AO$25:AO$34)-ROW(AO$25)+1), $AQ27)), "-")} -> - | AV27: {=IFERROR(INDEX(AP$25:AP$34, SMALL(IF(AP$25:AP$34<>"", ROW(AP$25:AP$34)-ROW(AP$25)+1), $AQ27)), "-")} -> -
B28: {=INDIRECT(_xlfn.CONCAT($Q$2,C28))} -> NIKI Product 4 | C28: C28 | D28: {=_xlfn.SWITCH(INDIRECT(_xlfn.CONCAT($Q$2,E28)),"-","-",0,"-",INDIRECT(_xlfn.CONCAT($Q$2,E28)))} -> - | E28: D28 | F28: {=_xlfn.SWITCH(INDIRECT(_xlfn.CONCAT($Q$2,G28)),"-","-",0,"-",INDIRECT(_xlfn.CONCAT($Q$2,G28)))} -> - | G28: E28 | H28: - | I28: - | J28: - | K28: - | L28: - | O28: =IF($L43=O$24,$D43,"") | P28: =IF($L43=P$24,$D43,"") | Q28: =IF($L43=Q$24,$D43,"") | X28: 4 | Y28: {=IFERROR(INDEX(O$25:O$34, SMALL(IF(O$25:O$34<>"", ROW(O$25:O$34)-ROW(O$25)+1), $X28)), "-")} -> - | Z28: {=IFERROR(INDEX(P$25:P$34, SMALL(IF(P$25:P$34<>"", ROW(P$25:P$34)-ROW(P$25)+1), $X28)), "-")} -> - | AA28: {=IFERROR(INDEX(Q$25:Q$34, SMALL(IF(Q$25:Q$34<>"", ROW(Q$25:Q$34)-ROW(Q$25)+1), $X28)), "-")} -> - | AK28: 4 | AL28: =IF($F43=AM$23,$J43,"") | AM28: =IF($F43=AM$23,$K43,"") | AN28: =IF($F43=AM$23,$K28,"") | AO28: =IF($F43=AM$23,$B28,"") | AP28: =IF($F43=AM$23,$D43,"") | AQ28: 4 | AR28: {=IFERROR(INDEX(AL$25:AL$34, SMALL(IF(AL$25:AL$34<>"", ROW(AL$25:AL$34)-ROW(AL$25)+1), $AQ28)), "-")} -> - | AS28: {=IFERROR(INDEX(AM$25:AM$34, SMALL(IF(AM$25:AM$34<>"", ROW(AM$25:AM$34)-ROW(AM$25)+1), $AQ28)), "-")} -> - | AT28: {=IFERROR(INDEX(AN$25:AN$34, SMALL(IF(AN$25:AN$34<>"", ROW(AN$25:AN$34)-ROW(AN$25)+1), $AQ28)), "-")} -> - | AU28: {=IFERROR(INDEX(AO$25:AO$34, SMALL(IF(AO$25:AO$34<>"", ROW(AO$25:AO$34)-ROW(AO$25)+1), $AQ28)), "-")} -> - | AV28: {=IFERROR(INDEX(AP$25:AP$34, SMALL(IF(AP$25:AP$34<>"", ROW(AP$25:AP$34)-ROW(AP$25)+1), $AQ28)), "-")} -> -
B29: {=INDIRECT(_xlfn.CONCAT($Q$2,C29))} -> NIKI Product 5 | C29: C29 | D29: {=_xlfn.SWITCH(INDIRECT(_xlfn.CONCAT($Q$2,E29)),"-","-",0,"-",INDIRECT(_xlfn.CONCAT($Q$2,E29)))} -> - | E29: D29 | F29: {=_xlfn.SWITCH(INDIRECT(_xlfn.CONCAT($Q$2,G29)),"-","-",0,"-",INDIRECT(_xlfn.CONCAT($Q$2,G29)))} -> - | G29: E29 | H29: - | I29: - | J29: - | K29: - | L29: - | O29: =IF($L44=O$24,$D44,"") | P29: =IF($L44=P$24,$D44,"") | Q29: =IF($L44=Q$24,$D44,"") | X29: 5 | Y29: {=IFERROR(INDEX(O$25:O$34, SMALL(IF(O$25:O$34<>"", ROW(O$25:O$34)-ROW(O$25)+1), $X29)), "-")} -> - | Z29: {=IFERROR(INDEX(P$25:P$34, SMALL(IF(P$25:P$34<>"", ROW(P$25:P$34)-ROW(P$25)+1), $X29)), "-")} -> - | AA29: {=IFERROR(INDEX(Q$25:Q$34, SMALL(IF(Q$25:Q$34<>"", ROW(Q$25:Q$34)-ROW(Q$25)+1), $X29)), "-")} -> - | AK29: 5 | AL29: =IF($F44=AM$23,$J44,"") | AM29: =IF($F44=AM$23,$K44,"") | AN29: =IF($F44=AM$23,$K29,"") | AO29: =IF($F44=AM$23,$B29,"") | AP29: =IF($F44=AM$23,$D44,"") | AQ29: 5 | AR29: {=IFERROR(INDEX(AL$25:AL$34, SMALL(IF(AL$25:AL$34<>"", ROW(AL$25:AL$34)-ROW(AL$25)+1), $AQ29)), "-")} -> - | AS29: {=IFERROR(INDEX(AM$25:AM$34, SMALL(IF(AM$25:AM$34<>"", ROW(AM$25:AM$34)-ROW(AM$25)+1), $AQ29)), "-")} -> - | AT29: {=IFERROR(INDEX(AN$25:AN$34, SMALL(IF(AN$25:AN$34<>"", ROW(AN$25:AN$34)-ROW(AN$25)+1), $AQ29)), "-")} -> - | AU29: {=IFERROR(INDEX(AO$25:AO$34, SMALL(IF(AO$25:AO$34<>"", ROW(AO$25:AO$34)-ROW(AO$25)+1), $AQ29)), "-")} -> - | AV29: {=IFERROR(INDEX(AP$25:AP$34, SMALL(IF(AP$25:AP$34<>"", ROW(AP$25:AP$34)-ROW(AP$25)+1), $AQ29)), "-")} -> -
B30: {=INDIRECT(_xlfn.CONCAT($Q$2,C30))} -> NIKI Product 6 | C30: C30 | D30: {=_xlfn.SWITCH(INDIRECT(_xlfn.CONCAT($Q$2,E30)),"-","-",0,"-",INDIRECT(_xlfn.CONCAT($Q$2,E30)))} -> - | E30: D30 | F30: {=_xlfn.SWITCH(INDIRECT(_xlfn.CONCAT($Q$2,G30)),"-","-",0,"-",INDIRECT(_xlfn.CONCAT($Q$2,G30)))} -> - | G30: E30 | H30: - | I30: - | J30: - | K30: - | L30: - | O30: =IF($L45=O$24,$D45,"") | P30: =IF($L45=P$24,$D45,"") | Q30: =IF($L45=Q$24,$D45,"") | X30: 6 | Y30: {=IFERROR(INDEX(O$25:O$34, SMALL(IF(O$25:O$34<>"", ROW(O$25:O$34)-ROW(O$25)+1), $X30)), "-")} -> - | Z30: {=IFERROR(INDEX(P$25:P$34, SMALL(IF(P$25:P$34<>"", ROW(P$25:P$34)-ROW(P$25)+1), $X30)), "-")} -> - | AA30: {=IFERROR(INDEX(Q$25:Q$34, SMALL(IF(Q$25:Q$34<>"", ROW(Q$25:Q$34)-ROW(Q$25)+1), $X30)), "-")} -> - | AK30: 6 | AL30: =IF($F45=AM$23,$J45,"") | AM30: =IF($F45=AM$23,$K45,"") | AN30: =IF($F45=AM$23,$K30,"") | AO30: =IF($F45=AM$23,$B30,"") | AP30: =IF($F45=AM$23,$D45,"") | AQ30: 6 | AR30: {=IFERROR(INDEX(AL$25:AL$34, SMALL(IF(AL$25:AL$34<>"", ROW(AL$25:AL$34)-ROW(AL$25)+1), $AQ30)), "-")} -> - | AS30: {=IFERROR(INDEX(AM$25:AM$34, SMALL(IF(AM$25:AM$34<>"", ROW(AM$25:AM$34)-ROW(AM$25)+1), $AQ30)), "-")} -> - | AT30: {=IFERROR(INDEX(AN$25:AN$34, SMALL(IF(AN$25:AN$34<>"", ROW(AN$25:AN$34)-ROW(AN$25)+1), $AQ30)), "-")} -> - | AU30: {=IFERROR(INDEX(AO$25:AO$34, SMALL(IF(AO$25:AO$34<>"", ROW(AO$25:AO$34)-ROW(AO$25)+1), $AQ30)), "-")} -> - | AV30: {=IFERROR(INDEX(AP$25:AP$34, SMALL(IF(AP$25:AP$34<>"", ROW(AP$25:AP$34)-ROW(AP$25)+1), $AQ30)), "-")} -> -
B31: {=INDIRECT(_xlfn.CONCAT($Q$2,C31))} -> NIKI Product 7 | C31: C31 | D31: {=_xlfn.SWITCH(INDIRECT(_xlfn.CONCAT($Q$2,E31)),"-","-",0,"-",INDIRECT(_xlfn.CONCAT($Q$2,E31)))} -> - | E31: D31 | F31: {=_xlfn.SWITCH(INDIRECT(_xlfn.CONCAT($Q$2,G31)),"-","-",0,"-",INDIRECT(_xlfn.CONCAT($Q$2,G31)))} -> - | G31: E31 | H31: - | I31: - | J31: - | K31: - | L31: - | O31: =IF($L46=O$24,$D46,"") | P31: =IF($L46=P$24,$D46,"") | Q31: =IF($L46=Q$24,$D46,"") | X31: 7 | Y31: {=IFERROR(INDEX(O$25:O$34, SMALL(IF(O$25:O$34<>"", ROW(O$25:O$34)-ROW(O$25)+1), $X31)), "-")} -> - | Z31: {=IFERROR(INDEX(P$25:P$34, SMALL(IF(P$25:P$34<>"", ROW(P$25:P$34)-ROW(P$25)+1), $X31)), "-")} -> - | AA31: {=IFERROR(INDEX(Q$25:Q$34, SMALL(IF(Q$25:Q$34<>"", ROW(Q$25:Q$34)-ROW(Q$25)+1), $X31)), "-")} -> - | AK31: 7 | AL31: =IF($F46=AM$23,$J46,"") | AM31: =IF($F46=AM$23,$K46,"") | AN31: =IF($F46=AM$23,$K31,"") | AO31: =IF($F46=AM$23,$B31,"") | AP31: =IF($F46=AM$23,$D46,"") | AQ31: 7 | AR31: {=IFERROR(INDEX(AL$25:AL$34, SMALL(IF(AL$25:AL$34<>"", ROW(AL$25:AL$34)-ROW(AL$25)+1), $AQ31)), "-")} -> - | AS31: {=IFERROR(INDEX(AM$25:AM$34, SMALL(IF(AM$25:AM$34<>"", ROW(AM$25:AM$34)-ROW(AM$25)+1), $AQ31)), "-")} -> - | AT31: {=IFERROR(INDEX(AN$25:AN$34, SMALL(IF(AN$25:AN$34<>"", ROW(AN$25:AN$34)-ROW(AN$25)+1), $AQ31)), "-")} -> - | AU31: {=IFERROR(INDEX(AO$25:AO$34, SMALL(IF(AO$25:AO$34<>"", ROW(AO$25:AO$34)-ROW(AO$25)+1), $AQ31)), "-")} -> - | AV31: {=IFERROR(INDEX(AP$25:AP$34, SMALL(IF(AP$25:AP$34<>"", ROW(AP$25:AP$34)-ROW(AP$25)+1), $AQ31)), "-")} -> -
B32: {=INDIRECT(_xlfn.CONCAT($Q$2,C32))} -> NIKI Product 8 | C32: C32 | D32: {=_xlfn.SWITCH(INDIRECT(_xlfn.CONCAT($Q$2,E32)),"-","-",0,"-",INDIRECT(_xlfn.CONCAT($Q$2,E32)))} -> - | E32: D32 | F32: {=_xlfn.SWITCH(INDIRECT(_xlfn.CONCAT($Q$2,G32)),"-","-",0,"-",INDIRECT(_xlfn.CONCAT($Q$2,G32)))} -> - | G32: E32 | H32: - | I32: - | J32: - | K32: - | L32: - | O32: =IF($L47=O$24,$D47,"") | P32: =IF($L47=P$24,$D47,"") | Q32: =IF($L47=Q$24,$D47,"") | X32: 8 | Y32: {=IFERROR(INDEX(O$25:O$34, SMALL(IF(O$25:O$34<>"", ROW(O$25:O$34)-ROW(O$25)+1), $X32)), "-")} -> - | Z32: {=IFERROR(INDEX(P$25:P$34, SMALL(IF(P$25:P$34<>"", ROW(P$25:P$34)-ROW(P$25)+1), $X32)), "-")} -> - | AA32: {=IFERROR(INDEX(Q$25:Q$34, SMALL(IF(Q$25:Q$34<>"", ROW(Q$25:Q$34)-ROW(Q$25)+1), $X32)), "-")} -> - | AK32: 8 | AL32: =IF($F47=AM$23,$J47,"") | AM32: =IF($F47=AM$23,$K47,"") | AN32: =IF($F47=AM$23,$K32,"") | AO32: =IF($F47=AM$23,$B32,"") | AP32: =IF($F47=AM$23,$D47,"") | AQ32: 8 | AR32: {=IFERROR(INDEX(AL$25:AL$34, SMALL(IF(AL$25:AL$34<>"", ROW(AL$25:AL$34)-ROW(AL$25)+1), $AQ32)), "-")} -> - | AS32: {=IFERROR(INDEX(AM$25:AM$34, SMALL(IF(AM$25:AM$34<>"", ROW(AM$25:AM$34)-ROW(AM$25)+1), $AQ32)), "-")} -> - | AT32: {=IFERROR(INDEX(AN$25:AN$34, SMALL(IF(AN$25:AN$34<>"", ROW(AN$25:AN$34)-ROW(AN$25)+1), $AQ32)), "-")} -> - | AU32: {=IFERROR(INDEX(AO$25:AO$34, SMALL(IF(AO$25:AO$34<>"", ROW(AO$25:AO$34)-ROW(AO$25)+1), $AQ32)), "-")} -> - | AV32: {=IFERROR(INDEX(AP$25:AP$34, SMALL(IF(AP$25:AP$34<>"", ROW(AP$25:AP$34)-ROW(AP$25)+1), $AQ32)), "-")} -> -
B33: {=INDIRECT(_xlfn.CONCAT($Q$2,C33))} -> NIKI Product 9 | C33: C33 | D33: {=_xlfn.SWITCH(INDIRECT(_xlfn.CONCAT($Q$2,E33)),"-","-",0,"-",INDIRECT(_xlfn.CONCAT($Q$2,E33)))} -> - | E33: D33 | F33: {=_xlfn.SWITCH(INDIRECT(_xlfn.CONCAT($Q$2,G33)),"-","-",0,"-",INDIRECT(_xlfn.CONCAT($Q$2,G33)))} -> - | G33: E33 | H33: - | I33: - | J33: - | K33: - | L33: - | O33: =IF($L48=O$24,$D48,"") | P33: =IF($L48=P$24,$D48,"") | Q33: =IF($L48=Q$24,$D48,"") | X33: 9 | Y33: {=IFERROR(INDEX(O$25:O$34, SMALL(IF(O$25:O$34<>"", ROW(O$25:O$34)-ROW(O$25)+1), $X33)), "-")} -> - | Z33: {=IFERROR(INDEX(P$25:P$34, SMALL(IF(P$25:P$34<>"", ROW(P$25:P$34)-ROW(P$25)+1), $X33)), "-")} -> - | AA33: {=IFERROR(INDEX(Q$25:Q$34, SMALL(IF(Q$25:Q$34<>"", ROW(Q$25:Q$34)-ROW(Q$25)+1), $X33)), "-")} -> - | AK33: 9 | AL33: =IF($F48=AM$23,$J48,"") | AM33: =IF($F48=AM$23,$K48,"") | AN33: =IF($F48=AM$23,$K33,"") | AO33: =IF($F48=AM$23,$B33,"") | AP33: =IF($F48=AM$23,$D48,"") | AQ33: 9 | AR33: {=IFERROR(INDEX(AL$25:AL$34, SMALL(IF(AL$25:AL$34<>"", ROW(AL$25:AL$34)-ROW(AL$25)+1), $AQ33)), "-")} -> - | AS33: {=IFERROR(INDEX(AM$25:AM$34, SMALL(IF(AM$25:AM$34<>"", ROW(AM$25:AM$34)-ROW(AM$25)+1), $AQ33)), "-")} -> - | AT33: {=IFERROR(INDEX(AN$25:AN$34, SMALL(IF(AN$25:AN$34<>"", ROW(AN$25:AN$34)-ROW(AN$25)+1), $AQ33)), "-")} -> - | AU33: {=IFERROR(INDEX(AO$25:AO$34, SMALL(IF(AO$25:AO$34<>"", ROW(AO$25:AO$34)-ROW(AO$25)+1), $AQ33)), "-")} -> - | AV33: {=IFERROR(INDEX(AP$25:AP$34, SMALL(IF(AP$25:AP$34<>"", ROW(AP$25:AP$34)-ROW(AP$25)+1), $AQ33)), "-")} -> -
B34: {=INDIRECT(_xlfn.CONCAT($Q$2,C34))} -> NIKI Product 10 | C34: C34 | D34: {=_xlfn.SWITCH(INDIRECT(_xlfn.CONCAT($Q$2,E34)),"-","-",0,"-",INDIRECT(_xlfn.CONCAT($Q$2,E34)))} -> - | E34: D34 | F34: {=_xlfn.SWITCH(INDIRECT(_xlfn.CONCAT($Q$2,G34)),"-","-",0,"-",INDIRECT(_xlfn.CONCAT($Q$2,G34)))} -> - | G34: E34 | H34: - | I34: - | J34: - | K34: - | L34: - | O34: =IF($L49=O$24,$D49,"") | P34: =IF($L49=P$24,$D49,"") | Q34: =IF($L49=Q$24,$D49,"") | X34: 10 | Y34: {=IFERROR(INDEX(O$25:O$34, SMALL(IF(O$25:O$34<>"", ROW(O$25:O$34)-ROW(O$25)+1), $X34)), "-")} -> - | Z34: {=IFERROR(INDEX(P$25:P$34, SMALL(IF(P$25:P$34<>"", ROW(P$25:P$34)-ROW(P$25)+1), $X34)), "-")} -> - | AA34: {=IFERROR(INDEX(Q$25:Q$34, SMALL(IF(Q$25:Q$34<>"", ROW(Q$25:Q$34)-ROW(Q$25)+1), $X34)), "-")} -> - | AK34: 10 | AL34: =IF($F49=AM$23,$J49,"") | AM34: =IF($F49=AM$23,$K49,"") | AN34: =IF($F49=AM$23,$K34,"") | AO34: =IF($F49=AM$23,$B34,"") | AP34: =IF($F49=AM$23,$D49,"") | AQ34: 10 | AR34: {=IFERROR(INDEX(AL$25:AL$34, SMALL(IF(AL$25:AL$34<>"", ROW(AL$25:AL$34)-ROW(AL$25)+1), $AQ34)), "-")} -> - | AS34: {=IFERROR(INDEX(AM$25:AM$34, SMALL(IF(AM$25:AM$34<>"", ROW(AM$25:AM$34)-ROW(AM$25)+1), $AQ34)), "-")} -> - | AT34: {=IFERROR(INDEX(AN$25:AN$34, SMALL(IF(AN$25:AN$34<>"", ROW(AN$25:AN$34)-ROW(AN$25)+1), $AQ34)), "-")} -> - | AU34: {=IFERROR(INDEX(AO$25:AO$34, SMALL(IF(AO$25:AO$34<>"", ROW(AO$25:AO$34)-ROW(AO$25)+1), $AQ34)), "-")} -> - | AV34: {=IFERROR(INDEX(AP$25:AP$34, SMALL(IF(AP$25:AP$34<>"", ROW(AP$25:AP$34)-ROW(AP$25)+1), $AQ34)), "-")} -> -
B36: • Bepaal of u een beschikbare emissiefactor moet toepassen ◦Ga na of een emissiefactor beschikbaar is op de lijst van co2-emissiefactoren.nl of de lijst van RVO standaard referentie-emissiefactoren (zie tabblad 'A. RVO std ref EF'). ◦U vult bij "Standaard emissiefactor of emissiefactor uit literatuur toepassen?" ja in, als u deze emissiefactor 1-op-1 kunt toepassen. ◦Als u een gedeeltelijke berekening van een emissiefactor toepast (niveau 3 in de hiërarchie), vult u hier "nee" in. In de beschrijving van de procesgrenzen van het referentieproces kunt u vervolgens aangeven dat u een gedeelte van een berekening toepast. | O36: Uitleg formules | X36: Uitleg formules | AK36: Uitleg formules | AQ36: Uitleg formules
B37: • Bepaal of u een emissiefactor uit de literatuur kunt toepassen ◦U mag een emissiefactor uit de literatuur gebruiken als er geen standaard emissiefactor beschikbaar is én het referentieproduct niet fysiek identiek is aan het NIKI-product. ◦U vult bij "Standaard emissiefactor of emissiefactor uit literatuur toepassen?" ja in. • Als u geen standaard emissiefactor of emissiefactor uit literatuur toepast, vult u "Nee" in en laat u de kolommen H-K leeg. U geeft in kolom L aan onder welk referentieproces u de productie van het referentieproduct gaat beschrijven. | O37: -Check voor ieder referentie proces of het NIKI-product aan de referentie is toegewezen | X37: -Geef "-" bij fout -Probeer: -Kijk voor iedere cel in de kolom bij het geselecteerde referentieproces onder Stap 1 of er iets is ingevuld. WAAR als dat zo is, ONWAAR als dat niet zo is. -Pak de n-de cel die is ingevuld, zodat je alle niet-ingevulde cellen overslaat. | AK37: Zie uitleg bij blokken links | AQ37: Zie uitleg bij blokken links
B39: Productlabel | D39: Referentieproduct | F39: Standaard emissiefactor of emissiefactor uit literatuur toepassen? | H39: Bron van de emissiefactor | I39: Toelichting: waarom is beschikbare emissiefactor van toepassing | J39: Indien beschikbaar: neem beschikbare emissiefactor over uit de aangegeven bron | K39: Indien beschikbaar: Emissiefactor eenheid | L39: In welk referentieproces wordt dit referentieproduct uitgewerkt
B40: =B25 -> NIKI Product 1 | D40: =H25 -> - | F40: - | H40: - | I40: - | J40: - | K40: - | L40: -
B41: =B26 -> NIKI Product 2 | D41: =H26 -> - | F41: - | H41: - | I41: - | J41: - | K41: - | L41: -
B42: =B27 -> NIKI Product 3 | D42: =H27 -> - | F42: - | H42: - | I42: - | J42: - | K42: - | L42: -
B43: =B28 -> NIKI Product 4 | D43: =H28 -> - | F43: - | H43: - | I43: - | J43: - | K43: - | L43: -
B44: =B29 -> NIKI Product 5 | D44: =H29 -> - | F44: - | H44: - | I44: - | J44: - | K44: - | L44: -
B45: =B30 -> NIKI Product 6 | D45: =H30 -> - | F45: - | H45: - | I45: - | J45: - | K45: - | L45: -
B46: =B31 -> NIKI Product 7 | D46: =H31 -> - | F46: - | H46: - | I46: - | J46: - | K46: - | L46: -
B47: =B32 -> NIKI Product 8 | D47: =H32 -> - | F47: - | H47: - | I47: - | J47: - | K47: - | L47: -
B48: =B33 -> NIKI Product 9 | D48: =H33 -> - | F48: - | H48: - | I48: - | J48: - | K48: - | L48: -
B49: =B34 -> NIKI Product 10 | D49: =H34 -> - | F49: - | H49: - | I49: - | J49: - | K49: - | L49: -
B51: • Als u geen standaard emissiefactor of emissiefactor uit de literatuur toepast, bepaalt u voor het referentieproduct een referentieproces volgens de hiërarchie, zoals beschreven in stap 2.2 van de NIKI CO2-emissiereductiemethode. Hieronder beschrijft u elk referentieproces.
B52: • Onderbouw het geselecteerde referentieproces. Ga hierbij in op het niveau in de hiërarchie en geef een motivatie waarom u dit proces heeft gekozen, bijvoorbeeld als er meerdere processen bestaan.
...

Sheet S3 Grenzen NIKI
A1: Procesgrenzen NIKI | C1: Stap 3: Systeem- en procesgrenzen | S1: Legenda | V1: Naam tab | W1: =RIGHT(CELL("filename",A1),LEN(CELL("filename",A1))-FIND("]",CELL("filename",A1))) -> S3 Grenzen NIKI
C2: Bepaal de systeem- en procesgrenzen van het NIKI-project | S2: Label | V2: Ref S1 | W2: ='S1 NIKI-producten'!L1 -> S1 NIKI-producten | X2: ="'" & W2 & "'!" -> 'S1 NIKI-producten'!
S3: In te vullen | V3: Ref S2 | W3: ='S2 Def Referentie'!P1 -> S2 Def Referentie | X3: ="'" & W3 & "'!" -> 'S2 Def Referentie'!
S4: Overname gegevens of berekening
C6: • Op dit tabblad omschrijft u de verschillende levensfases en de procesgrenzen van het NIKI-project.
C7: • U geeft een kwalitatieve beschrijving van de inputs.
C8: • In kolom "Rigide of elastisch?" geeft u aan of een inputstroom rigide of elastisch is. Gebruik hiervoor de beschrijving in hoofdstuk 5.1.1 van de NIKI CO2-emissiereductiemethode. De vervangingseffecten bij rigide inputs omschrijft u later in het tabblad 'S5 Emissiefactoren NIKI'.
C9: • In hoofdstuk 5.1.2.1 van de NIKI CO2-emissiereductiemethode leest u of een inputstroom als biogeen mag worden aangemerkt. De voorwaarden voor gerecyclede en afvalstromen als input vindt u in hoofdstuk 5.1.2.2. Indien een input niet biogeen of gerecycled is, mag u bij de motivatie "nvt" invullen.
C10: • Onder "functie in het (deel)proces" beschrijft u kort waarvoor een input wordt ingezet, bijvoorbeeld als energiebron, brandstof of grondstof. U refereert naar de betreffende (deel)processtap in het processchema.
C11: • U beschrijft de belangrijkste processtappen en deelprocessen aan de hand van een processchema.
C23: Levensfase input
C24: Input label | D24: Hide | E24: Input naam | F24: Hide | G24: Input omschrijving | H24: Hide | I24: Rigide of elastisch? | J24: Hide | K24: Motivatie rigide of elastisch | M24: Biogeen? (Ja/Nee) | N24: Motivatie biogeen | O24: Gerecycled? (Ja/Nee) | P24: Motivatie gerecycled | R24: Functie in het (deel)proces | S24: Bronnen
C25: NIKI Grondstof 1 | E25: - | G25: - | I25: - | K25: - | M25: - | N25: - | O25: - | P25: - | R25: - | S25: -
C26: NIKI Grondstof 2 | E26: - | G26: - | I26: - | K26: - | M26: - | N26: - | O26: - | P26: - | R26: - | S26: -
C27: NIKI Grondstof 3 | E27: - | G27: - | I27: - | K27: - | M27: - | N27: - | O27: - | P27: - | R27: - | S27: -
C28: NIKI Grondstof 4 | E28: - | G28: - | I28: - | K28: - | M28: - | N28: - | O28: - | P28: - | R28: - | S28: -
C29: NIKI Grondstof 5 | E29: - | G29: - | I29: - | K29: - | M29: - | N29: - | O29: - | P29: - | R29: - | S29: -
C30: NIKI Grondstof 6 | E30: - | G30: - | I30: - | K30: - | M30: - | N30: - | O30: - | P30: - | R30: - | S30: -
C31: NIKI Grondstof 7 | E31: - | G31: - | I31: - | K31: - | M31: - | N31: - | O31: - | P31: - | R31: - | S31: -
C32: NIKI Grondstof 8 | E32: - | G32: - | I32: - | K32: - | M32: - | N32: - | O32: - | P32: - | R32: - | S32: -
C33: NIKI Grondstof 9 | E33: - | G33: - | I33: - | K33: - | M33: - | N33: - | O33: - | P33: - | R33: - | S33: -
C34: NIKI Grondstof 10 | E34: - | G34: - | I34: - | K34: - | M34: - | N34: - | O34: - | P34: - | R34: - | S34: -
C35: NIKI Energie 1 | E35: - | G35: - | I35: - | K35: - | M35: - | N35: - | O35: Nee | P35: nvt | R35: - | S35: -
C36: NIKI Energie 2 | E36: - | G36: - | I36: - | K36: - | M36: - | N36: - | O36: Nee | P36: nvt | R36: - | S36: -
... C39: NIKI Energie 5 | E39: - | G39: - | I39: - | K39: - | M39: - | N39: - | O39: Nee | P39: nvt | R39: - | S39: -
C41: Levensfase proces
C42: Beschrijf het productieproces en de procesgrenzen van het NIKI-proces.
C51: Voeg een processchema in
C52: Plaats een schematische weergaven van het NIKI-project. Laat hierin de inputs en outputs zien, envenals de belangrijkste installaties binnen het NIKI-proces. De grootte van dit invulvak mag aangepast worden om het schema te accomoderen, echter kunt u ook de vrije ruimte onderaan dit tabblad gebruiken. Voeg geen extra rijen in, maar pas de rijhoogte aan.
C63: • U geeft een kwalitatieve beschrijving van de outputs.
C64: • U geeft aan wat er aan het einde van de levensduur met elk van de producten gebeurt. Voor brandstoffen is dit altijd "verbranding", voor andere stromen kiest u "einde levensduur" en kiest vervolgens het type einde levensduur emissie, zie hoofdstuk 5.4 van de NIKI CO2-emissiereductiemethode.
C65: • Indien een NIKI-product fysiek identiek is aan het referentieproduct, laat u de levensfase "einde levensduur" buiten beschouwing. In dit geval zijn verwerking en gerelateerde emissie hetzelfde en hoeven daarom niet meegenomen worden bij de berekening van de emissiereductie. U geeft dit aan per product en onderbouwt kort uw keuze. In stap 5 vult u in dit geval de einde levensfase van de betreffende producten niet in. NB: U mag in dit geval de levensfase einde levensduur buiten beschouwing laten, maar dit hoeft niet. Als u bijvoorbeeld een biogeen NIKI-product maakt dat een fossiel referentieproduct vervangt, kunt u de einde levensduur beter wel meenemen om het effect van de biogene koolstof correct mee te nemen.
C66: • De CO2-emissies van de levensfase proces splitst u op in aparte regels voor proces-CO2 en verbrandings-CO2. U gebruikt een nieuwe regel voor de CO2 van iedere brandstof die in wordt gezet.
C67: • "Overige BKG emissies" betreft CO2-emissies uit het proces ten gevolge van onderhoud, storingen en afblazen, zie hoofdstuk 5.2 van de NIKI CO2-emissiereductiemethode.
C68: • Voor de outputs kunt u een recyclingpercentage invullen. In hoofdstuk 5.4.1 van de NIKI CO2-emissiereductiemethode staan de betreffende regels beschreven. U onderbouwt vervolgens het percentage en verwijst naar bronnen indien van toepassing.
C69: • U kunt ook aangeven of een output (gedeeltelijk) biogeen is. Dit is gerelateerd aan biogene inputstromen in het proces, tenzij er bioenergie als energiebron is ingezet. De biogene koolstof komt in dit geval niet in het product terecht. Onderbouw uw keuze en verwijs indien van toepassing naar bronnen.
D71: Hide | F71: Hide | H71: Hide
C72: Levensfase verbranding of einde levensduur
C73: Output label | E73: Output naam | G73: Output omschrijving | I73: Fysiek identiek? | K73: Einde levensduur buiten beschouwing? | L73: Onderbouwing buiten beschouwing | M73: Verbranding (brandstof) of Einde levensduur | N73: Type einde levensduur emissie | O73: Recycling-percentage einde levensduur product (%) | P73: Onderbouwing recyclingpercentage | Q73: Biogeen (Keuzelijst) | R73: Onderbouwing biogeen | S73: Bronnen
C74: {=INDIRECT(_xlfn.CONCAT($X$2,D74))} -> NIKI Product 1 | D74: C25 | E74: {=_xlfn.SWITCH(INDIRECT(_xlfn.CONCAT($X$2,F74)),"-","-",0,"-",INDIRECT(_xlfn.CONCAT($X$2,F74)))} -> - | F74: D25 | G74: {=_xlfn.SWITCH(INDIRECT(_xlfn.CONCAT($X$2,H74)),"-","-",0,"-",INDIRECT(_xlfn.CONCAT($X$2,H74)))} -> - | H74: G25 | I74: {=_xlfn.SWITCH(INDIRECT(_xlfn.CONCAT($X$2,J74)),"-","-",0,"-",INDIRECT(_xlfn.CONCAT($X$2,J74)))} -> - | J74: I25 | K74: - | L74: - | M74: - | N74: - | O74: - | P74: - | Q74: - | R74: - | S74: -
...

Sheet S3 Grenzen Ref 1
A1: Procesgrenzen NIKI | C1: Stap 3: Systeem- en procesgrenzen | O1: Legenda | R1: Naam tab | S1: =RIGHT(CELL("filename",A1),LEN(CELL("filename",A1))-FIND("]",CELL("filename",A1))) -> S3 Grenzen Ref 1
C2: Bepaal de systeem- en procesgrenzen van referentieproces 1 | O2: Label | R2: Verw. S1 | S2: ='S1 NIKI-producten'!L1 -> S1 NIKI-producten | T2: ="'" & S2 & "'!" -> 'S1 NIKI-producten'!
O3: In te vullen | R3: Verw. S2 | S3: ='S2 Def Referentie'!P1 -> S2 Def Referentie | T3: ="'" & S3 & "'!" -> 'S2 Def Referentie'!
O4: Overname gegevens of berekening
C6: • Als u in stap 2 geen referentieprocessen heeft gedefiniëerd, omdat voor alle referentieproducten een emissiefactor beschikbaar is, hoeft u de tabbladen Grenzen Ref 1-3 niet in te vullen.
C7: • Op dit tabblad omschrijft u de verschillende levensfases en de procesgrenzen van het NIKI-project.
C8: • U geeft een kwalitatieve beschrijving van de inputs.
C9: • In kolom "Rigide of elastisch?" geeft u aan of een inputstroom rigide of elastisch is. Gebruik hiervoor de beschrijving in hoofdstuk 5.1.1 van de NIKI CO2-emissiereductiemethode. De vervangingseffecten bij rigide inputs omschrijft u later in het tabblad 'S5 Emissiefactoren NIKI'.
C10: • In hoofdstuk 5.1.2.1 van de NIKI CO2-emissiereductiemethode leest u of een inputstroom als biogeen mag worden aangemerkt. De voorwaarden voor gerecyclede en afvalstromen als input vindt u in hoofdstuk 5.1.2.2. Indien een input niet biogeen of gerecycled is, mag u bij de motivatie "nvt" invullen.
C11: • Onder "functie in het (deel)proces"beschrijft u kort waarvoor een input wordt ingezet, bijvoorbeeld als energiebron, brandstof of grondstof. U refereert naar de bedreffende (deel)processtap in het processchema.
C12: • U beschrijft de belangrijkste processtappen en deelprocessen aan de hand van een processchema.
C23: Levensfase input
C24: Input label | D24: Input naam | E24: Hide | F24: Input omschrijving | G24: Rigide of elastisch? | H24: Motivatie rigide of elastisch | I24: Biogeen? (Ja/Nee) | J24: Motivatie biogeen | K24: Gerecycled? (Ja/Nee) | L24: Motivatie gerecycled | N24: Functie in het (deel)proces | O24: Bronnen
C25: Ref 1 Grondstof 1 | D25: - | F25: - | G25: - | H25: - | I25: - | J25: - | K25: - | L25: - | N25: - | O25: -
C26: Ref 1 Grondstof 2 | D26: - | F26: - | G26: - | H26: - | I26: - | J26: - | K26: - | L26: - | N26: - | O26: -
C27: Ref 1 Grondstof 3 | D27: - | F27: - | G27: - | H27: - | I27: - | J27: - | K27: - | L27: - | N27: - | O27: -
C28: Ref 1 Grondstof 4 | D28: - | F28: - | G28: - | H28: - | I28: - | J28: - | K28: - | L28: - | N28: - | O28: -
C29: Ref 1 Grondstof 5 | D29: - | F29: - | G29: - | H29: - | I29: - | J29: - | K29: - | L29: - | N29: - | O29: -
C30: Ref 1 Grondstof 6 | D30: - | F30: - | G30: - | H30: - | I30: - | J30: - | K30: - | L30: - | N30: - | O30: -
C31: Ref 1 Grondstof 7 | D31: - | F31: - | G31: - | H31: - | I31: - | J31: - | K31: - | L31: - | N31: - | O31: -
C32: Ref 1 Grondstof 8 | D32: - | F32: - | G32: - | H32: - | I32: - | J32: - | K32: - | L32: - | N32: - | O32: -
C33: Ref 1 Grondstof 9 | D33: - | F33: - | G33: - | H33: - | I33: - | J33: - | K33: - | L33: - | N33: - | O33: -
C34: Ref 1 Grondstof 10 | D34: - | F34: - | G34: - | H34: - | I34: - | J34: - | K34: - | L34: - | N34: - | O34: -
C35: Ref 1 Energie 1 | D35: - | F35: - | G35: - | H35: - | I35: - | J35: - | K35: Nee | L35: nvt | N35: - | O35: -
C36: Ref 1 Energie 2 | D36: - | F36: - | G36: - | H36: - | I36: - | J36: - | K36: Nee | L36: nvt | N36: - | O36: -
... C39: Ref 1 Energie 5 | D39: - | F39: - | G39: - | H39: - | I39: - | J39: - | K39: Nee | L39: nvt | N39: - | O39: -
C41: Levensfase proces
C42: Beschrijf het productieproces en de procesgrenzen van het referentieproces.
C51: Voeg een processchema in
C52: Plaats een schematische weergaven van het referentieproces. Laat hierin de inputs en outputs zien, envenals de belangrijkste installaties binnen het referentieproces. De grootte van dit invulvak mag aangepast worden om het schema te accomoderen, echter kunt u ook de vrije ruimte onderaan dit tabblad gebruiken. Voeg geen extra rijen in, maar pas de rijhoogte aan.
C63: • U geeft een kwalitatieve beschrijving van de outputs.
C64: • U geeft aan wat er aan het einde van de levensduur met elk van de producten gebeurt. Voor brandstoffen is dit altijd "verbranding", voor andere stromen kiest u "einde levensduur" en kiest vervolgens het type einde levensduur emissie, zie hoofdstuk 5.4 van de NIKI CO2-emissiereductiemethode.
C65: • Indien een referentieproduct fysiek identiek is aan het NIKI-product, laat u de levensfase "einde levensduur" buiten beschouwing. In dit geval zijn verwerking en gerelateerde emissie hetzelfde en hoeven daarom niet meegenomen worden bij de berekening van de emissiereductie. U geeft dit aan per product en onderbouwt kort uw keuze. In stap 5 vult u in dit geval de einde levensfase van de betreffende producten niet in. NB: U mag in dit geval de levensfase einde levensduur buiten beschouwing laten, maar dit hoeft niet. Als u bijvoorbeeld een biogeen NIKI-product maakt dat een fossiel referentieproduct vervangt, kunt u de einde levensduur beter wel meenemen om het effect van de biogene koolstof correct mee te nemen.
C66: • De CO2-emissies van de levensfase proces splitst u op in aparte regels voor proces-CO2 en verbrandings-CO2. U gebruikt een nieuwe regel voor de CO2 van iedere brandstof die in wordt gezet.
C67: • "Overige BKG emissies" betreft CO2-emissies uit het proces ten gevolge van onderhoud, storingen en afblazen, zie hoofdstuk 5.2 van de NIKI CO2-emissiereductiemethode.
C68: • Voor de outputs kunt u een recyclingpercentage invullen. In hoofdstuk 5.4.1 van de NIKI CO2-emissiereductiemethode staan de betreffende regels beschreven. U onderbouwt vervolgens het percentage en verwijst naar bronnen indien van toepassing.
C69: • U kunt ook aangeven of een output (gedeeltelijk) biogeen is. Dit is gerelateerd aan biogene inputstromen in het proces, tenzij er bioenergie als energiebron is ingezet. De biogene koolstof komt in dit geval niet in het product terecht. Onderbouw uw keuze en verwijs indien van toepassing naar bronnen.
E71: Hide
C72: Levensfase verbranding of einde levensduur
C73: Output label | D73: Output naam | F73: Output omschrijving | G73: Einde levensduur buiten beschouwing? | H73: Onderbouwing buiten beschouwing | I73: Verbranding (brandstof) of Einde levensduur | J73: Type einde levensduur emissie | K73: Recycling-percentage einde levensduur product (%) | L73: Onderbouwing recyclingpercentage | M73: Biogeen (Keuzelijst) | N73: Onderbouwing biogeen | O73: Bronnen
...

Sheet S3 Grenzen Ref 2
A1: Procesgrenzen NIKI | C1: Stap 3: Systeem- en procesgrenzen | O1: Legenda | R1: Naam tab | S1: =RIGHT(CELL("filename",A1),LEN(CELL("filename",A1))-FIND("]",CELL("filename",A1))) -> S3 Grenzen Ref 2
C2: Bepaal de systeem- en procesgrenzen van referentieproces 2 | O2: Label | R2: Verw. S1 | S2: ='S1 NIKI-producten'!L1 -> S1 NIKI-producten | T2: ="'" & S2 & "'!" -> 'S1 NIKI-producten'!
O3: In te vullen | R3: Verw. S2 | S3: ='S2 Def Referentie'!P1 -> S2 Def Referentie | T3: ="'" & S3 & "'!" -> 'S2 Def Referentie'!
O4: Overname gegevens of berekening
C6: • Als u in stap 2 geen referentieprocessen heeft gedefiniëerd, omdat voor alle referentieproducten een emissiefactor beschikbaar is, hoeft u de tabbladen Grenzen Ref 1-3 niet in te vullen.
C7: • Op dit tabblad omschrijft u de verschillende levensfases en de procesgrenzen van het NIKI-project.
C8: • U geeft een kwalitatieve beschrijving van de inputs.
C9: • In kolom "Rigide of elastisch?" geeft u aan of een inputstroom rigide of elastisch is. Gebruik hiervoor de beschrijving in hoofdstuk 5.1.1 van de NIKI CO2-emissiereductiemethode. De vervangingseffecten bij rigide inputs omschrijft u later in het tabblad 'S5 Emissiefactoren NIKI'.
C10: • In hoofdstuk 5.1.2.1 van de NIKI CO2-emissiereductiemethode leest u of een inputstroom als biogeen mag worden aangemerkt. De voorwaarden voor gerecyclede en afvalstromen als input vindt u in hoofdstuk 5.1.2.2. Indien een input niet biogeen of gerecycled is, mag u bij de motivatie "nvt" invullen.
C11: • Onder "functie in het (deel)proces"beschrijft u kort waarvoor een input wordt ingezet, bijvoorbeeld als energiebron, brandstof of grondstof. U refereert naar de bedreffende (deel)processtap in het processchema.
C12: • U beschrijft de belangrijkste processtappen en deelprocessen aan de hand van een processchema.
C23: Levensfase input
C24: Input label | D24: Input naam | E24: Hide | F24: Input omschrijving | G24: Rigide of elastisch? | H24: Motivatie rigide of elastisch | I24: Biogeen? (Ja/Nee) | J24: Motivatie biogeen | K24: Gerecycled? (Ja/Nee) | L24: Motivatie gerecycled | N24: Functie in het (deel)proces | O24: Bronnen
C25: Ref 2 Grondstof 1 | D25: - | F25: - | G25: - | H25: - | I25: - | J25: - | K25: - | L25: - | N25: - | O25: -
C26: Ref 2 Grondstof 2 | D26: - | F26: - | G26: - | H26: - | I26: - | J26: - | K26: - | L26: - | N26: - | O26: -
C27: Ref 2 Grondstof 3 | D27: - | F27: - | G27: - | H27: - | I27: - | J27: - | K27: - | L27: - | N27: - | O27: -
C28: Ref 2 Grondstof 4 | D28: - | F28: - | G28: - | H28: - | I28: - | J28: - | K28: - | L28: - | N28: - | O28: -
C29: Ref 2 Grondstof 5 | D29: - | F29: - | G29: - | H29: - | I29: - | J29: - | K29: - | L29: - | N29: - | O29: -
C30: Ref 2 Grondstof 6 | D30: - | F30: - | G30: - | H30: - | I30: - | J30: - | K30: - | L30: - | N30: - | O30: -
C31: Ref 2 Grondstof 7 | D31: - | F31: - | G31: - | H31: - | I31: - | J31: - | K31: - | L31: - | N31: - | O31: -
C32: Ref 2 Grondstof 8 | D32: - | F32: - | G32: - | H32: - | I32: - | J32: - | K32: - | L32: - | N32: - | O32: -
C33: Ref 2 Grondstof 9 | D33: - | F33: - | G33: - | H33: - | I33: - | J33: - | K33: - | L33: - | N33: - | O33: -
C34: Ref 2 Grondstof 10 | D34: - | F34: - | G34: - | H34: - | I34: - | J34: - | K34: - | L34: - | N34: - | O34: -
C35: Ref 2 Energie 1 | D35: - | F35: - | G35: - | H35: - | I35: - | J35: - | K35: Nee | L35: nvt | N35: - | O35: -
C36: Ref 2 Energie 2 | D36: - | F36: - | G36: - | H36: - | I36: - | J36: - | K36: Nee | L36: nvt | N36: - | O36: -
... C39: Ref 2 Energie 5 | D39: - | F39: - | G39: - | H39: - | I39: - | J39: - | K39: Nee | L39: nvt | N39: - | O39: -
C41: Levensfase proces
C42: Beschrijf het productieproces en de procesgrenzen van het referentieproces.
C51: Voeg een processchema in
C52: Plaats een schematische weergaven van het referentieproces. Laat hierin de inputs en outputs zien, envenals de belangrijkste installaties binnen het referentieproces. De grootte van dit invulvak mag aangepast worden om het schema te accomoderen, echter kunt u ook de vrije ruimte onderaan dit tabblad gebruiken. Voeg geen extra rijen in, maar pas de rijhoogte aan.
C63: • U geeft een kwalitatieve beschrijving van de outputs.
C64: • U geeft aan wat er aan het einde van de levensduur met elk van de producten gebeurt. Voor brandstoffen is dit altijd "verbranding", voor andere stromen kiest u "einde levensduur" en kiest vervolgens het type einde levensduur emissie, zie hoofdstuk 5.4 van de NIKI CO2-emissiereductiemethode.
C65: • Indien een referentieproduct fysiek identiek is aan het NIKI-product, laat u de levensfase "einde levensduur" buiten beschouwing. In dit geval zijn verwerking en gerelateerde emissie hetzelfde en hoeven daarom niet meegenomen worden bij de berekening van de emissiereductie. U geeft dit aan per product en onderbouwt kort uw keuze. In stap 5 vult u in dit geval de einde levensfase van de betreffende producten niet in. NB: U mag in dit geval de levensfase einde levensduur buiten beschouwing laten, maar dit hoeft niet. Als u bijvoorbeeld een biogeen NIKI-product maakt dat een fossiel referentieproduct vervangt, kunt u de einde levensduur beter wel meenemen om het effect van de biogene koolstof correct mee te nemen.
C66: • De CO2-emissies van de levensfase proces splitst u op in aparte regels voor proces-CO2 en verbrandings-CO2. U gebruikt een nieuwe regel voor de CO2 van iedere brandstof die in wordt gezet.
C67: • "Overige BKG emissies" betreft CO2-emissies uit het proces ten gevolge van onderhoud, storingen en afblazen, zie hoofdstuk 5.2 van de NIKI CO2-emissiereductiemethode.
C68: • Voor de outputs kunt u een recyclingpercentage invullen. In hoofdstuk 5.4.1 van de NIKI CO2-emissiereductiemethode staan de betreffende regels beschreven. U onderbouwt vervolgens het percentage en verwijst naar bronnen indien van toepassing.
C69: • U kunt ook aangeven of een output (gedeeltelijk) biogeen is. Dit is gerelateerd aan biogene inputstromen in het proces, tenzij er bioenergie als energiebron is ingezet. De biogene koolstof komt in dit geval niet in het product terecht. Onderbouw uw keuze en verwijs indien van toepassing naar bronnen.
E71: Hide
C72: Levensfase verbranding of einde levensduur
C73: Output label | D73: Output naam | F73: Output omschrijving | G73: Einde levensduur buiten beschouwing? | H73: Onderbouwing buiten beschouwing | I73: Verbranding (brandstof) of Einde levensduur | J73: Type einde levensduur emissie | K73: Recycling-percentage einde levensduur product (%) | L73: Onderbouwing recyclingpercentage | M73: Biogeen (Keuzelijst) | N73: Onderbouwing biogeen | O73: Bronnen
...

Sheet S3 Grenzen Ref 3
A1: Procesgrenzen NIKI | C1: Stap 3: Systeem- en procesgrenzen | O1: Legenda | R1: Naam tab | S1: =RIGHT(CELL("filename",A1),LEN(CELL("filename",A1))-FIND("]",CELL("filename",A1))) -> S3 Grenzen Ref 3
C2: Bepaal de systeem- en procesgrenzen van referentieproces 3 | O2: Label | R2: Verw. S1 | S2: ='S1 NIKI-producten'!L1 -> S1 NIKI-producten | T2: ="'" & S2 & "'!" -> 'S1 NIKI-producten'!
O3: In te vullen | R3: Verw. S2 | S3: ='S2 Def Referentie'!P1 -> S2 Def Referentie | T3: ="'" & S3 & "'!" -> 'S2 Def Referentie'!
O4: Overname gegevens of berekening
C6: • Als u in stap 2 geen referentieprocessen heeft gedefiniëerd, omdat voor alle referentieproducten een emissiefactor beschikbaar is, hoeft u de tabbladen Grenzen Ref 1-3 niet in te vullen.
C7: • Op dit tabblad omschrijft u de verschillende levensfases en de procesgrenzen van het NIKI-project.
C8: • U geeft een kwalitatieve beschrijving van de inputs.
C9: • In kolom "Rigide of elastisch?" geeft u aan of een inputstroom rigide of elastisch is. Gebruik hiervoor de beschrijving in hoofdstuk 5.1.1 van de NIKI CO2-emissiereductiemethode. De vervangingseffecten bij rigide inputs omschrijft u later in het tabblad 'S5 Emissiefactoren NIKI'.
C10: • In hoofdstuk 5.1.2.1 van de NIKI CO2-emissiereductiemethode leest u of een inputstroom als biogeen mag worden aangemerkt. De voorwaarden voor gerecyclede en afvalstromen als input vindt u in hoofdstuk 5.1.2.2. Indien een input niet biogeen of gerecycled is, mag u bij de motivatie "nvt" invullen.
C11: • Onder "functie in het (deel)proces"beschrijft u kort waarvoor een input wordt ingezet, bijvoorbeeld als energiebron, brandstof of grondstof. U refereert naar de bedreffende (deel)processtap in het processchema.
C12: • U beschrijft de belangrijkste processtappen en deelprocessen aan de hand van een processchema.
C23: Levensfase input
C24: Input label | D24: Input naam | E24: Hide | F24: Input omschrijving | G24: Rigide of elastisch? | H24: Motivatie rigide of elastisch | I24: Biogeen? (Ja/Nee) | J24: Motivatie biogeen | K24: Gerecycled? (Ja/Nee) | L24: Motivatie gerecycled | N24: Functie in het (deel)proces | O24: Bronnen
C25: Ref 3 Grondstof 1 | D25: - | F25: - | G25: - | H25: - | I25: - | J25: - | K25: - | L25: - | N25: - | O25: -
C26: Ref 3 Grondstof 2 | D26: - | F26: - | G26: - | H26: - | I26: - | J26: - | K26: - | L26: - | N26: - | O26: -
C27: Ref 3 Grondstof 3 | D27: - | F27: - | G27: - | H27: - | I27: - | J27: - | K27: - | L27: - | N27: - | O27: -
C28: Ref 3 Grondstof 4 | D28: - | F28: - | G28: - | H28: - | I28: - | J28: - | K28: - | L28: - | N28: - | O28: -
C29: Ref 3 Grondstof 5 | D29: - | F29: - | G29: - | H29: - | I29: - | J29: - | K29: - | L29: - | N29: - | O29: -
C30: Ref 3 Grondstof 6 | D30: - | F30: - | G30: - | H30: - | I30: - | J30: - | K30: - | L30: - | N30: - | O30: -
C31: Ref 3 Grondstof 7 | D31: - | F31: - | G31: - | H31: - | I31: - | J31: - | K31: - | L31: - | N31: - | O31: -
C32: Ref 3 Grondstof 8 | D32: - | F32: - | G32: - | H32: - | I32: - | J32: - | K32: - | L32: - | N32: - | O32: -
C33: Ref 3 Grondstof 9 | D33: - | F33: - | G33: - | H33: - | I33: - | J33: - | K33: - | L33: - | N33: - | O33: -
C34: Ref 3 Grondstof 10 | D34: - | F34: - | G34: - | H34: - | I34: - | J34: - | K34: - | L34: - | N34: - | O34: -
C35: Ref 3 Energie 1 | D35: - | F35: - | G35: - | H35: - | I35: - | J35: - | K35: Nee | L35: nvt | N35: - | O35: -
C36: Ref 3 Energie 2 | D36: - | F36: - | G36: - | H36: - | I36: - | J36: - | K36: Nee | L36: nvt | N36: - | O36: -
... C39: Ref 3 Energie 5 | D39: - | F39: - | G39: - | H39: - | I39: - | J39: - | K39: Nee | L39: nvt | N39: - | O39: -
C41: Levensfase proces
C42: Beschrijf het productieproces en de procesgrenzen van het referentieproces.
C51: Voeg een processchema in
C52: Plaats een schematische weergaven van het referentieproces. Laat hierin de inputs en outputs zien, envenals de belangrijkste installaties binnen het referentieproces. De grootte van dit invulvak mag aangepast worden om het schema te accomoderen, echter kunt u ook de vrije ruimte onderaan dit tabblad gebruiken. Voeg geen extra rijen in, maar pas de rijhoogte aan.
C63: • U geeft een kwalitatieve beschrijving van de outputs.
C64: • U geeft aan wat er aan het einde van de levensduur met elk van de producten gebeurt. Voor brandstoffen is dit altijd "verbranding", voor andere stromen kiest u "einde levensduur" en kiest vervolgens het type einde levensduur emissie, zie hoofdstuk 5.4 van de NIKI CO2-emissiereductiemethode.
C65: • Indien een referentieproduct fysiek identiek is aan het NIKI-product, laat u de levensfase "einde levensduur" buiten beschouwing. In dit geval zijn verwerking en gerelateerde emissie hetzelfde en hoeven daarom niet meegenomen worden bij de berekening van de emissiereductie. U geeft dit aan per product en onderbouwt kort uw keuze. In stap 5 vult u in dit geval de einde levensfase van de betreffende producten niet in. NB: U mag in dit geval de levensfase einde levensduur buiten beschouwing laten, maar dit hoeft niet. Als u bijvoorbeeld een biogeen NIKI-product maakt dat een fossiel referentieproduct vervangt, kunt u de einde levensduur beter wel meenemen om het effect van de biogene koolstof correct mee te nemen.
C66: • De CO2-emissies van de levensfase proces splitst u op in aparte regels voor proces-CO2 en verbrandings-CO2. U gebruikt een nieuwe regel voor de CO2 van iedere brandstof die in wordt gezet.
C67: • "Overige BKG emissies" betreft CO2-emissies uit het proces ten gevolge van onderhoud, storingen en afblazen, zie hoofdstuk 5.2 van de NIKI CO2-emissiereductiemethode.
C68: • Voor de outputs kunt u een recyclingpercentage invullen. In hoofdstuk 5.4.1 van de NIKI CO2-emissiereductiemethode staan de betreffende regels beschreven. U onderbouwt vervolgens het percentage en verwijst naar bronnen indien van toepassing.
C69: • U kunt ook aangeven of een output (gedeeltelijk) biogeen is. Dit is gerelateerd aan biogene inputstromen in het proces, tenzij er bioenergie als energiebron is ingezet. De biogene koolstof komt in dit geval niet in het product terecht. Onderbouw uw keuze en verwijs indien van toepassing naar bronnen.
E71: Hide
C72: Levensfase verbranding of einde levensduur
C73: Output label | D73: Output naam | F73: Output omschrijving | G73: Einde levensduur buiten beschouwing? | H73: Onderbouwing buiten beschouwing | I73: Verbranding (brandstof) of Einde levensduur | J73: Type einde levensduur emissie | K73: Recycling-percentage einde levensduur product (%) | L73: Onderbouwing recyclingpercentage | M73: Biogeen (Keuzelijst) | N73: Onderbouwing biogeen | O73: Bronnen
...

Sheet S4 MEB NIKI
C1: Stap 4: Massa- en energiebalansen bepalen | X1: Legenda | AA1: Naam tab | AB1: =RIGHT(CELL("filename",A1),LEN(CELL("filename",A1))-FIND("]",CELL("filename",A1))) -> S4 MEB NIKI
