Workbook
Name _Econ_levensduur: '1 Econ. levensduur'!$C$12
Name _Hlk198320077: '2 Investeringskosten'!$B$3
Name CW_kasstroom: 'CW operationele kasstromen'!$C$15
Name Debt: '6 WACC'!$C$14
Name DEF_KOLOMNR: Opzoekblad!$D$3:$E$31
Name Equity: '6 WACC'!$C$13
Name ERP: 'Vastgestelde parameters'!$C$31
Name Europese_Subsidie: '7 Overige subsidies '!$D$20
Name Geschatte_totale_EIA: '7 Overige subsidies '!$D$38
Name Investeringskosten: '2 Investeringskosten'!$D$9
Name Laatste_exploitatiejaar: '1 Econ. levensduur'!$C$17
Name realisatiekosten: Opzoekblad!$B$4:$B$13
Name RiskFreeRate: 'Vastgestelde parameters'!$C$33
Name start_operatie: '1 Econ. levensduur'!$C$11
Name start_realisatie: '1 Econ. levensduur'!$C$10
Name subsidiejaar: 'Vastgestelde parameters'!$C$30
Name tax_rate: 'Vastgestelde parameters'!$C$32
Name WACC: '6 WACC'!$C$27

Sheet Voorblad
B1: Voorblad
B3: Uitleg kleurgebruik
B4: Type veld | C4: Beschrijving
B5: Input | C5: Vul hier de benodigde gegevens in. Alleen deze velden kunt u aanpassen.
B6: Parameters | C6: Dit zijn vaste inputwaarden, of berekende waardes uit een eerdere stap.
B7: Output | C7: Bekijk hier de resultaten van de berekeningen.
B8: Informatievelden | C8: Lees hier aanvullende gegevens die nodig zijn om het model te begrijpen.
B9: Foute waarde | C9: Een cel krijgt deze kleur als een waarde niet juist is ingevuld
B11: Inhoudsopgave
B12: Blad | C12: Beschrijving
B13: Voorblad | C13: Dit blad, met uitleg van de velden en van de verschillende tabbladen
B14: Benodigde subsidie | C14: Samenvatting van de uitkomst van het model
B15: 1 Econ. levensduur | C15: Bepaal startjaar NIKI-project, startjaar exploitatiefase en economische levensduur NIKI-project
B16: 2 Investeringskosten | C16: Bepaal investeringskosten NIKI-project
B17: 3 Omzet | C17: Bepaal marktprijzen en productieaantallen NIKI-producten gedurende eerste 10 jaar van exploiatie
B18: 4a Exploitatiekosten | C18: Bepaal exploitatiekosten NIKI-project (exclusief energiekosten) gedurende eerste 10 jaar van exploitatie
B19: 4b Energiekosten | C19: Bepaal energieverbruik en energiekosten NIKI-project gedurende eerste 10 jaar van exploitatie
B20: 5 Operationele voordelen | C20: Bepaal baten uit verkoop overtollige emissierechten onder EU-ETS 1 gedurende eerste 10 jaar van exploitatie
B21: 6 WACC | C21: Bepaal de Weighted Average Cost of Capital
B22: 7 Overige subsidies | C22: Bepaal de Europese subsidiebedragen die voor NIKI-project gebruikt worden
B23: CW operationele kasstromen | C23: Hier vindt de berekening van de contante waarde van de operationele kasstromen plaats.
B24: Vastgestelde parameters | C24: Dit zijn de in het model gebruikte vaste parameters en kan desgewenst worden geraadpleegd.

Sheet Benodigde subsidie
B1: Berekening benodigde subsidie NIKI
B3: Onderdelen | C3: Bedragen | D3: Opmerkingen
B4: Investeringskosten (capex) | C4: =+Investeringskosten -> 0 | D4: Dit is de som van alle investeringskosten, berekend in stap 2.
B5: CW jaarlijkse kasstromen | C5: =+CW_kasstroom -> #VALUE! | D5: Dit is de netto contante waarde van de jaarlijkse kasstromen over de levensduur van het project, berekend in stap 3-5. De kasstromen worden verdisconteerd met de WACC, berekend in stap 6.
B6: Overige (Europese) subsidies en fiscale voordelen | C6: =+Europese_Subsidie+Geschatte_totale_EIA -> 0 | D6: NB: in de berekening van benodigde subsidie worden reeds toegekende overige subsidies en fiscale voordelen afgetrokken. Indien er na indiening van de aanvraag voor NIKI-subsidie nog (aanvullende) toekenning van overige subsidies of fiscale voordelen EU subsidie volgt, dan zal dit worden gekort c.q. worden teruggevorderd op de toegekende NIKI-subsidie.
B7: Benodigde subsidie | C7: =+C4-SUM(C5,C6) -> #VALUE!

Sheet 1 Econ. levensduur
B1: Stap 1: Bepaal de economische levensduur
B3: • In dit blad bepaalt u het startjaar van het NIKI-project, het startjaar van de exploitatiefase en de verwachte economische levensduur.
B4: • Startjaar: Met de uitvoering van de investeringsactiviteiten wordt gestart binnen twaalf maanden na de beschikking tot subsidieverlening.
B5: • Start exploitatiefase: De subsidieontvanger neemt de NIKI-installatie of -installaties uiterlijk binnen vier jaar na de start van het NIKI-project in gebruik.
B6: • Verwachte economische levensduur: De totale economische levensduur is minimaal 20 jaar. Een economische levensduur van langer dan 30 jaar wordt in dit model begrensd op 30 jaar.
B9: Projectgegevens | C9: Waarde | D9: Onderbouwing in projectplan | E9: Waarschuwing
B10: Startjaar NIKI-project | C10: 2027 | E10: =IF(AND(start_realisatie<>"",OR(start_realisatie>subsidiejaar+1,start_realisatie<subsidiejaar)),"Start moet binnen 1 jaar na toekenning subsidie plaatsvinden","")
B11: Startjaar exploitatiefase | C11: 2031 | E11: =IF(OR(start_operatie>start_realisatie+4,start_operatie<start_realisatie),"Start exploitatiefase moet binnen 4 jaar na start NIKI-project zijn","")
B12: Verwachte economische levensduur | C12: 20 | E12: =IF(AND(start_realisatie<>0,_Econ_levensduur<20),"Levensduur is minimaal 20 jaar","")
B15: Relevante jaren voor stap 3 t/m 5 | C15: Jaar
B16: Subsidiejaar | C16: =subsidiejaar -> 2026
B17: Laatste exploitatiejaar waarvoor model extrapoleert | C17: =IF(+_Econ_levensduur>30,+start_operatie+29,start_operatie+_Econ_levensduur-1) -> 2050
B20: Vrije ruimte voor berekeningen, verdere toelichting en notities

Sheet 2 Investeringskosten
B1: Stap 2: Bepaal de investeringskosten
B3: • In dit blad bepaalt u de verwachte investeringskosten.
B4: • De opgevoerde investeringskosten dienen overeen te stemmen met de bedragen die in het projectplan zijn onderbouwd.
B5: • Het investeringsbedrag in gebouwen, infrastructuur en externe aansluitingen wordt bepaald op basis van de verhouding tussen de economische levensduur van de NIKI-installatie en de langere boekhoudkundige afschrijfperiode van deze investeringen.
B6: • Zie in stap 2 van de NIKI rekenmethode voor een lijst van toegestane en uitgesloten investeringskosten.
B8: Kostensoort | C8: Beschrijving van de investering | D8: ="Investeringskosten (tussen " & start_realisatie & " en " & start_operatie & ")" -> Investeringskosten (tussen 2027 en 2031) | E8: Onderbouwing in projectplan
B9: Totaal | C9: Som van alle investeringskosten | D9: =SUM($D$10:$D$208) -> 0

Sheet 3 Omzet
B1: Stap 3: Bepaal de marktprijs, de productie-output en de omzet
B3: • In dit blad bepaalt u de verwachte omzet gedurende eerste 10 jaar van exploitatie.
B4: • Bij ‘productinformatie’ geeft u aan welke eenheid van het product wordt gehanteerd voor de marktprijs en productieaantallen. Voorbeeld: bij een prijs van € 1.500 per 1.000 bio-kratten en een verkoop van 2.000 × 1.000 bio-kratten, vult u bij eenheid product “1.000 stuks” in, bij marktprijs “€ 1.500” en bij productieaantal “2.000”.
B5: • De jaarlijkse marktprijzen en productie-output moeten in overeenstemming zijn met de marktprijzen en productie-output die in het projectplan zijn onderbouwd.
B6: • De jaarlijkse productie-output dient consistent te zijn met de variabele exploitatiekosten in stap 4.
B7: • Let op dat de jaarlijkse productiehoeveelheden uit dit overzicht overeenkomen met de waarden uit het NIKI-rekenmodel CO2-emissiereductie.
B9: Productinformatie
B10: Productlabel | C10: Naam product | D10: Beschrijving product | G10: Eenheid product | H10: Referentie product | J10: Referentie marktprijs | K10: Onderbouwing in projectplan (marktprijs en productie-aantallen)
B33: Marktprijzen (€ per eenheid product) | E33: Exploitatiejaar 1 | F33: Exploitatiejaar 2 | G33: Exploitatiejaar 3 | H33: Exploitatiejaar 4 | I33: Exploitatiejaar 5 | J33: Exploitatiejaar 6 | K33: Exploitatiejaar 7 | L33: Exploitatiejaar 8 | M33: Exploitatiejaar 9 | N33: Exploitatiejaar 10
B34: Productlabel | C34: Naam product | D34: Eenheid product | E34: =start_operatie -> 2031 | F34: =E34+1 -> 2032 | G34: =F34+1 -> 2033 | H34: =G34+1 -> 2034 | I34: =H34+1 -> 2035 | J34: =I34+1 -> 2036 | K34: =J34+1 -> 2037 | L34: =K34+1 -> 2038 | M34: =L34+1 -> 2039 | N34: =M34+1 -> 2040
B35: =IF(B11<>"",B11,"") | C35: =IF(C11<>"",C11,"") | D35: =IF(G11<>"",G11,"")
B36: =IF(B12<>"",B12,"") | C36: =IF(C12<>"",C12,"") | D36: =IF(G12<>"",G12,"")
B37: =IF(B13<>"",B13,"") | C37: =IF(C13<>"",C13,"") | D37: =IF(G13<>"",G13,"")
B38: =IF(B14<>"",B14,"") | C38: =IF(C14<>"",C14,"") | D38: =IF(G14<>"",G14,"")
B39: =IF(B15<>"",B15,"") | C39: =IF(C15<>"",C15,"") | D39: =IF(G15<>"",G15,"")
B40: =IF(B16<>"",B16,"") | C40: =IF(C16<>"",C16,"") | D40: =IF(G16<>"",G16,"")
B41: =IF(B17<>"",B17,"") | C41: =IF(C17<>"",C17,"") | D41: =IF(G17<>"",G17,"")
B42: =IF(B18<>"",B18,"") | C42: =IF(C18<>"",C18,"") | D42: =IF(G18<>"",G18,"")
B43: =IF(B19<>"",B19,"") | C43: =IF(C19<>"",C19,"") | D43: =IF(G19<>"",G19,"")
B44: =IF(B20<>"",B20,"") | C44: =IF(C20<>"",C20,"") | D44: =IF(G20<>"",G20,"")
B45: =IF(B21<>"",B21,"") | C45: =IF(C21<>"",C21,"") | D45: =IF(G21<>"",G21,"")
B46: =IF(B22<>"",B22,"") | C46: =IF(C22<>"",C22,"") | D46: =IF(G22<>"",G22,"")
... B54: =IF(B30<>"",B30,"") | C54: =IF(C30<>"",C30,"") | D54: =IF(G30<>"",G30,"")
B57: Productieaantallen (= aantal van eenheid product) | E57: Exploitatie jaar 1 | F57: Exploitatie jaar 2 | G57: Exploitatie jaar 3 | H57: Exploitatie jaar 4 | I57: Exploitatie jaar 5 | J57: Exploitatie jaar 6 | K57: Exploitatie jaar 7 | L57: Exploitatie jaar 8 | M57: Exploitatie jaar 9 | N57: Exploitatie jaar 10
B58: Productlabel | C58: Naam product | D58: Eenheid product | E58: =start_operatie -> 2031 | F58: =E58+1 -> 2032 | G58: =F58+1 -> 2033 | H58: =G58+1 -> 2034 | I58: =H58+1 -> 2035 | J58: =I58+1 -> 2036 | K58: =J58+1 -> 2037 | L58: =K58+1 -> 2038 | M58: =L58+1 -> 2039 | N58: =M58+1 -> 2040
B59: =IF(B11<>"",B11,"") | C59: =IF(C11<>"",C11,"") | D59: =IF(G11<>"",G11,"")
B60: =IF(B12<>"",B12,"") | C60: =IF(C12<>"",C12,"") | D60: =IF(G12<>"",G12,"")
B61: =IF(B13<>"",B13,"") | C61: =IF(C13<>"",C13,"") | D61: =IF(G13<>"",G13,"")
B62: =IF(B14<>"",B14,"") | C62: =IF(C14<>"",C14,"") | D62: =IF(G14<>"",G14,"")
B63: =IF(B15<>"",B15,"") | C63: =IF(C15<>"",C15,"") | D63: =IF(G15<>"",G15,"")
B64: =IF(B16<>"",B16,"") | C64: =IF(C16<>"",C16,"") | D64: =IF(G16<>"",G16,"")
B65: =IF(B17<>"",B17,"") | C65: =IF(C17<>"",C17,"") | D65: =IF(G17<>"",G17,"")
B66: =IF(B18<>"",B18,"") | C66: =IF(C18<>"",C18,"") | D66: =IF(G18<>"",G18,"")
B67: =IF(B19<>"",B19,"") | C67: =IF(C19<>"",C19,"") | D67: =IF(G19<>"",G19,"")
B68: =IF(B20<>"",B20,"") | C68: =IF(C20<>"",C20,"") | D68: =IF(G20<>"",G20,"")
B69: =IF(B21<>"",B21,"") | C69: =IF(C21<>"",C21,"") | D69: =IF(G21<>"",G21,"")
B70: =IF(B22<>"",B22,"") | C70: =IF(C22<>"",C22,"") | D70: =IF(G22<>"",G22,"")
... B78: =IF(B30<>"",B30,"") | C78: =IF(C30<>"",C30,"") | D78: =IF(G30<>"",G30,"")
B81: Omzet | E81: Exploitatie jaar 1 | F81: Exploitatie jaar 2 | G81: Exploitatie jaar 3 | H81: Exploitatie jaar 4 | I81: Exploitatie jaar 5 | J81: Exploitatie jaar 6 | K81: Exploitatie jaar 7 | L81: Exploitatie jaar 8 | M81: Exploitatie jaar 9 | N81: Exploitatie jaar 10
B82: Productlabel | C82: Naam product | D82: Eenheid product | E82: =start_operatie -> 2031 | F82: =E82+1 -> 2032 | G82: =F82+1 -> 2033 | H82: =G82+1 -> 2034 | I82: =H82+1 -> 2035 | J82: =I82+1 -> 2036 | K82: =J82+1 -> 2037 | L82: =K82+1 -> 2038 | M82: =L82+1 -> 2039 | N82: =M82+1 -> 2040
...

Sheet 4a Exploitatiekosten
B1: Stap 4a: Bepaal de exploitatiekosten
B3: • In dit blad bepaalt u de verwachte exploitatiekosten gedurende eerste 10 jaar van exploitatie, exclusief energiekosten. De energiekosten worden bepaald in blad 4b.
B4: • Raadpleeg stap 4 van de NIKI rekenmethode voor een overzicht van toegestane en uitgesloten exploitatiekosten.
B5: • U geeft de vennootschapsbelasting op exclusief aftrek van eventuele Energie-investeringsaftrek (EIA). De EIA geeft u op in stap 7.
B6: • De variabele exploitatiekosten dienen consistent te zijn met productie-output stap 3.
B7: • De opgevoerde bedragen dienen consistent te zijn met de onderbouwing in projectplan.
B8: • Let op dat de jaarlijkse hoeveelheden aan grond-/afvalstoffen en materialen die worden meegenomen in de kostenberekening overeenkomen met waarden uit het NIKI-rekenmodel CO2-emissiereductie.
B10: Exploitatiekosten per jaar | D10: Exploitatiejaar 1 | E10: Exploitatiejaar 2 | F10: Exploitatiejaar 3 | G10: Exploitatiejaar 4 | H10: Exploitatiejaar 5 | I10: Exploitatiejaar 6 | J10: Exploitatiejaar 7 | K10: Exploitatiejaar 8 | L10: Exploitatiejaar 9 | M10: Exploitatiejaar 10
B11: Kostensoort | C11: Beschrijving kostenpost | D11: =start_operatie -> 2031 | E11: =D11+1 -> 2032 | F11: =E11+1 -> 2033 | G11: =F11+1 -> 2034 | H11: =G11+1 -> 2035 | I11: =H11+1 -> 2036 | J11: =I11+1 -> 2037 | K11: =J11+1 -> 2038 | L11: =K11+1 -> 2039 | M11: =L11+1 -> 2040 | N11: Onderbouwing in projectplan
B12: TOTAAL | D12: =SUM(D13:D212) -> 0 | E12: =SUM(E13:E212) -> 0 | F12: =SUM(F13:F212) -> 0 | G12: =SUM(G13:G212) -> 0 | H12: =SUM(H13:H212) -> 0 | I12: =SUM(I13:I212) -> 0 | J12: =SUM(J13:J212) -> 0 | K12: =SUM(K13:K212) -> 0 | ... M12: =SUM(M13:M212) -> 0

Sheet 4b Energiekosten
B1: Stap 4b: Bepaal de energiekosten
B3: • In dit tabblad bepaalt u de energiegerelateerde kosten. U vult alle relevante groene cellen in: kosten voor energie, energiebelasting, netwerkkosten en eventuele kosten voor CO2-uitstoot onder ETS2.
B4: • Gebruikt u een energiedrager die niet in deze tabel staat? Dan hanteert u een eigen tarief en onderbouwt u uw keuze. Let op dat u dan zelf de verbruiken moet vermenigvuldigen met de kostprijs per eenheid.
B5: • Voor de energiebelasting rekent u zelf uit in welke schijf/schijven uw verbruik valt. U maakt u gebruik van het marginale belastingtarief indien er meer verbruikers dan alleen de NIKI-installatie zijn aangesloten op dezelfde aansluiting.
B6: • In dit tabblad rekent u alleen CO2-kosten als u niet onder het Europees emissiehandelssysteem voor grote uitstoters valt (ETS1). U valt dan via uw energieleverancier automatisch onder het handelssysteem voor kleinere uitstoters (ETS2). In dat geval dient u zelf uit te rekenen hoeveel de CO2-uitstoot bedraagt van de brandstoffen die u gebruikt. ETS2 geldt niet voor elektriciteit of stoom, maar alleen voor koolstofhoudende brandstoffen. De CO2-uitstoot voert u op in regel 39-41, waarbij u voor de emissiefactoren gebruik maakt van de meest recente versie van de "Nederlandse lijst van energiedragers en standaard CO2 emissiefactoren", te vinden op de website van RVO. Het rekenblad rekent dan automatisch uit hoeveel uw CO2-kosten per jaar bedragen en geeft dit weer op regel 92-94. Indien u al onder het ETS1 valt, hoeft u hier dus geen kosten voor CO2-uitstoot op te voeren.
B7: • De netbeheerderskosten voor elektriciteit voert u in op regel 35. U rekent daarbij zelf uit hoeveel u met uw aansluiting per jaar denkt te gaan gebruiken en welke kosten daarmee gepaard gaan, uitgaande van de tarieven die uw netbeheerder hanteert voor 2025. De regeling schrijft een jaarlijkse indexering van de netkosten voor, deze vindt automatisch plaats in dit rekenblad op regel 88. U hoeft dit dus niet zelf te doen.
B8: • Als u warmte inkoopt (stoom, stadswarmte, thermische olie etc.), dan dient u het voorgeschreven tarief voor warmte te gebruiken, zoals weergegeven op regel 65 van dit rekenblad. Het is niet toegestaan om een eigen tarief te hanteren. Daarnaast dient u de netto hoeveelheid ingekochte warmte op te geven, dus na aftrek van eventuele warmte in de retourstroom. Voor condensaat baseert u dit op een eigen meting of, indien deze niet beschikbaar is, op standaardcondities (vloeistof op 90°C, atmosferische druk).
B9: • Let op dat de jaarlijkse hoeveelheden aan energie die worden meegenomen in de kostenberekening, overeenkomen met waarden uit het NIKI-rekenmodel CO2-emissiereductie en met de opgave/onderbouwing van de exploitatiekosten in het projectplan.
B11: Energieverbruik | E11: Exploitatiejaar 1 | F11: Exploitatiejaar 2 | G11: Exploitatiejaar 3 | H11: Exploitatiejaar 4 | I11: Exploitatiejaar 5 | J11: Exploitatiejaar 6 | K11: Exploitatiejaar 7 | L11: Exploitatiejaar 8 | M11: Exploitatiejaar 9 | N11: Exploitatiejaar 10
B12: Kostensoort | C12: Kostenpost | D12: Eenheid | E12: =start_operatie -> 2031 | F12: =E12+1 -> 2032 | G12: =F12+1 -> 2033 | H12: =G12+1 -> 2034 | I12: =H12+1 -> 2035 | J12: =I12+1 -> 2036 | K12: =J12+1 -> 2037 | L12: =K12+1 -> 2038 | M12: =L12+1 -> 2039 | N12: =M12+1 -> 2040 | O12: Onderbouwing in projectplan
B13: Gas | C13: Gasverbruik | D13: m3/j
B14: Elektriciteit | C14: Elektriciteitsverbruik | D14: kWh/j
B15: Warmte | C15: Warmteverbruik | D15: GJ/j
B16: Kolen | C16: Kolenverbruik | D16: ton/j
B17: Aardolie | C17: Aardolieverbruik | D17: vaten/j
B19: Energiebelasting | E19: Exploitatiejaar 1 | F19: Exploitatiejaar 2 | G19: Exploitatiejaar 3 | H19: Exploitatiejaar 4 | I19: Exploitatiejaar 5 | J19: Exploitatiejaar 6 | K19: Exploitatiejaar 7 | L19: Exploitatiejaar 8 | M19: Exploitatiejaar 9 | N19: Exploitatiejaar 10
B20: Kostensoort | C20: Kostenpost | D20: Eenheid | E20: =start_operatie -> 2031 | F20: =E20+1 -> 2032 | G20: =F20+1 -> 2033 | H20: =G20+1 -> 2034 | I20: =H20+1 -> 2035 | J20: =I20+1 -> 2036 | K20: =J20+1 -> 2037 | L20: =K20+1 -> 2038 | M20: =L20+1 -> 2039 | N20: =M20+1 -> 2040 | O20: Onderbouwing in projectplan
B21: Energiebelasting gas | C21: Tarief 1e schijf (0 - 1.000 m3) | D21: m3/j
B22: Energiebelasting gas | C22: Tarief 2e schijf (1.001 - 170.000 m3) | D22: m3/j
B23: Energiebelasting gas | C23: Tarief 3e schijf (170.001 - 1.000.000 m3) | D23: m3/j
B24: Energiebelasting gas | C24: Tarief 4e schijf (1.000.001 - 10.000.000 m3) | D24: m3/j
B25: Energiebelasting gas | C25: Tarief 5e schijf (>10.000.000 m3) | D25: m3/j
B26: Energiebelasting elektriciteit | C26: Tarief 1e schijf (0 - 2.900 kWh) | D26: kWh/j
B27: Energiebelasting elektriciteit | C27: Tarief 2e schijf (2.901 - 10.000 kWh) | D27: kWh/j
B28: Energiebelasting elektriciteit | C28: Tarief 3e schijf (10.001 - 50.000 kWh) | D28: kWh/j
B29: Energiebelasting elektriciteit | C29: Tarief 4e schijf (50.001 - 10.000.000 kWh) | D29: kWh/j
B30: Energiebelasting elektriciteit | C30: Tarief 5e schijf (>10.000.000 kWh) | D30: kWh/j
B31: =IF(SUM(E13:N13)<>SUM(E21:N25),"Maak de som van de belastingen gelijk aan de som van het gasverbruik","") & IF(AND(SUM(E13:N13)<>SUM(E21:N25), SUM(E14:N14)<>SUM(E26:N30)),CHAR(10),"") & IF(SUM(E14:N14)<>SUM(E26:N30),"Maak de som van de belastingen gelijk aan de som van het elektriciteitsverbruik","")
B33: Nettarief elektriciteit (obv netbeheerderstarieven 2025)
B34: Kostensoort | C34: Kostenpost | D34: Eenheid | E34: =start_operatie -> 2031 | F34: =E34+1 -> 2032 | G34: =F34+1 -> 2033 | H34: =G34+1 -> 2034 | I34: =H34+1 -> 2035 | J34: =I34+1 -> 2036 | K34: =J34+1 -> 2037 | L34: =K34+1 -> 2038 | M34: =L34+1 -> 2039 | N34: =M34+1 -> 2040 | O34: Onderbouwing in projectplan
B35: Netkosten elektriciteit | C35: Netbeheerderskosten | D35: €/j
B37: CO2 emissies | E37: Exploitatiejaar 1 | F37: Exploitatiejaar 2 | G37: Exploitatiejaar 3 | H37: Exploitatiejaar 4 | I37: Exploitatiejaar 5 | J37: Exploitatiejaar 6 | K37: Exploitatiejaar 7 | L37: Exploitatiejaar 8 | M37: Exploitatiejaar 9 | N37: Exploitatiejaar 10
B38: Kostensoort | C38: Kostenpost | D38: Eenheid | E38: =start_operatie -> 2031 | F38: =E38+1 -> 2032 | G38: =F38+1 -> 2033 | H38: =G38+1 -> 2034 | I38: =H38+1 -> 2035 | J38: =I38+1 -> 2036 | K38: =J38+1 -> 2037 | L38: =K38+1 -> 2038 | M38: =L38+1 -> 2039 | N38: =M38+1 -> 2040 | O38: Onderbouwing in projectplan
B39: CO2-uitstoot door gas | C39: Let op: alleen voor ETS2! | D39: ton CO2/j
B40: CO2-uitstoot door kolen | C40: Let op: alleen voor ETS2! | D40: ton CO2/j
B41: CO2-uitstoot door olie | C41: Let op: alleen voor ETS2! | D41: ton CO2/j
B43: Overig energieverbruik | E43: Exploitatie jaar 1 | F43: Exploitatie jaar 2 | G43: Exploitatie jaar 3 | H43: Exploitatie jaar 4 | I43: Exploitatie jaar 5 | J43: Exploitatie jaar 6 | K43: Exploitatie jaar 7 | L43: Exploitatie jaar 8 | M43: Exploitatie jaar 9 | N43: Exploitatie jaar 10
B44: Kostensoort | C44: Kostenpost | D44: Eenheid | E44: =start_operatie -> 2031 | F44: =E44+1 -> 2032 | G44: =F44+1 -> 2033 | H44: =G44+1 -> 2034 | I44: =H44+1 -> 2035 | J44: =I44+1 -> 2036 | K44: =J44+1 -> 2037 | L44: =K44+1 -> 2038 | M44: =L44+1 -> 2039 | N44: =M44+1 -> 2040 | O44: Onderbouwing in projectplan
B45: Overig energieverbruik | D45: eenheid/j
B46: Overig energieverbruik | D46: eenheid/j
...

Sheet 5 Operationele voordelen
B1: Stap 5: Bepaal de operationele baten uit de verkoop van CO2-rechten
B3: • In dit tabblad worden de operationele baten berekend uit de verkoop van overtollige emissierechten onder EU ETS 1.
B4: • Alleen de baten worden meegenomen in de berekening van de benodigde subsidie. Eventuele kosten die u heeft voor het EU ETS 1 zijn niet subsidiabel.
B5: • Geef op of het NIKI-proces onder het EU ETS valt. Dit is het geval als het proces voldoet aan de deelnamecriteria van het EU ETS 1, zoals vastgelegd in Annex I van richtlijn 2003/87/EC.
B6: • Indien u via uw energieleverancier deelneemt aan het emissiehandelssysteem voor kleinere uitstoters (ETS2), dan vult u hier 'Nee' in.
B7: • Valt uw proces niet onder het EU ETS 1? Dan vult u hieronder een onderbouwing in waarom dat zo is en bent u klaar met dit tabblad.
B8: • Valt uw proces wel onder het EU ETS 1? Dan vult u in de groene cellen in hoeveel de toerekenbare uitstoot per jaar bedraagt en hoeveel gratis uitstootrechten u verwacht te gaan ontvangen. U dient dit zelf te berekenen en te onderbouwen.
B9: • De uitstoot moet in lijn zijn met de productiedata, energieverbruiken etc. die u heeft opgegeven in het NIKI rekenmodel CO2-emissiereductie en stap 4b.
B10: • De hoeveelheid gratis uitstootrechten moet stroken met het afbouwpad zoals beschreven in de tabel.
B11: • U dient uw keuzes te onderbouwen in het tekstveld hieronder.
B13: Valt het NIKI-proces onder het EU ETS? | C13: -
D15: Exploitatiejaar 1 | E15: Exploitatiejaar 2 | F15: Exploitatiejaar 3 | G15: Exploitatiejaar 4 | H15: Exploitatiejaar 5 | I15: Exploitatiejaar 6 | J15: Exploitatiejaar 7 | K15: Exploitatiejaar 8 | L15: Exploitatiejaar 9 | M15: Exploitatiejaar 10
B16: Label | C16: Eenheid | D16: =start_operatie -> 2031 | E16: =D16+1 -> 2032 | F16: =E16+1 -> 2033 | G16: =F16+1 -> 2034 | H16: =G16+1 -> 2035 | I16: =H16+1 -> 2036 | J16: =I16+1 -> 2037 | K16: =J16+1 -> 2038 | L16: =K16+1 -> 2039 | M16: =L16+1 -> 2040 | N16: Onderbouwing in projectplan
B17: Uitstoot toerekenbaar onder EU ETS 1 | C17: t CO2/j
B18: Te ontvangen gratis uitstootrechten EU ETS 1 | C18: t CO2/j
B19: Afbouwpad vrije allocatie EU ETS 1, t.o.v. 2025 | C19: % | D19: =_xlfn.XLOOKUP(D$16,'Vastgestelde parameters'!$F$24:$Z$24,'Vastgestelde parameters'!$F$26:$Z$26,,0) -> 0.6 | E19: =_xlfn.XLOOKUP(E$16,'Vastgestelde parameters'!$F$24:$Z$24,'Vastgestelde parameters'!$F$26:$Z$26,,0) -> 0.53333333 | F19: =_xlfn.XLOOKUP(F$16,'Vastgestelde parameters'!$F$24:$Z$24,'Vastgestelde parameters'!$F$26:$Z$26,,0) -> 0.46666667 | G19: =_xlfn.XLOOKUP(G$16,'Vastgestelde parameters'!$F$24:$Z$24,'Vastgestelde parameters'!$F$26:$Z$26,,0) -> 0.4 | H19: =_xlfn.XLOOKUP(H$16,'Vastgestelde parameters'!$F$24:$Z$24,'Vastgestelde parameters'!$F$26:$Z$26,,0) -> 0.33333333 | I19: =_xlfn.XLOOKUP(I$16,'Vastgestelde parameters'!$F$24:$Z$24,'Vastgestelde parameters'!$F$26:$Z$26,,0) -> 0.26666667 | J19: =_xlfn.XLOOKUP(J$16,'Vastgestelde parameters'!$F$24:$Z$24,'Vastgestelde parameters'!$F$26:$Z$26,,0) -> 0.2 | K19: =_xlfn.XLOOKUP(K$16,'Vastgestelde parameters'!$F$24:$Z$24,'Vastgestelde parameters'!$F$26:$Z$26,,0) -> 0.13333333 | ... M19: =_xlfn.XLOOKUP(M$16,'Vastgestelde parameters'!$F$24:$Z$24,'Vastgestelde parameters'!$F$26:$Z$26,,0) -> 0
B20: Netto te verkopen rechten | C20: t CO2/j | D20: =MAX(D18-D17,0) -> 0 | E20: =MAX(E18-E17,0) -> 0 | F20: =MAX(F18-F17,0) -> 0 | G20: =MAX(G18-G17,0) -> 0 | H20: =MAX(H18-H17,0) -> 0 | I20: =MAX(I18-I17,0) -> 0 | J20: =MAX(J18-J17,0) -> 0 | K20: =MAX(K18-K17,0) -> 0 | ... M20: =MAX(M18-M17,0) -> 0
B21: Prijs uitstootrechten EU ETS 1 | C21: €/t CO2 | D21: =_xlfn.XLOOKUP(D$16,'Vastgestelde parameters'!$F$24:$Z$24,'Vastgestelde parameters'!$F$25:$Z$25,,0) -> 124.61 | E21: =_xlfn.XLOOKUP(E$16,'Vastgestelde parameters'!$F$24:$Z$24,'Vastgestelde parameters'!$F$25:$Z$25,,0) -> 131.39 | F21: =_xlfn.XLOOKUP(F$16,'Vastgestelde parameters'!$F$24:$Z$24,'Vastgestelde parameters'!$F$25:$Z$25,,0) -> 138.61 | G21: =_xlfn.XLOOKUP(G$16,'Vastgestelde parameters'!$F$24:$Z$24,'Vastgestelde parameters'!$F$25:$Z$25,,0) -> 146.27 | H21: =_xlfn.XLOOKUP(H$16,'Vastgestelde parameters'!$F$24:$Z$24,'Vastgestelde parameters'!$F$25:$Z$25,,0) -> 154.26 | I21: =_xlfn.XLOOKUP(I$16,'Vastgestelde parameters'!$F$24:$Z$24,'Vastgestelde parameters'!$F$25:$Z$25,,0) -> 162.79 | J21: =_xlfn.XLOOKUP(J$16,'Vastgestelde parameters'!$F$24:$Z$24,'Vastgestelde parameters'!$F$25:$Z$25,,0) -> 171.76 | K21: =_xlfn.XLOOKUP(K$16,'Vastgestelde parameters'!$F$24:$Z$24,'Vastgestelde parameters'!$F$25:$Z$25,,0) -> 181.17 | ... M21: =_xlfn.XLOOKUP(M$16,'Vastgestelde parameters'!$F$24:$Z$24,'Vastgestelde parameters'!$F$25:$Z$25,,0) -> 201.63
B22: Baten EU ETS 1 | C22: €/j | D22: =IF($C$13="Nee",0,D20*D21) -> 0 | E22: =IF($C$13="Nee",0,E20*E21) -> 0 | F22: =IF($C$13="Nee",0,F20*F21) -> 0 | G22: =IF($C$13="Nee",0,G20*G21) -> 0 | H22: =IF($C$13="Nee",0,H20*H21) -> 0 | I22: =IF($C$13="Nee",0,I20*I21) -> 0 | J22: =IF($C$13="Nee",0,J20*J21) -> 0 | K22: =IF($C$13="Nee",0,K20*K21) -> 0 | ... M22: =IF($C$13="Nee",0,M20*M21) -> 0
B24: Vrije ruimte voor berekeningen, verdere toelichting en notities

Sheet 6 WACC
B1: Stap 6: Bepaal de WACC (Weighted Average Cost of Capital)
B3: • In dit blad bepaalt u de verwachte Weighted Average Cost of Capital.
B4: • De Risk free rate, Equity Risk Premium en Tax rate zijn reeds door RVO vastgesteld. De overige onderdelen dient de aanvrager te bepalen conform stap 6 van de NIKI rekenmethode.
B5: • De opgave bij Equity, Debt, Unlevered beta en Debt premium dienen overeen te stemmen met onderbouwing in projectplan.
B6: • Indien de aanvrager heeft bepaald dat de Debt premium 2,0% bedraagt, dan dient in dit blad eveneens 2,0% ingevuld te worden (de opgave is dus niet in basispunten).
B7: • De volgende formule wordt gebruikt om de WACC te berekenen:
B10: E = equity, D = debt, rf = risk-free rate, β = equity beta, ERP = equity risk premium, DP = debt premium and T = tax rate
B12: WACC components | C12: Waarde | D12: Onderbouwing in projectplan
B13: E = Equity
B14: D = Debt
B15: Unlevered beta
B16: DP = Debt premium
B17: rf = Risk free rate | C17: =RiskFreeRate -> 0.031 | D17: RVO
B18: ERP = Equity Risk Premium | C18: =ERP -> 0.055 | D18: RVO
B19: T = Tax rate | C19: =tax_rate -> 0.258 | D19: RVO
B21: WACC calculation | C21: Resultaat | D21: Formula
B22: β = equity beta | C22: =IF(C15<>"", C15*(1+C14/C13*(1-C19)), "")
B23: E/(D+E) | C23: =IF(C13<>"", C13/(C13+C14),"")
B24: Cost of Equity | C24: =IF(C22<>"", C17+C22*C18,) -> 0
B25: D/(D+E) | C25: =IF(C14<>"", C14/(C13+C14),"")
B26: Cost of Debt (after tax) | C26: =(C17+C16)*(1-C19) -> 0.023002
B27: WACC | C27: =C24*C23+C26*C25 -> #VALUE!
B29: Vrije ruimte voor berekeningen, verdere toelichting en notities

Sheet 7 Overige subsidies 
B1: Stap 7: Overige (Europese) subsidies en fiscale voordelen
B3: • In dit blad bepaalt u hoeveel u gebruik maakt van overige (Europese) subsidies of Nederlandse fiscale voordelen, zoals de Energie-investeringsaftrek (EIA), voor zover deze samenhangt met (onderdelen van) het NIKI-project . De NIKI kan niet gecombineerd worden met andere nationale subsidieregelingen.
B4: • U dient aan te geven welke status de subsidie heeft. Toegekende subsidies worden meegenomen in de berekening van benodigde subsidie in deze sheet. Nog niet toegekende subsidies worden niet meegenomen in de berekening van benodigde subsidie in deze sheet. Indien een subsidie wordt toegekend na het indienen van de NIKI-aanvraag, wordt bij de vaststelling van de NIKI-subsidie het bedrag van de subsidie in mindering gebracht op de benodigde subsidie.
B5: • U dient aan te geven welke status de EIA heeft. Zowel vastgestelde als nog niet vastgestelde EIA worden meegenomen in de berekening van de benodigde subsidie in deze sheet. Indien een hogere EIA wordt vastgesteld na indienen van de NIKI-aanvraag, wordt bij de vaststelling van de NIKI-subsidie het bedrag van deze EIA-vaststelling in mindering gebracht op de benodigde subsidie.
B7: Naam subsidie | C7: Status (toegekend/nog niet toegekend) | D7: Bedrag | E7: Onderbouwing in projectplan
B20: Toegekende subsidies | D20: =SUMIF($C$8:$C$19,"Toegekend",$D$8:$D$19) -> 0
B21: Nog niet toegekende subsidies | D21: =SUMIF($C$8:$C$19,"Nog niet toegekend",$D$8:$D$19) -> 0
B23: EIA | C23: Status (vastgesteld/nog niet vastgesteld) | D23: Bedrag | E23: Onderbouwing in projectplan
B36: Vastgestelde EIA | D36: =SUMIF($C$24:$C$35,"Vastgesteld",$D$24:$D$35) -> 0
B37: Nog niet vastgestelde EIA | D37: =SUMIF($C$24:$C$35,"Nog niet vastgesteld",$D$24:$D$35) -> 0
B38: (Geschatte) totale EIA | D38: =SUM(D36:D37) -> 0
B40: Vrije ruimte voor berekeningen, verdere toelichting en notities

Sheet CW operationele kasstromen
B1: Berekening contante waarde operationele kasstromen
D2: Exploitatiejaar 1 | E2: Exploitatiejaar 2 | F2: Exploitatiejaar 3 | G2: Exploitatiejaar 4 | H2: Exploitatiejaar 5 | I2: Exploitatiejaar 6 | J2: Exploitatiejaar 7 | K2: Exploitatiejaar 8 | L2: Exploitatiejaar 9 | M2: Exploitatiejaar 10 | N2: Exploitatiejaar 11 | O2: Exploitatiejaar 12 | P2: Exploitatiejaar 13 | Q2: Exploitatiejaar 14 | R2: Exploitatiejaar 15 | S2: Exploitatiejaar 16 | T2: Exploitatiejaar 17 | U2: Exploitatiejaar 18 | V2: Exploitatiejaar 19 | W2: Exploitatiejaar 20 | X2: Exploitatiejaar 21 | Y2: Exploitatiejaar 22 | Z2: Exploitatiejaar 23 | AA2: Exploitatiejaar 24 | AB2: Exploitatiejaar 25 | AC2: Exploitatiejaar 26 | AD2: Exploitatiejaar 27 | AE2: Exploitatiejaar 28 | AF2: Exploitatiejaar 29 | AG2: Exploitatiejaar 30
B3: Jaarlijkse kasstromen, eerste 10 jaar | D3: =start_operatie -> 2031 | E3: =D3+1 -> 2032 | F3: =E3+1 -> 2033 | G3: =F3+1 -> 2034 | H3: =G3+1 -> 2035 | I3: =H3+1 -> 2036 | J3: =I3+1 -> 2037 | K3: =J3+1 -> 2038 | L3: =K3+1 -> 2039 | ... AG3: =AF3+1 -> 2060
B4: Omzet | D4: =+'3 Omzet'!E103 -> 0 | E4: =+'3 Omzet'!F103 -> 0 | F4: =+'3 Omzet'!G103 -> 0 | G4: =+'3 Omzet'!H103 -> 0 | H4: =+'3 Omzet'!I103 -> 0 | I4: =+'3 Omzet'!J103 -> 0 | J4: =+'3 Omzet'!K103 -> 0 | K4: =+'3 Omzet'!L103 -> 0 | ... M4: =+'3 Omzet'!N103 -> 0
B5: Exploitatiekosten | D5: =-'4a Exploitatiekosten'!D12 -> 0 | E5: =-'4a Exploitatiekosten'!E12 -> 0 | F5: =-'4a Exploitatiekosten'!F12 -> 0 | G5: =-'4a Exploitatiekosten'!G12 -> 0 | H5: =-'4a Exploitatiekosten'!H12 -> 0 | I5: =-'4a Exploitatiekosten'!I12 -> 0 | J5: =-'4a Exploitatiekosten'!J12 -> 0 | K5: =-'4a Exploitatiekosten'!K12 -> 0 | ... M5: =-'4a Exploitatiekosten'!M12 -> 0
B6: Energiekosten | D6: =-'4b Energiekosten'!E99 -> 0 | E6: =-'4b Energiekosten'!F99 -> 0 | F6: =-'4b Energiekosten'!G99 -> 0 | G6: =-'4b Energiekosten'!H99 -> 0 | H6: =-'4b Energiekosten'!I99 -> 0 | I6: =-'4b Energiekosten'!J99 -> 0 | J6: =-'4b Energiekosten'!K99 -> 0 | K6: =-'4b Energiekosten'!L99 -> 0 | ... M6: =-'4b Energiekosten'!N99 -> 0
B7: Operationele baten | D7: =+'5 Operationele voordelen'!D22 -> 0 | E7: =+'5 Operationele voordelen'!E22 -> 0 | F7: =+'5 Operationele voordelen'!F22 -> 0 | G7: =+'5 Operationele voordelen'!G22 -> 0 | H7: =+'5 Operationele voordelen'!H22 -> 0 | I7: =+'5 Operationele voordelen'!I22 -> 0 | J7: =+'5 Operationele voordelen'!J22 -> 0 | K7: =+'5 Operationele voordelen'!K22 -> 0 | ... M7: =+'5 Operationele voordelen'!M22 -> 0
B8: Operationele kasstroom | D8: =SUM(D4:D7) -> 0 | E8: =SUM(E4:E7) -> 0 | F8: =SUM(F4:F7) -> 0 | G8: =SUM(G4:G7) -> 0 | H8: =SUM(H4:H7) -> 0 | I8: =SUM(I4:I7) -> 0 | J8: =SUM(J4:J7) -> 0 | K8: =SUM(K4:K7) -> 0 | ... M8: =SUM(M4:M7) -> 0
B9: Operationele kasstroom, extrapolatie | N9: =_xlfn.FORECAST.LINEAR(N3, $I8:$M8, $I3:$M3) -> 0 | O9: =_xlfn.FORECAST.LINEAR(O3, $I8:$M8, $I3:$M3) -> 0 | P9: =_xlfn.FORECAST.LINEAR(P3, $I8:$M8, $I3:$M3) -> 0 | Q9: =_xlfn.FORECAST.LINEAR(Q3, $I8:$M8, $I3:$M3) -> 0 | R9: =_xlfn.FORECAST.LINEAR(R3, $I8:$M8, $I3:$M3) -> 0 | S9: =_xlfn.FORECAST.LINEAR(S3, $I8:$M8, $I3:$M3) -> 0 | T9: =_xlfn.FORECAST.LINEAR(T3, $I8:$M8, $I3:$M3) -> 0 | U9: =_xlfn.FORECAST.LINEAR(U3, $I8:$M8, $I3:$M3) -> 0 | ... X9: =_xlfn.FORECAST.LINEAR(X3, $I8:$M8, $I3:$M3) -> 0 | Y9: =IF(Y3<=Laatste_exploitatiejaar,_xlfn.FORECAST.LINEAR(Y3, $I8:$M8, $I3:$M3),"") | Z9: =IF(Z3<=Laatste_exploitatiejaar,_xlfn.FORECAST.LINEAR(Z3, $I8:$M8, $I3:$M3),"") | AA9: =IF(AA3<=Laatste_exploitatiejaar,_xlfn.FORECAST.LINEAR(AA3, $I8:$M8, $I3:$M3),"") | AB9: =IF(AB3<=Laatste_exploitatiejaar,_xlfn.FORECAST.LINEAR(AB3, $I8:$M8, $I3:$M3),"") | AC9: =IF(AC3<=Laatste_exploitatiejaar,_xlfn.FORECAST.LINEAR(AC3, $I8:$M8, $I3:$M3),"") | AD9: =IF(AD3<=Laatste_exploitatiejaar,_xlfn.FORECAST.LINEAR(AD3, $I8:$M8, $I3:$M3),"") | AE9: =IF(AE3<=Laatste_exploitatiejaar,_xlfn.FORECAST.LINEAR(AE3, $I8:$M8, $I3:$M3),"") | AF9: =IF(AF3<=Laatste_exploitatiejaar,_xlfn.FORECAST.LINEAR(AF3, $I8:$M8, $I3:$M3),"") | AG9: =IF(AG3<=Laatste_exploitatiejaar,_xlfn.FORECAST.LINEAR(AG3, $I8:$M8, $I3:$M3),"")
B12: CW berekening: | D12: =start_operatie -> 2031 | E12: =D12+1 -> 2032 | F12: =E12+1 -> 2033 | G12: =F12+1 -> 2034 | H12: =G12+1 -> 2035 | I12: =H12+1 -> 2036 | J12: =I12+1 -> 2037 | K12: =J12+1 -> 2038 | L12: =K12+1 -> 2039 | ... AG12: =AF12+1 -> 2060
B13: Totaal jaarlijkse kasstromen | D13: =+D8 -> 0 | E13: =+E8 -> 0 | F13: =+F8 -> 0 | G13: =+G8 -> 0 | H13: =+H8 -> 0 | I13: =+I8 -> 0 | J13: =+J8 -> 0 | K13: =+K8 -> 0 | ... M13: =+M8 -> 0 | N13: =+N9 -> 0 | O13: =+O9 -> 0 | P13: =+P9 -> 0 | Q13: =+Q9 -> 0 | R13: =+R9 -> 0 | S13: =+S9 -> 0 | T13: =+T9 -> 0 | U13: =+U9 -> 0 | ... AG13: =+AG9
B14: WACC / Verdisconteringsfactor | C14: =WACC -> #VALUE! | D14: =(1+C14)^(start_operatie-subsidiejaar) -> #VALUE! | E14: =(1+$C$14)*D14 -> #VALUE! | F14: =(1+$C$14)*E14 -> #VALUE! | G14: =(1+$C$14)*F14 -> #VALUE! | H14: =(1+$C$14)*G14 -> #VALUE! | I14: =(1+$C$14)*H14 -> #VALUE! | J14: =(1+$C$14)*I14 -> #VALUE! | K14: =(1+$C$14)*J14 -> #VALUE! | L14: =(1+$C$14)*K14 -> #VALUE! | M14: =(1+$C$14)*L14 -> #VALUE! | N14: =IF(N12<=Laatste_exploitatiejaar,(1+$C$14)*M14,"") -> #VALUE! | O14: =IF(O12<=Laatste_exploitatiejaar,(1+$C$14)*N14,"") -> #VALUE! | P14: =IF(P12<=Laatste_exploitatiejaar,(1+$C$14)*O14,"") -> #VALUE! | Q14: =IF(Q12<=Laatste_exploitatiejaar,(1+$C$14)*P14,"") -> #VALUE! | R14: =IF(R12<=Laatste_exploitatiejaar,(1+$C$14)*Q14,"") -> #VALUE! | S14: =IF(S12<=Laatste_exploitatiejaar,(1+$C$14)*R14,"") -> #VALUE! | T14: =IF(T12<=Laatste_exploitatiejaar,(1+$C$14)*S14,"") -> #VALUE! | U14: =IF(U12<=Laatste_exploitatiejaar,(1+$C$14)*T14,"") -> #VALUE! | ... AG14: =IF(AG12<=Laatste_exploitatiejaar,(1+$C$14)*AF14,"")
B15: CW jaarlijkse kasstromen | C15: =SUM($D$15:$AG$15) -> #VALUE! | D15: =+D13/D14 -> #VALUE! | E15: =+E13/E14 -> #VALUE! | F15: =+F13/F14 -> #VALUE! | G15: =+G13/G14 -> #VALUE! | H15: =+H13/H14 -> #VALUE! | I15: =+I13/I14 -> #VALUE! | J15: =+J13/J14 -> #VALUE! | K15: =+K13/K14 -> #VALUE! | ... M15: =+M13/M14 -> #VALUE! | N15: =IF(N12<=Laatste_exploitatiejaar,+N13/N14,"") -> #VALUE! | O15: =IF(O12<=Laatste_exploitatiejaar,+O13/O14,"") -> #VALUE! | P15: =IF(P12<=Laatste_exploitatiejaar,+P13/P14,"") -> #VALUE! | Q15: =IF(Q12<=Laatste_exploitatiejaar,+Q13/Q14,"") -> #VALUE! | R15: =IF(R12<=Laatste_exploitatiejaar,+R13/R14,"") -> #VALUE! | S15: =IF(S12<=Laatste_exploitatiejaar,+S13/S14,"") -> #VALUE! | T15: =IF(T12<=Laatste_exploitatiejaar,+T13/T14,"") -> #VALUE! | U15: =IF(U12<=Laatste_exploitatiejaar,+U13/U14,"") -> #VALUE! | ... AG15: =IF(AG12<=Laatste_exploitatiejaar,+AG13/AG14,"")

Sheet Vastgestelde parameters
B1: Vastgestelde parameters
B3: Vastgestelde jaarlijkse energiecijfers
B4: Kostensoort | C4: Kostenpost | D4: Bron | E4: Eenheid | F4: 2025 | G4: 2026 | H4: 2027 | I4: 2028 | J4: 2029 | K4: 2030 | L4: 2031 | M4: 2032 | N4: 2033 | O4: 2034 | P4: 2035 | Q4: 2036 | R4: 2037 | S4: 2038 | T4: 2039 | U4: 2040 | V4: 2041 | W4: 2042 | X4: 2043 | Y4: 2044 | Z4: 2045
B5: Gas | C5: Gasprijs | D5: Prijspad EZK | E5: €/m3 | F5: 0.2817 | G5: 0.281 | H5: 0.273 | I5: 0.265 | J5: 0.257 | K5: 0.249 | L5: 0.249 | M5: 0.249 | N5: 0.25 | O5: 0.25 | P5: 0.251 | Q5: 0.251 | R5: 0.251 | S5: 0.252 | T5: 0.252 | U5: 0.252 | V5: 0.252 | W5: 0.252 | X5: 0.252 | Y5: 0.252 | Z5: 0.252
B6: Energiebelasting gas | C6: Tarief 1e schijf (0 - 1.000 m3) | D6: Tarief 2026 | E6: €/m3 | F6: 0.57816 | G6: =0.60066 -> 0.60066 | H6: =$F6 -> 0.57816 | I6: =$F6 -> 0.57816 | J6: =$F6 -> 0.57816 | K6: =$F6 -> 0.57816 | L6: =$F6 -> 0.57816 | M6: =$F6 -> 0.57816 | N6: =$F6 -> 0.57816 | O6: =$F6 -> 0.57816 | ... Z6: =$F6 -> 0.57816
B7: Energiebelasting gas | C7: Tarief 2e schijf (1.001 - 170.000 m3) | D7: Tarief 2026 | E7: €/m3 | F7: 0.57816 | G7: =0.60066 -> 0.60066 | H7: =$F7 -> 0.57816 | I7: =$F7 -> 0.57816 | J7: =$F7 -> 0.57816 | K7: =$F7 -> 0.57816 | L7: =$F7 -> 0.57816 | M7: =$F7 -> 0.57816 | N7: =$F7 -> 0.57816 | O7: =$F7 -> 0.57816 | ... Z7: =$F7 -> 0.57816
B8: Energiebelasting gas | C8: Tarief 3e schijf (170.001 - 1.000.000 m3) | D8: Tarief 2026 | E8: €/m3 | F8: 0.31573 | G8: =0.33085 -> 0.33085 | H8: =$F8 -> 0.31573 | I8: =$F8 -> 0.31573 | J8: =$F8 -> 0.31573 | K8: =$F8 -> 0.31573 | L8: =$F8 -> 0.31573 | M8: =$F8 -> 0.31573 | N8: =$F8 -> 0.31573 | O8: =$F8 -> 0.31573 | ... Z8: =$F8 -> 0.31573
B9: Energiebelasting gas | C9: Tarief 4e schijf (1.000.001 - 10.000.000 m3) | D9: Tarief 2026 | E9: €/m3 | F9: 0.20347 | G9: =0.21396 -> 0.21396 | H9: =$F9 -> 0.20347 | I9: =$F9 -> 0.20347 | J9: =$F9 -> 0.20347 | K9: =$F9 -> 0.20347 | L9: =$F9 -> 0.20347 | M9: =$F9 -> 0.20347 | N9: =$F9 -> 0.20347 | O9: =$F9 -> 0.20347 | ... Z9: =$F9 -> 0.20347
B10: Energiebelasting gas | C10: Tarief 5e schijf (>10.000.000 m3) | D10: Tarief 2026 | E10: €/m3 | F10: 0.05385 | G10: =0.05313 -> 0.05313 | H10: =$F10 -> 0.05385 | I10: =$F10 -> 0.05385 | J10: =$F10 -> 0.05385 | K10: =$F10 -> 0.05385 | L10: =$F10 -> 0.05385 | M10: =$F10 -> 0.05385 | N10: =$F10 -> 0.05385 | O10: =$F10 -> 0.05385 | ... Z10: =$F10 -> 0.05385
B11: Elektriciteit | C11: Elektriciteitsprijs | D11: Prijspad EZK | E11: €/kWh | F11: 0.08194 | G11: 0.084 | H11: 0.081 | I11: 0.079 | J11: 0.073 | K11: 0.074 | L11: 0.071 | M11: 0.068 | N11: 0.068 | O11: 0.069 | P11: 0.069 | Q11: 0.069 | R11: 0.07 | S11: 0.07 | T11: 0.069 | U11: 0.069 | V11: 0.069 | W11: 0.069 | X11: 0.069 | Y11: 0.069 | Z11: 0.069
B12: Energiebelasting elektriciteit | C12: Tarief 1e schijf (0 - 2.900 kWh) | D12: Tarief 2026 | E12: €/kWh | F12: 0.10154 | G12: =0.09161 -> 0.09161 | H12: =$G12 -> 0.09161 | I12: =$G12 -> 0.09161 | J12: =$G12 -> 0.09161 | K12: =$G12 -> 0.09161 | L12: =$G12 -> 0.09161 | M12: =$G12 -> 0.09161 | N12: =$G12 -> 0.09161 | O12: =$G12 -> 0.09161 | ... Z12: =$G12 -> 0.09161
B13: Energiebelasting elektriciteit | C13: Tarief 2e schijf (2.901 - 10.000 kWh) | D13: Tarief 2026 | E13: €/kWh | F13: 0.10154 | G13: =0.09161 -> 0.09161 | H13: =$G13 -> 0.09161 | I13: =$G13 -> 0.09161 | J13: =$G13 -> 0.09161 | K13: =$G13 -> 0.09161 | L13: =$G13 -> 0.09161 | M13: =$G13 -> 0.09161 | N13: =$G13 -> 0.09161 | O13: =$G13 -> 0.09161 | ... Z13: =$G13 -> 0.09161
B14: Energiebelasting elektriciteit | C14: Tarief 3e schijf (10.001 - 50.000 kWh) | D14: Tarief 2026 | E14: €/kWh | F14: 0.06937 | G14: =0.06671 -> 0.06671 | H14: =$G14 -> 0.06671 | I14: =$G14 -> 0.06671 | J14: =$G14 -> 0.06671 | K14: =$G14 -> 0.06671 | L14: =$G14 -> 0.06671 | M14: =$G14 -> 0.06671 | N14: =$G14 -> 0.06671 | O14: =$G14 -> 0.06671 | ... Z14: =$G14 -> 0.06671
B15: Energiebelasting elektriciteit | C15: Tarief 4e schijf (50.001 - 10.000.000 kWh) | D15: Tarief 2026 | E15: €/kWh | F15: 0.03868 | G15: =0.03735 -> 0.03735 | H15: =$G15 -> 0.03735 | I15: =$G15 -> 0.03735 | J15: =$G15 -> 0.03735 | K15: =$G15 -> 0.03735 | L15: =$G15 -> 0.03735 | M15: =$G15 -> 0.03735 | N15: =$G15 -> 0.03735 | O15: =$G15 -> 0.03735 | ... Z15: =$G15 -> 0.03735
B16: Energiebelasting elektriciteit | C16: Tarief 5e schijf (>10.000.000 kWh) | D16: Tarief 2026 | E16: €/kWh | F16: 0.00321 | G16: =0.0031 -> 0.0031 | H16: =$G16 -> 0.0031 | I16: =$G16 -> 0.0031 | J16: =$G16 -> 0.0031 | K16: =$G16 -> 0.0031 | L16: =$G16 -> 0.0031 | M16: =$G16 -> 0.0031 | N16: =$G16 -> 0.0031 | O16: =$G16 -> 0.0031 | ... Z16: =$G16 -> 0.0031
B17: Nettarief elektriciteit | C17: Indexering netkosten t.o.v. 2026 | D17: Prijspad EZK | E17: - | F17: 1 | G17: =1 -> 1 | H17: =G17*1.06 -> 1.06 | I17: =H17*1.06 -> 1.1236 | J17: =I17*1.06 -> 1.191016 | K17: =J17*1.06 -> 1.262477 | L17: =K17*1.06 -> 1.3382256 | M17: =L17*1.06 -> 1.4185191 | N17: =M17*1.06 -> 1.5036303 | O17: =N17*1.06 -> 1.5938481 | ... Z17: =Y17*1.06 -> 3.0255995
B18: Warmte | C18: Prijs ingekochte warmte | D18: Forfetair tarief | E18: €/GJ | F18: 11.779884 | G18: =(G$5+G$10)/31.65/90%*1000 -> 11.730033 | H18: =(H$5+H$10)/31.65/90%*1000 -> 11.47446 | I18: =(I$5+I$10)/31.65/90%*1000 -> 11.193611 | J18: =(J$5+J$10)/31.65/90%*1000 -> 10.912761 | K18: =(K$5+K$10)/31.65/90%*1000 -> 10.631912 | L18: =(L$5+L$10)/31.65/90%*1000 -> 10.631912 | M18: =(M$5+M$10)/31.65/90%*1000 -> 10.631912 | N18: =(N$5+N$10)/31.65/90%*1000 -> 10.667018 | ... Z18: =(Z$5+Z$10)/31.65/90%*1000 -> 10.73723
B19: Kolen | C19: Kolenprijs | D19: Prijspad EZK | E19: €/ton | F19: 73.58 | G19: 97.83 | H19: 91.49 | I19: 85.15 | J19: 78.8 | K19: 72.46 | L19: 72.57 | M19: 72.68 | N19: 72.79 | O19: 72.89 | P19: 73 | Q19: 73.11 | R19: 73.22 | S19: 73.33 | T19: 73.44 | U19: 73.54 | V19: 73.54 | W19: 73.54 | X19: 73.54 | Y19: 73.54 | Z19: 73.54
B20: Aardolie | C20: Olieprijs | D20: Prijspad EZK | E20: €/vat | F20: 66.51 | G20: 63.81 | H20: 59.86 | I20: 66.55 | J20: 73.24 | K20: 79.93 | L20: 79.73 | M20: 79.52 | N20: 79.32 | O20: 79.12 | P20: 78.92 | Q20: 78.72 | R20: 78.51 | S20: 78.31 | T20: 78.11 | U20: 77.91 | V20: 77.91 | W20: 77.91 | X20: 77.91 | Y20: 77.91 | Z20: 77.91
B21: CO2 | C21: ETS2-prijs | D21: Prijspad EZK | E21: €/ton | F21: 0 | G21: =0 -> 0 | H21: 49.23 | I21: 82.05 | J21: 90.26 | K21: 90.26 | L21: 90.26 | M21: 90.26 | N21: 90.26 | O21: 90.26 | P21: 90.26 | Q21: 90.26 | R21: 90.26 | S21: 90.26 | T21: 90.26 | U21: 90.26 | V21: 90.26 | W21: 90.26 | X21: 90.26 | Y21: 90.26 | Z21: 90.26
D22: v
B23: Vastgestelde cijfers EU ETS
F24: 2025 | G24: 2026 | H24: 2027 | I24: 2028 | J24: 2029 | K24: 2030 | L24: 2031 | M24: 2032 | N24: 2033 | O24: 2034 | P24: 2035 | Q24: 2036 | R24: 2037 | S24: 2038 | T24: 2039 | U24: 2040 | V24: 2041 | W24: 2042 | X24: 2043 | Y24: 2044 | Z24: 2045
B25: EU ETS prijs (€/t CO2) | F25: 82.6 | G25: 95.29 | H25: 100.54 | I25: 106.12 | J25: 111.92 | K25: 118.05 | L25: 124.61 | M25: 131.39 | N25: 138.61 | O25: 146.27 | P25: 154.26 | Q25: 162.79 | R25: 171.76 | S25: 181.17 | T25: 191.13 | U25: 201.63 | V25: 201.63 | W25: 201.63 | X25: 201.63 | Y25: 201.63 | Z25: 201.63
B26: Afbouwpad vrije allocatie EU-ETS, tov 2025 (%) | F26: 1 | G26: 0.93333333 | H26: 0.86666667 | I26: 0.8 | J26: 0.73333333 | K26: 0.66666667 | L26: 0.6 | M26: 0.53333333 | N26: 0.46666667 | O26: 0.4 | P26: 0.33333333 | Q26: 0.26666667 | R26: 0.2 | S26: 0.13333333 | T26: 0.066666667 | U26: 0 | V26: 0 | W26: 0 | X26: 0 | Y26: 0 | Z26: 0
B28: Vastgestelde overige parameters
B29: Parameter | C29: Waarde
B30: Subsidiejaar | C30: 2026
B31: ERP = Equity Risk Premium | C31: =5.5% -> 0.055
B32: T = Tax rate | C32: 0.258
B33: rf = Risk free rate | C33: =3.1% -> 0.031

Sheet Opzoekblad
B1: Opzoekblad
B3: Categorieën investeringskosten (capex)
B4: Installaties en machines
B5: Engineering en ontwerp na FID
B6: Voorbereidingskosten van de locatie
B7: Realisatiekosten (niet infra of aansluiten externe verbindingen)
B8: Infrastructuur
B9: Aansluiten externe verbindingen
B10: Aanpassingskosten
B11: Gebouwen
B12: Overig
B14: Categorieën exploitatiekosten (opex)
... B20: Overig

Sheet Versiebeheer
B2: Versiebeheer
B4: Versie | C4: Datum | D4: Naam | E4: Omschrijving
B5: 2.3 | C5: 46248 | D5: Chris Jongsma | E5: -7 Overige subsidies: EIA toegevoegd -4a Exploitatiekosten: toelichting vpb ex EIA toegevoegd -Algehele aanscherping van teksten op alle tabbladen -Energieprijzen geactualiseerd naar 2026 -Risk free rate en equity risk premium geactualiseerd -Hyperlinks op voorblad hersteld '-Tabblad 'Actualisatie' toegevoegd met instructies voor actualisatie tabblad voor volgende ronde
B6: 2.2 | C6: 46219 | D6: Reiniera van der Feltz | E6: -Formule extrapolatie gewijzigd van geometrische naar VOORSPELLEN -Namen tabbladen ingekort -Lijst met gedefinieerde variabelenamen opgeschoond
B7: 2.1 | C7: 46168 | D7: Chris Jongsma | E7: -Instructie ETS2 aangepast in stap 4b -Commentaarvelden allemaal weer goed toegankelijk
B8: 2.0 | C8: 45902 | D8: Chris Jongsma | E8: Alternatieve formule voor rekenkundig gemiddelde
B9: 1.0 | C9: 45819 | D9: Gerwin Brandsen | E9: Eerste versie

Sheet Actualisatie
B2: Jaarlijkse actualisatie NIKI rekenmodel subsidie
B4: Prijzen actualiseren
B5: -Energiebelasting actualiseren met actuele tarieven (zie website Belastingdienst)
B6: -Voor energie- en CO2-prijzen EZK vragen om actueel prijspad van PBL.
B7: -1 extra jaar toevoegen aan het einde van de prijzenset
B8: -In tabel 'Vastgestelde parameters' ook 1 jaar toevoegen aan het einde
B9: -Prijzen kopiëren (let erop dat alle eenheden dezelfde zijn, PBL geeft bijv. gas in ct.m3!) Laat de prijzen van voorgaande jaren ongewijzigd.
B10: -Verwijzingen aanpassen in tab '4b Energiekosten' zodat ook het extra jaar in de tabel wordt meegenomen
B12: WACC-parameters actualiseren
B13: -Risk free rate: actuele rendement op 10-jarige Nederlandse Staatsleningen
B14: -Equity risk premium
C15: Rapport van KPMG, periodiek geactualiseerd
C16: Dialogue
B18: Overige parameters
B19: -Subsidiejaar wijzigen voor nieuwe ronde in tabblad 'Vastgestelde parameters'
