Workbook

Sheet Invulinstructie
B1: Subsidiemodule Onderzoek Energiehubs (EHUB)
B2: Invulinstructie format plan van aanpak studie
B4: Versiebeheer
B5: Versie | C5: Datum | D5: Wijzigingen
B6: D1.0 | C6: 46280 | D6: Publicatieversie
B8: Dit ingevulde format is een verplichte bijlage als u een subsidieaanvraag indient voor een studie in het kader van de subsidieregeling EHUB.
B10: U beschrijft in het tabblad "Opzet studie" het inhoudelijke plan voor de studie en de aanpak voor de verschillende onderdelen (technisch, organisatorisch, juridisch en financieel). Op het tabblad "Planning" laat u de uit te voeren taken en planning zien. Op het tabblad "Begroting" voert u de de kosten op. Vervolgens laat u op het tabblad "Financieringsplan" zien wie welke kosten draagt.
B12: Bewerk het bestand alleen door de vragen te beantwoorden. Het Excelbestand is beveiligd om een goede verwerking van het format te waarborgen. Het ingevulde format uploadt u als .xlsx op het digitale aanvraagformulier onder kopje "Plan van Aanpak".
B14: Uitleg begroting
B15: Projectkosten
B16: Kostenposten die van toepassing zijn op de uitvoering van dit project worden opgenomen in deze modelbegroting. Voer alleen kosten op die:
B17: - | C17: rechtstreeks zijn toe te rekenen aan het project;
B18: - | C18: voor eigen rekening en risico komen van de aanvrager;
B19: - | C19: werkelijk worden gemaakt en betaald ná indiening van de aanvraag.
B21: Let op: niet subsidiabele kosten
B22: Voor de volgende kosten krijgt u geen subsidie:
B23: - | C23: kosten voor het inzichtelijk maken van individuele gebruiksprofielen;
B24: - | C24: kosten voor procesbegeleiding ten behoeve van de uitvoering van een scan of studie;
B25: - | C25: kosten voor (administratief) projectmanagement, zoals voortgang monitoring, contracten opstellen tussen samenwerkingspartijen, eventuele voortgangsrapportages, planning, budgettering, escaleren naar stuurgroep, projectbesturing, projectbewaking;
B26: - | C26: binnenlandse reiskosten.
B28: Btw
B29: Kunt u van de opgevoerde kosten de betaalde btw in aftrek brengen bij of terugkrijgen van de belastingdienst? Dan vormt de btw géén subsidiabele kostenpost. Kunt u de btw niet in aftrek brengen? Dan mag u de kosten inclusief betaalde btw opvoeren en is de btw wél een subsidiabele kostenpost. U geeft in de begroting achter het kopje "Btw" duidelijk aan hoe u de kosten opvoert door het juiste antwoord te kiezen.
B31: A1 Loonkosten
B32: De loonkosten moeten berekend worden volgens de door de regeling voorgeschreven systematiek, namelijk
B33: vast uurtarief van € 60,00. Dit tarief geldt ook als er geen loonkosten worden gemaakt, maar wel arbeid
B34: wordt verricht.
B36: Voor meer informatie: https://www.rvo.nl/onderwerpen/subsidiespelregels/ezk/vaste-uurtarief
B38: A2 Machines en apparaten die niet uitsluitend voor het project worden gebruikt
B39: Als u de machine of apparatuur niet uitsluitend voor het project heeft aangeschaft, mag u de afschrijfkosten of leasetermijnen alleen meenemen als u een sluitende tijdregistratie bijhoudt. De kosten worden dan meegenomen naar evenredigheid van tijd gedurende welke de machine of het apparaat wordt gebruikt voor het project, gerelateerd aan de normale bezetting. Let op: alleen afschrijvingskosten die binnen de projectperiode vallen komen in aanmerking voor subsidie.
B41: Voor meer informatie: https://www.rvo.nl/onderwerpen/subsidiespelregels/ezk/apparatuur
B43: A3:a Apparatuur uitsluitend voor het project aangeschaft
B44: Houd rekening met een minimale afschrijvingstermijn van 5 jaar. U kunt alleen de afschrijvingskosten opvoeren voor de looptijd van het project. Een rekenvoorbeeld: Uw project loopt van 1 juli 2025 t/m 31 december 2025. Het apparaat wordt op 1 juli 2025 aangeschaft. Dan is het apparaat voor 6 maanden subsidiabel. Met een afschrijving van 5 jaar betreft dit dus 6/60 deel van de aanschafwaarde. De restwaarde is in dit voorbeeld 54/60 deel van de aanschafwaarde.
... B59: U geeft in het projectplan aan hoe u uw eigen bijdrage in de projectkosten gaat financieren. Voor onderbouwing van de financiering kunnen wij bewijsstukken opvragen, zoals een recente jaarrekening, de intentieverklaring of een investeringsovereenkomst. U financiert de eigen bijdrage met bijvoorbeeld:
C60: 1. eigen middelen/ eigen vermogen: u heeft voldoende financiële middelen en/ of inkomsten om het project te financieren.
C61: 2. lening en/ of investering: u heeft definitieve toezeggingen van lening en/ of investering waarmee u het project kan financieren.
C62: 3. subsidieverstrekkingen van andere bestuursorganen zoals gemeenten, provincies of de Europese commissie: een cumulatie - samenloop subsidies (stapeling) is meestal maar beperkt mogelijk door cumulatie- of uitsluitingsbepaling.
C63: 4. financiering van niet-overheden: een (cash) bijdrage van een derde in de vorm van sponsoring is onder bepaalde voorwaarden toegestaan. Dit gaat bijvoorbeeld om een bijdrage van een beoogde energiehub-partner die niet zelf aanvrager is.
B65: Let op! De Regeling sluit uitdrukkelijk uit dat u de eigen bijdrage financiert met de aangevraagde subsidie waarvoor het uurtarief van € 60 wordt gehanteerd. Zie ook de Subsidiespelregels EZK op https://www.rvo.nl/onderwerpen/subsidiespelregels/ez/financiering

Sheet Opzet studie
B1: Subsidiemodule Onderzoek Energiehubs (EHUB)
B2: Format plan van aanpak: opzet studie
A4: Versie format | B4: =Invulinstructie!B6 -> D1.0
A5: Ingevuld door
A6: Functie
A7: Onderneming
A8: Datum
A11: Doel van de studie
A12: Soort studie
A14: Beschrijf kort en bondig het doel van de studie. (max. 250 tekens)
A16: Maatregelenpakket
A17: Beschrijf de maatregelen die worden onderzocht en onderbouw de keuze voor deze maatregelen. (max. 2.000 tekens) | B17: Vraagt u tegelijkertijd met deze studie subsidie aan voor een scan? Dan kunt u hier verwijzen naar een maatregelenpakket dat is onderzocht in de scan.
A19: Projectorganisatie
A20: Beschrijf in het algemeen de inrichting van de projectorganisatie en taakverdeling.
A22: Projectrisico's
A23: Beschrijf projectrisico’s, zoals problemen en vertragingen die kunnen optreden tijdens de uitvoering van de studie. Beschrijf de acties om de risico’s te voorkomen. Of beschrijf oplossingen om het optreden van bepaalde gevolgen tegen te gaan.
A25: Onderzoeksaanpak | B25: Organisatorische aspecten van de energiehub | C25: Technische aspecten van de energiehub | D25: Financiële aspecten van de energiehub | E25: Juridische aspecten van de energiehub
A26: Geef een korte beschrijving van de onderzoeksaanpak per onderdeel. Als u geen subsidie vraagt voor een bepaald onderdeel moet u wel aangeven hoe u de haalbaarheid van dit aspect toetst.
A27: Uitvoerende partijen | B27: =B25 -> Organisatorische aspecten van de energiehub | C27: =C25 -> Technische aspecten van de energiehub | D27: =D25 -> Financiële aspecten van de energiehub | E27: =E25 -> Juridische aspecten van de energiehub
A28: Geef per onderdeel van de studie aan welke uitvoerende partijen zijn betrokken. Noem de partijen bij naam en geef per partij aan of het gaat om de aanvrager, een beoogd energiehub-partner of een derde partij.
A29: Deliverables | B29: =B27 -> Organisatorische aspecten van de energiehub | C29: =C27 -> Technische aspecten van de energiehub | D29: =D27 -> Financiële aspecten van de energiehub | E29: =E27 -> Juridische aspecten van de energiehub
A30: Beschrijf per onderdeel van de studie welke producten worden opgeleverd als resultaat van de studie.

Sheet Planning
D2: Subsidiemodule Onderzoek Energiehubs (EHUB)
D3: Format plan van aanpak: planning
C10: Actiehouder | D10: Ondersteuning | E10: Startdatum | F10: Duur (weken) | G10: Einddatum | H10: Niveau | J10: Q1 | W10: Q2 | AJ10: Q3 | AW10: Q4
J12: 1 | K12: 2 | L12: 3 | M12: 4 | N12: 5 | O12: 6 | P12: 7 | Q12: 8 | R12: 9 | S12: 10 | T12: 11 | U12: 12 | V12: 13 | W12: 14 | X12: 15 | Y12: 16 | Z12: 17 | AA12: 18 | AB12: 19 | AC12: 20 | AD12: 21 | AE12: 22 | AF12: 23 | AG12: 24 | AH12: 25 | AI12: 26 | AJ12: 27 | AK12: 28 | AL12: 29 | AM12: 30 | AN12: 31 | AO12: 32 | AP12: 33 | AQ12: 34 | AR12: 35 | AS12: 36 | AT12: 37 | AU12: 38 | AV12: 39 | AW12: 40 | AX12: 41 | AY12: 42 | AZ12: 43 | BA12: 44 | BB12: 45 | BC12: 46 | BD12: 47 | BE12: 48 | BF12: 49 | BG12: 50 | BH12: 51 | BI12: 52
B13: Voorbeeld werkstroom
B14: Voorbeeld sub-werkstroom | E14: 1 | G14: 10 | H14: 1 | J14: =IF(AND(J$12>=$E14,J$12<=$G14),$H14,0) -> 1 | K14: =IF(AND(K$12>=$E14,K$12<=$G14),$H14,0) -> 1 | L14: =IF(AND(L$12>=$E14,L$12<=$G14),$H14,0) -> 1 | M14: =IF(AND(M$12>=$E14,M$12<=$G14),$H14,0) -> 1 | N14: =IF(AND(N$12>=$E14,N$12<=$G14),$H14,0) -> 1 | O14: =IF(AND(O$12>=$E14,O$12<=$G14),$H14,0) -> 1 | P14: =IF(AND(P$12>=$E14,P$12<=$G14),$H14,0) -> 1 | Q14: =IF(AND(Q$12>=$E14,Q$12<=$G14),$H14,0) -> 1 | ... BI14: =IF(AND(BI$12>=$E14,BI$12<=$G14),$H14,0) -> 0
B15: Deliverable | E15: 1 | F15: =1+(G15-E15) -> 10 | G15: 10 | H15: 2 | J15: =IF(AND(J$12>=$E15,J$12<=$G15),$H15,0) -> 2 | K15: =IF(AND(K$12>=$E15,K$12<=$G15),$H15,0) -> 2 | L15: =IF(AND(L$12>=$E15,L$12<=$G15),$H15,0) -> 2 | M15: =IF(AND(M$12>=$E15,M$12<=$G15),$H15,0) -> 2 | N15: =IF(AND(N$12>=$E15,N$12<=$G15),$H15,0) -> 2 | O15: =IF(AND(O$12>=$E15,O$12<=$G15),$H15,0) -> 2 | P15: =IF(AND(P$12>=$E15,P$12<=$G15),$H15,0) -> 2 | Q15: =IF(AND(Q$12>=$E15,Q$12<=$G15),$H15,0) -> 2 | ... BI15: =IF(AND(BI$12>=$E15,BI$12<=$G15),$H15,0) -> 0
B16: Activiteit | E16: 1 | F16: =1+(G16-E16) -> 4 | G16: 4 | H16: 3 | J16: =IF(AND(J$12>=$E16,J$12<=$G16),$H16,0) -> 3 | K16: =IF(AND(K$12>=$E16,K$12<=$G16),$H16,0) -> 3 | L16: =IF(AND(L$12>=$E16,L$12<=$G16),$H16,0) -> 3 | M16: =IF(AND(M$12>=$E16,M$12<=$G16),$H16,0) -> 3 | N16: =IF(AND(N$12>=$E16,N$12<=$G16),$H16,0) -> 0 | O16: =IF(AND(O$12>=$E16,O$12<=$G16),$H16,0) -> 0 | P16: =IF(AND(P$12>=$E16,P$12<=$G16),$H16,0) -> 0 | Q16: =IF(AND(Q$12>=$E16,Q$12<=$G16),$H16,0) -> 0 | ... BI16: =IF(AND(BI$12>=$E16,BI$12<=$G16),$H16,0) -> 0
B17: Besluit | E17: 4 | F17: =IF(E17="","",1+(G17-E17)) -> 1 | G17: 4 | H17: 4 | J17: =IF(AND(J$12>=$E17,J$12<=$G17),$H17,0) -> 0 | K17: =IF(AND(K$12>=$E17,K$12<=$G17),$H17,0) -> 0 | L17: =IF(AND(L$12>=$E17,L$12<=$G17),$H17,0) -> 0 | M17: =IF(AND(M$12>=$E17,M$12<=$G17),$H17,0) -> 4 | N17: =IF(AND(N$12>=$E17,N$12<=$G17),$H17,0) -> 0 | O17: =IF(AND(O$12>=$E17,O$12<=$G17),$H17,0) -> 0 | P17: =IF(AND(P$12>=$E17,P$12<=$G17),$H17,0) -> 0 | Q17: =IF(AND(Q$12>=$E17,Q$12<=$G17),$H17,0) -> 0 | ... BI17: =IF(AND(BI$12>=$E17,BI$12<=$G17),$H17,0) -> 0
B18: Belangrijk moment | E18: 6 | F18: =IF(E18="","",1+(G18-E18)) -> 1 | G18: 6 | H18: 5 | J18: =IF(AND(J$12>=$E18,J$12<=$G18),$H18,0) -> 0 | K18: =IF(AND(K$12>=$E18,K$12<=$G18),$H18,0) -> 0 | L18: =IF(AND(L$12>=$E18,L$12<=$G18),$H18,0) -> 0 | M18: =IF(AND(M$12>=$E18,M$12<=$G18),$H18,0) -> 0 | N18: =IF(AND(N$12>=$E18,N$12<=$G18),$H18,0) -> 0 | O18: =IF(AND(O$12>=$E18,O$12<=$G18),$H18,0) -> 5 | P18: =IF(AND(P$12>=$E18,P$12<=$G18),$H18,0) -> 0 | Q18: =IF(AND(Q$12>=$E18,Q$12<=$G18),$H18,0) -> 0 | ... BI18: =IF(AND(BI$12>=$E18,BI$12<=$G18),$H18,0) -> 0
F19: =IF(E19="","",1+(G19-E19))
B20: Werkstroom: organisatorisch ontwerp | J20: -1 | K20: -1 | L20: -1 | M20: -1 | N20: -1 | O20: -1 | P20: -1 | Q20: -1 | R20: -1 | S20: -1 | T20: -1 | U20: -1 | V20: -1 | W20: -1 | X20: -1 | Y20: -1 | Z20: -1 | AA20: -1 | AB20: -1 | AC20: -1 | AD20: -1 | AE20: -1 | AF20: -1 | AG20: -1 | AH20: -1 | AI20: -1 | AJ20: -1 | AK20: -1 | AL20: -1 | AM20: -1 | AN20: -1 | AO20: -1 | AP20: -1 | AQ20: -1 | AR20: -1 | AS20: -1 | AT20: -1 | AU20: -1 | AV20: -1 | AW20: -1 | AX20: -1 | AY20: -1 | AZ20: -1 | BA20: -1 | BB20: -1 | BC20: -1 | BD20: -1 | BE20: -1 | BF20: -1 | BG20: -1 | BH20: -1 | BI20: -1
F21: =IF(E21="","",1+(G21-E21)) | J21: =IF(AND(J$12>=$E21,J$12<=$G21),$H21,0) -> 0 | K21: =IF(AND(K$12>=$E21,K$12<=$G21),$H21,0) -> 0 | L21: =IF(AND(L$12>=$E21,L$12<=$G21),$H21,0) -> 0 | M21: =IF(AND(M$12>=$E21,M$12<=$G21),$H21,0) -> 0 | N21: =IF(AND(N$12>=$E21,N$12<=$G21),$H21,0) -> 0 | O21: =IF(AND(O$12>=$E21,O$12<=$G21),$H21,0) -> 0 | P21: =IF(AND(P$12>=$E21,P$12<=$G21),$H21,0) -> 0 | Q21: =IF(AND(Q$12>=$E21,Q$12<=$G21),$H21,0) -> 0 | ... BI21: =IF(AND(BI$12>=$E21,BI$12<=$G21),$H21,0) -> 0
F22: =IF(E22="","",1+(G22-E22)) | J22: =IF(AND(J$12>=$E22,J$12<=$G22),$H22,0) -> 0 | K22: =IF(AND(K$12>=$E22,K$12<=$G22),$H22,0) -> 0 | L22: =IF(AND(L$12>=$E22,L$12<=$G22),$H22,0) -> 0 | M22: =IF(AND(M$12>=$E22,M$12<=$G22),$H22,0) -> 0 | N22: =IF(AND(N$12>=$E22,N$12<=$G22),$H22,0) -> 0 | O22: =IF(AND(O$12>=$E22,O$12<=$G22),$H22,0) -> 0 | P22: =IF(AND(P$12>=$E22,P$12<=$G22),$H22,0) -> 0 | Q22: =IF(AND(Q$12>=$E22,Q$12<=$G22),$H22,0) -> 0 | ... BI22: =IF(AND(BI$12>=$E22,BI$12<=$G22),$H22,0) -> 0
F23: =IF(E23="","",1+(G23-E23)) | J23: =IF(AND(J$12>=$E23,J$12<=$G23),$H23,0) -> 0 | K23: =IF(AND(K$12>=$E23,K$12<=$G23),$H23,0) -> 0 | L23: =IF(AND(L$12>=$E23,L$12<=$G23),$H23,0) -> 0 | M23: =IF(AND(M$12>=$E23,M$12<=$G23),$H23,0) -> 0 | N23: =IF(AND(N$12>=$E23,N$12<=$G23),$H23,0) -> 0 | O23: =IF(AND(O$12>=$E23,O$12<=$G23),$H23,0) -> 0 | P23: =IF(AND(P$12>=$E23,P$12<=$G23),$H23,0) -> 0 | Q23: =IF(AND(Q$12>=$E23,Q$12<=$G23),$H23,0) -> 0 | ... BI23: =IF(AND(BI$12>=$E23,BI$12<=$G23),$H23,0) -> 0
F24: =IF(E24="","",1+(G24-E24)) | J24: =IF(AND(J$12>=$E24,J$12<=$G24),$H24,0) -> 0 | K24: =IF(AND(K$12>=$E24,K$12<=$G24),$H24,0) -> 0 | L24: =IF(AND(L$12>=$E24,L$12<=$G24),$H24,0) -> 0 | M24: =IF(AND(M$12>=$E24,M$12<=$G24),$H24,0) -> 0 | N24: =IF(AND(N$12>=$E24,N$12<=$G24),$H24,0) -> 0 | O24: =IF(AND(O$12>=$E24,O$12<=$G24),$H24,0) -> 0 | P24: =IF(AND(P$12>=$E24,P$12<=$G24),$H24,0) -> 0 | Q24: =IF(AND(Q$12>=$E24,Q$12<=$G24),$H24,0) -> 0 | ... BI24: =IF(AND(BI$12>=$E24,BI$12<=$G24),$H24,0) -> 0
F25: =IF(E25="","",1+(G25-E25)) | J25: =IF(AND(J$12>=$E25,J$12<=$G25),$H25,0) -> 0 | K25: =IF(AND(K$12>=$E25,K$12<=$G25),$H25,0) -> 0 | L25: =IF(AND(L$12>=$E25,L$12<=$G25),$H25,0) -> 0 | M25: =IF(AND(M$12>=$E25,M$12<=$G25),$H25,0) -> 0 | N25: =IF(AND(N$12>=$E25,N$12<=$G25),$H25,0) -> 0 | O25: =IF(AND(O$12>=$E25,O$12<=$G25),$H25,0) -> 0 | P25: =IF(AND(P$12>=$E25,P$12<=$G25),$H25,0) -> 0 | Q25: =IF(AND(Q$12>=$E25,Q$12<=$G25),$H25,0) -> 0 | ... BI25: =IF(AND(BI$12>=$E25,BI$12<=$G25),$H25,0) -> 0
F26: =IF(E26="","",1+(G26-E26)) | J26: =IF(AND(J$12>=$E26,J$12<=$G26),$H26,0) -> 0 | K26: =IF(AND(K$12>=$E26,K$12<=$G26),$H26,0) -> 0 | L26: =IF(AND(L$12>=$E26,L$12<=$G26),$H26,0) -> 0 | M26: =IF(AND(M$12>=$E26,M$12<=$G26),$H26,0) -> 0 | N26: =IF(AND(N$12>=$E26,N$12<=$G26),$H26,0) -> 0 | O26: =IF(AND(O$12>=$E26,O$12<=$G26),$H26,0) -> 0 | P26: =IF(AND(P$12>=$E26,P$12<=$G26),$H26,0) -> 0 | Q26: =IF(AND(Q$12>=$E26,Q$12<=$G26),$H26,0) -> 0 | ... BI26: =IF(AND(BI$12>=$E26,BI$12<=$G26),$H26,0) -> 0
F27: =IF(E27="","",1+(G27-E27)) | J27: =IF(AND(J$12>=$E27,J$12<=$G27),$H27,0) -> 0 | K27: =IF(AND(K$12>=$E27,K$12<=$G27),$H27,0) -> 0 | L27: =IF(AND(L$12>=$E27,L$12<=$G27),$H27,0) -> 0 | M27: =IF(AND(M$12>=$E27,M$12<=$G27),$H27,0) -> 0 | N27: =IF(AND(N$12>=$E27,N$12<=$G27),$H27,0) -> 0 | O27: =IF(AND(O$12>=$E27,O$12<=$G27),$H27,0) -> 0 | P27: =IF(AND(P$12>=$E27,P$12<=$G27),$H27,0) -> 0 | Q27: =IF(AND(Q$12>=$E27,Q$12<=$G27),$H27,0) -> 0 | ... BI27: =IF(AND(BI$12>=$E27,BI$12<=$G27),$H27,0) -> 0
F28: =IF(E28="","",1+(G28-E28)) | J28: =IF(AND(J$12>=$E28,J$12<=$G28),$H28,0) -> 0 | K28: =IF(AND(K$12>=$E28,K$12<=$G28),$H28,0) -> 0 | L28: =IF(AND(L$12>=$E28,L$12<=$G28),$H28,0) -> 0 | M28: =IF(AND(M$12>=$E28,M$12<=$G28),$H28,0) -> 0 | N28: =IF(AND(N$12>=$E28,N$12<=$G28),$H28,0) -> 0 | O28: =IF(AND(O$12>=$E28,O$12<=$G28),$H28,0) -> 0 | P28: =IF(AND(P$12>=$E28,P$12<=$G28),$H28,0) -> 0 | Q28: =IF(AND(Q$12>=$E28,Q$12<=$G28),$H28,0) -> 0 | ... BI28: =IF(AND(BI$12>=$E28,BI$12<=$G28),$H28,0) -> 0
F29: =IF(E29="","",1+(G29-E29)) | J29: =IF(AND(J$12>=$E29,J$12<=$G29),$H29,0) -> 0 | K29: =IF(AND(K$12>=$E29,K$12<=$G29),$H29,0) -> 0 | L29: =IF(AND(L$12>=$E29,L$12<=$G29),$H29,0) -> 0 | M29: =IF(AND(M$12>=$E29,M$12<=$G29),$H29,0) -> 0 | N29: =IF(AND(N$12>=$E29,N$12<=$G29),$H29,0) -> 0 | O29: =IF(AND(O$12>=$E29,O$12<=$G29),$H29,0) -> 0 | P29: =IF(AND(P$12>=$E29,P$12<=$G29),$H29,0) -> 0 | Q29: =IF(AND(Q$12>=$E29,Q$12<=$G29),$H29,0) -> 0 | ... BI29: =IF(AND(BI$12>=$E29,BI$12<=$G29),$H29,0) -> 0
F30: =IF(E30="","",1+(G30-E30)) | J30: =IF(AND(J$12>=$E30,J$12<=$G30),$H30,0) -> 0 | K30: =IF(AND(K$12>=$E30,K$12<=$G30),$H30,0) -> 0 | L30: =IF(AND(L$12>=$E30,L$12<=$G30),$H30,0) -> 0 | M30: =IF(AND(M$12>=$E30,M$12<=$G30),$H30,0) -> 0 | N30: =IF(AND(N$12>=$E30,N$12<=$G30),$H30,0) -> 0 | O30: =IF(AND(O$12>=$E30,O$12<=$G30),$H30,0) -> 0 | P30: =IF(AND(P$12>=$E30,P$12<=$G30),$H30,0) -> 0 | Q30: =IF(AND(Q$12>=$E30,Q$12<=$G30),$H30,0) -> 0 | ... BI30: =IF(AND(BI$12>=$E30,BI$12<=$G30),$H30,0) -> 0
F31: =IF(E31="","",1+(G31-E31)) | J31: =IF(AND(J$12>=$E31,J$12<=$G31),$H31,0) -> 0 | K31: =IF(AND(K$12>=$E31,K$12<=$G31),$H31,0) -> 0 | L31: =IF(AND(L$12>=$E31,L$12<=$G31),$H31,0) -> 0 | M31: =IF(AND(M$12>=$E31,M$12<=$G31),$H31,0) -> 0 | N31: =IF(AND(N$12>=$E31,N$12<=$G31),$H31,0) -> 0 | O31: =IF(AND(O$12>=$E31,O$12<=$G31),$H31,0) -> 0 | P31: =IF(AND(P$12>=$E31,P$12<=$G31),$H31,0) -> 0 | Q31: =IF(AND(Q$12>=$E31,Q$12<=$G31),$H31,0) -> 0 | ... BI31: =IF(AND(BI$12>=$E31,BI$12<=$G31),$H31,0) -> 0
F32: =IF(E32="","",1+(G32-E32)) | J32: =IF(AND(J$12>=$E32,J$12<=$G32),$H32,0) -> 0 | K32: =IF(AND(K$12>=$E32,K$12<=$G32),$H32,0) -> 0 | L32: =IF(AND(L$12>=$E32,L$12<=$G32),$H32,0) -> 0 | M32: =IF(AND(M$12>=$E32,M$12<=$G32),$H32,0) -> 0 | N32: =IF(AND(N$12>=$E32,N$12<=$G32),$H32,0) -> 0 | O32: =IF(AND(O$12>=$E32,O$12<=$G32),$H32,0) -> 0 | P32: =IF(AND(P$12>=$E32,P$12<=$G32),$H32,0) -> 0 | Q32: =IF(AND(Q$12>=$E32,Q$12<=$G32),$H32,0) -> 0 | ... BI32: =IF(AND(BI$12>=$E32,BI$12<=$G32),$H32,0) -> 0
... F40: =IF(E40="","",1+(G40-E40)) | J40: =IF(AND(J$12>=$E40,J$12<=$G40),$H40,0) -> 0 | K40: =IF(AND(K$12>=$E40,K$12<=$G40),$H40,0) -> 0 | L40: =IF(AND(L$12>=$E40,L$12<=$G40),$H40,0) -> 0 | M40: =IF(AND(M$12>=$E40,M$12<=$G40),$H40,0) -> 0 | N40: =IF(AND(N$12>=$E40,N$12<=$G40),$H40,0) -> 0 | O40: =IF(AND(O$12>=$E40,O$12<=$G40),$H40,0) -> 0 | P40: =IF(AND(P$12>=$E40,P$12<=$G40),$H40,0) -> 0 | Q40: =IF(AND(Q$12>=$E40,Q$12<=$G40),$H40,0) -> 0 | ... BI40: =IF(AND(BI$12>=$E40,BI$12<=$G40),$H40,0) -> 0
B41: Werkstroom: technisch ontwerp | J41: -1 | K41: -1 | L41: -1 | M41: -1 | N41: -1 | O41: -1 | P41: -1 | Q41: -1 | R41: -1 | S41: -1 | T41: -1 | U41: -1 | V41: -1 | W41: -1 | X41: -1 | Y41: -1 | Z41: -1 | AA41: -1 | AB41: -1 | AC41: -1 | AD41: -1 | AE41: -1 | AF41: -1 | AG41: -1 | AH41: -1 | AI41: -1 | AJ41: -1 | AK41: -1 | AL41: -1 | AM41: -1 | AN41: -1 | AO41: -1 | AP41: -1 | AQ41: -1 | AR41: -1 | AS41: -1 | AT41: -1 | AU41: -1 | AV41: -1 | AW41: -1 | AX41: -1 | AY41: -1 | AZ41: -1 | BA41: -1 | BB41: -1 | BC41: -1 | BD41: -1 | BE41: -1 | BF41: -1 | BG41: -1 | BH41: -1 | BI41: -1
F42: =IF(E42="","",1+(G42-E42)) | J42: =IF(AND(J$12>=$E42,J$12<=$G42),$H42,0) -> 0 | K42: =IF(AND(K$12>=$E42,K$12<=$G42),$H42,0) -> 0 | L42: =IF(AND(L$12>=$E42,L$12<=$G42),$H42,0) -> 0 | M42: =IF(AND(M$12>=$E42,M$12<=$G42),$H42,0) -> 0 | N42: =IF(AND(N$12>=$E42,N$12<=$G42),$H42,0) -> 0 | O42: =IF(AND(O$12>=$E42,O$12<=$G42),$H42,0) -> 0 | P42: =IF(AND(P$12>=$E42,P$12<=$G42),$H42,0) -> 0 | Q42: =IF(AND(Q$12>=$E42,Q$12<=$G42),$H42,0) -> 0 | ... BI42: =IF(AND(BI$12>=$E42,BI$12<=$G42),$H42,0) -> 0
F43: =IF(E43="","",1+(G43-E43)) | J43: =IF(AND(J$12>=$E43,J$12<=$G43),$H43,0) -> 0 | K43: =IF(AND(K$12>=$E43,K$12<=$G43),$H43,0) -> 0 | L43: =IF(AND(L$12>=$E43,L$12<=$G43),$H43,0) -> 0 | M43: =IF(AND(M$12>=$E43,M$12<=$G43),$H43,0) -> 0 | N43: =IF(AND(N$12>=$E43,N$12<=$G43),$H43,0) -> 0 | O43: =IF(AND(O$12>=$E43,O$12<=$G43),$H43,0) -> 0 | P43: =IF(AND(P$12>=$E43,P$12<=$G43),$H43,0) -> 0 | Q43: =IF(AND(Q$12>=$E43,Q$12<=$G43),$H43,0) -> 0 | ... BI43: =IF(AND(BI$12>=$E43,BI$12<=$G43),$H43,0) -> 0
F44: =IF(E44="","",1+(G44-E44)) | J44: =IF(AND(J$12>=$E44,J$12<=$G44),$H44,0) -> 0 | K44: =IF(AND(K$12>=$E44,K$12<=$G44),$H44,0) -> 0 | L44: =IF(AND(L$12>=$E44,L$12<=$G44),$H44,0) -> 0 | M44: =IF(AND(M$12>=$E44,M$12<=$G44),$H44,0) -> 0 | N44: =IF(AND(N$12>=$E44,N$12<=$G44),$H44,0) -> 0 | O44: =IF(AND(O$12>=$E44,O$12<=$G44),$H44,0) -> 0 | P44: =IF(AND(P$12>=$E44,P$12<=$G44),$H44,0) -> 0 | Q44: =IF(AND(Q$12>=$E44,Q$12<=$G44),$H44,0) -> 0 | ... BI44: =IF(AND(BI$12>=$E44,BI$12<=$G44),$H44,0) -> 0
F45: =IF(E45="","",1+(G45-E45)) | J45: =IF(AND(J$12>=$E45,J$12<=$G45),$H45,0) -> 0 | K45: =IF(AND(K$12>=$E45,K$12<=$G45),$H45,0) -> 0 | L45: =IF(AND(L$12>=$E45,L$12<=$G45),$H45,0) -> 0 | M45: =IF(AND(M$12>=$E45,M$12<=$G45),$H45,0) -> 0 | N45: =IF(AND(N$12>=$E45,N$12<=$G45),$H45,0) -> 0 | O45: =IF(AND(O$12>=$E45,O$12<=$G45),$H45,0) -> 0 | P45: =IF(AND(P$12>=$E45,P$12<=$G45),$H45,0) -> 0 | Q45: =IF(AND(Q$12>=$E45,Q$12<=$G45),$H45,0) -> 0 | ... BI45: =IF(AND(BI$12>=$E45,BI$12<=$G45),$H45,0) -> 0
F46: =IF(E46="","",1+(G46-E46)) | J46: =IF(AND(J$12>=$E46,J$12<=$G46),$H46,0) -> 0 | K46: =IF(AND(K$12>=$E46,K$12<=$G46),$H46,0) -> 0 | L46: =IF(AND(L$12>=$E46,L$12<=$G46),$H46,0) -> 0 | M46: =IF(AND(M$12>=$E46,M$12<=$G46),$H46,0) -> 0 | N46: =IF(AND(N$12>=$E46,N$12<=$G46),$H46,0) -> 0 | O46: =IF(AND(O$12>=$E46,O$12<=$G46),$H46,0) -> 0 | P46: =IF(AND(P$12>=$E46,P$12<=$G46),$H46,0) -> 0 | Q46: =IF(AND(Q$12>=$E46,Q$12<=$G46),$H46,0) -> 0 | ... BI46: =IF(AND(BI$12>=$E46,BI$12<=$G46),$H46,0) -> 0
F47: =IF(E47="","",1+(G47-E47)) | J47: =IF(AND(J$12>=$E47,J$12<=$G47),$H47,0) -> 0 | K47: =IF(AND(K$12>=$E47,K$12<=$G47),$H47,0) -> 0 | L47: =IF(AND(L$12>=$E47,L$12<=$G47),$H47,0) -> 0 | M47: =IF(AND(M$12>=$E47,M$12<=$G47),$H47,0) -> 0 | N47: =IF(AND(N$12>=$E47,N$12<=$G47),$H47,0) -> 0 | O47: =IF(AND(O$12>=$E47,O$12<=$G47),$H47,0) -> 0 | P47: =IF(AND(P$12>=$E47,P$12<=$G47),$H47,0) -> 0 | Q47: =IF(AND(Q$12>=$E47,Q$12<=$G47),$H47,0) -> 0 | ... BI47: =IF(AND(BI$12>=$E47,BI$12<=$G47),$H47,0) -> 0
F48: =IF(E48="","",1+(G48-E48)) | J48: =IF(AND(J$12>=$E48,J$12<=$G48),$H48,0) -> 0 | K48: =IF(AND(K$12>=$E48,K$12<=$G48),$H48,0) -> 0 | L48: =IF(AND(L$12>=$E48,L$12<=$G48),$H48,0) -> 0 | M48: =IF(AND(M$12>=$E48,M$12<=$G48),$H48,0) -> 0 | N48: =IF(AND(N$12>=$E48,N$12<=$G48),$H48,0) -> 0 | O48: =IF(AND(O$12>=$E48,O$12<=$G48),$H48,0) -> 0 | P48: =IF(AND(P$12>=$E48,P$12<=$G48),$H48,0) -> 0 | Q48: =IF(AND(Q$12>=$E48,Q$12<=$G48),$H48,0) -> 0 | ... BI48: =IF(AND(BI$12>=$E48,BI$12<=$G48),$H48,0) -> 0
F49: =IF(E49="","",1+(G49-E49)) | J49: =IF(AND(J$12>=$E49,J$12<=$G49),$H49,0) -> 0 | K49: =IF(AND(K$12>=$E49,K$12<=$G49),$H49,0) -> 0 | L49: =IF(AND(L$12>=$E49,L$12<=$G49),$H49,0) -> 0 | M49: =IF(AND(M$12>=$E49,M$12<=$G49),$H49,0) -> 0 | N49: =IF(AND(N$12>=$E49,N$12<=$G49),$H49,0) -> 0 | O49: =IF(AND(O$12>=$E49,O$12<=$G49),$H49,0) -> 0 | P49: =IF(AND(P$12>=$E49,P$12<=$G49),$H49,0) -> 0 | Q49: =IF(AND(Q$12>=$E49,Q$12<=$G49),$H49,0) -> 0 | ... BI49: =IF(AND(BI$12>=$E49,BI$12<=$G49),$H49,0) -> 0
F50: =IF(E50="","",1+(G50-E50)) | J50: =IF(AND(J$12>=$E50,J$12<=$G50),$H50,0) -> 0 | K50: =IF(AND(K$12>=$E50,K$12<=$G50),$H50,0) -> 0 | L50: =IF(AND(L$12>=$E50,L$12<=$G50),$H50,0) -> 0 | M50: =IF(AND(M$12>=$E50,M$12<=$G50),$H50,0) -> 0 | N50: =IF(AND(N$12>=$E50,N$12<=$G50),$H50,0) -> 0 | O50: =IF(AND(O$12>=$E50,O$12<=$G50),$H50,0) -> 0 | P50: =IF(AND(P$12>=$E50,P$12<=$G50),$H50,0) -> 0 | Q50: =IF(AND(Q$12>=$E50,Q$12<=$G50),$H50,0) -> 0 | ... BI50: =IF(AND(BI$12>=$E50,BI$12<=$G50),$H50,0) -> 0
F51: =IF(E51="","",1+(G51-E51)) | J51: =IF(AND(J$12>=$E51,J$12<=$G51),$H51,0) -> 0 | K51: =IF(AND(K$12>=$E51,K$12<=$G51),$H51,0) -> 0 | L51: =IF(AND(L$12>=$E51,L$12<=$G51),$H51,0) -> 0 | M51: =IF(AND(M$12>=$E51,M$12<=$G51),$H51,0) -> 0 | N51: =IF(AND(N$12>=$E51,N$12<=$G51),$H51,0) -> 0 | O51: =IF(AND(O$12>=$E51,O$12<=$G51),$H51,0) -> 0 | P51: =IF(AND(P$12>=$E51,P$12<=$G51),$H51,0) -> 0 | Q51: =IF(AND(Q$12>=$E51,Q$12<=$G51),$H51,0) -> 0 | ... BI51: =IF(AND(BI$12>=$E51,BI$12<=$G51),$H51,0) -> 0
F52: =IF(E52="","",1+(G52-E52)) | J52: =IF(AND(J$12>=$E52,J$12<=$G52),$H52,0) -> 0 | K52: =IF(AND(K$12>=$E52,K$12<=$G52),$H52,0) -> 0 | L52: =IF(AND(L$12>=$E52,L$12<=$G52),$H52,0) -> 0 | M52: =IF(AND(M$12>=$E52,M$12<=$G52),$H52,0) -> 0 | N52: =IF(AND(N$12>=$E52,N$12<=$G52),$H52,0) -> 0 | O52: =IF(AND(O$12>=$E52,O$12<=$G52),$H52,0) -> 0 | P52: =IF(AND(P$12>=$E52,P$12<=$G52),$H52,0) -> 0 | Q52: =IF(AND(Q$12>=$E52,Q$12<=$G52),$H52,0) -> 0 | ... BI52: =IF(AND(BI$12>=$E52,BI$12<=$G52),$H52,0) -> 0
F53: =IF(E53="","",1+(G53-E53)) | J53: =IF(AND(J$12>=$E53,J$12<=$G53),$H53,0) -> 0 | K53: =IF(AND(K$12>=$E53,K$12<=$G53),$H53,0) -> 0 | L53: =IF(AND(L$12>=$E53,L$12<=$G53),$H53,0) -> 0 | M53: =IF(AND(M$12>=$E53,M$12<=$G53),$H53,0) -> 0 | N53: =IF(AND(N$12>=$E53,N$12<=$G53),$H53,0) -> 0 | O53: =IF(AND(O$12>=$E53,O$12<=$G53),$H53,0) -> 0 | P53: =IF(AND(P$12>=$E53,P$12<=$G53),$H53,0) -> 0 | Q53: =IF(AND(Q$12>=$E53,Q$12<=$G53),$H53,0) -> 0 | ... BI53: =IF(AND(BI$12>=$E53,BI$12<=$G53),$H53,0) -> 0
... F61: =IF(E61="","",1+(G61-E61)) | J61: =IF(AND(J$12>=$E61,J$12<=$G61),$H61,0) -> 0 | K61: =IF(AND(K$12>=$E61,K$12<=$G61),$H61,0) -> 0 | L61: =IF(AND(L$12>=$E61,L$12<=$G61),$H61,0) -> 0 | M61: =IF(AND(M$12>=$E61,M$12<=$G61),$H61,0) -> 0 | N61: =IF(AND(N$12>=$E61,N$12<=$G61),$H61,0) -> 0 | O61: =IF(AND(O$12>=$E61,O$12<=$G61),$H61,0) -> 0 | P61: =IF(AND(P$12>=$E61,P$12<=$G61),$H61,0) -> 0 | Q61: =IF(AND(Q$12>=$E61,Q$12<=$G61),$H61,0) -> 0 | ... BI61: =IF(AND(BI$12>=$E61,BI$12<=$G61),$H61,0) -> 0
B62: Werkstroom: financieel ontwerp | J62: -1 | K62: -1 | L62: -1 | M62: -1 | N62: -1 | O62: -1 | P62: -1 | Q62: -1 | R62: -1 | S62: -1 | T62: -1 | U62: -1 | V62: -1 | W62: -1 | X62: -1 | Y62: -1 | Z62: -1 | AA62: -1 | AB62: -1 | AC62: -1 | AD62: -1 | AE62: -1 | AF62: -1 | AG62: -1 | AH62: -1 | AI62: -1 | AJ62: -1 | AK62: -1 | AL62: -1 | AM62: -1 | AN62: -1 | AO62: -1 | AP62: -1 | AQ62: -1 | AR62: -1 | AS62: -1 | AT62: -1 | AU62: -1 | AV62: -1 | AW62: -1 | AX62: -1 | AY62: -1 | AZ62: -1 | BA62: -1 | BB62: -1 | BC62: -1 | BD62: -1 | BE62: -1 | BF62: -1 | BG62: -1 | BH62: -1 | BI62: -1
F63: =IF(E63="","",1+(G63-E63)) | J63: =IF(AND(J$12>=$E63,J$12<=$G63),$H63,0) -> 0 | K63: =IF(AND(K$12>=$E63,K$12<=$G63),$H63,0) -> 0 | L63: =IF(AND(L$12>=$E63,L$12<=$G63),$H63,0) -> 0 | M63: =IF(AND(M$12>=$E63,M$12<=$G63),$H63,0) -> 0 | N63: =IF(AND(N$12>=$E63,N$12<=$G63),$H63,0) -> 0 | O63: =IF(AND(O$12>=$E63,O$12<=$G63),$H63,0) -> 0 | P63: =IF(AND(P$12>=$E63,P$12<=$G63),$H63,0) -> 0 | Q63: =IF(AND(Q$12>=$E63,Q$12<=$G63),$H63,0) -> 0 | ... BI63: =IF(AND(BI$12>=$E63,BI$12<=$G63),$H63,0) -> 0
F64: =IF(E64="","",1+(G64-E64)) | J64: =IF(AND(J$12>=$E64,J$12<=$G64),$H64,0) -> 0 | K64: =IF(AND(K$12>=$E64,K$12<=$G64),$H64,0) -> 0 | L64: =IF(AND(L$12>=$E64,L$12<=$G64),$H64,0) -> 0 | M64: =IF(AND(M$12>=$E64,M$12<=$G64),$H64,0) -> 0 | N64: =IF(AND(N$12>=$E64,N$12<=$G64),$H64,0) -> 0 | O64: =IF(AND(O$12>=$E64,O$12<=$G64),$H64,0) -> 0 | P64: =IF(AND(P$12>=$E64,P$12<=$G64),$H64,0) -> 0 | Q64: =IF(AND(Q$12>=$E64,Q$12<=$G64),$H64,0) -> 0 | ... BI64: =IF(AND(BI$12>=$E64,BI$12<=$G64),$H64,0) -> 0
F65: =IF(E65="","",1+(G65-E65)) | J65: =IF(AND(J$12>=$E65,J$12<=$G65),$H65,0) -> 0 | K65: =IF(AND(K$12>=$E65,K$12<=$G65),$H65,0) -> 0 | L65: =IF(AND(L$12>=$E65,L$12<=$G65),$H65,0) -> 0 | M65: =IF(AND(M$12>=$E65,M$12<=$G65),$H65,0) -> 0 | N65: =IF(AND(N$12>=$E65,N$12<=$G65),$H65,0) -> 0 | O65: =IF(AND(O$12>=$E65,O$12<=$G65),$H65,0) -> 0 | P65: =IF(AND(P$12>=$E65,P$12<=$G65),$H65,0) -> 0 | Q65: =IF(AND(Q$12>=$E65,Q$12<=$G65),$H65,0) -> 0 | ... BI65: =IF(AND(BI$12>=$E65,BI$12<=$G65),$H65,0) -> 0
F66: =IF(E66="","",1+(G66-E66)) | J66: =IF(AND(J$12>=$E66,J$12<=$G66),$H66,0) -> 0 | K66: =IF(AND(K$12>=$E66,K$12<=$G66),$H66,0) -> 0 | L66: =IF(AND(L$12>=$E66,L$12<=$G66),$H66,0) -> 0 | M66: =IF(AND(M$12>=$E66,M$12<=$G66),$H66,0) -> 0 | N66: =IF(AND(N$12>=$E66,N$12<=$G66),$H66,0) -> 0 | O66: =IF(AND(O$12>=$E66,O$12<=$G66),$H66,0) -> 0 | P66: =IF(AND(P$12>=$E66,P$12<=$G66),$H66,0) -> 0 | Q66: =IF(AND(Q$12>=$E66,Q$12<=$G66),$H66,0) -> 0 | ... BI66: =IF(AND(BI$12>=$E66,BI$12<=$G66),$H66,0) -> 0
F67: =IF(E67="","",1+(G67-E67)) | J67: =IF(AND(J$12>=$E67,J$12<=$G67),$H67,0) -> 0 | K67: =IF(AND(K$12>=$E67,K$12<=$G67),$H67,0) -> 0 | L67: =IF(AND(L$12>=$E67,L$12<=$G67),$H67,0) -> 0 | M67: =IF(AND(M$12>=$E67,M$12<=$G67),$H67,0) -> 0 | N67: =IF(AND(N$12>=$E67,N$12<=$G67),$H67,0) -> 0 | O67: =IF(AND(O$12>=$E67,O$12<=$G67),$H67,0) -> 0 | P67: =IF(AND(P$12>=$E67,P$12<=$G67),$H67,0) -> 0 | Q67: =IF(AND(Q$12>=$E67,Q$12<=$G67),$H67,0) -> 0 | ... BI67: =IF(AND(BI$12>=$E67,BI$12<=$G67),$H67,0) -> 0
F68: =IF(E68="","",1+(G68-E68)) | J68: =IF(AND(J$12>=$E68,J$12<=$G68),$H68,0) -> 0 | K68: =IF(AND(K$12>=$E68,K$12<=$G68),$H68,0) -> 0 | L68: =IF(AND(L$12>=$E68,L$12<=$G68),$H68,0) -> 0 | M68: =IF(AND(M$12>=$E68,M$12<=$G68),$H68,0) -> 0 | N68: =IF(AND(N$12>=$E68,N$12<=$G68),$H68,0) -> 0 | O68: =IF(AND(O$12>=$E68,O$12<=$G68),$H68,0) -> 0 | P68: =IF(AND(P$12>=$E68,P$12<=$G68),$H68,0) -> 0 | Q68: =IF(AND(Q$12>=$E68,Q$12<=$G68),$H68,0) -> 0 | ... BI68: =IF(AND(BI$12>=$E68,BI$12<=$G68),$H68,0) -> 0
F69: =IF(E69="","",1+(G69-E69)) | J69: =IF(AND(J$12>=$E69,J$12<=$G69),$H69,0) -> 0 | K69: =IF(AND(K$12>=$E69,K$12<=$G69),$H69,0) -> 0 | L69: =IF(AND(L$12>=$E69,L$12<=$G69),$H69,0) -> 0 | M69: =IF(AND(M$12>=$E69,M$12<=$G69),$H69,0) -> 0 | N69: =IF(AND(N$12>=$E69,N$12<=$G69),$H69,0) -> 0 | O69: =IF(AND(O$12>=$E69,O$12<=$G69),$H69,0) -> 0 | P69: =IF(AND(P$12>=$E69,P$12<=$G69),$H69,0) -> 0 | Q69: =IF(AND(Q$12>=$E69,Q$12<=$G69),$H69,0) -> 0 | ... BI69: =IF(AND(BI$12>=$E69,BI$12<=$G69),$H69,0) -> 0
F70: =IF(E70="","",1+(G70-E70)) | J70: =IF(AND(J$12>=$E70,J$12<=$G70),$H70,0) -> 0 | K70: =IF(AND(K$12>=$E70,K$12<=$G70),$H70,0) -> 0 | L70: =IF(AND(L$12>=$E70,L$12<=$G70),$H70,0) -> 0 | M70: =IF(AND(M$12>=$E70,M$12<=$G70),$H70,0) -> 0 | N70: =IF(AND(N$12>=$E70,N$12<=$G70),$H70,0) -> 0 | O70: =IF(AND(O$12>=$E70,O$12<=$G70),$H70,0) -> 0 | P70: =IF(AND(P$12>=$E70,P$12<=$G70),$H70,0) -> 0 | Q70: =IF(AND(Q$12>=$E70,Q$12<=$G70),$H70,0) -> 0 | ... BI70: =IF(AND(BI$12>=$E70,BI$12<=$G70),$H70,0) -> 0
F71: =IF(E71="","",1+(G71-E71)) | J71: =IF(AND(J$12>=$E71,J$12<=$G71),$H71,0) -> 0 | K71: =IF(AND(K$12>=$E71,K$12<=$G71),$H71,0) -> 0 | L71: =IF(AND(L$12>=$E71,L$12<=$G71),$H71,0) -> 0 | M71: =IF(AND(M$12>=$E71,M$12<=$G71),$H71,0) -> 0 | N71: =IF(AND(N$12>=$E71,N$12<=$G71),$H71,0) -> 0 | O71: =IF(AND(O$12>=$E71,O$12<=$G71),$H71,0) -> 0 | P71: =IF(AND(P$12>=$E71,P$12<=$G71),$H71,0) -> 0 | Q71: =IF(AND(Q$12>=$E71,Q$12<=$G71),$H71,0) -> 0 | ... BI71: =IF(AND(BI$12>=$E71,BI$12<=$G71),$H71,0) -> 0
F72: =IF(E72="","",1+(G72-E72)) | J72: =IF(AND(J$12>=$E72,J$12<=$G72),$H72,0) -> 0 | K72: =IF(AND(K$12>=$E72,K$12<=$G72),$H72,0) -> 0 | L72: =IF(AND(L$12>=$E72,L$12<=$G72),$H72,0) -> 0 | M72: =IF(AND(M$12>=$E72,M$12<=$G72),$H72,0) -> 0 | N72: =IF(AND(N$12>=$E72,N$12<=$G72),$H72,0) -> 0 | O72: =IF(AND(O$12>=$E72,O$12<=$G72),$H72,0) -> 0 | P72: =IF(AND(P$12>=$E72,P$12<=$G72),$H72,0) -> 0 | Q72: =IF(AND(Q$12>=$E72,Q$12<=$G72),$H72,0) -> 0 | ... BI72: =IF(AND(BI$12>=$E72,BI$12<=$G72),$H72,0) -> 0
F73: =IF(E73="","",1+(G73-E73)) | J73: =IF(AND(J$12>=$E73,J$12<=$G73),$H73,0) -> 0 | K73: =IF(AND(K$12>=$E73,K$12<=$G73),$H73,0) -> 0 | L73: =IF(AND(L$12>=$E73,L$12<=$G73),$H73,0) -> 0 | M73: =IF(AND(M$12>=$E73,M$12<=$G73),$H73,0) -> 0 | N73: =IF(AND(N$12>=$E73,N$12<=$G73),$H73,0) -> 0 | O73: =IF(AND(O$12>=$E73,O$12<=$G73),$H73,0) -> 0 | P73: =IF(AND(P$12>=$E73,P$12<=$G73),$H73,0) -> 0 | Q73: =IF(AND(Q$12>=$E73,Q$12<=$G73),$H73,0) -> 0 | ... BI73: =IF(AND(BI$12>=$E73,BI$12<=$G73),$H73,0) -> 0
F74: =IF(E74="","",1+(G74-E74)) | J74: =IF(AND(J$12>=$E74,J$12<=$G74),$H74,0) -> 0 | K74: =IF(AND(K$12>=$E74,K$12<=$G74),$H74,0) -> 0 | L74: =IF(AND(L$12>=$E74,L$12<=$G74),$H74,0) -> 0 | M74: =IF(AND(M$12>=$E74,M$12<=$G74),$H74,0) -> 0 | N74: =IF(AND(N$12>=$E74,N$12<=$G74),$H74,0) -> 0 | O74: =IF(AND(O$12>=$E74,O$12<=$G74),$H74,0) -> 0 | P74: =IF(AND(P$12>=$E74,P$12<=$G74),$H74,0) -> 0 | Q74: =IF(AND(Q$12>=$E74,Q$12<=$G74),$H74,0) -> 0 | ... BI74: =IF(AND(BI$12>=$E74,BI$12<=$G74),$H74,0) -> 0
... F82: =IF(E82="","",1+(G82-E82)) | J82: =IF(AND(J$12>=$E82,J$12<=$G82),$H82,0) -> 0 | K82: =IF(AND(K$12>=$E82,K$12<=$G82),$H82,0) -> 0 | L82: =IF(AND(L$12>=$E82,L$12<=$G82),$H82,0) -> 0 | M82: =IF(AND(M$12>=$E82,M$12<=$G82),$H82,0) -> 0 | N82: =IF(AND(N$12>=$E82,N$12<=$G82),$H82,0) -> 0 | O82: =IF(AND(O$12>=$E82,O$12<=$G82),$H82,0) -> 0 | P82: =IF(AND(P$12>=$E82,P$12<=$G82),$H82,0) -> 0 | Q82: =IF(AND(Q$12>=$E82,Q$12<=$G82),$H82,0) -> 0 | ... BI82: =IF(AND(BI$12>=$E82,BI$12<=$G82),$H82,0) -> 0
B83: Werkstroom: juridisch ontwerp | J83: -1 | K83: -1 | L83: -1 | M83: -1 | N83: -1 | O83: -1 | P83: -1 | Q83: -1 | R83: -1 | S83: -1 | T83: -1 | U83: -1 | V83: -1 | W83: -1 | X83: -1 | Y83: -1 | Z83: -1 | AA83: -1 | AB83: -1 | AC83: -1 | AD83: -1 | AE83: -1 | AF83: -1 | AG83: -1 | AH83: -1 | AI83: -1 | AJ83: -1 | AK83: -1 | AL83: -1 | AM83: -1 | AN83: -1 | AO83: -1 | AP83: -1 | AQ83: -1 | AR83: -1 | AS83: -1 | AT83: -1 | AU83: -1 | AV83: -1 | AW83: -1 | AX83: -1 | AY83: -1 | AZ83: -1 | BA83: -1 | BB83: -1 | BC83: -1 | BD83: -1 | BE83: -1 | BF83: -1 | BG83: -1 | BH83: -1 | BI83: -1
F84: =IF(E84="","",1+(G84-E84)) | J84: =IF(AND(J$12>=$E84,J$12<=$G84),$H84,0) -> 0 | K84: =IF(AND(K$12>=$E84,K$12<=$G84),$H84,0) -> 0 | L84: =IF(AND(L$12>=$E84,L$12<=$G84),$H84,0) -> 0 | M84: =IF(AND(M$12>=$E84,M$12<=$G84),$H84,0) -> 0 | N84: =IF(AND(N$12>=$E84,N$12<=$G84),$H84,0) -> 0 | O84: =IF(AND(O$12>=$E84,O$12<=$G84),$H84,0) -> 0 | P84: =IF(AND(P$12>=$E84,P$12<=$G84),$H84,0) -> 0 | Q84: =IF(AND(Q$12>=$E84,Q$12<=$G84),$H84,0) -> 0 | ... BI84: =IF(AND(BI$12>=$E84,BI$12<=$G84),$H84,0) -> 0
F85: =IF(E85="","",1+(G85-E85)) | J85: =IF(AND(J$12>=$E85,J$12<=$G85),$H85,0) -> 0 | K85: =IF(AND(K$12>=$E85,K$12<=$G85),$H85,0) -> 0 | L85: =IF(AND(L$12>=$E85,L$12<=$G85),$H85,0) -> 0 | M85: =IF(AND(M$12>=$E85,M$12<=$G85),$H85,0) -> 0 | N85: =IF(AND(N$12>=$E85,N$12<=$G85),$H85,0) -> 0 | O85: =IF(AND(O$12>=$E85,O$12<=$G85),$H85,0) -> 0 | P85: =IF(AND(P$12>=$E85,P$12<=$G85),$H85,0) -> 0 | Q85: =IF(AND(Q$12>=$E85,Q$12<=$G85),$H85,0) -> 0 | ... BI85: =IF(AND(BI$12>=$E85,BI$12<=$G85),$H85,0) -> 0
F86: =IF(E86="","",1+(G86-E86)) | J86: =IF(AND(J$12>=$E86,J$12<=$G86),$H86,0) -> 0 | K86: =IF(AND(K$12>=$E86,K$12<=$G86),$H86,0) -> 0 | L86: =IF(AND(L$12>=$E86,L$12<=$G86),$H86,0) -> 0 | M86: =IF(AND(M$12>=$E86,M$12<=$G86),$H86,0) -> 0 | N86: =IF(AND(N$12>=$E86,N$12<=$G86),$H86,0) -> 0 | O86: =IF(AND(O$12>=$E86,O$12<=$G86),$H86,0) -> 0 | P86: =IF(AND(P$12>=$E86,P$12<=$G86),$H86,0) -> 0 | Q86: =IF(AND(Q$12>=$E86,Q$12<=$G86),$H86,0) -> 0 | ... BI86: =IF(AND(BI$12>=$E86,BI$12<=$G86),$H86,0) -> 0
F87: =IF(E87="","",1+(G87-E87)) | J87: =IF(AND(J$12>=$E87,J$12<=$G87),$H87,0) -> 0 | K87: =IF(AND(K$12>=$E87,K$12<=$G87),$H87,0) -> 0 | L87: =IF(AND(L$12>=$E87,L$12<=$G87),$H87,0) -> 0 | M87: =IF(AND(M$12>=$E87,M$12<=$G87),$H87,0) -> 0 | N87: =IF(AND(N$12>=$E87,N$12<=$G87),$H87,0) -> 0 | O87: =IF(AND(O$12>=$E87,O$12<=$G87),$H87,0) -> 0 | P87: =IF(AND(P$12>=$E87,P$12<=$G87),$H87,0) -> 0 | Q87: =IF(AND(Q$12>=$E87,Q$12<=$G87),$H87,0) -> 0 | ... BI87: =IF(AND(BI$12>=$E87,BI$12<=$G87),$H87,0) -> 0
F88: =IF(E88="","",1+(G88-E88)) | J88: =IF(AND(J$12>=$E88,J$12<=$G88),$H88,0) -> 0 | K88: =IF(AND(K$12>=$E88,K$12<=$G88),$H88,0) -> 0 | L88: =IF(AND(L$12>=$E88,L$12<=$G88),$H88,0) -> 0 | M88: =IF(AND(M$12>=$E88,M$12<=$G88),$H88,0) -> 0 | N88: =IF(AND(N$12>=$E88,N$12<=$G88),$H88,0) -> 0 | O88: =IF(AND(O$12>=$E88,O$12<=$G88),$H88,0) -> 0 | P88: =IF(AND(P$12>=$E88,P$12<=$G88),$H88,0) -> 0 | Q88: =IF(AND(Q$12>=$E88,Q$12<=$G88),$H88,0) -> 0 | ... BI88: =IF(AND(BI$12>=$E88,BI$12<=$G88),$H88,0) -> 0
F89: =IF(E89="","",1+(G89-E89)) | J89: =IF(AND(J$12>=$E89,J$12<=$G89),$H89,0) -> 0 | K89: =IF(AND(K$12>=$E89,K$12<=$G89),$H89,0) -> 0 | L89: =IF(AND(L$12>=$E89,L$12<=$G89),$H89,0) -> 0 | M89: =IF(AND(M$12>=$E89,M$12<=$G89),$H89,0) -> 0 | N89: =IF(AND(N$12>=$E89,N$12<=$G89),$H89,0) -> 0 | O89: =IF(AND(O$12>=$E89,O$12<=$G89),$H89,0) -> 0 | P89: =IF(AND(P$12>=$E89,P$12<=$G89),$H89,0) -> 0 | Q89: =IF(AND(Q$12>=$E89,Q$12<=$G89),$H89,0) -> 0 | ... BI89: =IF(AND(BI$12>=$E89,BI$12<=$G89),$H89,0) -> 0
F90: =IF(E90="","",1+(G90-E90)) | J90: =IF(AND(J$12>=$E90,J$12<=$G90),$H90,0) -> 0 | K90: =IF(AND(K$12>=$E90,K$12<=$G90),$H90,0) -> 0 | L90: =IF(AND(L$12>=$E90,L$12<=$G90),$H90,0) -> 0 | M90: =IF(AND(M$12>=$E90,M$12<=$G90),$H90,0) -> 0 | N90: =IF(AND(N$12>=$E90,N$12<=$G90),$H90,0) -> 0 | O90: =IF(AND(O$12>=$E90,O$12<=$G90),$H90,0) -> 0 | P90: =IF(AND(P$12>=$E90,P$12<=$G90),$H90,0) -> 0 | Q90: =IF(AND(Q$12>=$E90,Q$12<=$G90),$H90,0) -> 0 | ... BI90: =IF(AND(BI$12>=$E90,BI$12<=$G90),$H90,0) -> 0
F91: =IF(E91="","",1+(G91-E91)) | J91: =IF(AND(J$12>=$E91,J$12<=$G91),$H91,0) -> 0 | K91: =IF(AND(K$12>=$E91,K$12<=$G91),$H91,0) -> 0 | L91: =IF(AND(L$12>=$E91,L$12<=$G91),$H91,0) -> 0 | M91: =IF(AND(M$12>=$E91,M$12<=$G91),$H91,0) -> 0 | N91: =IF(AND(N$12>=$E91,N$12<=$G91),$H91,0) -> 0 | O91: =IF(AND(O$12>=$E91,O$12<=$G91),$H91,0) -> 0 | P91: =IF(AND(P$12>=$E91,P$12<=$G91),$H91,0) -> 0 | Q91: =IF(AND(Q$12>=$E91,Q$12<=$G91),$H91,0) -> 0 | ... BI91: =IF(AND(BI$12>=$E91,BI$12<=$G91),$H91,0) -> 0
F92: =IF(E92="","",1+(G92-E92)) | J92: =IF(AND(J$12>=$E92,J$12<=$G92),$H92,0) -> 0 | K92: =IF(AND(K$12>=$E92,K$12<=$G92),$H92,0) -> 0 | L92: =IF(AND(L$12>=$E92,L$12<=$G92),$H92,0) -> 0 | M92: =IF(AND(M$12>=$E92,M$12<=$G92),$H92,0) -> 0 | N92: =IF(AND(N$12>=$E92,N$12<=$G92),$H92,0) -> 0 | O92: =IF(AND(O$12>=$E92,O$12<=$G92),$H92,0) -> 0 | P92: =IF(AND(P$12>=$E92,P$12<=$G92),$H92,0) -> 0 | Q92: =IF(AND(Q$12>=$E92,Q$12<=$G92),$H92,0) -> 0 | ... BI92: =IF(AND(BI$12>=$E92,BI$12<=$G92),$H92,0) -> 0
F93: =IF(E93="","",1+(G93-E93)) | J93: =IF(AND(J$12>=$E93,J$12<=$G93),$H93,0) -> 0 | K93: =IF(AND(K$12>=$E93,K$12<=$G93),$H93,0) -> 0 | L93: =IF(AND(L$12>=$E93,L$12<=$G93),$H93,0) -> 0 | M93: =IF(AND(M$12>=$E93,M$12<=$G93),$H93,0) -> 0 | N93: =IF(AND(N$12>=$E93,N$12<=$G93),$H93,0) -> 0 | O93: =IF(AND(O$12>=$E93,O$12<=$G93),$H93,0) -> 0 | P93: =IF(AND(P$12>=$E93,P$12<=$G93),$H93,0) -> 0 | Q93: =IF(AND(Q$12>=$E93,Q$12<=$G93),$H93,0) -> 0 | ... BI93: =IF(AND(BI$12>=$E93,BI$12<=$G93),$H93,0) -> 0
F94: =IF(E94="","",1+(G94-E94)) | J94: =IF(AND(J$12>=$E94,J$12<=$G94),$H94,0) -> 0 | K94: =IF(AND(K$12>=$E94,K$12<=$G94),$H94,0) -> 0 | L94: =IF(AND(L$12>=$E94,L$12<=$G94),$H94,0) -> 0 | M94: =IF(AND(M$12>=$E94,M$12<=$G94),$H94,0) -> 0 | N94: =IF(AND(N$12>=$E94,N$12<=$G94),$H94,0) -> 0 | O94: =IF(AND(O$12>=$E94,O$12<=$G94),$H94,0) -> 0 | P94: =IF(AND(P$12>=$E94,P$12<=$G94),$H94,0) -> 0 | Q94: =IF(AND(Q$12>=$E94,Q$12<=$G94),$H94,0) -> 0 | ... BI94: =IF(AND(BI$12>=$E94,BI$12<=$G94),$H94,0) -> 0
F95: =IF(E95="","",1+(G95-E95)) | J95: =IF(AND(J$12>=$E95,J$12<=$G95),$H95,0) -> 0 | K95: =IF(AND(K$12>=$E95,K$12<=$G95),$H95,0) -> 0 | L95: =IF(AND(L$12>=$E95,L$12<=$G95),$H95,0) -> 0 | M95: =IF(AND(M$12>=$E95,M$12<=$G95),$H95,0) -> 0 | N95: =IF(AND(N$12>=$E95,N$12<=$G95),$H95,0) -> 0 | O95: =IF(AND(O$12>=$E95,O$12<=$G95),$H95,0) -> 0 | P95: =IF(AND(P$12>=$E95,P$12<=$G95),$H95,0) -> 0 | Q95: =IF(AND(Q$12>=$E95,Q$12<=$G95),$H95,0) -> 0 | ... BI95: =IF(AND(BI$12>=$E95,BI$12<=$G95),$H95,0) -> 0
... F103: =IF(E103="","",1+(G103-E103)) | J103: =IF(AND(J$12>=$E103,J$12<=$G103),$H103,0) -> 0 | K103: =IF(AND(K$12>=$E103,K$12<=$G103),$H103,0) -> 0 | L103: =IF(AND(L$12>=$E103,L$12<=$G103),$H103,0) -> 0 | M103: =IF(AND(M$12>=$E103,M$12<=$G103),$H103,0) -> 0 | N103: =IF(AND(N$12>=$E103,N$12<=$G103),$H103,0) -> 0 | O103: =IF(AND(O$12>=$E103,O$12<=$G103),$H103,0) -> 0 | P103: =IF(AND(P$12>=$E103,P$12<=$G103),$H103,0) -> 0 | Q103: =IF(AND(Q$12>=$E103,Q$12<=$G103),$H103,0) -> 0 | ... BI103: =IF(AND(BI$12>=$E103,BI$12<=$G103),$H103,0) -> 0
B104: Procesbegeleiding en overige activiteiten/deliverables | J104: -1 | K104: -1 | L104: -1 | M104: -1 | N104: -1 | O104: -1 | P104: -1 | Q104: -1 | R104: -1 | S104: -1 | T104: -1 | U104: -1 | V104: -1 | W104: -1 | X104: -1 | Y104: -1 | Z104: -1 | AA104: -1 | AB104: -1 | AC104: -1 | AD104: -1 | AE104: -1 | AF104: -1 | AG104: -1 | AH104: -1 | AI104: -1 | AJ104: -1 | AK104: -1 | AL104: -1 | AM104: -1 | AN104: -1 | AO104: -1 | AP104: -1 | AQ104: -1 | AR104: -1 | AS104: -1 | AT104: -1 | AU104: -1 | AV104: -1 | AW104: -1 | AX104: -1 | AY104: -1 | AZ104: -1 | BA104: -1 | BB104: -1 | BC104: -1 | BD104: -1 | BE104: -1 | BF104: -1 | BG104: -1 | BH104: -1 | BI104: -1
F105: =IF(E105="","",1+(G105-E105)) | J105: =IF(AND(J$12>=$E105,J$12<=$G105),$H105,0) -> 0 | K105: =IF(AND(K$12>=$E105,K$12<=$G105),$H105,0) -> 0 | L105: =IF(AND(L$12>=$E105,L$12<=$G105),$H105,0) -> 0 | M105: =IF(AND(M$12>=$E105,M$12<=$G105),$H105,0) -> 0 | N105: =IF(AND(N$12>=$E105,N$12<=$G105),$H105,0) -> 0 | O105: =IF(AND(O$12>=$E105,O$12<=$G105),$H105,0) -> 0 | P105: =IF(AND(P$12>=$E105,P$12<=$G105),$H105,0) -> 0 | Q105: =IF(AND(Q$12>=$E105,Q$12<=$G105),$H105,0) -> 0 | ... BI105: =IF(AND(BI$12>=$E105,BI$12<=$G105),$H105,0) -> 0
F106: =IF(E106="","",1+(G106-E106)) | J106: =IF(AND(J$12>=$E106,J$12<=$G106),$H106,0) -> 0 | K106: =IF(AND(K$12>=$E106,K$12<=$G106),$H106,0) -> 0 | L106: =IF(AND(L$12>=$E106,L$12<=$G106),$H106,0) -> 0 | M106: =IF(AND(M$12>=$E106,M$12<=$G106),$H106,0) -> 0 | N106: =IF(AND(N$12>=$E106,N$12<=$G106),$H106,0) -> 0 | O106: =IF(AND(O$12>=$E106,O$12<=$G106),$H106,0) -> 0 | P106: =IF(AND(P$12>=$E106,P$12<=$G106),$H106,0) -> 0 | Q106: =IF(AND(Q$12>=$E106,Q$12<=$G106),$H106,0) -> 0 | ... BI106: =IF(AND(BI$12>=$E106,BI$12<=$G106),$H106,0) -> 0
F107: =IF(E107="","",1+(G107-E107)) | J107: =IF(AND(J$12>=$E107,J$12<=$G107),$H107,0) -> 0 | K107: =IF(AND(K$12>=$E107,K$12<=$G107),$H107,0) -> 0 | L107: =IF(AND(L$12>=$E107,L$12<=$G107),$H107,0) -> 0 | M107: =IF(AND(M$12>=$E107,M$12<=$G107),$H107,0) -> 0 | N107: =IF(AND(N$12>=$E107,N$12<=$G107),$H107,0) -> 0 | O107: =IF(AND(O$12>=$E107,O$12<=$G107),$H107,0) -> 0 | P107: =IF(AND(P$12>=$E107,P$12<=$G107),$H107,0) -> 0 | Q107: =IF(AND(Q$12>=$E107,Q$12<=$G107),$H107,0) -> 0 | ... BI107: =IF(AND(BI$12>=$E107,BI$12<=$G107),$H107,0) -> 0
F108: =IF(E108="","",1+(G108-E108)) | J108: =IF(AND(J$12>=$E108,J$12<=$G108),$H108,0) -> 0 | K108: =IF(AND(K$12>=$E108,K$12<=$G108),$H108,0) -> 0 | L108: =IF(AND(L$12>=$E108,L$12<=$G108),$H108,0) -> 0 | M108: =IF(AND(M$12>=$E108,M$12<=$G108),$H108,0) -> 0 | N108: =IF(AND(N$12>=$E108,N$12<=$G108),$H108,0) -> 0 | O108: =IF(AND(O$12>=$E108,O$12<=$G108),$H108,0) -> 0 | P108: =IF(AND(P$12>=$E108,P$12<=$G108),$H108,0) -> 0 | Q108: =IF(AND(Q$12>=$E108,Q$12<=$G108),$H108,0) -> 0 | ... BI108: =IF(AND(BI$12>=$E108,BI$12<=$G108),$H108,0) -> 0
F109: =IF(E109="","",1+(G109-E109)) | J109: =IF(AND(J$12>=$E109,J$12<=$G109),$H109,0) -> 0 | K109: =IF(AND(K$12>=$E109,K$12<=$G109),$H109,0) -> 0 | L109: =IF(AND(L$12>=$E109,L$12<=$G109),$H109,0) -> 0 | M109: =IF(AND(M$12>=$E109,M$12<=$G109),$H109,0) -> 0 | N109: =IF(AND(N$12>=$E109,N$12<=$G109),$H109,0) -> 0 | O109: =IF(AND(O$12>=$E109,O$12<=$G109),$H109,0) -> 0 | P109: =IF(AND(P$12>=$E109,P$12<=$G109),$H109,0) -> 0 | Q109: =IF(AND(Q$12>=$E109,Q$12<=$G109),$H109,0) -> 0 | ... BI109: =IF(AND(BI$12>=$E109,BI$12<=$G109),$H109,0) -> 0
F110: =IF(E110="","",1+(G110-E110)) | J110: =IF(AND(J$12>=$E110,J$12<=$G110),$H110,0) -> 0 | K110: =IF(AND(K$12>=$E110,K$12<=$G110),$H110,0) -> 0 | L110: =IF(AND(L$12>=$E110,L$12<=$G110),$H110,0) -> 0 | M110: =IF(AND(M$12>=$E110,M$12<=$G110),$H110,0) -> 0 | N110: =IF(AND(N$12>=$E110,N$12<=$G110),$H110,0) -> 0 | O110: =IF(AND(O$12>=$E110,O$12<=$G110),$H110,0) -> 0 | P110: =IF(AND(P$12>=$E110,P$12<=$G110),$H110,0) -> 0 | Q110: =IF(AND(Q$12>=$E110,Q$12<=$G110),$H110,0) -> 0 | ... BI110: =IF(AND(BI$12>=$E110,BI$12<=$G110),$H110,0) -> 0
F111: =IF(E111="","",1+(G111-E111)) | J111: =IF(AND(J$12>=$E111,J$12<=$G111),$H111,0) -> 0 | K111: =IF(AND(K$12>=$E111,K$12<=$G111),$H111,0) -> 0 | L111: =IF(AND(L$12>=$E111,L$12<=$G111),$H111,0) -> 0 | M111: =IF(AND(M$12>=$E111,M$12<=$G111),$H111,0) -> 0 | N111: =IF(AND(N$12>=$E111,N$12<=$G111),$H111,0) -> 0 | O111: =IF(AND(O$12>=$E111,O$12<=$G111),$H111,0) -> 0 | P111: =IF(AND(P$12>=$E111,P$12<=$G111),$H111,0) -> 0 | Q111: =IF(AND(Q$12>=$E111,Q$12<=$G111),$H111,0) -> 0 | ... BI111: =IF(AND(BI$12>=$E111,BI$12<=$G111),$H111,0) -> 0
F112: =IF(E112="","",1+(G112-E112)) | J112: =IF(AND(J$12>=$E112,J$12<=$G112),$H112,0) -> 0 | K112: =IF(AND(K$12>=$E112,K$12<=$G112),$H112,0) -> 0 | L112: =IF(AND(L$12>=$E112,L$12<=$G112),$H112,0) -> 0 | M112: =IF(AND(M$12>=$E112,M$12<=$G112),$H112,0) -> 0 | N112: =IF(AND(N$12>=$E112,N$12<=$G112),$H112,0) -> 0 | O112: =IF(AND(O$12>=$E112,O$12<=$G112),$H112,0) -> 0 | P112: =IF(AND(P$12>=$E112,P$12<=$G112),$H112,0) -> 0 | Q112: =IF(AND(Q$12>=$E112,Q$12<=$G112),$H112,0) -> 0 | ... BI112: =IF(AND(BI$12>=$E112,BI$12<=$G112),$H112,0) -> 0
F113: =IF(E113="","",1+(G113-E113)) | J113: =IF(AND(J$12>=$E113,J$12<=$G113),$H113,0) -> 0 | K113: =IF(AND(K$12>=$E113,K$12<=$G113),$H113,0) -> 0 | L113: =IF(AND(L$12>=$E113,L$12<=$G113),$H113,0) -> 0 | M113: =IF(AND(M$12>=$E113,M$12<=$G113),$H113,0) -> 0 | N113: =IF(AND(N$12>=$E113,N$12<=$G113),$H113,0) -> 0 | O113: =IF(AND(O$12>=$E113,O$12<=$G113),$H113,0) -> 0 | P113: =IF(AND(P$12>=$E113,P$12<=$G113),$H113,0) -> 0 | Q113: =IF(AND(Q$12>=$E113,Q$12<=$G113),$H113,0) -> 0 | ... BI113: =IF(AND(BI$12>=$E113,BI$12<=$G113),$H113,0) -> 0
F114: =IF(E114="","",1+(G114-E114)) | J114: =IF(AND(J$12>=$E114,J$12<=$G114),$H114,0) -> 0 | K114: =IF(AND(K$12>=$E114,K$12<=$G114),$H114,0) -> 0 | L114: =IF(AND(L$12>=$E114,L$12<=$G114),$H114,0) -> 0 | M114: =IF(AND(M$12>=$E114,M$12<=$G114),$H114,0) -> 0 | N114: =IF(AND(N$12>=$E114,N$12<=$G114),$H114,0) -> 0 | O114: =IF(AND(O$12>=$E114,O$12<=$G114),$H114,0) -> 0 | P114: =IF(AND(P$12>=$E114,P$12<=$G114),$H114,0) -> 0 | Q114: =IF(AND(Q$12>=$E114,Q$12<=$G114),$H114,0) -> 0 | ... BI114: =IF(AND(BI$12>=$E114,BI$12<=$G114),$H114,0) -> 0
F115: =IF(E115="","",1+(G115-E115)) | J115: =IF(AND(J$12>=$E115,J$12<=$G115),$H115,0) -> 0 | K115: =IF(AND(K$12>=$E115,K$12<=$G115),$H115,0) -> 0 | L115: =IF(AND(L$12>=$E115,L$12<=$G115),$H115,0) -> 0 | M115: =IF(AND(M$12>=$E115,M$12<=$G115),$H115,0) -> 0 | N115: =IF(AND(N$12>=$E115,N$12<=$G115),$H115,0) -> 0 | O115: =IF(AND(O$12>=$E115,O$12<=$G115),$H115,0) -> 0 | P115: =IF(AND(P$12>=$E115,P$12<=$G115),$H115,0) -> 0 | Q115: =IF(AND(Q$12>=$E115,Q$12<=$G115),$H115,0) -> 0 | ... BI115: =IF(AND(BI$12>=$E115,BI$12<=$G115),$H115,0) -> 0
F116: =IF(E116="","",1+(G116-E116)) | J116: =IF(AND(J$12>=$E116,J$12<=$G116),$H116,0) -> 0 | K116: =IF(AND(K$12>=$E116,K$12<=$G116),$H116,0) -> 0 | L116: =IF(AND(L$12>=$E116,L$12<=$G116),$H116,0) -> 0 | M116: =IF(AND(M$12>=$E116,M$12<=$G116),$H116,0) -> 0 | N116: =IF(AND(N$12>=$E116,N$12<=$G116),$H116,0) -> 0 | O116: =IF(AND(O$12>=$E116,O$12<=$G116),$H116,0) -> 0 | P116: =IF(AND(P$12>=$E116,P$12<=$G116),$H116,0) -> 0 | Q116: =IF(AND(Q$12>=$E116,Q$12<=$G116),$H116,0) -> 0 | ... BI116: =IF(AND(BI$12>=$E116,BI$12<=$G116),$H116,0) -> 0
... F129: =IF(E129="","",1+(G129-E129)) | J129: =IF(AND(J$12>=$E129,J$12<=$G129),$H129,0) -> 0 | K129: =IF(AND(K$12>=$E129,K$12<=$G129),$H129,0) -> 0 | L129: =IF(AND(L$12>=$E129,L$12<=$G129),$H129,0) -> 0 | M129: =IF(AND(M$12>=$E129,M$12<=$G129),$H129,0) -> 0 | N129: =IF(AND(N$12>=$E129,N$12<=$G129),$H129,0) -> 0 | O129: =IF(AND(O$12>=$E129,O$12<=$G129),$H129,0) -> 0 | P129: =IF(AND(P$12>=$E129,P$12<=$G129),$H129,0) -> 0 | Q129: =IF(AND(Q$12>=$E129,Q$12<=$G129),$H129,0) -> 0 | ... BI129: =IF(AND(BI$12>=$E129,BI$12<=$G129),$H129,0) -> 0

Sheet Begroting
B1: Subsidiemodule Onderzoek Energiehubs (EHUB)
B2: Format plan van aanpak: begroting
A4: Versie format | B4: =Invulinstructie!B6 -> D1.0
A5: Ingevuld door
A6: Functie
A7: Onderneming
A8: Datum
A9: Btw | C9: =IF(B9="btw verrekenbaar","vul de kosten in excl. btw",IF(B9="btw niet verrekenbaar","vul de kosten in incl. btw","selecteer een antwoord")) -> selecteer een antwoord
A12: A1 Loonkosten/arbeid
A13: Onderdeel | B13: Functie | C13: Rol in het project | D13: Uurtarief | E13: Aantal uur | F13: Kosten
D14: 60 | F14: =E14*D14 -> 0
D15: 60 | F15: =E15*D15 -> 0
D16: 60 | F16: =E16*D16 -> 0
D17: 60 | F17: =E17*D17 -> 0
D18: 60 | F18: =E18*D18 -> 0
D19: 60 | F19: =E19*D19 -> 0
D20: 60 | F20: =E20*D20 -> 0
D21: 60 | F21: =E21*D21 -> 0
D22: 60 | F22: =E22*D22 -> 0
D23: 60 | F23: =E23*D23 -> 0
D24: 60 | F24: =E24*D24 -> 0
D25: 60 | F25: =E25*D25 -> 0
... D53: 60 | F53: =E53*D53 -> 0
A54: Subtotaal | E54: =SUM(E14:E53) -> 0 | F54: =SUM(F14:F53) -> 0
A56: A2 Machines en apparaten die niet uitsluitend voor het project worden aangeschaft
A57: Onderdeel | B57: Machine/apparaat | C57: Rol in het project | D57: Kosten per uur* | E57: Aantal uur | F57: Kosten
F58: =E58*D58 -> 0
F59: =E59*D59 -> 0
F60: =E60*D60 -> 0
F61: =E61*D61 -> 0
F62: =E62*D62 -> 0
F63: =E63*D63 -> 0
F64: =E64*D64 -> 0
F65: =E65*D65 -> 0
F66: =E66*D66 -> 0
F67: =E67*D67 -> 0
A68: Subtotaal | E68: =SUM(E58:E67) -> 0 | F68: =SUM(F58:F67) -> 0
A69: * Zie voor berekeningswijze het tabblad Invulinstructie. U kunt gevraagd worden het uurtarief te onderbouwen.
A71: A3:a Apparatuur uitsluitend voor het project aangeschaft
A72: Onderdeel | B72: Machine/apparaat | C72: Rol in het project | F72: Afschrijvingskosten binnen projectduur
F73: 0
F74: 0
F75: 0
F76: 0
F77: 0
F78: 0
F79: 0
F80: 0
F81: 0
F82: 0
A83: Subtotaal | E83: =SUM(E73:E82) -> 0 | F83: =SUM(F73:F82) -> 0
A84: * Zie voor berekeningswijze het tabblad Invulinstructie. U kunt gevraagd worden het uurtarief te onderbouwen.
A86: A3:b Verbruikte materialen en hulpmiddelen
A87: Onderdeel | B87: Omschrijving kosten | D87: Prijs per eenheid | E87: Aantal eenheden | F87: Kosten
F88: =E88*D88 -> 0
F89: =E89*D89 -> 0
F90: =E90*D90 -> 0
F91: =E91*D91 -> 0
F92: =E92*D92 -> 0
F93: =E93*D93 -> 0
F94: =E94*D94 -> 0
F95: =E95*D95 -> 0
F96: =E96*D96 -> 0
F97: =E97*D97 -> 0
A98: Subtotaal | E98: =SUM(E88:E97) -> 0 | F98: =SUM(F88:F97) -> 0
A99: * Zie voor toelichting het tabblad Invulinstructie.
A101: A3: Overige kosten derden (bijvoorbeeld ingehuurde externe expertise)
A102: Onderdeel | B102: Handelsnaam derde | C102: Omschrijving kosten | F102: Kosten
F103: 0
F104: 0
F105: 0
F106: 0
F107: 0
F108: 0
F109: 0
F110: 0
F111: 0
F112: 0
F113: 0
F114: 0
... F142: 0
A143: Subtotaal | E143: =SUM(E103:E142) -> 0 | F143: =SUM(F103:F142) -> 0

Sheet Financieringsplan
B1: Subsidiemodule Onderzoek Energiehubs (EHUB)
B2: Format plan van aanpak: financieringsplan
A4: Versie format | B4: =Invulinstructie!B6 -> D1.0
A5: Ingevuld door
A6: Functie
A7: Onderneming
A8: Datum
A10: ='Opzet studie'!A12 -> Soort studie | B10: ='Opzet studie'!B12 -> 0
A11: Subsidiepercentage | B11: =IF(B10="nieuwe energiehub",0.7,0.4) -> 0.4
C13: Deze bedragen neemt u over op het aanvraagformulier.
C17: Kosten | D17: Subsidiabele kosten | E17: Subsidieberekening
B18: Organisatorisch ontwerp | C18: =SUMIF(Begroting!A:A,B18,Begroting!F:F) -> 0 | D18: =C18 -> 0 | E18: =D18*$B$11 -> 0
B19: Technisch ontwerp | C19: =SUMIF(Begroting!A:A,B19,Begroting!F:F) -> 0 | D19: =C19 -> 0 | E19: =D19*$B$11 -> 0
B20: Financieel ontwerp | C20: =SUMIF(Begroting!A:A,B20,Begroting!F:F) -> 0 | D20: =C20 -> 0 | E20: =D20*$B$11 -> 0
B21: Juridisch ontwerp | C21: =SUMIF(Begroting!A:A,B21,Begroting!F:F) -> 0 | D21: =C21 -> 0 | E21: =D21*$B$11 -> 0
B22: Procesbegeleiding | C22: =SUMIF(Begroting!A:A,B22,Begroting!F:F) -> 0 | D22: Niet subsidiabel
B23: Overige kosten | C23: =SUMIF(Begroting!A:A,B23,Begroting!F:F) -> 0
B25: Totale projectkosten | C25: =SUM(C18:C23) -> 0
B26: Berekende subsidiabele kosten | C26: =SUM(D18:D21) -> 0
B27: Berekend subsidiebedrag | C27: =MIN(SUM(E18:E21),IF(B10="nieuwe energiehub",42000,32000)) -> 0
B28: Gevraagd subsidiebedrag
B29: Te financieren | C29: =C25-C28 -> 0
B31: Cash bijdrage, bijvoorbeeld van uw beoogde energiehub-partners
B32: Bijdrage van (handelsnaam) | C32: Bedrag | D32: Toelichting
B48: Totaal | C48: =SUM(C33:C47) -> 0
B50: Eerder verstrekte subsidie door bestuursorganen of Europese Commissie
B51: Subsidie van (naam subsidieverstrekker) | C51: Bedrag | D51: Naam subsidie
B62: Totaal | C62: =SUM(C52:C61) -> 0
B64: Samenvatting
B65: Totale projectkosten | C65: =C25 -> 0
B66: Gevraagde subsidie | C66: =C28 -> 0 | D66: =C66/$C$65 -> #DIV/0!
B67: Reeds verstrekste subsidie | C67: =C62 -> 0 | D67: =C67/$C$65 -> #DIV/0!
B68: Cash bijdragen | C68: =C48 -> 0 | D68: =C68/$C$65 -> #DIV/0!
B69: Te financieren eigen aandeel | C69: =C65-C66-C67-C68 -> 0 | D69: =C69/$C$65 -> #DIV/0!
B71: Let op: wij kunnen u vragen om te onderbouwen hoe u uw eigen aandeel financiert.

Sheet Invultabellen
B2: Onderdelen | D2: BTW | F2: soorthub
B3: Organisatorisch ontwerp | D3: btw verrekenbaar | F3: nieuwe energiehub
B4: Technisch ontwerp | D4: btw niet verrekenbaar | F4: uitbreiding van een bestaande energiehub
B5: Financieel ontwerp
B6: Juridisch ontwerp
B7: Procesbegeleiding
B8: Overige kosten
