Workbook

Sheet Invulinstructie
B1: Subsidiemodule Onderzoek Energiehubs (EHUB)
B2: Invulinstructie format plan van aanpak studie
B4: Versiebeheer
B5: Versie | C5: Datum | D5: Wijzigingen
B6: D1.0 | C6: 46280 | D6: Publicatieversie
B8: Dit ingevulde format is een verplichte bijlage als u een subsidieaanvraag indient voor een studie in het kader van de subsidieregeling EHUB.
B10: U beschrijft in het tabblad "Opzet studie" het inhoudelijke plan voor de studie en de aanpak voor de verschillende onderdelen (technisch, organisatorisch, juridisch en financieel). Op het tabblad "Planning" laat u de uit te voeren taken en planning zien. Op het tabblad "Begroting" voert u de de kosten op. Vervolgens laat u op het tabblad "Financieringsplan" zien wie welke kosten draagt.
B12: Bewerk het bestand alleen door de vragen te beantwoorden. Het Excelbestand is beveiligd om een goede verwerking van het format te waarborgen. Het ingevulde format uploadt u als .xlsx op het digitale aanvraagformulier onder kopje "Plan van Aanpak".
B14: Uitleg begroting
B15: Projectkosten
B16: Kostenposten die van toepassing zijn op de uitvoering van dit project worden opgenomen in deze modelbegroting. Voer alleen kosten op die:
B17: - | C17: rechtstreeks zijn toe te rekenen aan het project;
B18: - | C18: voor eigen rekening en risico komen van de aanvrager;
B19: - | C19: werkelijk worden gemaakt en betaald ná indiening van de aanvraag.
B21: Let op: niet subsidiabele kosten
B22: Voor de volgende kosten krijgt u geen subsidie:
B23: - | C23: kosten voor het inzichtelijk maken van individuele gebruiksprofielen;
B24: - | C24: kosten voor procesbegeleiding ten behoeve van de uitvoering van een scan of studie;
B25: - | C25: kosten voor (administratief) projectmanagement, zoals voortgang monitoring, contracten opstellen tussen samenwerkingspartijen, eventuele voortgangsrapportages, planning, budgettering, escaleren naar stuurgroep, projectbesturing, projectbewaking;
B26: - | C26: binnenlandse reiskosten.
B28: Btw
B29: Kunt u van de opgevoerde kosten de betaalde btw in aftrek brengen bij of terugkrijgen van de belastingdienst? Dan vormt de btw géén subsidiabele kostenpost. Kunt u de btw niet in aftrek brengen? Dan mag u de kosten inclusief betaalde btw opvoeren en is de btw wél een subsidiabele kostenpost. U geeft in de begroting achter het kopje "Btw" duidelijk aan hoe u de kosten opvoert door het juiste antwoord te kiezen.
B31: A1 Loonkosten
B32: De loonkosten moeten berekend worden volgens de door de regeling voorgeschreven systematiek, namelijk
B33: vast uurtarief van € 60,00. Dit tarief geldt ook als er geen loonkosten worden gemaakt, maar wel arbeid
B34: wordt verricht.
B36: Voor meer informatie: https://www.rvo.nl/onderwerpen/subsidiespelregels/ezk/vaste-uurtarief
B38: A2 Machines en apparaten die niet uitsluitend voor het project worden gebruikt
B39: Als u de machine of apparatuur niet uitsluitend voor het project heeft aangeschaft, mag u de afschrijfkosten of leasetermijnen alleen meenemen als u een sluitende tijdregistratie bijhoudt. De kosten worden dan meegenomen naar evenredigheid van tijd gedurende welke de machine of het apparaat wordt gebruikt voor het project, gerelateerd aan de normale bezetting. Let op: alleen afschrijvingskosten die binnen de projectperiode vallen komen in aanmerking voor subsidie.
B41: Voor meer informatie: https://www.rvo.nl/onderwerpen/subsidiespelregels/ezk/apparatuur
B43: A3:a Apparatuur uitsluitend voor het project aangeschaft
B44: Houd rekening met een minimale afschrijvingstermijn van 5 jaar. U kunt alleen de afschrijvingskosten opvoeren voor de looptijd van het project. Een rekenvoorbeeld: Uw project loopt van 1 juli 2025 t/m 31 december 2025. Het apparaat wordt op 1 juli 2025 aangeschaft. Dan is het apparaat voor 6 maanden subsidiabel. Met een afschrijving van 5 jaar betreft dit dus 6/60 deel van de aanschafwaarde. De restwaarde is in dit voorbeeld 54/60 deel van de aanschafwaarde.
... B59: U geeft in het projectplan aan hoe u uw eigen bijdrage in de projectkosten gaat financieren. Voor onderbouwing van de financiering kunnen wij bewijsstukken opvragen, zoals een recente jaarrekening, de intentieverklaring of een investeringsovereenkomst. U financiert de eigen bijdrage met bijvoorbeeld:
C60: 1. eigen middelen/ eigen vermogen: u heeft voldoende financiële middelen en/ of inkomsten om het project te financieren.
C61: 2. lening en/ of investering: u heeft definitieve toezeggingen van lening en/ of investering waarmee u het project kan financieren.
C62: 3. subsidieverstrekkingen van andere bestuursorganen zoals gemeenten, provincies of de Europese commissie: een cumulatie - samenloop subsidies (stapeling) is meestal maar beperkt mogelijk door cumulatie- of uitsluitingsbepaling.
C63: 4. financiering van niet-overheden: een (cash) bijdrage van een derde in de vorm van sponsoring is onder bepaalde voorwaarden toegestaan. Dit gaat bijvoorbeeld om een bijdrage van een beoogde energiehub-partner die niet zelf aanvrager is.
B65: Let op! De Regeling sluit uitdrukkelijk uit dat u de eigen bijdrage financiert met de aangevraagde subsidie waarvoor het uurtarief van € 60 wordt gehanteerd. Zie ook de Subsidiespelregels EZK op https://www.rvo.nl/onderwerpen/subsidiespelregels/ez/financiering

Sheet Opzet studie
B1: Subsidiemodule Onderzoek Energiehubs (EHUB)
B2: Format plan van aanpak: opzet studie
A4: Versie format | B4: =Invulinstructie!B6 -> D1.0
A5: Ingevuld door
A6: Functie
A7: Onderneming
A8: Datum
A11: Doel van de studie
A12: Soort studie
A14: Beschrijf kort en bondig het doel van de studie. (max. 250 tekens)
A16: Maatregelenpakket
A17: Beschrijf de maatregelen die worden onderzocht en onderbouw de keuze voor deze maatregelen. (max. 2.000 tekens) | B17: Vraagt u tegelijkertijd met deze studie subsidie aan voor een scan? Dan kunt u hier verwijzen naar een maatregelenpakket dat is onderzocht in de scan.
A19: Projectorganisatie
A20: Beschrijf in het algemeen de inrichting van de projectorganisatie en taakverdeling.
A22: Projectrisico's
A23: Beschrijf projectrisico’s, zoals problemen en vertragingen die kunnen optreden tijdens de uitvoering van de studie. Beschrijf de acties om de risico’s te voorkomen. Of beschrijf oplossingen om het optreden van bepaalde gevolgen tegen te gaan.
A25: Onderzoeksaanpak | B25: Organisatorische aspecten van de energiehub | C25: Technische aspecten van de energiehub | D25: Financiële aspecten van de energiehub | E25: Juridische aspecten van de energiehub
A26: Geef een korte beschrijving van de onderzoeksaanpak per onderdeel. Als u geen subsidie vraagt voor een bepaald onderdeel moet u wel aangeven hoe u de haalbaarheid van dit aspect toetst.
A27: Uitvoerende partijen | B27: =B25 -> Organisatorische aspecten van de energiehub | C27: =C25 -> Technische aspecten van de energiehub | D27: =D25 -> Financiële aspecten van de energiehub | E27: =E25 -> Juridische aspecten van de energiehub
A28: Geef per onderdeel van de studie aan welke uitvoerende partijen zijn betrokken. Noem de partijen bij naam en geef per partij aan of het gaat om de aanvrager, een beoogd energiehub-partner of een derde partij.
A29: Deliverables | B29: =B27 -> Organisatorische aspecten van de energiehub | C29: =C27 -> Technische aspecten van de energiehub | D29: =D27 -> Financiële aspecten van de energiehub | E29: =E27 -> Juridische aspecten van de energiehub
A30: Beschrijf per onderdeel van de studie welke producten worden opgeleverd als resultaat van de studie.

Sheet Planning
D2: Subsidiemodule Onderzoek Energiehubs (EHUB)
D3: Format plan van aanpak: planning
C10: Actiehouder | D10: Ondersteuning | E10: Startdatum | F10: Duur (weken) | G10: Einddatum | H10: Niveau | J10: Q1 | W10: Q2 | AJ10: Q3 | AW10: Q4
J12: 1 | K12: 2 | L12: 3 | M12: 4 | N12: 5 | O12: 6 | P12: 7 | Q12: 8 | R12: 9 | S12: 10 | T12: 11 | U12: 12 | V12: 13 | W12: 14 | X12: 15 | Y12: 16 | Z12: 17 | AA12: 18 | AB12: 19 | AC12: 20 | AD12: 21 | AE12: 22 | AF12: 23 | AG12: 24 | AH12: 25 | AI12: 26 | AJ12: 27 | AK12: 28 | AL12: 29 | AM12: 30 | AN12: 31 | AO12: 32 | AP12: 33 | AQ12: 34 | AR12: 35 | AS12: 36 | AT12: 37 | AU12: 38 | AV12: 39 | AW12: 40 | AX12: 41 | AY12: 42 | AZ12: 43 | BA12: 44 | BB12: 45 | BC12: 46 | BD12: 47 | BE12: 48 | BF12: 49 | BG12: 50 | BH12: 51 | BI12: 52
B13: Voorbeeld werkstroom
B14: Voorbeeld sub-werkstroom | E14: 1 | G14: 10 | H14: 1 | J14: =IF(AND(J$12>=$E14,J$12<=$G14),$H14,0) -> 1 | K14: =IF(AND(K$12>=$E14,K$12<=$G14),$H14,0) -> 1 | L14: =IF(AND(L$12>=$E14,L$12<=$G14),$H14,0) -> 1 | M14: =IF(AND(M$12>=$E14,M$12<=$G14),$H14,0) -> 1 | N14: =IF(AND(N$12>=$E14,N$12<=$G14),$H14,0) -> 1 | O14: =IF(AND(O$12>=$E14,O$12<=$G14),$H14,0) -> 1 | P14: =IF(AND(P$12>=$E14,P$12<=$G14),$H14,0) -> 1 | Q14: =IF(AND(Q$12>=$E14,Q$12<=$G14),$H14,0) -> 1 | ... BI14: =IF(AND(BI$12>=$E14,BI$12<=$G14),$H14,0) -> 0
B15: Deliverable | E15: 1 | F15: =1+(G15-E15) -> 10 | G15: 10 | H15: 2 | J15: =IF(AND(J$12>=$E15,J$12<=$G15),$H15,0) -> 2 | K15: =IF(AND(K$12>=$E15,K$12<=$G15),$H15,0) -> 2 | L15: =IF(AND(L$12>=$E15,L$12<=$G15),$H15,0) -> 2 | M15: =IF(AND(M$12>=$E15,M$12<=$G15),$H15,0) -> 2 | N15: =IF(AND(N$12>=$E15,N$12<=$G15),$H15,0) -> 2 | O15: =IF(AND(O$12>=$E15,O$12<=$G15),$H15,0) -> 2 | P15: =IF(AND(P$12>=$E15,P$12<=$G15),$H15,0) -> 2 | Q15: =IF(AND(Q$12>=$E15,Q$12<=$G15),$H15,0) -> 2 | ... BI15: =IF(AND(BI$12>=$E15,BI$12<=$G15),$H15,0) -> 0
B16: Activiteit | E16: 1 | F16: =1+(G16-E16) -> 4 | G16: 4 | H16: 3 | J16: =IF(AND(J$12>=$E16,J$12<=$G16),$H16,0) -> 3 | K16: =IF(AND(K$12>=$E16,K$12<=$G16),$H16,0) -> 3 | L16: =IF(AND(L$12>=$E16,L$12<=$G16),$H16,0) -> 3 | M16: =IF(AND(M$12>=$E16,M$12<=$G16),$H16,0) -> 3 | N16: =IF(AND(N$12>=$E16,N$12<=$G16),$H16,0) -> 0 | O16: =IF(AND(O$12>=$E16,O$12<=$G16),$H16,0) -> 0 | P16: =IF(AND(P$12>=$E16,P$12<=$G16),$H16,0) -> 0 | Q16: =IF(AND(Q$12>=$E16,Q$12<=$G16),$H16,0) -> 0 | ... BI16: =IF(AND(BI$12>=$E16,BI$12<=$G16),$H16,0) -> 0
B17: Besluit | E17: 4 | F17: =IF(E17="","",1+(G17-E17)) -> 1 | G17: 4 | H17: 4 | J17: =IF(AND(J$12>=$E17,J$12<=$G17),$H17,0) -> 0 | K17: =IF(AND(K$12>=$E17,K$12<=$G17),$H17,0) -> 0 | L17: =IF(AND(L$12>=$E17,L$12<=$G17),$H17,0) -> 0 | M17: =IF(AND(M$12>=$E17,M$12<=$G17),$H17,0) -> 4 | N17: =IF(AND(N$12>=$E17,N$12<=$G17),$H17,0) -> 0 | O17: =IF(AND(O$12>=$E17,O$12<=$G17),$H17,0) -> 0 | P17: =IF(AND(P$12>=$E17,P$12<=$G17),$H17,0) -> 0 | Q17: =IF(AND(Q$12>=$E17,Q$12<=$G17),$H17,0) -> 0 | ... BI17: =IF(AND(BI$12>=$E17,BI$12<=$G17),$H17,0) -> 0
B18: Belangrijk moment | E18: 6 | F18: =IF(E18="","",1+(G18-E18)) -> 1 | G18: 6 | H18: 5 | J18: =IF(AND(J$12>=$E18,J$12<=$G18),$H18,0) -> 0 | K18: =IF(AND(K$12>=$E18,K$12<=$G18),$H18,0) -> 0 | L18: =IF(AND(L$12>=$E18,L$12<=$G18),$H18,0) -> 0 | M18: =IF(AND(M$12>=$E18,M$12<=$G18),$H18,0) -> 0 | N18: =IF(AND(N$12>=$E18,N$12<=$G18),$H18,0) -> 0 | O18: =IF(AND(O$12>=$E18,O$12<=$G18),$H18,0) -> 5 | P18: =IF(AND(P$12>=$E18,P$12<=$G18),$H18,0) -> 0 | Q18: =IF(AND(Q$12>=$E18,Q$12<=$G18),$H18,0) -> 0 | ... BI18: =IF(AND(BI$12>=$E18,BI$12<=$G18),$H18,0) -> 0
F19: =IF(E19="","",1+(G19-E19))
B20: Werkstroom: organisatorisch ontwerp | J20: -1 | K20: -1 | L20: -1 | M20: -1 | N20: -1 | O20: -1 | P20: -1 | Q20: -1 | R20: -1 | S20: -1 | T20: -1 | U20: -1 | V20: -1 | W20: -1 | X20: -1 | Y20: -1 | Z20: -1 | AA20: -1 | AB20: -1 | AC20: -1 | AD20: -1 | AE20: -1 | AF20: -1 | AG20: -1 | AH20: -1 | AI20: -1 | AJ20: -1 | AK20: -1 | AL20: -1 | AM20: -1 | AN20: -1 | AO20: -1 | AP20: -1 | AQ20: -1 | AR20: -1 | AS20: -1 | AT20: -1 | AU20: -1 | AV20: -1 | AW20: -1 | AX20: -1 | AY20: -1 | AZ20: -1 | BA20: -1 | BB20: -1 | BC20: -1 | BD20: -1 | BE20: -1 | BF20: -1 | BG20: -1 | BH20: -1 | BI20: -1
F21: =IF(E21="","",1+(G21-E21)) | J21: =IF(AND(J$12>=$E21,J$12<=$G21),$H21,0) -> 0 | K21: =IF(AND(K$12>=$E21,K$12<=$G21),$H21,0) -> 0 | L21: =IF(AND(L$12>=$E21,L$12<=$G21),$H21,0) -> 0 | M21: =IF(AND(M$12>=$E21,M$12<=$G21),$H21,0) -> 0 | N21: =IF(AND(N$12>=$E21,N$12<=$G21),$H21,0) -> 0 | O21: =IF(AND(O$12>=$E21,O$12<=$G21),$H21,0) -> 0 | P21: =IF(AND(P$12>=$E21,P$12<=$G21),$H21,0) -> 0 | Q21: =IF(AND(Q$12>=$E21,Q$12<=$G21),$H21,0) -> 0 | ... BI21: =IF(AND(BI$12>=$E21,BI$12<=$G21),$H21,0) -> 0
F22: =IF(E22="","",1+(G22-E22)) | J22: =IF(AND(J$12>=$E22,J$12<=$G22),$H22,0) -> 0 | K22: =IF(AND(K$12>=$E22,K$12<=$G22),$H22,0) -> 0 | L22: =IF(AND(L$12>=$E22,L$12<=$G22),$H22,0) -> 0 | M22: =IF(AND(M$12>=$E22,M$12<=$G22),$H22,0) -> 0 | N22: =IF(AND(N$12>=$E22,N$12<=$G22),$H22,0) -> 0 | O22: =IF(AND(O$12>=$E22,O$12<=$G22),$H22,0) -> 0 | P22: =IF(AND(P$12>=$E22,P$12<=$G22),$H22,0) -> 0 | Q22: =IF(AND(Q$12>=$E22,Q$12<=$G22),$H22,0) -> 0 | ... BI22: =IF(AND(BI$12>=$E22,BI$12<=$G22),$H22,0) -> 0
F23: =IF(E23="","",1+(G23-E23)) | J23: =IF(AND(J$12>=$E23,J$12<=$G23),$H23,0) -> 0 | K23: =IF(AND(K$12>=$E23,K$12<=$G23),$H23,0) -> 0 | L23: =IF(AND(L$12>=$E23,L$12<=$G23),$H23,0) -> 0 | M23: =IF(AND(M$12>=$E23,M$12<=$G23),$H23,0) -> 0 | N23: =IF(AND(N$12>=$E23,N$12<=$G23),$H23,0) -> 0 | O23: =IF(AND(O$12>=$E23,O$12<=$G23),$H23,0) -> 0 | P23: =IF(AND(P$12>=$E23,P$12<=$G23),$H23,0) -> 0 | Q23: =IF(AND(Q$12>=$E23,Q$12<=$G23),$H23,0) -> 0 | ... BI23: =IF(AND(BI$12>=$E23,BI$12<=$G23),$H23,0) -> 0
F24: =IF(E24="","",1+(G24-E24)) | J24: =IF(AND(J$12>=$E24,J$12<=$G24),$H24,0) -> 0 | K24: =IF(AND(K$12>=$E24,K$12<=$G24),$H24,0) -> 0 | L24: =IF(AND(L$12>=$E24,L$12<=$G24),$H24,0) -> 0 | M24: =IF(AND(M$12>=$E24,M$12<=$G24),$H24,0) -> 0 | N24: =IF(AND(N$12>=$E24,N$12<=$G24),$H24,0) -> 0 | O24: =IF(AND(O$12>=$E24,O$12<=$G24),$H24,0) -> 0 | P24: =IF(AND(P$12>=$E24,P$12<=$G24),$H24,0) -> 0 | Q24: =IF(AND(Q$12>=$E24,Q$12<=$G24),$H24,0) -> 0 | ... BI24: =IF(AND(BI$12>=$E24,BI$12<=$G24),$H24,0) -> 0
F25: =IF(E25="","",1+(G25-E25)) | J25: =IF(AND(J$12>=$E25,J$12<=$G25),$H25,0) -> 0 | K25: =IF(AND(K$12>=$E25,K$12<=$G25),$H25,0) -> 0 | L25: =IF(AND(L$12>=$E25,L$12<=$G25),$H25,0) -> 0 | M25: =IF(AND(M$12>=$E25,M$12<=$G25),$H25,0) -> 0 | N25: =IF(AND(N$12>=$E25,N$12<=$G25),$H25,0) -> 0 | O25: =IF(AND(O$12>=$E25,O$12<=$G25),$H25,0) -> 0 | P25: =IF(AND(P$12>=$E25,P$12<=$G25),$H25,0) -> 0 | Q25: =IF(AND(Q$12>=$E25,Q$12<=$G25),$H25,0) -> 0 | ... BI25: =IF(AND(BI$12>=$E25,BI$12<=$G25),$H25,0) -> 0
F26: =IF(E26="","",1+(G26-E26)) | J26: =IF(AND(J$12>=$E26,J$12<=$G26),$H26,0) -> 0 | K26: =IF(AND(K$12>=$E26,K$12<=$G26),$H26,0) -> 0 | L26: =IF(AND(L$12>=$E26,L$12<=$G26),$H26,0) -> 0 | M26: =IF(AND(M$12>=$E26,M$12<=$G26),$H26,0) -> 0 | N26: =IF(AND(N$12>=$E26,N$12<=$G26),$H26,0) -> 0 | O26: =IF(AND(O$12>=$E26,O$12<=$G26),$H26,0) -> 0 | P26: =IF(AND(P$12>=$E26,P$12<=$G26),$H26,0) -> 0 | Q26: =IF(AND(Q$12>=$E26,Q$12<=$G26),$H26,0) -> 0 | ... BI26: =IF(AND(BI$12>=$E26,BI$12<=$G26),$H26,0) -> 0
F27: =IF(E27="","",1+(G27-E27)) | J27: =IF(AND(J$12>=$E27,J$12<=$G27),$H27,0) -> 0 | K27: =IF(AND(K$12>=$E27,K$12<=$G27),$H27,0) -> 0 | L27: =IF(AND(L$12>=$E27,L$12<=$G27),$H27,0) -> 0 | M27: =IF(AND(M$12>=$E27,M$12<=$G27),$H27,0) -> 0 | N27: =IF(AND(N$12>=$E27,N$12<=$G27),$H27,0) -> 0 | O27: =IF(AND(O$12>=$E27,O$12<=$G27),$H27,0) -> 0 | P27: =IF(AND(P$12>=$E27,P$12<=$G27),$H27,0) -> 0 | Q27: =IF(AND(Q$12>=$E27,Q$12<=$G27),$H27,0) -> 0 | ... BI27: =IF(AND(BI$12>=$E27,BI$12<=$G27),$H27,0) -> 0
F28: =IF(E28="","",1+(G28-E28)) | J28: =IF(AND(J$12>=$E28,J$12<=$G28),$H28,0) -> 0 | K28: =IF(AND(K$12>=$E28,K$12<=$G28),$H28,0) -> 0 | L28: =IF(AND(L$12>=$E28,L$12<=$G28),$H28,0) -> 0 | M28: =IF(AND(M$12>=$E28,M$12<=$G28),$H28,0) -> 0 | N28: =IF(AND(N$12>=$E28,N$12<=$G28),$H28,0) -> 0 | O28: =IF(AND(O$12>=$E28,O$12<=$G28),$H28,0) -> 0 | P28: =IF(AND(P$12>=$E28,P$12<=$G28),$H28,0) -> 0 | Q28: =IF(AND(Q$12>=$E28,Q$12<=$G28),$H28,0) -> 0 | ... BI28: =IF(AND(BI$12>=$E28,BI$12<=$G28),$H28,0) -> 0
F29: =IF(E29="","",1+(G29-E29)) | J29: =IF(AND(J$12>=$E29,J$12<=$G29),$H29,0) -> 0 | K29: =IF(AND(K$12>=$E29,K$12<=$G29),$H29,0) -> 0 | L29: =IF(AND(L$12>=$E29,L$12<=$G29),$H29,0) -> 0 | M29: =IF(AND(M$12>=$E29,M$12<=$G29),$H29,0) -> 0 | N29: =IF(AND(N$12>=$E29,N$12<=$G29),$H29,0) -> 0 | O29: =IF(AND(O$12>=$E29,O$12<=$G29),$H29,0) -> 0 | P29: =IF(AND(P$12>=$E29,P$12<=$G29),$H29,0) -> 0 | Q29: =IF(AND(Q$12>=$E29,Q$12<=$G29),$H29,0) -> 0 | ... BI29: =IF(AND(BI$12>=$E29,BI$12<=$G29),$H29,0) -> 0
F30: =IF(E30="","",1+(G30-E30)) | J30: =IF(AND(J$12>=$E30,J$12<=$G30),$H30,0) -> 0 | K30: =IF(AND(K$12>=$E30,K$12<=$G30),$H30,0) -> 0 | L30: =IF(AND(L$12>=$E30,L$12<=$G30),$H30,0) -> 0 | M30: =IF(AND(M$12>=$E30,M$12<=$G30),$H30,0) -> 0 | N30: =IF(AND(N$12>=$E30,N$12<=$G30),$H30,0) -> 0 | O30: =IF(AND(O$12>=$E30,O$12<=$G30),$H30,0) -> 0 | P30: =IF(AND(P$12>=$E30,P$12<=$G30),$H30,0) -> 0 | Q30: =IF(AND(Q$12>=$E30,Q$12<=$G30),$H30,0) -> 0 | ... BI30: =IF(AND(BI$12>=$E30,BI$12<=$G30),$H30,0) -> 0
F31: =IF(E31="","",1+(G31-E31)) | J31: =IF(AND(J$12>=$E31,J$12<=$G31),$H31,0) -> 0 | K31: =IF(AND(K$12>=$E31,K$12<=$G31),$H31,0) -> 0 | L31: =IF(AND(L$12>=$E31,L$12<=$G31),$H31,0) -> 0 | M31: =IF(AND(M$12>=$E31,M$12<=$G31),$H31,0) -> 0 | N31: =IF(AND(N$12>=$E31,N$12<=$G31),$H31,0) -> 0 | O31: =IF(AND(O$12>=$E31,O$12<=$G31),$H31,0) -> 0 | P31: =IF(AND(P$12>=$E31,P$12<=$G31),$H31,0) -> 0 | Q31: =IF(AND(Q$12>=$E31,Q$12<=$G31),$H31,0) -> 0 | ... BI31: =IF(AND(BI$12>=$E31,BI$12<=$G31),$H31,0) -> 0
F32: =IF(E32="","",1+(G32-E32)) | J32: =IF(AND(J$12>=$E32,J$12<=$G32),$H32,0) -> 0 | K32: =IF(AND(K$12>=$E32,K$12<=$G32),$H32,0) -> 0 | L32: =IF(AND(L$12>=$E32,L$12<=$G32),$H32,0) -> 0 | M32: =IF(AND(M$12>=$E32,M$12<=$G32),$H32,0) -> 0 | N32: =IF(AND(N$12>=$E32,N$12<=$G32),$H32,0) -> 0 | O32: =IF(AND(O$12>=$E32,O$12<=$G32),$H32,0) -> 0 | P32: =IF(AND(P$12>=$E32,P$12<=$G32),$H32,0) -> 0 | Q32: =IF(AND(Q$12>=$E32,Q$12<=$G32),$H32,0) -> 0 | ... BI32: =IF(AND(BI$12>=$E32,BI$12<=$G32),$H32,0) -> 0
... F40: =IF(E40="","",1+(G40-E40)) | J40: =IF(AND(J$12>=$E40,J$12<=$G40),$H40,0) -> 0 | K40: =IF(AND(K$12>=$E40,K$12<=$G40),$H40,0) -> 0 | L40: =IF(AND(L$12>=$E40,L$12<=$G40),$H40,0) -> 0 | M40: =IF(AND(M$12>=$E40,M$12<=$G40),$H40,0) -> 0 | N40: =IF(AND(N$12>=$E40,N$12<=$G40),$H40,0) -> 0 | O40: =IF(AND(O$12>=$E40,O$12<=$G40),$H40,0) -> 0 | P40: =IF(AND(P$12>=$E40,P$12<=$G40),$H40,0) -> 0 | Q40: =IF(AND(Q$12>=$E40,Q$12<=$G40),$H40,0) -> 0 | ... BI40: =IF(AND(BI$12>=$E40,BI$12<=$G40),$H40,0) -> 0
B41: Werkstroom: technisch ontwerp | J41: -1 | K41: -1 | L41: -1 | M41: -1 | N41: -1 | O41: -1 | P41: -1 | Q41: -1 | R41: -1 | S41: -1 | T41: -1 | U41: -1 | V41: -1 | W41: -1 | X41: -1 | Y41: -1 | Z41: -1 | AA41: -1 | AB41: -1 | AC41: -1 | AD41: -1 | AE41: -1 | AF41: -1 | AG41: -1 | AH41: -1 | AI41: -1 | AJ41: -1 | AK41: -1 | AL41: -1 | AM41: -1 | AN41: -1 | AO41: -1 | AP41: -1 | AQ41: -1 | AR41: -1 | AS41: -1 | AT41: -1 | AU41: -1 | AV41: -1 | AW41: -1 | AX41: -1 | AY41: -1 | AZ41: -1 | BA41: -1 | BB41: -1 | BC41: -1 | BD41: -1 | BE41: -1 | BF41: -1 | BG41: -1 | BH41: -1 | BI41: -1
F42: =IF(E42="","",1+(G42-E42)) | J42: =IF(AND(J$12>=$E42,J$12<=$G42),$H42,0) -> 0 | K42: =IF(AND(K$12>=$E42,K$12<=$G42),$H42,0) -> 0 | L42: =IF(AND(L$12>=$E42,L$12<=$G42),$H42,0) -> 0 | M42: =IF(AND(M$12>=$E42,M$12<=$G42),$H42,0) -> 0 | N42: =IF(AND(N$12>=$E42,N$12<=$G42),$H42,0) -> 0 | O42: =IF(AND(O$12>=$E42,O$12<=$G42),$H42,0) -> 0 | P42: =IF(AND(P$12>=$E42,P$12<=$G42),$H42,0) -> 0 | Q42: =IF(AND(Q$12>=$E42,Q$12<=$G42),$H42,0) -> 0 | ... BI42: =IF(AND(BI$12>=$E42,BI$12<=$G42),$H42,0) -> 0
F43: =IF(E43="","",1+(G43-E43)) | J43: =IF(AND(J$12>=$E43,J$12<=$G43),$H43,0) -> 0 | K43: =IF(AND(K$12>=$E43,K$12<=$G43),$H43,0) -> 0 | L43: =IF(AND(L$12>=$E43,L$12<=$G43),$H43,0) -> 0 | M43: =IF(AND(M$12>=$E43,M$12<=$G43),$H43,0) -> 0 | N43: =IF(AND(N$12>=$E43,N$12<=$G43),$H43,0) -> 0 | O43: =IF(AND(O$12>=$E43,O$12<=$G43),$H43,0) -> 0 | P43: =IF(AND(P$12>=$E43,P$12<=$G43),$H43,0) -> 0 | Q43: =IF(AND(Q$12>=$E43,Q$12<=$G43),$H43,0) -> 0 | ... BI43: =IF(AND(BI$12>=$E43,BI$12<=$G43),$H43,0) -> 0
F44: =IF(E44="","",1+(G44-E44)) | J44: =IF(AND(J$12>=$E44,J$12<=$G44),$H44,0) -> 0 | K44: =IF(AND(K$12>=$E44,K$12<=$G44),$H44,0) -> 0 | L44: =IF(AND(L$12>=$E44,L$12<=$G44),$H44,0) -> 0 | M44: =IF(AND(M$12>=$E44,M$12<=$G44),$H44,0) -> 0 | N44: =IF(AND(N$12>=$E44,N$12<=$G44),$H44,0) -> 0 | O44: =IF(AND(O$12>=$E44,O$12<=$G44),$H44,0) -> 0 | P44: =IF(AND(P$12>=$E44,P$12<=$G44),$H44,0) -> 0 | Q44: =IF(AND(Q$12>=$E44,Q$12<=$G44),$H44,0) -> 0 | ... BI44: =IF(AND(BI$12>=$E44,BI$12<=$G44),$H44,0) -> 0
F45: =IF(E45="","",1+(G45-E45)) | J45: =IF(AND(J$12>=$E45,J$12<=$G45),$H45,0) -> 0 | K45: =IF(AND(K$12>=$E45,K$12<=$G45),$H45,0) -> 0 | L45: =IF(AND(L$12>=$E45,L$12<=$G45),$H45,0) -> 0 | M45: =IF(AND(M$12>=$E45,M$12<=$G45),$H45,0) -> 0 | N45: =IF(AND(N$12>=$E45,N$12<=$G45),$H45,0) -> 0 | O45: =IF(AND(O$12>=$E45,O$12<=$G45),$H45,0) -> 0 | P45: =IF(AND(P$12>=$E45,P$12<=$G45),$H45,0) -> 0 | Q45: =IF(AND(Q$12>=$E45,Q$12<=$G45),$H45,0) -> 0 | ... BI45: =IF(AND(BI$12>=$E45,BI$12<=$G45),$H45,0) -> 0
F46: =IF(E46="","",1+(G46-E46)) | J46: =IF(AND(J$12>=$E46,J$12<=$G46),$H46,0) -> 0 | K46: =IF(AND(K$12>=$E46,K$12<=$G46),$H46,0) -> 0 | L46: =IF(AND(L$12>=$E46,L$12<=$G46),$H46,0) -> 0 | M46: =IF(AND(M$12>=$E46,M$12<=$G46),$H46,0) -> 0 | N46: =IF(AND(N$12>=$E46,N$12<=$G46),$H46,0) -> 0 | O46: =IF(AND(O$12>=$E46,O$12<=$G46),$H46,0) -> 0 | P46: =IF(AND(P$12>=$E46,P$12<=$G46),$H46,0) -> 0 | Q46: =IF(AND(Q$12>=$E46,Q$12<=$G46),$H46,0) -> 0 | ... BI46: =IF(AND(BI$12>=$E46,BI$12<=$G46),$H46,0) -> 0
F47: =IF(E47="","",1+(G47-E47)) | J47: =IF(AND(J$12>=$E47,J$12<=$G47),$H47,0) -> 0 | K47: =IF(AND(K$12>=$E47,K$12<=$G47),$H47,0) -> 0 | L47: =IF(AND(L$12>=$E47,L$12<=$G47),$H47,0) -> 0 | M47: =IF(AND(M$12>=$E47,M$12<=$G47),$H47,0) -> 0 | N47: =IF(AND(N$12>=$E47,N$12<=$G47),$H47,0) -> 0 | O47: =IF(AND(O$12>=$E47,O$12<=$G47),$H47,0) -> 0 | P47: =IF(AND(P$12>=$E47,P$12<=$G47),$H47,0) -> 0 | Q47: =IF(AND(Q$12>=$E47,Q$12<=$G47),$H47,0) -> 0 | ... BI47: =IF(AND(BI$12>=$E47,BI$12<=$G47),$H47,0) -> 0
F48: =IF(E48="","",1+(G48-E48)) | J48: =IF(AND(J$12>=$E48,J$12<=$G48),$H48,0) -> 0 | K48: =IF(AND(K$12>=$E48,K$12<=$G48),$H48,0) -> 0 | L48: =IF(AND(L$12>=$E48,L$12<=$G48),$H48,0) -> 0 | M48: =IF(AND(M$12>=$E48,M$12<=$G48),$H48,0) -> 0 | N48: =IF(AND(N$12>=$E48,N$12<=$G48),$H48,0) -> 0 | O48: =IF(AND(O$12>=$E48,O$12<=$G48),$H48,0) -> 0 | P48: =IF(AND(P$12>=$E48,P$12<=$G48),$H48,0) -> 0 | Q48: =IF(AND(Q$12>=$E48,Q$12<=$G48),$H48,0) -> 0 | ... BI48: =IF(AND(BI$12>=$E48,BI$12<=$G48),$H48,0) -> 0
F49: =IF(E49="","",1+(G49-E49)) | J49: =IF(AND(J$12>=$E49,J$12<=$G49),$H49,0) -> 0 | K49: =IF(AND(K$12>=$E49,K$12<=$G49),$H49,0) -> 0 | L49: =IF(AND(L$12>=$E49,L$12<=$G49),$H49,0) -> 0 | M49: =IF(AND(M$12>=$E49,M$12<=$G49),$H49,0) -> 0 | N49: =IF(AND(N$12>=$E49,N$12<=$G49),$H49,0) -> 0 | O49: =IF(AND(O$12>=$E49,O$12<=$G49),$H49,0) -> 0 | P49: =IF(AND(P$12>=$E49,P$12<=$G49),$H49,0) -> 0 | Q49: =IF(AND(Q$12>=$E49,Q$12<=$G49),$H49,0) -> 0 | ... BI49: =IF(AND(BI$12>=$E49,BI$12<=$G49),$H49,0) -> 0
F50: =IF(E50="","",1+(G50-E50)) | J50: =IF(AND(J$12>=$E50,J$12<=$G50),$H50,0) -> 0 | K50: =IF(AND(K$12>=$E50,K$12<=$G50),$H50,0) -> 0 | L50: =IF(AND(L$12>=$E50,L$12<=$G50),$H50,0) -> 0 | M50: =IF(AND(M$12>=$E50,M$12<=$G50),$H50,0) -> 0 | N50: =IF(AND(N$12>=$E50,N$12<=$G50),$H50,0) -> 0 | O50: =IF(AND(O$12>=$E50,O$12<=$G50),$H50,0) -> 0 | P50: =IF(AND(P$12>=$E50,P$12<=$G50),$H50,0) -> 0 | Q50: =IF(AND(Q$12>=$E50,Q$12<=$G50),$H50,0) -> 0 | ... BI50: =IF(AND(BI$12>=$E50,BI$12<=$G50),$H50,0) -> 0
F51: =IF(E51="","",1+(G51-E51)) | J51: =IF(AND(J$12>=$E51,J$12<=$G51),$H51,0) -> 0 | K51: =IF(AND(K$12>=$E51,K$12<=$G51),$H51,0) -> 0 | L51: =IF(AND(L$12>=$E51,L$12<=$G51),$H51,0) -> 0 | M51: =IF(AND(M$12>=$E51,M$12<=$G51),$H51,0) -> 0 | N51: =IF(AND(N$12>=$E51,N$12<=$G51),$H51,0) -> 0 | O51: =IF(AND(O$12>=$E51,O$12<=$G51),$H51,0) -> 0 | P51: =IF(AND(P$12>=$E51,P$12<=$G51),$H51,0) -> 0 | Q51: =IF(AND(Q$12>=$E51,Q$12<=$G51),$H51,0) -> 0 | ... BI51: =IF(AND(BI$12>=$E51,BI$12<=$G51),$H51,0) -> 0
F52: =IF(E52="","",1+(G52-E52)) | J52: =IF(AND(J$12>=$E52,J$12<=$G52),$H52,0) -> 0 | K52: =IF(AND(K$12>=$E52,K$12<=$G52),$H52,0) -> 0 | L52: =IF(AND(L$12>=$E52,L$12<=$G52),$H52,0) -> 0 | M52: =IF(AND(M$12>=$E52,M$12<=$G52),$H52,0) -> 0 | N52: =IF(AND(N$12>=$E52,N$12<=$G52),$H52,0) -> 0 | O52: =IF(AND(O$12>=$E52,O$12<=$G52),$H52,0) -> 0 | P52: =IF(AND(P$12>=$E52,P$12<=$G52),$H52,0) -> 0 | Q52: =IF(AND(Q$12>=$E52,Q$12<=$G52),$H52,0) -> 0 | ... BI52: =IF(AND(BI$12>=$E52,BI$12<=$G52),$H52,0) -> 0
F53: =IF(E53="","",1+(G53-E53)) | J53: =IF(AND(J$12>=$E53,J$12<=$G53),$H53,0) -> 0 | K53: =IF(AND(K$12>=$E53,K$12<=$G53),$H53,0) -> 0 | L53: =IF(AND(L$12>=$E53,L$12<=$G53),$H53,0) -> 0 | M53: =IF(AND(M$12>=$E53,M$12<=$G53),$H53,0) -> 0 | N53: =IF(AND(N$12>=$E53,N$12<=$G53),$H53,0) -> 0 | O53: =IF(AND(O$12>=$E53,O$12<=$G53),$H53,0) -> 0 | P53: =IF(AND(P$12>=$E53,P$12<=$G53),$H53,0) -> 0 | Q53: =IF(AND(Q$12>=$E53,Q$12<=$G53),$H53,0) -> 0 | ... BI53: =IF(AND(BI$12>=$E53,BI$12<=$G53),$H53,0) -> 0
... F61: =IF(E61="","",1+(G61-E61)) | J61: =IF(AND(J$12>=$E61,J$12<=$G61),$H61,0) -> 0 | K61: =IF(AND(K$12>=$E61,K$12<=$G61),$H61,0) -> 0 | L61: =IF(AND(L$12>=$E61,L$12<=$G61),$H61,0) -> 0 | M61: =IF(AND(M$12>=$E61,M$12<=$G61),$H61,0) -> 0 | N61: =IF(AND(N$12>=$E61,N$12<=$G61),$H61,0) -> 0 | O61: =IF(AND(O$12>=$E61,O$12<=$G61),$H61,0) -> 0 | P61: =IF(AND(P$12>=$E61,P$12<=$G61),$H61,0) -> 0 | Q61: =IF(AND(Q$12>=$E61,Q$12<=$G61),$H61,0) -> 0 | ... BI61: =IF(AND(BI$12>=$E61,BI$12<=$G61),$H61,0) -> 0
B62: Werkstroom: financieel ontwerp | J62: -1 | K62: -1 | L62: -1 | M62: -1 | N62: -1 | O62: -1 | P62: -1 | Q62: -1 | R62: -1 | S62: -1 | T62: -1 | U62: -1 | V62: -1 | W62: -1 | X62: -1 | Y62: -1 | Z62: -1 | AA62: -1 | AB62: -1 | AC62: -1 | AD62: -1 | AE62: -1 | AF62: -1 | AG62: -1 | AH62: -1 | AI62: -1 | AJ62: -1 | AK62: -1 | AL62: -1 | AM62: -1 | AN62: -1 | AO62: -1 | AP62: -1 | AQ62: -1 | AR62: -1 | AS62: -1 | AT62: -1 | AU62: -1 | AV62: -1 | AW62: -1 | AX62: -1 | AY62: -1 | AZ62: -1 | BA62: -1 | BB62: -1 | BC62: -1 | BD62: -1 | BE62: -1 | BF62: -1 | BG62: -1 | BH62: -1 | BI62: -1
...

Sheet Begroting
B1: Subsidiemodule Onderzoek Energiehubs (EHUB)
B2: Format plan van aanpak: begroting
A4: Versie format | B4: =Invulinstructie!B6 -> D1.0
A5: Ingevuld door
A6: Functie
A7: Onderneming
A8: Datum
A9: Btw | C9: =IF(B9="btw verrekenbaar","vul de kosten in excl. btw",IF(B9="btw niet verrekenbaar","vul de kosten in incl. btw","selecteer een antwoord")) -> selecteer een antwoord
A12: A1 Loonkosten/arbeid
A13: Onderdeel | B13: Functie | C13: Rol in het project | D13: Uurtarief | E13: Aantal uur | F13: Kosten
D14: 60 | F14: =E14*D14 -> 0
D15: 60 | F15: =E15*D15 -> 0
D16: 60 | F16: =E16*D16 -> 0
D17: 60 | F17: =E17*D17 -> 0
D18: 60 | F18: =E18*D18 -> 0
D19: 60 | F19: =E19*D19 -> 0
D20: 60 | F20: =E20*D20 -> 0
D21: 60 | F21: =E21*D21 -> 0
D22: 60 | F22: =E22*D22 -> 0
D23: 60 | F23: =E23*D23 -> 0
D24: 60 | F24: =E24*D24 -> 0
D25: 60 | F25: =E25*D25 -> 0
... D53: 60 | F53: =E53*D53 -> 0
A54: Subtotaal | E54: =SUM(E14:E53) -> 0 | F54: =SUM(F14:F53) -> 0
A56: A2 Machines en apparaten die niet uitsluitend voor het project worden aangeschaft
A57: Onderdeel | B57: Machine/apparaat | C57: Rol in het project | D57: Kosten per uur* | E57: Aantal uur | F57: Kosten
F58: =E58*D58 -> 0
F59: =E59*D59 -> 0
F60: =E60*D60 -> 0
F61: =E61*D61 -> 0
F62: =E62*D62 -> 0
F63: =E63*D63 -> 0
F64: =E64*D64 -> 0
F65: =E65*D65 -> 0
F66: =E66*D66 -> 0
F67: =E67*D67 -> 0
A68: Subtotaal | E68: =SUM(E58:E67) -> 0 | F68: =SUM(F58:F67) -> 0
A69: * Zie voor berekeningswijze het tabblad Invulinstructie. U kunt gevraagd worden het uurtarief te onderbouwen.
A71: A3:a Apparatuur uitsluitend voor het project aangeschaft
A72: Onderdeel | B72: Machine/apparaat | C72: Rol in het project | F72: Afschrijvingskosten binnen projectduur
...

Sheet Financieringsplan
B1: Subsidiemodule Onderzoek Energiehubs (EHUB)
B2: Format plan van aanpak: financieringsplan
A4: Versie format | B4: =Invulinstructie!B6 -> D1.0
A5: Ingevuld door
A6: Functie
A7: Onderneming
A8: Datum
A10: ='Opzet studie'!A12 -> Soort studie | B10: ='Opzet studie'!B12 -> 0
A11: Subsidiepercentage | B11: =IF(B10="nieuwe energiehub",0.7,0.4) -> 0.4
C13: Deze bedragen neemt u over op het aanvraagformulier.
C17: Kosten | D17: Subsidiabele kosten | E17: Subsidieberekening
B18: Organisatorisch ontwerp | C18: =SUMIF(Begroting!A:A,B18,Begroting!F:F) -> 0 | D18: =C18 -> 0 | E18: =D18*$B$11 -> 0
B19: Technisch ontwerp | C19: =SUMIF(Begroting!A:A,B19,Begroting!F:F) -> 0 | D19: =C19 -> 0 | E19: =D19*$B$11 -> 0
B20: Financieel ontwerp | C20: =SUMIF(Begroting!A:A,B20,Begroting!F:F) -> 0 | D20: =C20 -> 0 | E20: =D20*$B$11 -> 0
B21: Juridisch ontwerp | C21: =SUMIF(Begroting!A:A,B21,Begroting!F:F) -> 0 | D21: =C21 -> 0 | E21: =D21*$B$11 -> 0
B22: Procesbegeleiding | C22: =SUMIF(Begroting!A:A,B22,Begroting!F:F) -> 0 | D22: Niet subsidiabel
B23: Overige kosten | C23: =SUMIF(Begroting!A:A,B23,Begroting!F:F) -> 0
B25: Totale projectkosten | C25: =SUM(C18:C23) -> 0
B26: Berekende subsidiabele kosten | C26: =SUM(D18:D21) -> 0
B27: Berekend subsidiebedrag | C27: =MIN(SUM(E18:E21),IF(B10="nieuwe energiehub",42000,32000)) -> 0
B28: Gevraagd subsidiebedrag
B29: Te financieren | C29: =C25-C28 -> 0
B31: Cash bijdrage, bijvoorbeeld van uw beoogde energiehub-partners
B32: Bijdrage van (handelsnaam) | C32: Bedrag | D32: Toelichting
B48: Totaal | C48: =SUM(C33:C47) -> 0
B50: Eerder verstrekte subsidie door bestuursorganen of Europese Commissie
B51: Subsidie van (naam subsidieverstrekker) | C51: Bedrag | D51: Naam subsidie
B62: Totaal | C62: =SUM(C52:C61) -> 0
B64: Samenvatting
B65: Totale projectkosten | C65: =C25 -> 0
B66: Gevraagde subsidie | C66: =C28 -> 0 | D66: =C66/$C$65 -> #DIV/0!
B67: Reeds verstrekste subsidie | C67: =C62 -> 0 | D67: =C67/$C$65 -> #DIV/0!
B68: Cash bijdragen | C68: =C48 -> 0 | D68: =C68/$C$65 -> #DIV/0!
B69: Te financieren eigen aandeel | C69: =C65-C66-C67-C68 -> 0 | D69: =C69/$C$65 -> #DIV/0!
B71: Let op: wij kunnen u vragen om te onderbouwen hoe u uw eigen aandeel financiert.

Sheet Invultabellen
B2: Onderdelen | D2: BTW | F2: soorthub
B3: Organisatorisch ontwerp | D3: btw verrekenbaar | F3: nieuwe energiehub
B4: Technisch ontwerp | D4: btw niet verrekenbaar | F4: uitbreiding van een bestaande energiehub
B5: Financieel ontwerp
B6: Juridisch ontwerp
B7: Procesbegeleiding
B8: Overige kosten
