Workbook
Name Gegevens_deelnemers: Deelnemers[#All]
Name Gegevens_deelnemers: Deelnemers[#All]
Name Gegevens_deelnemers: Deelnemers[#All]
Name Kostensystematiek: '[1]Penvoerder-aanvrager 1'!$Q$12:$Q$17

Sheet Toelichting projectkosten
A1: {=_xlfn._xlws.FILTER(Deelnemers[Naam organisatie],Deelnemers[Naam organisatie]<>"")} -> #VALUE!

Sheet Basisgegevens Begroting
B1: Basisgegevens begroting
B3: Projectgegevens
B4: Regeling | C4: Koplopersregeling Maritiem Masterplan
B5: Projecttitel
B6: Voldoet het project aan ten minste één van de voorwaarden, bedoeld in artikel 25, zesde lid, onderdeel b, van de algemene groepsvrijstellingsverordening?
B8: Gegevens deelnemers Nederland | C8: Naam organisatie | D8: Vestigingsland | E8: Soort onderneming (MKB/Grote onderneming) | F8: Subsidie-Percentage algemeen | G8: Subsidie-Percentage experimentele ontwikkeling | H8: Subsidie-Percentage Industrieel onderzoek | I8: Subsidie-Percentage niet-economisch industrieel onderzoek of experimenteel onderzoek
B9: Aanvrager / deelnemer 1 | E9: Grote onderneming | F9: =VLOOKUP(Deelnemers[[#This Row],[Soort onderneming (MKB/Grote onderneming)]],Blad1!$D$45:$E$48,2,FALSE)+VLOOKUP($C$6,Blad1!$D$37:$E$39,2,FALSE) -> 0.25 | G9: =VLOOKUP(Deelnemers[[#This Row],[Soort onderneming (MKB/Grote onderneming)]],Blad1!$D$45:$E$48,2,FALSE)+VLOOKUP($C$6,Blad1!$D$37:$E$39,2,FALSE) -> 0.25 | H9: {=_xlfn.IFS(Deelnemers[[#This Row],[Subsidie-Percentage experimentele ontwikkeling]]=0,0,Deelnemers[[#This Row],[Subsidie-Percentage experimentele ontwikkeling]]>0,Deelnemers[[#This Row],[Subsidie-Percentage experimentele ontwikkeling]]+0.25)} -> 0.5 | I9: =IF(Deelnemers[[#This Row],[Soort onderneming (MKB/Grote onderneming)]]=Blad1!$D$48,100%,0) -> 0
B10: Deelnemer 2 | E10: Grote onderneming | F10: =VLOOKUP(Deelnemers[[#This Row],[Soort onderneming (MKB/Grote onderneming)]],Blad1!$D$45:$E$48,2,FALSE)+VLOOKUP($C$6,Blad1!$D$37:$E$39,2,FALSE) -> 0.25 | G10: =VLOOKUP(Deelnemers[[#This Row],[Soort onderneming (MKB/Grote onderneming)]],Blad1!$D$45:$E$48,2,FALSE)+VLOOKUP($C$6,Blad1!$D$37:$E$39,2,FALSE) -> 0.25 | H10: {=_xlfn.IFS(Deelnemers[[#This Row],[Subsidie-Percentage experimentele ontwikkeling]]=0,0,Deelnemers[[#This Row],[Subsidie-Percentage experimentele ontwikkeling]]>0,Deelnemers[[#This Row],[Subsidie-Percentage experimentele ontwikkeling]]+0.25)} -> 0.5 | I10: =IF(Deelnemers[[#This Row],[Soort onderneming (MKB/Grote onderneming)]]=Blad1!$D$48,100%,0) -> 0
B11: Deelnemer 3 | E11: Grote onderneming | F11: =VLOOKUP(Deelnemers[[#This Row],[Soort onderneming (MKB/Grote onderneming)]],Blad1!$D$45:$E$48,2,FALSE)+VLOOKUP($C$6,Blad1!$D$37:$E$39,2,FALSE) -> 0.25 | G11: =VLOOKUP(Deelnemers[[#This Row],[Soort onderneming (MKB/Grote onderneming)]],Blad1!$D$45:$E$48,2,FALSE)+VLOOKUP($C$6,Blad1!$D$37:$E$39,2,FALSE) -> 0.25 | H11: {=_xlfn.IFS(Deelnemers[[#This Row],[Subsidie-Percentage experimentele ontwikkeling]]=0,0,Deelnemers[[#This Row],[Subsidie-Percentage experimentele ontwikkeling]]>0,Deelnemers[[#This Row],[Subsidie-Percentage experimentele ontwikkeling]]+0.25)} -> 0.5 | I11: =IF(Deelnemers[[#This Row],[Soort onderneming (MKB/Grote onderneming)]]=Blad1!$D$48,100%,0) -> 0
B12: Deelnemer 4 | E12: Grote onderneming | F12: =VLOOKUP(Deelnemers[[#This Row],[Soort onderneming (MKB/Grote onderneming)]],Blad1!$D$45:$E$48,2,FALSE)+VLOOKUP($C$6,Blad1!$D$37:$E$39,2,FALSE) -> 0.25 | G12: =VLOOKUP(Deelnemers[[#This Row],[Soort onderneming (MKB/Grote onderneming)]],Blad1!$D$45:$E$48,2,FALSE)+VLOOKUP($C$6,Blad1!$D$37:$E$39,2,FALSE) -> 0.25 | H12: {=_xlfn.IFS(Deelnemers[[#This Row],[Subsidie-Percentage experimentele ontwikkeling]]=0,0,Deelnemers[[#This Row],[Subsidie-Percentage experimentele ontwikkeling]]>0,Deelnemers[[#This Row],[Subsidie-Percentage experimentele ontwikkeling]]+0.25)} -> 0.5 | I12: =IF(Deelnemers[[#This Row],[Soort onderneming (MKB/Grote onderneming)]]=Blad1!$D$48,100%,0) -> 0
B13: Deelnemer 5 | E13: Grote onderneming | F13: =VLOOKUP(Deelnemers[[#This Row],[Soort onderneming (MKB/Grote onderneming)]],Blad1!$D$45:$E$48,2,FALSE)+VLOOKUP($C$6,Blad1!$D$37:$E$39,2,FALSE) -> 0.25 | G13: =VLOOKUP(Deelnemers[[#This Row],[Soort onderneming (MKB/Grote onderneming)]],Blad1!$D$45:$E$48,2,FALSE)+VLOOKUP($C$6,Blad1!$D$37:$E$39,2,FALSE) -> 0.25 | H13: {=_xlfn.IFS(Deelnemers[[#This Row],[Subsidie-Percentage experimentele ontwikkeling]]=0,0,Deelnemers[[#This Row],[Subsidie-Percentage experimentele ontwikkeling]]>0,Deelnemers[[#This Row],[Subsidie-Percentage experimentele ontwikkeling]]+0.25)} -> 0.5 | I13: =IF(Deelnemers[[#This Row],[Soort onderneming (MKB/Grote onderneming)]]=Blad1!$D$48,100%,0) -> 0
B14: Deelnemer 6 | E14: Grote onderneming | F14: =VLOOKUP(Deelnemers[[#This Row],[Soort onderneming (MKB/Grote onderneming)]],Blad1!$D$45:$E$48,2,FALSE)+VLOOKUP($C$6,Blad1!$D$37:$E$39,2,FALSE) -> 0.25 | G14: =VLOOKUP(Deelnemers[[#This Row],[Soort onderneming (MKB/Grote onderneming)]],Blad1!$D$45:$E$48,2,FALSE)+VLOOKUP($C$6,Blad1!$D$37:$E$39,2,FALSE) -> 0.25 | H14: {=_xlfn.IFS(Deelnemers[[#This Row],[Subsidie-Percentage experimentele ontwikkeling]]=0,0,Deelnemers[[#This Row],[Subsidie-Percentage experimentele ontwikkeling]]>0,Deelnemers[[#This Row],[Subsidie-Percentage experimentele ontwikkeling]]+0.25)} -> 0.5 | I14: =IF(Deelnemers[[#This Row],[Soort onderneming (MKB/Grote onderneming)]]=Blad1!$D$48,100%,0) -> 0
B15: Deelnemer 7 | E15: Grote onderneming | F15: =VLOOKUP(Deelnemers[[#This Row],[Soort onderneming (MKB/Grote onderneming)]],Blad1!$D$45:$E$48,2,FALSE)+VLOOKUP($C$6,Blad1!$D$37:$E$39,2,FALSE) -> 0.25 | G15: =VLOOKUP(Deelnemers[[#This Row],[Soort onderneming (MKB/Grote onderneming)]],Blad1!$D$45:$E$48,2,FALSE)+VLOOKUP($C$6,Blad1!$D$37:$E$39,2,FALSE) -> 0.25 | H15: {=_xlfn.IFS(Deelnemers[[#This Row],[Subsidie-Percentage experimentele ontwikkeling]]=0,0,Deelnemers[[#This Row],[Subsidie-Percentage experimentele ontwikkeling]]>0,Deelnemers[[#This Row],[Subsidie-Percentage experimentele ontwikkeling]]+0.25)} -> 0.5 | I15: =IF(Deelnemers[[#This Row],[Soort onderneming (MKB/Grote onderneming)]]=Blad1!$D$48,100%,0) -> 0
B16: Deelnemer 8 | E16: Grote onderneming | F16: =VLOOKUP(Deelnemers[[#This Row],[Soort onderneming (MKB/Grote onderneming)]],Blad1!$D$45:$E$48,2,FALSE)+VLOOKUP($C$6,Blad1!$D$37:$E$39,2,FALSE) -> 0.25 | G16: =VLOOKUP(Deelnemers[[#This Row],[Soort onderneming (MKB/Grote onderneming)]],Blad1!$D$45:$E$48,2,FALSE)+VLOOKUP($C$6,Blad1!$D$37:$E$39,2,FALSE) -> 0.25 | H16: {=_xlfn.IFS(Deelnemers[[#This Row],[Subsidie-Percentage experimentele ontwikkeling]]=0,0,Deelnemers[[#This Row],[Subsidie-Percentage experimentele ontwikkeling]]>0,Deelnemers[[#This Row],[Subsidie-Percentage experimentele ontwikkeling]]+0.25)} -> 0.5 | I16: =IF(Deelnemers[[#This Row],[Soort onderneming (MKB/Grote onderneming)]]=Blad1!$D$48,100%,0) -> 0
B17: Deelnemer 9 | E17: Grote onderneming | F17: =VLOOKUP(Deelnemers[[#This Row],[Soort onderneming (MKB/Grote onderneming)]],Blad1!$D$45:$E$48,2,FALSE)+VLOOKUP($C$6,Blad1!$D$37:$E$39,2,FALSE) -> 0.25 | G17: =VLOOKUP(Deelnemers[[#This Row],[Soort onderneming (MKB/Grote onderneming)]],Blad1!$D$45:$E$48,2,FALSE)+VLOOKUP($C$6,Blad1!$D$37:$E$39,2,FALSE) -> 0.25 | H17: {=_xlfn.IFS(Deelnemers[[#This Row],[Subsidie-Percentage experimentele ontwikkeling]]=0,0,Deelnemers[[#This Row],[Subsidie-Percentage experimentele ontwikkeling]]>0,Deelnemers[[#This Row],[Subsidie-Percentage experimentele ontwikkeling]]+0.25)} -> 0.5 | I17: =IF(Deelnemers[[#This Row],[Soort onderneming (MKB/Grote onderneming)]]=Blad1!$D$48,100%,0) -> 0
B18: Deelnemer 10 | E18: Grote onderneming | F18: =VLOOKUP(Deelnemers[[#This Row],[Soort onderneming (MKB/Grote onderneming)]],Blad1!$D$45:$E$48,2,FALSE)+VLOOKUP($C$6,Blad1!$D$37:$E$39,2,FALSE) -> 0.25 | G18: =VLOOKUP(Deelnemers[[#This Row],[Soort onderneming (MKB/Grote onderneming)]],Blad1!$D$45:$E$48,2,FALSE)+VLOOKUP($C$6,Blad1!$D$37:$E$39,2,FALSE) -> 0.25 | H18: {=_xlfn.IFS(Deelnemers[[#This Row],[Subsidie-Percentage experimentele ontwikkeling]]=0,0,Deelnemers[[#This Row],[Subsidie-Percentage experimentele ontwikkeling]]>0,Deelnemers[[#This Row],[Subsidie-Percentage experimentele ontwikkeling]]+0.25)} -> 0.5 | I18: =IF(Deelnemers[[#This Row],[Soort onderneming (MKB/Grote onderneming)]]=Blad1!$D$48,100%,0) -> 0
B19: Deelnemer 11 | E19: Grote onderneming | F19: =VLOOKUP(Deelnemers[[#This Row],[Soort onderneming (MKB/Grote onderneming)]],Blad1!$D$45:$E$48,2,FALSE)+VLOOKUP($C$6,Blad1!$D$37:$E$39,2,FALSE) -> 0.25 | G19: =VLOOKUP(Deelnemers[[#This Row],[Soort onderneming (MKB/Grote onderneming)]],Blad1!$D$45:$E$48,2,FALSE)+VLOOKUP($C$6,Blad1!$D$37:$E$39,2,FALSE) -> 0.25 | H19: {=_xlfn.IFS(Deelnemers[[#This Row],[Subsidie-Percentage experimentele ontwikkeling]]=0,0,Deelnemers[[#This Row],[Subsidie-Percentage experimentele ontwikkeling]]>0,Deelnemers[[#This Row],[Subsidie-Percentage experimentele ontwikkeling]]+0.25)} -> 0.5 | I19: =IF(Deelnemers[[#This Row],[Soort onderneming (MKB/Grote onderneming)]]=Blad1!$D$48,100%,0) -> 0
B20: Deelnemer 12 | E20: Grote onderneming | F20: =VLOOKUP(Deelnemers[[#This Row],[Soort onderneming (MKB/Grote onderneming)]],Blad1!$D$45:$E$48,2,FALSE)+VLOOKUP($C$6,Blad1!$D$37:$E$39,2,FALSE) -> 0.25 | G20: =VLOOKUP(Deelnemers[[#This Row],[Soort onderneming (MKB/Grote onderneming)]],Blad1!$D$45:$E$48,2,FALSE)+VLOOKUP($C$6,Blad1!$D$37:$E$39,2,FALSE) -> 0.25 | H20: {=_xlfn.IFS(Deelnemers[[#This Row],[Subsidie-Percentage experimentele ontwikkeling]]=0,0,Deelnemers[[#This Row],[Subsidie-Percentage experimentele ontwikkeling]]>0,Deelnemers[[#This Row],[Subsidie-Percentage experimentele ontwikkeling]]+0.25)} -> 0.5 | I20: =IF(Deelnemers[[#This Row],[Soort onderneming (MKB/Grote onderneming)]]=Blad1!$D$48,100%,0) -> 0
... B28: Deelnemer 20 | E28: Grote onderneming | F28: =VLOOKUP(Deelnemers[[#This Row],[Soort onderneming (MKB/Grote onderneming)]],Blad1!$D$45:$E$48,2,FALSE)+VLOOKUP($C$6,Blad1!$D$37:$E$39,2,FALSE) -> 0.25 | G28: =VLOOKUP(Deelnemers[[#This Row],[Soort onderneming (MKB/Grote onderneming)]],Blad1!$D$45:$E$48,2,FALSE)+VLOOKUP($C$6,Blad1!$D$37:$E$39,2,FALSE) -> 0.25 | H28: {=_xlfn.IFS(Deelnemers[[#This Row],[Subsidie-Percentage experimentele ontwikkeling]]=0,0,Deelnemers[[#This Row],[Subsidie-Percentage experimentele ontwikkeling]]>0,Deelnemers[[#This Row],[Subsidie-Percentage experimentele ontwikkeling]]+0.25)} -> 0.5 | I28: =IF(Deelnemers[[#This Row],[Soort onderneming (MKB/Grote onderneming)]]=Blad1!$D$48,100%,0) -> 0

Sheet Totaal
B2: Regeling | C2: ='Basisgegevens Begroting'!C4 -> Koplopersregeling Maritiem Masterplan
B3: Projecttitel: | C3: =+'Basisgegevens Begroting'!C5 -> 0
B4: Aanvrager: | C4: =+'Basisgegevens Begroting'!C9 -> 0
B6: Kosten en subsidieberekening Nederlandse organisaties
A8: 1. | B8: =+'Basisgegevens Begroting'!C9 -> 0
B9: ="Deze subsidie is conform de bedragen van " &E10 -> Deze subsidie is conform de bedragen van 0 | E9: Kosten | F9: Subsidie
E10: =+B8 -> 0
B11: ="Kosten van "&E10 -> Kosten van 0 | E11: =+'Kosten Deelnemer 1'!F86 -> 0 | F11: =+'Kosten Deelnemer 1'!H86 -> 0 | G11: {=_xlfn.IFS(E11=0,"",E11<25000,"De subsidiabele kosten mogen niet minder bedragen dan € 25.000,- per deelnemer aan het samenwerkingsverband",E11>=25000,"")}
A14: 2. | B14: =+'Basisgegevens Begroting'!C10 -> 0
B15: ="Deze subsidie is conform de bedragen van " &B14 -> Deze subsidie is conform de bedragen van 0 | E15: =+E9 -> Kosten | F15: =+F9 -> Subsidie
E16: =+B14 -> 0
B17: ="Kosten van "&E16 -> Kosten van 0 | E17: =+'Kosten Deelnemer 2'!F86 -> 0 | F17: =+'Kosten Deelnemer 2'!H86 -> 0 | G17: {=_xlfn.IFS(E17=0,"",E17<25000,"De subsidiabele kosten mogen niet minder bedragen dan € 25.000,- per deelnemer aan het samenwerkingsverband",E17>=25000,"")}
A20: 3. | B20: =+'Basisgegevens Begroting'!C11 -> 0
B21: ="Deze subsidie is conform de bedragen van " &B20 -> Deze subsidie is conform de bedragen van 0 | E21: =+E15 -> Kosten | F21: =+F15 -> Subsidie
E22: =+B20 -> 0
B23: ="Kosten van "&E22 -> Kosten van 0 | E23: =+'Kosten Deelnemer 3'!F86 -> 0 | F23: =+'Kosten Deelnemer 3'!H86 -> 0 | G23: {=_xlfn.IFS(E23=0,"",E23<25000,"De subsidiabele kosten mogen niet minder bedragen dan € 25.000,- per deelnemer aan het samenwerkingsverband",E23>=25000,"")}
A26: 4. | B26: =+'Basisgegevens Begroting'!C12 -> 0
B27: ="Deze subsidie is conform de bedragen van " &B26 -> Deze subsidie is conform de bedragen van 0 | E27: =+E21 -> Kosten | F27: =+F21 -> Subsidie
E28: =+B26 -> 0
B29: ="Kosten van "&E28 -> Kosten van 0 | E29: =+'Kosten Deelnemer 4'!F86 -> 0 | F29: =+'Kosten Deelnemer 4'!H86 -> 0 | G29: {=_xlfn.IFS(E29=0,"",E29<25000,"De subsidiabele kosten mogen niet minder bedragen dan € 25.000,- per deelnemer aan het samenwerkingsverband",E29>=25000,"")}
A32: 5. | B32: =+'Basisgegevens Begroting'!C13 -> 0
B33: ="Deze subsidie is conform de bedragen van " &B32 -> Deze subsidie is conform de bedragen van 0 | E33: =+E27 -> Kosten | F33: =+F27 -> Subsidie | I33: Nederland | J33: Andere landen
E34: =+B32 -> 0 | H34: =+D144 -> 0 | I34: =IF(E144="Nederland",D149,"") | J34: =IF(E144="Nederland","",D149) -> 0
B35: ="Kosten van "&B32 -> Kosten van 0 | E35: =+'Kosten Deelnemer 5'!F86 -> 0 | F35: =+'Kosten Deelnemer 5'!H86 -> 0 | G35: {=_xlfn.IFS(E35=0,"",E35<25000,"De subsidiabele kosten mogen niet minder bedragen dan € 25.000,- per deelnemer aan het samenwerkingsverband",E35>=25000,"")} | H35: =+F144 -> 0 | I35: =IF(G144="Nederland",F149,"") | J35: =IF(G144="Nederland","",F149) -> 0
H36: =+H144 -> 0 | I36: =IF(I144="Nederland",H149,"") | J36: =IF(I144="Nederland","",H149) -> 0
H37: =+J144 -> 0 | I37: =IF(K144="Nederland",J149,"") | J37: =IF(K144="Nederland","",J149) -> 0
A38: 6. | B38: =+'Basisgegevens Begroting'!C14 -> 0 | H38: =+B32 -> 0 | I38: =IF(M144="Nederland",L149,"") | J38: =IF(M144="Nederland","",L149) -> 0
B39: ="Deze subsidie is conform de bedragen van " &B38 -> Deze subsidie is conform de bedragen van 0 | E39: =+E33 -> Kosten | F39: =+F33 -> Subsidie | H39: =+B38 -> 0 | I39: =IF(E151="Nederland",D156,"") | J39: =IF(E151="Nederland","",D156) -> 0
E40: =+B38 -> 0 | H40: =+B44 -> 0 | I40: =IF(G151="Nederland",F156,"") | J40: =IF(G151="Nederland","",F156) -> 0
B41: ="Kosten van "&B38 -> Kosten van 0 | E41: =+'Kosten Deelnemer 6'!F86 -> 0 | F41: =+'Kosten Deelnemer 6'!H86 -> 0 | G41: {=_xlfn.IFS(E41=0,"",E41<25000,"De subsidiabele kosten mogen niet minder bedragen dan € 25.000,- per deelnemer aan het samenwerkingsverband",E41>=25000,"")} | H41: =+B50 -> 0 | I41: =IF(I151="Nederland",H156,"") | J41: =IF(I151="Nederland","",H156) -> 0
H42: =+B56 -> 0 | I42: =IF(K151="Nederland",J156,"") | J42: =IF(K151="Nederland","",J156) -> 0
H43: =+B62 -> 0 | I43: =IF(M151="Nederland",L156,"") | J43: =IF(M151="Nederland","",L156) -> 0
A44: 7. | B44: =+'Basisgegevens Begroting'!C15 -> 0 | H44: =+B68 -> 0 | I44: =IF(E158="Nederland",D163,"") | J44: =IF(E158="Nederland","",D163) -> 0
B45: ="Deze subsidie is conform de bedragen van " &B44 -> Deze subsidie is conform de bedragen van 0 | E45: =+E39 -> Kosten | F45: =+F39 -> Subsidie | H45: =+B74 -> 0 | I45: =IF(G158="Nederland",F163,"") | J45: =IF(G158="Nederland","",F163) -> 0
E46: =+B44 -> 0 | H46: =+B80 -> 0 | I46: =IF(I158="Nederland",H163,"") | J46: =IF(I158="Nederland","",H163) -> 0
B47: ="Kosten van "&'Basisgegevens Begroting'!C15 -> Kosten van | E47: =+'Kosten Deelnemer 7'!F86 -> 0 | F47: =+'Kosten Deelnemer 7'!H86 -> 0 | G47: {=_xlfn.IFS(E47=0,"",E47<25000,"De subsidiabele kosten mogen niet minder bedragen dan € 25.000,- per deelnemer aan het samenwerkingsverband",E47>=25000,"")} | H47: =+B86 -> 0 | I47: =IF(K158="Nederland",J163,"") | J47: =IF(K158="Nederland","",J163) -> 0
H48: =+B92 -> 0 | I48: =IF(M158="Nederland",L163,"") | J48: =IF(M158="Nederland","",L163) -> 0
H49: =+B98 -> 0 | I49: =IF(E165="Nederland",D170,"") | J49: =IF(E165="Nederland","",D170) -> 0
A50: 8. | B50: =+'Basisgegevens Begroting'!C16 -> 0 | H50: =+B104 -> 0 | I50: =IF(G165="Nederland",F170,"") | J50: =IF(G165="Nederland","",F170) -> 0
B51: ="Deze subsidie is conform de bedragen van " &B50 -> Deze subsidie is conform de bedragen van 0 | E51: =+E45 -> Kosten | F51: =+F45 -> Subsidie | H51: =+B110 -> 0 | I51: =IF(I165="Nederland",H170,"") | J51: =IF(I165="Nederland","",H170) -> 0
...

Sheet Kosten Deelnemer 1
A1: ='Basisgegevens Begroting'!C9 -> 0
A4: Kolom1 | B4: Kolom2 | C4: Kolom22 | D4: Kolom3 | E4: Kolom5 | F4: Kolom6 | G4: Kolom8 | H4: Kolom9 | I4: Kolom10
A5: Personeelskosten | G5: =+Totaal!I9 -> 0 | I5: =IF(EigenPersoneel[[#This Row],[Kolom8]]=100%,EigenPersoneel[[#This Row],[Kolom9]],"")
B6: Functie | C6: Subsidiedoel | D6: Uurtarief | E6: Aantal uren | F6: Uren x tarief | G6: Subsidie % | H6: Subsidie | I6: =IF(EigenPersoneel[[#This Row],[Kolom8]]=100%,EigenPersoneel[[#This Row],[Kolom9]],"")
F7: =$D7*E7 -> 0 | G7: {=+_xlfn.IFS(EigenPersoneel[[#This Row],[Kolom22]]=Blad1!$D$2,'Basisgegevens Begroting'!$I$9,EigenPersoneel[[#This Row],[Kolom22]]=Blad1!$D$3,'Basisgegevens Begroting'!$G$9,EigenPersoneel[[#This Row],[Kolom22]]=Blad1!$D$4,'Basisgegevens Begroting'!$H$9,EigenPersoneel[[#This Row],[Kolom22]]="",0)} -> 0 | H7: =+EigenPersoneel[[#This Row],[Kolom6]]*EigenPersoneel[[#This Row],[Kolom8]] -> 0 | I7: =IF(EigenPersoneel[[#This Row],[Kolom8]]=100%,EigenPersoneel[[#This Row],[Kolom9]],"")
F8: =$D8*E8 -> 0 | G8: {=+_xlfn.IFS(EigenPersoneel[[#This Row],[Kolom22]]=Blad1!$D$2,'Basisgegevens Begroting'!$I$9,EigenPersoneel[[#This Row],[Kolom22]]=Blad1!$D$3,'Basisgegevens Begroting'!$G$9,EigenPersoneel[[#This Row],[Kolom22]]=Blad1!$D$4,'Basisgegevens Begroting'!$H$9,EigenPersoneel[[#This Row],[Kolom22]]="",0)} -> 0 | H8: =+EigenPersoneel[[#This Row],[Kolom6]]*EigenPersoneel[[#This Row],[Kolom8]] -> 0 | I8: =IF(EigenPersoneel[[#This Row],[Kolom8]]=100%,EigenPersoneel[[#This Row],[Kolom9]],"")
F9: =$D9*E9 -> 0 | G9: {=+_xlfn.IFS(EigenPersoneel[[#This Row],[Kolom22]]=Blad1!$D$2,'Basisgegevens Begroting'!$I$9,EigenPersoneel[[#This Row],[Kolom22]]=Blad1!$D$3,'Basisgegevens Begroting'!$G$9,EigenPersoneel[[#This Row],[Kolom22]]=Blad1!$D$4,'Basisgegevens Begroting'!$H$9,EigenPersoneel[[#This Row],[Kolom22]]="",0)} -> 0 | H9: =+EigenPersoneel[[#This Row],[Kolom6]]*EigenPersoneel[[#This Row],[Kolom8]] -> 0 | I9: =IF(EigenPersoneel[[#This Row],[Kolom8]]=100%,EigenPersoneel[[#This Row],[Kolom9]],"")
F10: =$D10*E10 -> 0 | G10: {=+_xlfn.IFS(EigenPersoneel[[#This Row],[Kolom22]]=Blad1!$D$2,'Basisgegevens Begroting'!$I$9,EigenPersoneel[[#This Row],[Kolom22]]=Blad1!$D$3,'Basisgegevens Begroting'!$G$9,EigenPersoneel[[#This Row],[Kolom22]]=Blad1!$D$4,'Basisgegevens Begroting'!$H$9,EigenPersoneel[[#This Row],[Kolom22]]="",0)} -> 0 | H10: =+EigenPersoneel[[#This Row],[Kolom6]]*EigenPersoneel[[#This Row],[Kolom8]] -> 0 | I10: =IF(EigenPersoneel[[#This Row],[Kolom8]]=100%,EigenPersoneel[[#This Row],[Kolom9]],"")
F11: =$D11*E11 -> 0 | G11: {=+_xlfn.IFS(EigenPersoneel[[#This Row],[Kolom22]]=Blad1!$D$2,'Basisgegevens Begroting'!$I$9,EigenPersoneel[[#This Row],[Kolom22]]=Blad1!$D$3,'Basisgegevens Begroting'!$G$9,EigenPersoneel[[#This Row],[Kolom22]]=Blad1!$D$4,'Basisgegevens Begroting'!$H$9,EigenPersoneel[[#This Row],[Kolom22]]="",0)} -> 0 | H11: =+EigenPersoneel[[#This Row],[Kolom6]]*EigenPersoneel[[#This Row],[Kolom8]] -> 0 | I11: =IF(EigenPersoneel[[#This Row],[Kolom8]]=100%,EigenPersoneel[[#This Row],[Kolom9]],"")
F12: =$D12*E12 -> 0 | G12: {=+_xlfn.IFS(EigenPersoneel[[#This Row],[Kolom22]]=Blad1!$D$2,'Basisgegevens Begroting'!$I$9,EigenPersoneel[[#This Row],[Kolom22]]=Blad1!$D$3,'Basisgegevens Begroting'!$G$9,EigenPersoneel[[#This Row],[Kolom22]]=Blad1!$D$4,'Basisgegevens Begroting'!$H$9,EigenPersoneel[[#This Row],[Kolom22]]="",0)} -> 0 | H12: =+EigenPersoneel[[#This Row],[Kolom6]]*EigenPersoneel[[#This Row],[Kolom8]] -> 0 | I12: =IF(EigenPersoneel[[#This Row],[Kolom8]]=100%,EigenPersoneel[[#This Row],[Kolom9]],"")
F13: =$D13*E13 -> 0 | G13: {=+_xlfn.IFS(EigenPersoneel[[#This Row],[Kolom22]]=Blad1!$D$2,'Basisgegevens Begroting'!$I$9,EigenPersoneel[[#This Row],[Kolom22]]=Blad1!$D$3,'Basisgegevens Begroting'!$G$9,EigenPersoneel[[#This Row],[Kolom22]]=Blad1!$D$4,'Basisgegevens Begroting'!$H$9,EigenPersoneel[[#This Row],[Kolom22]]="",0)} -> 0 | H13: =+EigenPersoneel[[#This Row],[Kolom6]]*EigenPersoneel[[#This Row],[Kolom8]] -> 0 | I13: =IF(EigenPersoneel[[#This Row],[Kolom8]]=100%,EigenPersoneel[[#This Row],[Kolom9]],"")
F14: =$D14*E14 -> 0 | G14: {=+_xlfn.IFS(EigenPersoneel[[#This Row],[Kolom22]]=Blad1!$D$2,'Basisgegevens Begroting'!$I$9,EigenPersoneel[[#This Row],[Kolom22]]=Blad1!$D$3,'Basisgegevens Begroting'!$G$9,EigenPersoneel[[#This Row],[Kolom22]]=Blad1!$D$4,'Basisgegevens Begroting'!$H$9,EigenPersoneel[[#This Row],[Kolom22]]="",0)} -> 0 | H14: =+EigenPersoneel[[#This Row],[Kolom6]]*EigenPersoneel[[#This Row],[Kolom8]] -> 0 | I14: =IF(EigenPersoneel[[#This Row],[Kolom8]]=100%,EigenPersoneel[[#This Row],[Kolom9]],"")
F15: =$D15*E15 -> 0 | G15: {=+_xlfn.IFS(EigenPersoneel[[#This Row],[Kolom22]]=Blad1!$D$2,'Basisgegevens Begroting'!$I$9,EigenPersoneel[[#This Row],[Kolom22]]=Blad1!$D$3,'Basisgegevens Begroting'!$G$9,EigenPersoneel[[#This Row],[Kolom22]]=Blad1!$D$4,'Basisgegevens Begroting'!$H$9,EigenPersoneel[[#This Row],[Kolom22]]="",0)} -> 0 | H15: =+EigenPersoneel[[#This Row],[Kolom6]]*EigenPersoneel[[#This Row],[Kolom8]] -> 0 | I15: =IF(EigenPersoneel[[#This Row],[Kolom8]]=100%,EigenPersoneel[[#This Row],[Kolom9]],"")
F16: =$D16*E16 -> 0 | G16: {=+_xlfn.IFS(EigenPersoneel[[#This Row],[Kolom22]]=Blad1!$D$2,'Basisgegevens Begroting'!$I$9,EigenPersoneel[[#This Row],[Kolom22]]=Blad1!$D$3,'Basisgegevens Begroting'!$G$9,EigenPersoneel[[#This Row],[Kolom22]]=Blad1!$D$4,'Basisgegevens Begroting'!$H$9,EigenPersoneel[[#This Row],[Kolom22]]="",0)} -> 0 | H16: =+EigenPersoneel[[#This Row],[Kolom6]]*EigenPersoneel[[#This Row],[Kolom8]] -> 0 | I16: =IF(EigenPersoneel[[#This Row],[Kolom8]]=100%,EigenPersoneel[[#This Row],[Kolom9]],"")
F17: =$D17*E17 -> 0 | G17: {=+_xlfn.IFS(EigenPersoneel[[#This Row],[Kolom22]]=Blad1!$D$2,'Basisgegevens Begroting'!$I$9,EigenPersoneel[[#This Row],[Kolom22]]=Blad1!$D$3,'Basisgegevens Begroting'!$G$9,EigenPersoneel[[#This Row],[Kolom22]]=Blad1!$D$4,'Basisgegevens Begroting'!$H$9,EigenPersoneel[[#This Row],[Kolom22]]="",0)} -> 0 | H17: =+EigenPersoneel[[#This Row],[Kolom6]]*EigenPersoneel[[#This Row],[Kolom8]] -> 0 | I17: =IF(EigenPersoneel[[#This Row],[Kolom8]]=100%,EigenPersoneel[[#This Row],[Kolom9]],"")
F18: =$D18*E18 -> 0 | G18: {=+_xlfn.IFS(EigenPersoneel[[#This Row],[Kolom22]]=Blad1!$D$2,'Basisgegevens Begroting'!$I$9,EigenPersoneel[[#This Row],[Kolom22]]=Blad1!$D$3,'Basisgegevens Begroting'!$G$9,EigenPersoneel[[#This Row],[Kolom22]]=Blad1!$D$4,'Basisgegevens Begroting'!$H$9,EigenPersoneel[[#This Row],[Kolom22]]="",0)} -> 0 | H18: =+EigenPersoneel[[#This Row],[Kolom6]]*EigenPersoneel[[#This Row],[Kolom8]] -> 0 | I18: =IF(EigenPersoneel[[#This Row],[Kolom8]]=100%,EigenPersoneel[[#This Row],[Kolom9]],"")
... F21: =$D21*E21 -> 0 | G21: {=+_xlfn.IFS(EigenPersoneel[[#This Row],[Kolom22]]=Blad1!$D$2,'Basisgegevens Begroting'!$I$9,EigenPersoneel[[#This Row],[Kolom22]]=Blad1!$D$3,'Basisgegevens Begroting'!$G$9,EigenPersoneel[[#This Row],[Kolom22]]=Blad1!$D$4,'Basisgegevens Begroting'!$H$9,EigenPersoneel[[#This Row],[Kolom22]]="",0)} -> 0 | H21: =+EigenPersoneel[[#This Row],[Kolom6]]*EigenPersoneel[[#This Row],[Kolom8]] -> 0 | I21: =IF(EigenPersoneel[[#This Row],[Kolom8]]=100%,EigenPersoneel[[#This Row],[Kolom9]],"")
E22: Subtotaal: | F22: =SUM(F7:F21) -> 0 | H22: =SUM(H7:H21) -> 0 | I22: =IF(EigenPersoneel[[#This Row],[Kolom8]]=100%,EigenPersoneel[[#This Row],[Kolom9]],"")
A24: Brandstofkosten
A25: Omschrijving | B25: Leverancier | C25: Subsidiedoel | D25: Geschatte meerkosten per eenheid (kWh, liter, kilo) | E25: Aantal eenheden (kWh, liter, kilo) | F25: Kosten | G25: =+G6 -> Subsidie % | H25: =+H6 -> Subsidie
F26: =+D26*E26 -> 0 | G26: {=+_xlfn.IFS(C26=Blad1!$D$2,'Basisgegevens Begroting'!$I$9,C26=Blad1!$D$3,'Basisgegevens Begroting'!$G$9,C26=Blad1!$D$4,'Basisgegevens Begroting'!$H$9,C26="",0)} -> 0 | H26: =+G26*F26 -> 0 | I26: =IF(G26=100%,H26,"")
F27: =+D27*E27 -> 0 | G27: {=+_xlfn.IFS(C27=Blad1!$D$2,'Basisgegevens Begroting'!$I$9,C27=Blad1!$D$3,'Basisgegevens Begroting'!$G$9,C27=Blad1!$D$4,'Basisgegevens Begroting'!$H$9,C27="",0)} -> 0 | H27: =+G27*F27 -> 0 | I27: =IF(G27=100%,H27,"")
F28: =+D28*E28 -> 0 | G28: {=+_xlfn.IFS(C28=Blad1!$D$2,'Basisgegevens Begroting'!$I$9,C28=Blad1!$D$3,'Basisgegevens Begroting'!$G$9,C28=Blad1!$D$4,'Basisgegevens Begroting'!$H$9,C28="",0)} -> 0 | H28: =+G28*F28 -> 0 | I28: =IF(G28=100%,H28,"")
F29: =+D29*E29 -> 0 | G29: {=+_xlfn.IFS(C29=Blad1!$D$2,'Basisgegevens Begroting'!$I$9,C29=Blad1!$D$3,'Basisgegevens Begroting'!$G$9,C29=Blad1!$D$4,'Basisgegevens Begroting'!$H$9,C29="",0)} -> 0 | H29: =+G29*F29 -> 0 | I29: =IF(G29=100%,H29,"")
E30: Subtotaal: | F30: =SUM(F26:F29) -> 0 | H30: =SUM(H26:H29) -> 0 | I30: =IF(G30=100%,H30,"")
I31: =IF(G31=100%,H31,"")
A32: Projectspecifieke overige subsidiabele kosten (kosten derden) | I32: =IF(G32=100%,H32,"")
A33: Omschrijving | B33: Leverancier | C33: Subsidiedoel | D33: Offertenr | E33: Offertedatum | F33: Kosten | G33: =+G6 -> Subsidie % | H33: =+H6 -> Subsidie | I33: =IF(G33=100%,H33,"")
F34: 0 | G34: {=+_xlfn.IFS(C34=Blad1!$D$2,'Basisgegevens Begroting'!$I$9,C34=Blad1!$D$3,'Basisgegevens Begroting'!$G$9,C34=Blad1!$D$4,'Basisgegevens Begroting'!$H$9,C34="",0)} -> 0 | H34: =+G34*F34 -> 0 | I34: =IF(G34=100%,H34,"")
F35: 0 | G35: {=+_xlfn.IFS(C35=Blad1!$D$2,'Basisgegevens Begroting'!$I$9,C35=Blad1!$D$3,'Basisgegevens Begroting'!$G$9,C35=Blad1!$D$4,'Basisgegevens Begroting'!$H$9,C35="",0)} -> 0 | H35: =+G35*F35 -> 0 | I35: =IF(G35=100%,H35,"")
F36: 0 | G36: {=+_xlfn.IFS(C36=Blad1!$D$2,'Basisgegevens Begroting'!$I$9,C36=Blad1!$D$3,'Basisgegevens Begroting'!$G$9,C36=Blad1!$D$4,'Basisgegevens Begroting'!$H$9,C36="",0)} -> 0 | H36: =+G36*F36 -> 0 | I36: =IF(G36=100%,H36,"")
F37: 0 | G37: {=+_xlfn.IFS(C37=Blad1!$D$2,'Basisgegevens Begroting'!$I$9,C37=Blad1!$D$3,'Basisgegevens Begroting'!$G$9,C37=Blad1!$D$4,'Basisgegevens Begroting'!$H$9,C37="",0)} -> 0 | H37: =+G37*F37 -> 0 | I37: =IF(G37=100%,H37,"")
F38: 0 | G38: {=+_xlfn.IFS(C38=Blad1!$D$2,'Basisgegevens Begroting'!$I$9,C38=Blad1!$D$3,'Basisgegevens Begroting'!$G$9,C38=Blad1!$D$4,'Basisgegevens Begroting'!$H$9,C38="",0)} -> 0 | H38: =+G38*F38 -> 0 | I38: =IF(G38=100%,H38,"")
F39: 0 | G39: {=+_xlfn.IFS(C39=Blad1!$D$2,'Basisgegevens Begroting'!$I$9,C39=Blad1!$D$3,'Basisgegevens Begroting'!$G$9,C39=Blad1!$D$4,'Basisgegevens Begroting'!$H$9,C39="",0)} -> 0 | H39: =+G39*F39 -> 0 | I39: =IF(G39=100%,H39,"")
F40: 0 | G40: {=+_xlfn.IFS(C40=Blad1!$D$2,'Basisgegevens Begroting'!$I$9,C40=Blad1!$D$3,'Basisgegevens Begroting'!$G$9,C40=Blad1!$D$4,'Basisgegevens Begroting'!$H$9,C40="",0)} -> 0 | H40: =+G40*F40 -> 0 | I40: =IF(G40=100%,H40,"")
F41: 0 | G41: {=+_xlfn.IFS(C41=Blad1!$D$2,'Basisgegevens Begroting'!$I$9,C41=Blad1!$D$3,'Basisgegevens Begroting'!$G$9,C41=Blad1!$D$4,'Basisgegevens Begroting'!$H$9,C41="",0)} -> 0 | H41: =+G41*F41 -> 0 | I41: =IF(G41=100%,H41,"")
F42: 0 | G42: {=+_xlfn.IFS(C42=Blad1!$D$2,'Basisgegevens Begroting'!$I$9,C42=Blad1!$D$3,'Basisgegevens Begroting'!$G$9,C42=Blad1!$D$4,'Basisgegevens Begroting'!$H$9,C42="",0)} -> 0 | H42: =+G42*F42 -> 0 | I42: =IF(G42=100%,H42,"")
F43: 0 | G43: {=+_xlfn.IFS(C43=Blad1!$D$2,'Basisgegevens Begroting'!$I$9,C43=Blad1!$D$3,'Basisgegevens Begroting'!$G$9,C43=Blad1!$D$4,'Basisgegevens Begroting'!$H$9,C43="",0)} -> 0 | H43: =+G43*F43 -> 0 | I43: =IF(G43=100%,H43,"")
F44: 0 | G44: {=+_xlfn.IFS(C44=Blad1!$D$2,'Basisgegevens Begroting'!$I$9,C44=Blad1!$D$3,'Basisgegevens Begroting'!$G$9,C44=Blad1!$D$4,'Basisgegevens Begroting'!$H$9,C44="",0)} -> 0 | H44: =+G44*F44 -> 0 | I44: =IF(G44=100%,H44,"")
F45: 0 | G45: {=+_xlfn.IFS(C45=Blad1!$D$2,'Basisgegevens Begroting'!$I$9,C45=Blad1!$D$3,'Basisgegevens Begroting'!$G$9,C45=Blad1!$D$4,'Basisgegevens Begroting'!$H$9,C45="",0)} -> 0 | H45: =+G45*F45 -> 0 | I45: =IF(G45=100%,H45,"")
...

Sheet Kosten Deelnemer 2
A1: ='Basisgegevens Begroting'!C10 -> 0
A4: Kolom1 | B4: Kolom2 | C4: Kolom22 | D4: Kolom3 | E4: Kolom5 | F4: Kolom6 | G4: Kolom8 | H4: Kolom9 | I4: Kolom10
A5: Personeelskosten | G5: =+Totaal!I9 -> 0 | I5: =IF(EigenPersoneel[[#This Row],[Kolom8]]=100%,EigenPersoneel[[#This Row],[Kolom9]],"")
B6: Functie | C6: Subsidiedoel | D6: Uurtarief | E6: Aantal uren | F6: Uren x tarief | G6: Subsidie % | H6: Subsidie | I6: =IF(EigenPersoneel[[#This Row],[Kolom8]]=100%,EigenPersoneel[[#This Row],[Kolom9]],"")
F7: =$D7*E7 -> 0 | G7: {=+_xlfn.IFS(C7=Blad1!$D$2,'Basisgegevens Begroting'!$I$10,C7=Blad1!$D$3,'Basisgegevens Begroting'!$G$10,C7=Blad1!$D$4,'Basisgegevens Begroting'!$H$10,C7="",0)} -> 0 | H7: =+EigenPersoneel7[[#This Row],[Kolom8]]*EigenPersoneel7[[#This Row],[Kolom6]] -> 0 | I7: =IF(G7=100%,H7,"")
F8: =$D8*E8 -> 0 | G8: {=+_xlfn.IFS(C8=Blad1!$D$2,'Basisgegevens Begroting'!$I$10,C8=Blad1!$D$3,'Basisgegevens Begroting'!$G$10,C8=Blad1!$D$4,'Basisgegevens Begroting'!$H$10,C8="",0)} -> 0 | H8: =+EigenPersoneel7[[#This Row],[Kolom8]]*EigenPersoneel7[[#This Row],[Kolom6]] -> 0 | I8: =IF(G8=100%,H8,"")
F9: =$D9*E9 -> 0 | G9: {=+_xlfn.IFS(C9=Blad1!$D$2,'Basisgegevens Begroting'!$I$10,C9=Blad1!$D$3,'Basisgegevens Begroting'!$G$10,C9=Blad1!$D$4,'Basisgegevens Begroting'!$H$10,C9="",0)} -> 0 | H9: =+EigenPersoneel7[[#This Row],[Kolom8]]*EigenPersoneel7[[#This Row],[Kolom6]] -> 0 | I9: =IF(G9=100%,H9,"")
F10: =$D10*E10 -> 0 | G10: {=+_xlfn.IFS(C10=Blad1!$D$2,'Basisgegevens Begroting'!$I$10,C10=Blad1!$D$3,'Basisgegevens Begroting'!$G$10,C10=Blad1!$D$4,'Basisgegevens Begroting'!$H$10,C10="",0)} -> 0 | H10: =+EigenPersoneel7[[#This Row],[Kolom8]]*EigenPersoneel7[[#This Row],[Kolom6]] -> 0 | I10: =IF(G10=100%,H10,"")
F11: =$D11*E11 -> 0 | G11: {=+_xlfn.IFS(C11=Blad1!$D$2,'Basisgegevens Begroting'!$I$10,C11=Blad1!$D$3,'Basisgegevens Begroting'!$G$10,C11=Blad1!$D$4,'Basisgegevens Begroting'!$H$10,C11="",0)} -> 0 | H11: =+EigenPersoneel7[[#This Row],[Kolom8]]*EigenPersoneel7[[#This Row],[Kolom6]] -> 0 | I11: =IF(G11=100%,H11,"")
F12: =$D12*E12 -> 0 | G12: {=+_xlfn.IFS(C12=Blad1!$D$2,'Basisgegevens Begroting'!$I$10,C12=Blad1!$D$3,'Basisgegevens Begroting'!$G$10,C12=Blad1!$D$4,'Basisgegevens Begroting'!$H$10,C12="",0)} -> 0 | H12: =+EigenPersoneel7[[#This Row],[Kolom8]]*EigenPersoneel7[[#This Row],[Kolom6]] -> 0 | I12: =IF(G12=100%,H12,"")
F13: =$D13*E13 -> 0 | G13: {=+_xlfn.IFS(C13=Blad1!$D$2,'Basisgegevens Begroting'!$I$10,C13=Blad1!$D$3,'Basisgegevens Begroting'!$G$10,C13=Blad1!$D$4,'Basisgegevens Begroting'!$H$10,C13="",0)} -> 0 | H13: =+EigenPersoneel7[[#This Row],[Kolom8]]*EigenPersoneel7[[#This Row],[Kolom6]] -> 0 | I13: =IF(G13=100%,H13,"")
F14: =$D14*E14 -> 0 | G14: {=+_xlfn.IFS(C14=Blad1!$D$2,'Basisgegevens Begroting'!$I$10,C14=Blad1!$D$3,'Basisgegevens Begroting'!$G$10,C14=Blad1!$D$4,'Basisgegevens Begroting'!$H$10,C14="",0)} -> 0 | H14: =+EigenPersoneel7[[#This Row],[Kolom8]]*EigenPersoneel7[[#This Row],[Kolom6]] -> 0 | I14: =IF(G14=100%,H14,"")
F15: =$D15*E15 -> 0 | G15: {=+_xlfn.IFS(C15=Blad1!$D$2,'Basisgegevens Begroting'!$I$10,C15=Blad1!$D$3,'Basisgegevens Begroting'!$G$10,C15=Blad1!$D$4,'Basisgegevens Begroting'!$H$10,C15="",0)} -> 0 | H15: =+EigenPersoneel7[[#This Row],[Kolom8]]*EigenPersoneel7[[#This Row],[Kolom6]] -> 0 | I15: =IF(G15=100%,H15,"")
F16: =$D16*E16 -> 0 | G16: {=+_xlfn.IFS(C16=Blad1!$D$2,'Basisgegevens Begroting'!$I$10,C16=Blad1!$D$3,'Basisgegevens Begroting'!$G$10,C16=Blad1!$D$4,'Basisgegevens Begroting'!$H$10,C16="",0)} -> 0 | H16: =+EigenPersoneel7[[#This Row],[Kolom8]]*EigenPersoneel7[[#This Row],[Kolom6]] -> 0 | I16: =IF(G16=100%,H16,"")
F17: =$D17*E17 -> 0 | G17: {=+_xlfn.IFS(C17=Blad1!$D$2,'Basisgegevens Begroting'!$I$10,C17=Blad1!$D$3,'Basisgegevens Begroting'!$G$10,C17=Blad1!$D$4,'Basisgegevens Begroting'!$H$10,C17="",0)} -> 0 | H17: =+EigenPersoneel7[[#This Row],[Kolom8]]*EigenPersoneel7[[#This Row],[Kolom6]] -> 0 | I17: =IF(G17=100%,H17,"")
F18: =$D18*E18 -> 0 | G18: {=+_xlfn.IFS(C18=Blad1!$D$2,'Basisgegevens Begroting'!$I$10,C18=Blad1!$D$3,'Basisgegevens Begroting'!$G$10,C18=Blad1!$D$4,'Basisgegevens Begroting'!$H$10,C18="",0)} -> 0 | H18: =+EigenPersoneel7[[#This Row],[Kolom8]]*EigenPersoneel7[[#This Row],[Kolom6]] -> 0 | I18: =IF(G18=100%,H18,"")
... F21: =$D21*E21 -> 0 | G21: {=+_xlfn.IFS(C21=Blad1!$D$2,'Basisgegevens Begroting'!$I$10,C21=Blad1!$D$3,'Basisgegevens Begroting'!$G$10,C21=Blad1!$D$4,'Basisgegevens Begroting'!$H$10,C21="",0)} -> 0 | H21: =+EigenPersoneel7[[#This Row],[Kolom8]]*EigenPersoneel7[[#This Row],[Kolom6]] -> 0 | I21: =IF(G21=100%,H21,"")
E22: Subtotaal: | F22: =SUM(F7:F21) -> 0 | G22: Subtotaal: | H22: =SUM(H7:H21) -> 0 | I22: =IF(G22=100%,H22,"")
I23: =IF(G23=100%,H23,"")
A24: Brandstofkosten | I24: =IF(G24=100%,H24,"")
A25: Omschrijving | B25: Leverancier | C25: Subsidiedoel | D25: Geschatte meerkosten per eenheid (kWh, liter, kilo) | E25: Aantal eenheden (kWh, liter, kilo) | F25: Kosten | G25: =+G6 -> Subsidie % | H25: =+H6 -> Subsidie | I25: =IF(G25=100%,H25,"")
F26: =+D26*E26 -> 0 | G26: {=+_xlfn.IFS(C26=Blad1!$D$2,'Basisgegevens Begroting'!$I$10,C26=Blad1!$D$3,'Basisgegevens Begroting'!$G$10,C26=Blad1!$D$4,'Basisgegevens Begroting'!$H$10,C26="",0)} -> 0 | H26: =+G26*F26 -> 0 | I26: =IF(G26=100%,H26,"")
F27: =+D27*E27 -> 0 | G27: {=+_xlfn.IFS(C27=Blad1!$D$2,'Basisgegevens Begroting'!$I$10,C27=Blad1!$D$3,'Basisgegevens Begroting'!$G$10,C27=Blad1!$D$4,'Basisgegevens Begroting'!$H$10,C27="",0)} -> 0 | H27: =+G27*F27 -> 0 | I27: =IF(G27=100%,H27,"")
F28: =+D28*E28 -> 0 | G28: {=+_xlfn.IFS(C28=Blad1!$D$2,'Basisgegevens Begroting'!$I$10,C28=Blad1!$D$3,'Basisgegevens Begroting'!$G$10,C28=Blad1!$D$4,'Basisgegevens Begroting'!$H$10,C28="",0)} -> 0 | H28: =+G28*F28 -> 0 | I28: =IF(G28=100%,H28,"")
F29: =+D29*E29 -> 0 | G29: {=+_xlfn.IFS(C29=Blad1!$D$2,'Basisgegevens Begroting'!$I$10,C29=Blad1!$D$3,'Basisgegevens Begroting'!$G$10,C29=Blad1!$D$4,'Basisgegevens Begroting'!$H$10,C29="",0)} -> 0 | H29: =+G29*F29 -> 0 | I29: =IF(G29=100%,H29,"")
E30: Subtotaal: | F30: =SUM(F26:F29) -> 0 | H30: =SUM(H26:H29) -> 0 | I30: =IF(G30=100%,H30,"")
I31: =IF(G31=100%,H31,"")
A32: Projectspecifieke overige subsidiabele kosten (kosten derden) | I32: =IF(G32=100%,H32,"")
A33: Omschrijving | B33: Leverancier | C33: Subsidiedoel | D33: Offertenr | E33: Offertedatum | F33: Kosten | G33: =+G6 -> Subsidie % | H33: =+H6 -> Subsidie | I33: =IF(G33=100%,H33,"")
F34: 0 | G34: {=+_xlfn.IFS(C34=Blad1!$D$2,'Basisgegevens Begroting'!$I$10,C34=Blad1!$D$3,'Basisgegevens Begroting'!$G$10,C34=Blad1!$D$4,'Basisgegevens Begroting'!$H$10,C34="",0)} -> 0 | H34: =+G34*F34 -> 0 | I34: =IF(G34=100%,H34,"")
F35: 0 | G35: {=+_xlfn.IFS(C35=Blad1!$D$2,'Basisgegevens Begroting'!$I$10,C35=Blad1!$D$3,'Basisgegevens Begroting'!$G$10,C35=Blad1!$D$4,'Basisgegevens Begroting'!$H$10,C35="",0)} -> 0 | H35: =+G35*F35 -> 0 | I35: =IF(G35=100%,H35,"")
F36: 0 | G36: {=+_xlfn.IFS(C36=Blad1!$D$2,'Basisgegevens Begroting'!$I$10,C36=Blad1!$D$3,'Basisgegevens Begroting'!$G$10,C36=Blad1!$D$4,'Basisgegevens Begroting'!$H$10,C36="",0)} -> 0 | H36: =+G36*F36 -> 0 | I36: =IF(G36=100%,H36,"")
F37: 0 | G37: {=+_xlfn.IFS(C37=Blad1!$D$2,'Basisgegevens Begroting'!$I$10,C37=Blad1!$D$3,'Basisgegevens Begroting'!$G$10,C37=Blad1!$D$4,'Basisgegevens Begroting'!$H$10,C37="",0)} -> 0 | H37: =+G37*F37 -> 0 | I37: =IF(G37=100%,H37,"")
F38: 0 | G38: {=+_xlfn.IFS(C38=Blad1!$D$2,'Basisgegevens Begroting'!$I$10,C38=Blad1!$D$3,'Basisgegevens Begroting'!$G$10,C38=Blad1!$D$4,'Basisgegevens Begroting'!$H$10,C38="",0)} -> 0 | H38: =+G38*F38 -> 0 | I38: =IF(G38=100%,H38,"")
F39: 0 | G39: {=+_xlfn.IFS(C39=Blad1!$D$2,'Basisgegevens Begroting'!$I$10,C39=Blad1!$D$3,'Basisgegevens Begroting'!$G$10,C39=Blad1!$D$4,'Basisgegevens Begroting'!$H$10,C39="",0)} -> 0 | H39: =+G39*F39 -> 0 | I39: =IF(G39=100%,H39,"")
F40: 0 | G40: {=+_xlfn.IFS(C40=Blad1!$D$2,'Basisgegevens Begroting'!$I$10,C40=Blad1!$D$3,'Basisgegevens Begroting'!$G$10,C40=Blad1!$D$4,'Basisgegevens Begroting'!$H$10,C40="",0)} -> 0 | H40: =+G40*F40 -> 0 | I40: =IF(G40=100%,H40,"")
F41: 0 | G41: {=+_xlfn.IFS(C41=Blad1!$D$2,'Basisgegevens Begroting'!$I$10,C41=Blad1!$D$3,'Basisgegevens Begroting'!$G$10,C41=Blad1!$D$4,'Basisgegevens Begroting'!$H$10,C41="",0)} -> 0 | H41: =+G41*F41 -> 0 | I41: =IF(G41=100%,H41,"")
F42: 0 | G42: {=+_xlfn.IFS(C42=Blad1!$D$2,'Basisgegevens Begroting'!$I$10,C42=Blad1!$D$3,'Basisgegevens Begroting'!$G$10,C42=Blad1!$D$4,'Basisgegevens Begroting'!$H$10,C42="",0)} -> 0 | H42: =+G42*F42 -> 0 | I42: =IF(G42=100%,H42,"")
F43: 0 | G43: {=+_xlfn.IFS(C43=Blad1!$D$2,'Basisgegevens Begroting'!$I$10,C43=Blad1!$D$3,'Basisgegevens Begroting'!$G$10,C43=Blad1!$D$4,'Basisgegevens Begroting'!$H$10,C43="",0)} -> 0 | H43: =+G43*F43 -> 0 | I43: =IF(G43=100%,H43,"")
F44: 0 | G44: {=+_xlfn.IFS(C44=Blad1!$D$2,'Basisgegevens Begroting'!$I$10,C44=Blad1!$D$3,'Basisgegevens Begroting'!$G$10,C44=Blad1!$D$4,'Basisgegevens Begroting'!$H$10,C44="",0)} -> 0 | H44: =+G44*F44 -> 0 | I44: =IF(G44=100%,H44,"")
...

Sheet Kosten Deelnemer 3
A1: ='Basisgegevens Begroting'!C11 -> 0
A4: Kolom1 | B4: Kolom2 | C4: Kolom22 | D4: Kolom3 | E4: Kolom5 | F4: Kolom6 | G4: Kolom8 | H4: Kolom9
A5: Personeelskosten | G5: =+Totaal!I9 -> 0
B6: Functie | C6: Subsidiedoel | D6: Uurtarief | E6: Aantal uren | F6: Uren x tarief | G6: Subsidie % | H6: Subsidie
B7: onderz | F7: =$D7*E7 -> 0 | G7: {=+_xlfn.IFS(C7=Blad1!$D$2,'Basisgegevens Begroting'!$I$11,C7=Blad1!$D$3,'Basisgegevens Begroting'!$G$11,C7=Blad1!$D$4,'Basisgegevens Begroting'!$H$11,C7="",0)} -> 0 | H7: =+EigenPersoneel78[[#This Row],[Kolom8]]*EigenPersoneel78[[#This Row],[Kolom6]] -> 0 | I7: =IF(G7=100%,H7,"")
F8: =$D8*E8 -> 0 | G8: {=+_xlfn.IFS(C8=Blad1!$D$2,'Basisgegevens Begroting'!$I$11,C8=Blad1!$D$3,'Basisgegevens Begroting'!$G$11,C8=Blad1!$D$4,'Basisgegevens Begroting'!$H$11,C8="",0)} -> 0 | H8: =+EigenPersoneel78[[#This Row],[Kolom8]]*EigenPersoneel78[[#This Row],[Kolom6]] -> 0 | I8: =IF(G8=100%,H8,"")
F9: =$D9*E9 -> 0 | G9: {=+_xlfn.IFS(C9=Blad1!$D$2,'Basisgegevens Begroting'!$I$11,C9=Blad1!$D$3,'Basisgegevens Begroting'!$G$11,C9=Blad1!$D$4,'Basisgegevens Begroting'!$H$11,C9="",0)} -> 0 | H9: =+EigenPersoneel78[[#This Row],[Kolom8]]*EigenPersoneel78[[#This Row],[Kolom6]] -> 0 | I9: =IF(G9=100%,H9,"")
F10: =$D10*E10 -> 0 | G10: {=+_xlfn.IFS(C10=Blad1!$D$2,'Basisgegevens Begroting'!$I$11,C10=Blad1!$D$3,'Basisgegevens Begroting'!$G$11,C10=Blad1!$D$4,'Basisgegevens Begroting'!$H$11,C10="",0)} -> 0 | H10: =+EigenPersoneel78[[#This Row],[Kolom8]]*EigenPersoneel78[[#This Row],[Kolom6]] -> 0 | I10: =IF(G10=100%,H10,"")
F11: =$D11*E11 -> 0 | G11: {=+_xlfn.IFS(C11=Blad1!$D$2,'Basisgegevens Begroting'!$I$11,C11=Blad1!$D$3,'Basisgegevens Begroting'!$G$11,C11=Blad1!$D$4,'Basisgegevens Begroting'!$H$11,C11="",0)} -> 0 | H11: =+EigenPersoneel78[[#This Row],[Kolom8]]*EigenPersoneel78[[#This Row],[Kolom6]] -> 0 | I11: =IF(G11=100%,H11,"")
F12: =$D12*E12 -> 0 | G12: {=+_xlfn.IFS(C12=Blad1!$D$2,'Basisgegevens Begroting'!$I$11,C12=Blad1!$D$3,'Basisgegevens Begroting'!$G$11,C12=Blad1!$D$4,'Basisgegevens Begroting'!$H$11,C12="",0)} -> 0 | H12: =+EigenPersoneel78[[#This Row],[Kolom8]]*EigenPersoneel78[[#This Row],[Kolom6]] -> 0 | I12: =IF(G12=100%,H12,"")
F13: =$D13*E13 -> 0 | G13: {=+_xlfn.IFS(C13=Blad1!$D$2,'Basisgegevens Begroting'!$I$11,C13=Blad1!$D$3,'Basisgegevens Begroting'!$G$11,C13=Blad1!$D$4,'Basisgegevens Begroting'!$H$11,C13="",0)} -> 0 | H13: =+EigenPersoneel78[[#This Row],[Kolom8]]*EigenPersoneel78[[#This Row],[Kolom6]] -> 0 | I13: =IF(G13=100%,H13,"")
F14: =$D14*E14 -> 0 | G14: {=+_xlfn.IFS(C14=Blad1!$D$2,'Basisgegevens Begroting'!$I$11,C14=Blad1!$D$3,'Basisgegevens Begroting'!$G$11,C14=Blad1!$D$4,'Basisgegevens Begroting'!$H$11,C14="",0)} -> 0 | H14: =+EigenPersoneel78[[#This Row],[Kolom8]]*EigenPersoneel78[[#This Row],[Kolom6]] -> 0 | I14: =IF(G14=100%,H14,"")
F15: =$D15*E15 -> 0 | G15: {=+_xlfn.IFS(C15=Blad1!$D$2,'Basisgegevens Begroting'!$I$11,C15=Blad1!$D$3,'Basisgegevens Begroting'!$G$11,C15=Blad1!$D$4,'Basisgegevens Begroting'!$H$11,C15="",0)} -> 0 | H15: =+EigenPersoneel78[[#This Row],[Kolom8]]*EigenPersoneel78[[#This Row],[Kolom6]] -> 0 | I15: =IF(G15=100%,H15,"")
F16: =$D16*E16 -> 0 | G16: {=+_xlfn.IFS(C16=Blad1!$D$2,'Basisgegevens Begroting'!$I$11,C16=Blad1!$D$3,'Basisgegevens Begroting'!$G$11,C16=Blad1!$D$4,'Basisgegevens Begroting'!$H$11,C16="",0)} -> 0 | H16: =+EigenPersoneel78[[#This Row],[Kolom8]]*EigenPersoneel78[[#This Row],[Kolom6]] -> 0 | I16: =IF(G16=100%,H16,"")
F17: =$D17*E17 -> 0 | G17: {=+_xlfn.IFS(C17=Blad1!$D$2,'Basisgegevens Begroting'!$I$11,C17=Blad1!$D$3,'Basisgegevens Begroting'!$G$11,C17=Blad1!$D$4,'Basisgegevens Begroting'!$H$11,C17="",0)} -> 0 | H17: =+EigenPersoneel78[[#This Row],[Kolom8]]*EigenPersoneel78[[#This Row],[Kolom6]] -> 0 | I17: =IF(G17=100%,H17,"")
F18: =$D18*E18 -> 0 | G18: {=+_xlfn.IFS(C18=Blad1!$D$2,'Basisgegevens Begroting'!$I$11,C18=Blad1!$D$3,'Basisgegevens Begroting'!$G$11,C18=Blad1!$D$4,'Basisgegevens Begroting'!$H$11,C18="",0)} -> 0 | H18: =+EigenPersoneel78[[#This Row],[Kolom8]]*EigenPersoneel78[[#This Row],[Kolom6]] -> 0 | I18: =IF(G18=100%,H18,"")
F19: =$D19*E19 -> 0 | G19: {=+_xlfn.IFS(C19=Blad1!$D$2,'Basisgegevens Begroting'!$I$11,C19=Blad1!$D$3,'Basisgegevens Begroting'!$G$11,C19=Blad1!$D$4,'Basisgegevens Begroting'!$H$11,C19="",0)} -> 0 | H19: =+EigenPersoneel78[[#This Row],[Kolom8]]*EigenPersoneel78[[#This Row],[Kolom6]] -> 0 | I19: =IF(G19=100%,H19,"")
... F21: =$D21*E21 -> 0 | G21: {=+_xlfn.IFS(C21=Blad1!$D$2,'Basisgegevens Begroting'!$I$11,C21=Blad1!$D$3,'Basisgegevens Begroting'!$G$11,C21=Blad1!$D$4,'Basisgegevens Begroting'!$H$11,C21="",0)} -> 0 | H21: =+EigenPersoneel78[[#This Row],[Kolom8]]*EigenPersoneel78[[#This Row],[Kolom6]] -> 0 | I21: =IF(G21=100%,H21,"")
E22: Subtotaal: | F22: =SUM(F7:F21) -> 0 | G22: Subtotaal: | H22: =SUM(H7:H21) -> 0 | I22: =IF(G22=100%,H22,"")
I23: =IF(G23=100%,H23,"")
A24: Brandstofkosten | I24: =IF(G24=100%,H24,"")
A25: Omschrijving | B25: Leverancier | C25: Subsidiedoel | D25: Geschatte meerkosten per eenheid (kWh, liter, kilo) | E25: Aantal eenheden (kWh, liter, kilo) | F25: Kosten | G25: =+G6 -> Subsidie % | H25: =+H6 -> Subsidie | I25: =IF(G25=100%,H25,"")
F26: =+D26*E26 -> 0 | G26: {=+_xlfn.IFS(C26=Blad1!$D$2,'Basisgegevens Begroting'!$I$11,C26=Blad1!$D$3,'Basisgegevens Begroting'!$G$11,C26=Blad1!$D$4,'Basisgegevens Begroting'!$H$11,C26="",0)} -> 0 | H26: =+G26*F26 -> 0 | I26: =IF(G26=100%,H26,"")
F27: =+D27*E27 -> 0 | G27: {=+_xlfn.IFS(C27=Blad1!$D$2,'Basisgegevens Begroting'!$I$11,C27=Blad1!$D$3,'Basisgegevens Begroting'!$G$11,C27=Blad1!$D$4,'Basisgegevens Begroting'!$H$11,C27="",0)} -> 0 | H27: =+G27*F27 -> 0 | I27: =IF(G27=100%,H27,"")
F28: =+D28*E28 -> 0 | G28: {=+_xlfn.IFS(C28=Blad1!$D$2,'Basisgegevens Begroting'!$I$11,C28=Blad1!$D$3,'Basisgegevens Begroting'!$G$11,C28=Blad1!$D$4,'Basisgegevens Begroting'!$H$11,C28="",0)} -> 0 | H28: =+G28*F28 -> 0 | I28: =IF(G28=100%,H28,"")
F29: =+D29*E29 -> 0 | G29: {=+_xlfn.IFS(C29=Blad1!$D$2,'Basisgegevens Begroting'!$I$11,C29=Blad1!$D$3,'Basisgegevens Begroting'!$G$11,C29=Blad1!$D$4,'Basisgegevens Begroting'!$H$11,C29="",0)} -> 0 | H29: =+G29*F29 -> 0 | I29: =IF(G29=100%,H29,"")
E30: Subtotaal: | F30: =SUM(F26:F29) -> 0 | H30: =SUM(H26:H29) -> 0 | I30: =IF(G30=100%,H30,"")
I31: =IF(G31=100%,H31,"")
A32: Projectspecifieke overige subsidiabele kosten (kosten derden) | I32: =IF(G32=100%,H32,"")
A33: Omschrijving | B33: Leverancier | C33: Subsidiedoel | D33: Offertenr | E33: Offertedatum | F33: Kosten | G33: =+G6 -> Subsidie % | H33: =+H6 -> Subsidie | I33: =IF(G33=100%,H33,"")
F34: 0 | G34: {=+_xlfn.IFS(C34=Blad1!$D$2,'Basisgegevens Begroting'!$I$11,C34=Blad1!$D$3,'Basisgegevens Begroting'!$G$11,C34=Blad1!$D$4,'Basisgegevens Begroting'!$H$11,C34="",0)} -> 0 | H34: =+G34*F34 -> 0 | I34: =IF(G34=100%,H34,"")
F35: 0 | G35: {=+_xlfn.IFS(C35=Blad1!$D$2,'Basisgegevens Begroting'!$I$11,C35=Blad1!$D$3,'Basisgegevens Begroting'!$G$11,C35=Blad1!$D$4,'Basisgegevens Begroting'!$H$11,C35="",0)} -> 0 | H35: =+G35*F35 -> 0 | I35: =IF(G35=100%,H35,"")
F36: 0 | G36: {=+_xlfn.IFS(C36=Blad1!$D$2,'Basisgegevens Begroting'!$I$11,C36=Blad1!$D$3,'Basisgegevens Begroting'!$G$11,C36=Blad1!$D$4,'Basisgegevens Begroting'!$H$11,C36="",0)} -> 0 | H36: =+G36*F36 -> 0 | I36: =IF(G36=100%,H36,"")
F37: 0 | G37: {=+_xlfn.IFS(C37=Blad1!$D$2,'Basisgegevens Begroting'!$I$11,C37=Blad1!$D$3,'Basisgegevens Begroting'!$G$11,C37=Blad1!$D$4,'Basisgegevens Begroting'!$H$11,C37="",0)} -> 0 | H37: =+G37*F37 -> 0 | I37: =IF(G37=100%,H37,"")
F38: 0 | G38: {=+_xlfn.IFS(C38=Blad1!$D$2,'Basisgegevens Begroting'!$I$11,C38=Blad1!$D$3,'Basisgegevens Begroting'!$G$11,C38=Blad1!$D$4,'Basisgegevens Begroting'!$H$11,C38="",0)} -> 0 | H38: =+G38*F38 -> 0 | I38: =IF(G38=100%,H38,"")
F39: 0 | G39: {=+_xlfn.IFS(C39=Blad1!$D$2,'Basisgegevens Begroting'!$I$11,C39=Blad1!$D$3,'Basisgegevens Begroting'!$G$11,C39=Blad1!$D$4,'Basisgegevens Begroting'!$H$11,C39="",0)} -> 0 | H39: =+G39*F39 -> 0 | I39: =IF(G39=100%,H39,"")
F40: 0 | G40: {=+_xlfn.IFS(C40=Blad1!$D$2,'Basisgegevens Begroting'!$I$11,C40=Blad1!$D$3,'Basisgegevens Begroting'!$G$11,C40=Blad1!$D$4,'Basisgegevens Begroting'!$H$11,C40="",0)} -> 0 | H40: =+G40*F40 -> 0 | I40: =IF(G40=100%,H40,"")
F41: 0 | G41: {=+_xlfn.IFS(C41=Blad1!$D$2,'Basisgegevens Begroting'!$I$11,C41=Blad1!$D$3,'Basisgegevens Begroting'!$G$11,C41=Blad1!$D$4,'Basisgegevens Begroting'!$H$11,C41="",0)} -> 0 | H41: =+G41*F41 -> 0 | I41: =IF(G41=100%,H41,"")
F42: 0 | G42: {=+_xlfn.IFS(C42=Blad1!$D$2,'Basisgegevens Begroting'!$I$11,C42=Blad1!$D$3,'Basisgegevens Begroting'!$G$11,C42=Blad1!$D$4,'Basisgegevens Begroting'!$H$11,C42="",0)} -> 0 | H42: =+G42*F42 -> 0 | I42: =IF(G42=100%,H42,"")
F43: 0 | G43: {=+_xlfn.IFS(C43=Blad1!$D$2,'Basisgegevens Begroting'!$I$11,C43=Blad1!$D$3,'Basisgegevens Begroting'!$G$11,C43=Blad1!$D$4,'Basisgegevens Begroting'!$H$11,C43="",0)} -> 0 | H43: =+G43*F43 -> 0 | I43: =IF(G43=100%,H43,"")
...

Sheet Kosten Deelnemer 4
A1: =+'Basisgegevens Begroting'!C12 -> 0
A4: Kolom1 | B4: Kolom2 | C4: Kolom22 | D4: Kolom3 | E4: Kolom5 | F4: Kolom6 | G4: Kolom8 | H4: Kolom9
A5: Personeelskosten | G5: =+Totaal!I9 -> 0
B6: Functie | C6: Subsidiedoel | D6: Uurtarief | E6: Aantal uren | F6: Uren x tarief | G6: Ophoging Subsidie % | H6: Subsidie
F7: =$D7*E7 -> 0 | G7: {=+_xlfn.IFS(C7=Blad1!$D$2,'Basisgegevens Begroting'!$I$12,C7=Blad1!$D$3,'Basisgegevens Begroting'!$G$12,C7=Blad1!$D$4,'Basisgegevens Begroting'!$H$12,C7="",0)} -> 0 | H7: =+EigenPersoneel789[[#This Row],[Kolom8]]*EigenPersoneel789[[#This Row],[Kolom6]] -> 0 | I7: =IF(G7=100%,H7,"")
F8: =$D8*E8 -> 0 | G8: {=+_xlfn.IFS(C8=Blad1!$D$2,'Basisgegevens Begroting'!$I$12,C8=Blad1!$D$3,'Basisgegevens Begroting'!$G$12,C8=Blad1!$D$4,'Basisgegevens Begroting'!$H$12,C8="",0)} -> 0 | H8: =+EigenPersoneel789[[#This Row],[Kolom8]]*EigenPersoneel789[[#This Row],[Kolom6]] -> 0 | I8: =IF(G8=100%,H8,"")
F9: =$D9*E9 -> 0 | G9: {=+_xlfn.IFS(C9=Blad1!$D$2,'Basisgegevens Begroting'!$I$12,C9=Blad1!$D$3,'Basisgegevens Begroting'!$G$12,C9=Blad1!$D$4,'Basisgegevens Begroting'!$H$12,C9="",0)} -> 0 | H9: =+EigenPersoneel789[[#This Row],[Kolom8]]*EigenPersoneel789[[#This Row],[Kolom6]] -> 0 | I9: =IF(G9=100%,H9,"")
F10: =$D10*E10 -> 0 | G10: {=+_xlfn.IFS(C10=Blad1!$D$2,'Basisgegevens Begroting'!$I$12,C10=Blad1!$D$3,'Basisgegevens Begroting'!$G$12,C10=Blad1!$D$4,'Basisgegevens Begroting'!$H$12,C10="",0)} -> 0 | H10: =+EigenPersoneel789[[#This Row],[Kolom8]]*EigenPersoneel789[[#This Row],[Kolom6]] -> 0 | I10: =IF(G10=100%,H10,"")
F11: =$D11*E11 -> 0 | G11: {=+_xlfn.IFS(C11=Blad1!$D$2,'Basisgegevens Begroting'!$I$12,C11=Blad1!$D$3,'Basisgegevens Begroting'!$G$12,C11=Blad1!$D$4,'Basisgegevens Begroting'!$H$12,C11="",0)} -> 0 | H11: =+EigenPersoneel789[[#This Row],[Kolom8]]*EigenPersoneel789[[#This Row],[Kolom6]] -> 0 | I11: =IF(G11=100%,H11,"")
F12: =$D12*E12 -> 0 | G12: {=+_xlfn.IFS(C12=Blad1!$D$2,'Basisgegevens Begroting'!$I$12,C12=Blad1!$D$3,'Basisgegevens Begroting'!$G$12,C12=Blad1!$D$4,'Basisgegevens Begroting'!$H$12,C12="",0)} -> 0 | H12: =+EigenPersoneel789[[#This Row],[Kolom8]]*EigenPersoneel789[[#This Row],[Kolom6]] -> 0 | I12: =IF(G12=100%,H12,"")
F13: =$D13*E13 -> 0 | G13: {=+_xlfn.IFS(C13=Blad1!$D$2,'Basisgegevens Begroting'!$I$12,C13=Blad1!$D$3,'Basisgegevens Begroting'!$G$12,C13=Blad1!$D$4,'Basisgegevens Begroting'!$H$12,C13="",0)} -> 0 | H13: =+EigenPersoneel789[[#This Row],[Kolom8]]*EigenPersoneel789[[#This Row],[Kolom6]] -> 0 | I13: =IF(G13=100%,H13,"")
F14: =$D14*E14 -> 0 | G14: {=+_xlfn.IFS(C14=Blad1!$D$2,'Basisgegevens Begroting'!$I$12,C14=Blad1!$D$3,'Basisgegevens Begroting'!$G$12,C14=Blad1!$D$4,'Basisgegevens Begroting'!$H$12,C14="",0)} -> 0 | H14: =+EigenPersoneel789[[#This Row],[Kolom8]]*EigenPersoneel789[[#This Row],[Kolom6]] -> 0 | I14: =IF(G14=100%,H14,"")
F15: =$D15*E15 -> 0 | G15: {=+_xlfn.IFS(C15=Blad1!$D$2,'Basisgegevens Begroting'!$I$12,C15=Blad1!$D$3,'Basisgegevens Begroting'!$G$12,C15=Blad1!$D$4,'Basisgegevens Begroting'!$H$12,C15="",0)} -> 0 | H15: =+EigenPersoneel789[[#This Row],[Kolom8]]*EigenPersoneel789[[#This Row],[Kolom6]] -> 0 | I15: =IF(G15=100%,H15,"")
F16: =$D16*E16 -> 0 | G16: {=+_xlfn.IFS(C16=Blad1!$D$2,'Basisgegevens Begroting'!$I$12,C16=Blad1!$D$3,'Basisgegevens Begroting'!$G$12,C16=Blad1!$D$4,'Basisgegevens Begroting'!$H$12,C16="",0)} -> 0 | H16: =+EigenPersoneel789[[#This Row],[Kolom8]]*EigenPersoneel789[[#This Row],[Kolom6]] -> 0 | I16: =IF(G16=100%,H16,"")
F17: =$D17*E17 -> 0 | G17: {=+_xlfn.IFS(C17=Blad1!$D$2,'Basisgegevens Begroting'!$I$12,C17=Blad1!$D$3,'Basisgegevens Begroting'!$G$12,C17=Blad1!$D$4,'Basisgegevens Begroting'!$H$12,C17="",0)} -> 0 | H17: =+EigenPersoneel789[[#This Row],[Kolom8]]*EigenPersoneel789[[#This Row],[Kolom6]] -> 0 | I17: =IF(G17=100%,H17,"")
F18: =$D18*E18 -> 0 | G18: {=+_xlfn.IFS(C18=Blad1!$D$2,'Basisgegevens Begroting'!$I$12,C18=Blad1!$D$3,'Basisgegevens Begroting'!$G$12,C18=Blad1!$D$4,'Basisgegevens Begroting'!$H$12,C18="",0)} -> 0 | H18: =+EigenPersoneel789[[#This Row],[Kolom8]]*EigenPersoneel789[[#This Row],[Kolom6]] -> 0 | I18: =IF(G18=100%,H18,"")
... F21: =$D21*E21 -> 0 | G21: {=+_xlfn.IFS(C21=Blad1!$D$2,'Basisgegevens Begroting'!$I$12,C21=Blad1!$D$3,'Basisgegevens Begroting'!$G$12,C21=Blad1!$D$4,'Basisgegevens Begroting'!$H$12,C21="",0)} -> 0 | H21: =+EigenPersoneel789[[#This Row],[Kolom8]]*EigenPersoneel789[[#This Row],[Kolom6]] -> 0 | I21: =IF(G21=100%,H21,"")
E22: Subtotaal: | F22: =SUM(F7:F21) -> 0 | G22: Subtotaal: | H22: =SUM(H7:H21) -> 0 | I22: =IF(G22=100%,H22,"")
I23: =IF(G23=100%,H23,"")
A24: Brandstofkosten | I24: =IF(G24=100%,H24,"")
A25: Omschrijving | B25: Leverancier | C25: Subsidiedoel | D25: Geschatte meerkosten per eenheid (kWh, liter, kilo) | E25: Aantal eenheden (kWh, liter, kilo) | F25: Kosten | G25: =+G6 -> Ophoging Subsidie % | H25: =+H6 -> Subsidie | I25: =IF(G25=100%,H25,"")
F26: =+D26*E26 -> 0 | G26: {=+_xlfn.IFS(C26=Blad1!$D$2,'Basisgegevens Begroting'!$I$12,C26=Blad1!$D$3,'Basisgegevens Begroting'!$G$12,C26=Blad1!$D$4,'Basisgegevens Begroting'!$H$12,C26="",0)} -> 0 | H26: =+G26*F26 -> 0 | I26: =IF(G26=100%,H26,"")
F27: =+D27*E27 -> 0 | G27: {=+_xlfn.IFS(C27=Blad1!$D$2,'Basisgegevens Begroting'!$I$12,C27=Blad1!$D$3,'Basisgegevens Begroting'!$G$12,C27=Blad1!$D$4,'Basisgegevens Begroting'!$H$12,C27="",0)} -> 0 | H27: =+G27*F27 -> 0 | I27: =IF(G27=100%,H27,"")
F28: =+D28*E28 -> 0 | G28: {=+_xlfn.IFS(C28=Blad1!$D$2,'Basisgegevens Begroting'!$I$12,C28=Blad1!$D$3,'Basisgegevens Begroting'!$G$12,C28=Blad1!$D$4,'Basisgegevens Begroting'!$H$12,C28="",0)} -> 0 | H28: =+G28*F28 -> 0 | I28: =IF(G28=100%,H28,"")
F29: =+D29*E29 -> 0 | G29: {=+_xlfn.IFS(C29=Blad1!$D$2,'Basisgegevens Begroting'!$I$12,C29=Blad1!$D$3,'Basisgegevens Begroting'!$G$12,C29=Blad1!$D$4,'Basisgegevens Begroting'!$H$12,C29="",0)} -> 0 | H29: =+G29*F29 -> 0 | I29: =IF(G29=100%,H29,"")
E30: Subtotaal: | F30: =SUM(F26:F29) -> 0 | H30: =SUM(H26:H29) -> 0 | I30: =IF(G30=100%,H30,"")
I31: =IF(G31=100%,H31,"")
A32: Projectspecifieke overige subsidiabele kosten (kosten derden) | I32: =IF(G32=100%,H32,"")
A33: Omschrijving | B33: Leverancier | C33: Subsidiedoel | D33: Offertenr | E33: Offertedatum | F33: Kosten | G33: =+G6 -> Ophoging Subsidie % | H33: =+H6 -> Subsidie | I33: =IF(G33=100%,H33,"")
F34: 0 | G34: {=+_xlfn.IFS(C34=Blad1!$D$2,'Basisgegevens Begroting'!$I$12,C34=Blad1!$D$3,'Basisgegevens Begroting'!$G$12,C34=Blad1!$D$4,'Basisgegevens Begroting'!$H$12,C34="",0)} -> 0 | H34: =+G34*F34 -> 0 | I34: =IF(G34=100%,H34,"")
F35: 0 | G35: {=+_xlfn.IFS(C35=Blad1!$D$2,'Basisgegevens Begroting'!$I$12,C35=Blad1!$D$3,'Basisgegevens Begroting'!$G$12,C35=Blad1!$D$4,'Basisgegevens Begroting'!$H$12,C35="",0)} -> 0 | H35: =+G35*F35 -> 0 | I35: =IF(G35=100%,H35,"")
F36: 0 | G36: {=+_xlfn.IFS(C36=Blad1!$D$2,'Basisgegevens Begroting'!$I$12,C36=Blad1!$D$3,'Basisgegevens Begroting'!$G$12,C36=Blad1!$D$4,'Basisgegevens Begroting'!$H$12,C36="",0)} -> 0 | H36: =+G36*F36 -> 0 | I36: =IF(G36=100%,H36,"")
F37: 0 | G37: {=+_xlfn.IFS(C37=Blad1!$D$2,'Basisgegevens Begroting'!$I$12,C37=Blad1!$D$3,'Basisgegevens Begroting'!$G$12,C37=Blad1!$D$4,'Basisgegevens Begroting'!$H$12,C37="",0)} -> 0 | H37: =+G37*F37 -> 0 | I37: =IF(G37=100%,H37,"")
F38: 0 | G38: {=+_xlfn.IFS(C38=Blad1!$D$2,'Basisgegevens Begroting'!$I$12,C38=Blad1!$D$3,'Basisgegevens Begroting'!$G$12,C38=Blad1!$D$4,'Basisgegevens Begroting'!$H$12,C38="",0)} -> 0 | H38: =+G38*F38 -> 0 | I38: =IF(G38=100%,H38,"")
F39: 0 | G39: {=+_xlfn.IFS(C39=Blad1!$D$2,'Basisgegevens Begroting'!$I$12,C39=Blad1!$D$3,'Basisgegevens Begroting'!$G$12,C39=Blad1!$D$4,'Basisgegevens Begroting'!$H$12,C39="",0)} -> 0 | H39: =+G39*F39 -> 0 | I39: =IF(G39=100%,H39,"")
F40: 0 | G40: {=+_xlfn.IFS(C40=Blad1!$D$2,'Basisgegevens Begroting'!$I$12,C40=Blad1!$D$3,'Basisgegevens Begroting'!$G$12,C40=Blad1!$D$4,'Basisgegevens Begroting'!$H$12,C40="",0)} -> 0 | H40: =+G40*F40 -> 0 | I40: =IF(G40=100%,H40,"")
F41: 0 | G41: {=+_xlfn.IFS(C41=Blad1!$D$2,'Basisgegevens Begroting'!$I$12,C41=Blad1!$D$3,'Basisgegevens Begroting'!$G$12,C41=Blad1!$D$4,'Basisgegevens Begroting'!$H$12,C41="",0)} -> 0 | H41: =+G41*F41 -> 0 | I41: =IF(G41=100%,H41,"")
F42: 0 | G42: {=+_xlfn.IFS(C42=Blad1!$D$2,'Basisgegevens Begroting'!$I$12,C42=Blad1!$D$3,'Basisgegevens Begroting'!$G$12,C42=Blad1!$D$4,'Basisgegevens Begroting'!$H$12,C42="",0)} -> 0 | H42: =+G42*F42 -> 0 | I42: =IF(G42=100%,H42,"")
F43: 0 | G43: {=+_xlfn.IFS(C43=Blad1!$D$2,'Basisgegevens Begroting'!$I$12,C43=Blad1!$D$3,'Basisgegevens Begroting'!$G$12,C43=Blad1!$D$4,'Basisgegevens Begroting'!$H$12,C43="",0)} -> 0 | H43: =+G43*F43 -> 0 | I43: =IF(G43=100%,H43,"")
F44: 0 | G44: {=+_xlfn.IFS(C44=Blad1!$D$2,'Basisgegevens Begroting'!$I$12,C44=Blad1!$D$3,'Basisgegevens Begroting'!$G$12,C44=Blad1!$D$4,'Basisgegevens Begroting'!$H$12,C44="",0)} -> 0 | H44: =+G44*F44 -> 0 | I44: =IF(G44=100%,H44,"")
...

Sheet Kosten Deelnemer 5
A1: ='Basisgegevens Begroting'!C13 -> 0
A4: Kolom1 | B4: Kolom2 | C4: Kolom22 | D4: Kolom3 | E4: Kolom5 | F4: Kolom6 | G4: Kolom8 | H4: Kolom9
A5: Personeelskosten | G5: =+Totaal!I9 -> 0
B6: Functie | C6: Subsidiedoel | D6: Uurtarief | E6: Aantal uren | F6: Uren x tarief | G6: Ophoging Subsidie % | H6: Subsidie
F7: =$D7*E7 -> 0 | G7: {=+_xlfn.IFS(C7=Blad1!$D$2,'Basisgegevens Begroting'!$I$13,C7=Blad1!$D$3,'Basisgegevens Begroting'!$G$13,C7=Blad1!$D$4,'Basisgegevens Begroting'!$H$13,C7="",0)} -> 0 | H7: =+EigenPersoneel7894[[#This Row],[Kolom8]]*EigenPersoneel7894[[#This Row],[Kolom6]] -> 0 | I7: =IF(G7=100%,H7,"")
F8: =$D8*E8 -> 0 | G8: {=+_xlfn.IFS(C8=Blad1!$D$2,'Basisgegevens Begroting'!$I$13,C8=Blad1!$D$3,'Basisgegevens Begroting'!$G$13,C8=Blad1!$D$4,'Basisgegevens Begroting'!$H$13,C8="",0)} -> 0 | H8: =+EigenPersoneel7894[[#This Row],[Kolom8]]*EigenPersoneel7894[[#This Row],[Kolom6]] -> 0 | I8: =IF(G8=100%,H8,"")
F9: =$D9*E9 -> 0 | G9: {=+_xlfn.IFS(C9=Blad1!$D$2,'Basisgegevens Begroting'!$I$13,C9=Blad1!$D$3,'Basisgegevens Begroting'!$G$13,C9=Blad1!$D$4,'Basisgegevens Begroting'!$H$13,C9="",0)} -> 0 | H9: =+EigenPersoneel7894[[#This Row],[Kolom8]]*EigenPersoneel7894[[#This Row],[Kolom6]] -> 0 | I9: =IF(G9=100%,H9,"")
F10: =$D10*E10 -> 0 | G10: {=+_xlfn.IFS(C10=Blad1!$D$2,'Basisgegevens Begroting'!$I$13,C10=Blad1!$D$3,'Basisgegevens Begroting'!$G$13,C10=Blad1!$D$4,'Basisgegevens Begroting'!$H$13,C10="",0)} -> 0 | H10: =+EigenPersoneel7894[[#This Row],[Kolom8]]*EigenPersoneel7894[[#This Row],[Kolom6]] -> 0 | I10: =IF(G10=100%,H10,"")
F11: =$D11*E11 -> 0 | G11: {=+_xlfn.IFS(C11=Blad1!$D$2,'Basisgegevens Begroting'!$I$13,C11=Blad1!$D$3,'Basisgegevens Begroting'!$G$13,C11=Blad1!$D$4,'Basisgegevens Begroting'!$H$13,C11="",0)} -> 0 | H11: =+EigenPersoneel7894[[#This Row],[Kolom8]]*EigenPersoneel7894[[#This Row],[Kolom6]] -> 0 | I11: =IF(G11=100%,H11,"")
F12: =$D12*E12 -> 0 | G12: {=+_xlfn.IFS(C12=Blad1!$D$2,'Basisgegevens Begroting'!$I$13,C12=Blad1!$D$3,'Basisgegevens Begroting'!$G$13,C12=Blad1!$D$4,'Basisgegevens Begroting'!$H$13,C12="",0)} -> 0 | H12: =+EigenPersoneel7894[[#This Row],[Kolom8]]*EigenPersoneel7894[[#This Row],[Kolom6]] -> 0 | I12: =IF(G12=100%,H12,"")
F13: =$D13*E13 -> 0 | G13: {=+_xlfn.IFS(C13=Blad1!$D$2,'Basisgegevens Begroting'!$I$13,C13=Blad1!$D$3,'Basisgegevens Begroting'!$G$13,C13=Blad1!$D$4,'Basisgegevens Begroting'!$H$13,C13="",0)} -> 0 | H13: =+EigenPersoneel7894[[#This Row],[Kolom8]]*EigenPersoneel7894[[#This Row],[Kolom6]] -> 0 | I13: =IF(G13=100%,H13,"")
F14: =$D14*E14 -> 0 | G14: {=+_xlfn.IFS(C14=Blad1!$D$2,'Basisgegevens Begroting'!$I$13,C14=Blad1!$D$3,'Basisgegevens Begroting'!$G$13,C14=Blad1!$D$4,'Basisgegevens Begroting'!$H$13,C14="",0)} -> 0 | H14: =+EigenPersoneel7894[[#This Row],[Kolom8]]*EigenPersoneel7894[[#This Row],[Kolom6]] -> 0 | I14: =IF(G14=100%,H14,"")
F15: =$D15*E15 -> 0 | G15: {=+_xlfn.IFS(C15=Blad1!$D$2,'Basisgegevens Begroting'!$I$13,C15=Blad1!$D$3,'Basisgegevens Begroting'!$G$13,C15=Blad1!$D$4,'Basisgegevens Begroting'!$H$13,C15="",0)} -> 0 | H15: =+EigenPersoneel7894[[#This Row],[Kolom8]]*EigenPersoneel7894[[#This Row],[Kolom6]] -> 0 | I15: =IF(G15=100%,H15,"")
F16: =$D16*E16 -> 0 | G16: {=+_xlfn.IFS(C16=Blad1!$D$2,'Basisgegevens Begroting'!$I$13,C16=Blad1!$D$3,'Basisgegevens Begroting'!$G$13,C16=Blad1!$D$4,'Basisgegevens Begroting'!$H$13,C16="",0)} -> 0 | H16: =+EigenPersoneel7894[[#This Row],[Kolom8]]*EigenPersoneel7894[[#This Row],[Kolom6]] -> 0 | I16: =IF(G16=100%,H16,"")
F17: =$D17*E17 -> 0 | G17: {=+_xlfn.IFS(C17=Blad1!$D$2,'Basisgegevens Begroting'!$I$13,C17=Blad1!$D$3,'Basisgegevens Begroting'!$G$13,C17=Blad1!$D$4,'Basisgegevens Begroting'!$H$13,C17="",0)} -> 0 | H17: =+EigenPersoneel7894[[#This Row],[Kolom8]]*EigenPersoneel7894[[#This Row],[Kolom6]] -> 0 | I17: =IF(G17=100%,H17,"")
F18: =$D18*E18 -> 0 | G18: {=+_xlfn.IFS(C18=Blad1!$D$2,'Basisgegevens Begroting'!$I$13,C18=Blad1!$D$3,'Basisgegevens Begroting'!$G$13,C18=Blad1!$D$4,'Basisgegevens Begroting'!$H$13,C18="",0)} -> 0 | H18: =+EigenPersoneel7894[[#This Row],[Kolom8]]*EigenPersoneel7894[[#This Row],[Kolom6]] -> 0 | I18: =IF(G18=100%,H18,"")
... F21: =$D21*E21 -> 0 | G21: {=+_xlfn.IFS(C21=Blad1!$D$2,'Basisgegevens Begroting'!$I$13,C21=Blad1!$D$3,'Basisgegevens Begroting'!$G$13,C21=Blad1!$D$4,'Basisgegevens Begroting'!$H$13,C21="",0)} -> 0 | H21: =+EigenPersoneel7894[[#This Row],[Kolom8]]*EigenPersoneel7894[[#This Row],[Kolom6]] -> 0 | I21: =IF(G21=100%,H21,"")
E22: Subtotaal: | F22: =SUM(F7:F21) -> 0 | G22: Subtotaal: | H22: =SUM(H7:H21) -> 0 | I22: =IF(G22=100%,H22,"")
I23: =IF(G23=100%,H23,"")
A24: Brandstofkosten | I24: =IF(G24=100%,H24,"")
A25: Omschrijving | B25: Leverancier | C25: Subsidiedoel | D25: Geschatte meerkosten per eenheid (kWh, liter, kilo) | E25: Aantal eenheden (kWh, liter, kilo) | F25: Kosten | G25: =+G6 -> Ophoging Subsidie % | H25: =+H6 -> Subsidie | I25: =IF(G25=100%,H25,"")
F26: =+D26*E26 -> 0 | G26: {=+_xlfn.IFS(C26=Blad1!$D$2,'Basisgegevens Begroting'!$I$13,C26=Blad1!$D$3,'Basisgegevens Begroting'!$G$13,C26=Blad1!$D$4,'Basisgegevens Begroting'!$H$13,C26="",0)} -> 0 | H26: =+G26*F26 -> 0 | I26: =IF(G26=100%,H26,"")
