Workbook
Name Gegevens_deelnemers: Deelnemers[#All]
Name Gegevens_deelnemers: Deelnemers[#All]
Name Gegevens_deelnemers: Deelnemers[#All]
Name Kostensystematiek: '[1]Penvoerder-aanvrager 1'!$Q$12:$Q$17

Sheet Toelichting projectkosten
A1: {=_xlfn._xlws.FILTER(Deelnemers[Naam organisatie],Deelnemers[Naam organisatie]<>"")} -> #VALUE!

Sheet Basisgegevens Begroting
B1: Basisgegevens begroting
B3: Projectgegevens
B4: Regeling | C4: Koplopersregeling Maritiem Masterplan
B5: Projecttitel
B6: Voldoet het project aan ten minste één van de voorwaarden, bedoeld in artikel 25, zesde lid, onderdeel b, van de algemene groepsvrijstellingsverordening?
B8: Gegevens deelnemers Nederland | C8: Naam organisatie | D8: Vestigingsland | E8: Soort onderneming (MKB/Grote onderneming) | F8: Subsidie-Percentage algemeen | G8: Subsidie-Percentage experimentele ontwikkeling | H8: Subsidie-Percentage Industrieel onderzoek | I8: Subsidie-Percentage niet-economisch industrieel onderzoek of experimenteel onderzoek
B9: Aanvrager / deelnemer 1 | E9: Grote onderneming | F9: =VLOOKUP(Deelnemers[[#This Row],[Soort onderneming (MKB/Grote onderneming)]],Blad1!$D$45:$E$48,2,FALSE)+VLOOKUP($C$6,Blad1!$D$37:$E$39,2,FALSE) -> 0.25 | G9: =VLOOKUP(Deelnemers[[#This Row],[Soort onderneming (MKB/Grote onderneming)]],Blad1!$D$45:$E$48,2,FALSE)+VLOOKUP($C$6,Blad1!$D$37:$E$39,2,FALSE) -> 0.25 | H9: {=_xlfn.IFS(Deelnemers[[#This Row],[Subsidie-Percentage experimentele ontwikkeling]]=0,0,Deelnemers[[#This Row],[Subsidie-Percentage experimentele ontwikkeling]]>0,Deelnemers[[#This Row],[Subsidie-Percentage experimentele ontwikkeling]]+0.25)} -> 0.5 | I9: =IF(Deelnemers[[#This Row],[Soort onderneming (MKB/Grote onderneming)]]=Blad1!$D$48,100%,0) -> 0
B10: Deelnemer 2 | E10: Grote onderneming | F10: =VLOOKUP(Deelnemers[[#This Row],[Soort onderneming (MKB/Grote onderneming)]],Blad1!$D$45:$E$48,2,FALSE)+VLOOKUP($C$6,Blad1!$D$37:$E$39,2,FALSE) -> 0.25 | G10: =VLOOKUP(Deelnemers[[#This Row],[Soort onderneming (MKB/Grote onderneming)]],Blad1!$D$45:$E$48,2,FALSE)+VLOOKUP($C$6,Blad1!$D$37:$E$39,2,FALSE) -> 0.25 | H10: {=_xlfn.IFS(Deelnemers[[#This Row],[Subsidie-Percentage experimentele ontwikkeling]]=0,0,Deelnemers[[#This Row],[Subsidie-Percentage experimentele ontwikkeling]]>0,Deelnemers[[#This Row],[Subsidie-Percentage experimentele ontwikkeling]]+0.25)} -> 0.5 | I10: =IF(Deelnemers[[#This Row],[Soort onderneming (MKB/Grote onderneming)]]=Blad1!$D$48,100%,0) -> 0
B11: Deelnemer 3 | E11: Grote onderneming | F11: =VLOOKUP(Deelnemers[[#This Row],[Soort onderneming (MKB/Grote onderneming)]],Blad1!$D$45:$E$48,2,FALSE)+VLOOKUP($C$6,Blad1!$D$37:$E$39,2,FALSE) -> 0.25 | G11: =VLOOKUP(Deelnemers[[#This Row],[Soort onderneming (MKB/Grote onderneming)]],Blad1!$D$45:$E$48,2,FALSE)+VLOOKUP($C$6,Blad1!$D$37:$E$39,2,FALSE) -> 0.25 | H11: {=_xlfn.IFS(Deelnemers[[#This Row],[Subsidie-Percentage experimentele ontwikkeling]]=0,0,Deelnemers[[#This Row],[Subsidie-Percentage experimentele ontwikkeling]]>0,Deelnemers[[#This Row],[Subsidie-Percentage experimentele ontwikkeling]]+0.25)} -> 0.5 | I11: =IF(Deelnemers[[#This Row],[Soort onderneming (MKB/Grote onderneming)]]=Blad1!$D$48,100%,0) -> 0
B12: Deelnemer 4 | E12: Grote onderneming | F12: =VLOOKUP(Deelnemers[[#This Row],[Soort onderneming (MKB/Grote onderneming)]],Blad1!$D$45:$E$48,2,FALSE)+VLOOKUP($C$6,Blad1!$D$37:$E$39,2,FALSE) -> 0.25 | G12: =VLOOKUP(Deelnemers[[#This Row],[Soort onderneming (MKB/Grote onderneming)]],Blad1!$D$45:$E$48,2,FALSE)+VLOOKUP($C$6,Blad1!$D$37:$E$39,2,FALSE) -> 0.25 | H12: {=_xlfn.IFS(Deelnemers[[#This Row],[Subsidie-Percentage experimentele ontwikkeling]]=0,0,Deelnemers[[#This Row],[Subsidie-Percentage experimentele ontwikkeling]]>0,Deelnemers[[#This Row],[Subsidie-Percentage experimentele ontwikkeling]]+0.25)} -> 0.5 | I12: =IF(Deelnemers[[#This Row],[Soort onderneming (MKB/Grote onderneming)]]=Blad1!$D$48,100%,0) -> 0
B13: Deelnemer 5 | E13: Grote onderneming | F13: =VLOOKUP(Deelnemers[[#This Row],[Soort onderneming (MKB/Grote onderneming)]],Blad1!$D$45:$E$48,2,FALSE)+VLOOKUP($C$6,Blad1!$D$37:$E$39,2,FALSE) -> 0.25 | G13: =VLOOKUP(Deelnemers[[#This Row],[Soort onderneming (MKB/Grote onderneming)]],Blad1!$D$45:$E$48,2,FALSE)+VLOOKUP($C$6,Blad1!$D$37:$E$39,2,FALSE) -> 0.25 | H13: {=_xlfn.IFS(Deelnemers[[#This Row],[Subsidie-Percentage experimentele ontwikkeling]]=0,0,Deelnemers[[#This Row],[Subsidie-Percentage experimentele ontwikkeling]]>0,Deelnemers[[#This Row],[Subsidie-Percentage experimentele ontwikkeling]]+0.25)} -> 0.5 | I13: =IF(Deelnemers[[#This Row],[Soort onderneming (MKB/Grote onderneming)]]=Blad1!$D$48,100%,0) -> 0
B14: Deelnemer 6 | E14: Grote onderneming | F14: =VLOOKUP(Deelnemers[[#This Row],[Soort onderneming (MKB/Grote onderneming)]],Blad1!$D$45:$E$48,2,FALSE)+VLOOKUP($C$6,Blad1!$D$37:$E$39,2,FALSE) -> 0.25 | G14: =VLOOKUP(Deelnemers[[#This Row],[Soort onderneming (MKB/Grote onderneming)]],Blad1!$D$45:$E$48,2,FALSE)+VLOOKUP($C$6,Blad1!$D$37:$E$39,2,FALSE) -> 0.25 | H14: {=_xlfn.IFS(Deelnemers[[#This Row],[Subsidie-Percentage experimentele ontwikkeling]]=0,0,Deelnemers[[#This Row],[Subsidie-Percentage experimentele ontwikkeling]]>0,Deelnemers[[#This Row],[Subsidie-Percentage experimentele ontwikkeling]]+0.25)} -> 0.5 | I14: =IF(Deelnemers[[#This Row],[Soort onderneming (MKB/Grote onderneming)]]=Blad1!$D$48,100%,0) -> 0
B15: Deelnemer 7 | E15: Grote onderneming | F15: =VLOOKUP(Deelnemers[[#This Row],[Soort onderneming (MKB/Grote onderneming)]],Blad1!$D$45:$E$48,2,FALSE)+VLOOKUP($C$6,Blad1!$D$37:$E$39,2,FALSE) -> 0.25 | G15: =VLOOKUP(Deelnemers[[#This Row],[Soort onderneming (MKB/Grote onderneming)]],Blad1!$D$45:$E$48,2,FALSE)+VLOOKUP($C$6,Blad1!$D$37:$E$39,2,FALSE) -> 0.25 | H15: {=_xlfn.IFS(Deelnemers[[#This Row],[Subsidie-Percentage experimentele ontwikkeling]]=0,0,Deelnemers[[#This Row],[Subsidie-Percentage experimentele ontwikkeling]]>0,Deelnemers[[#This Row],[Subsidie-Percentage experimentele ontwikkeling]]+0.25)} -> 0.5 | I15: =IF(Deelnemers[[#This Row],[Soort onderneming (MKB/Grote onderneming)]]=Blad1!$D$48,100%,0) -> 0
B16: Deelnemer 8 | E16: Grote onderneming | F16: =VLOOKUP(Deelnemers[[#This Row],[Soort onderneming (MKB/Grote onderneming)]],Blad1!$D$45:$E$48,2,FALSE)+VLOOKUP($C$6,Blad1!$D$37:$E$39,2,FALSE) -> 0.25 | G16: =VLOOKUP(Deelnemers[[#This Row],[Soort onderneming (MKB/Grote onderneming)]],Blad1!$D$45:$E$48,2,FALSE)+VLOOKUP($C$6,Blad1!$D$37:$E$39,2,FALSE) -> 0.25 | H16: {=_xlfn.IFS(Deelnemers[[#This Row],[Subsidie-Percentage experimentele ontwikkeling]]=0,0,Deelnemers[[#This Row],[Subsidie-Percentage experimentele ontwikkeling]]>0,Deelnemers[[#This Row],[Subsidie-Percentage experimentele ontwikkeling]]+0.25)} -> 0.5 | I16: =IF(Deelnemers[[#This Row],[Soort onderneming (MKB/Grote onderneming)]]=Blad1!$D$48,100%,0) -> 0
B17: Deelnemer 9 | E17: Grote onderneming | F17: =VLOOKUP(Deelnemers[[#This Row],[Soort onderneming (MKB/Grote onderneming)]],Blad1!$D$45:$E$48,2,FALSE)+VLOOKUP($C$6,Blad1!$D$37:$E$39,2,FALSE) -> 0.25 | G17: =VLOOKUP(Deelnemers[[#This Row],[Soort onderneming (MKB/Grote onderneming)]],Blad1!$D$45:$E$48,2,FALSE)+VLOOKUP($C$6,Blad1!$D$37:$E$39,2,FALSE) -> 0.25 | H17: {=_xlfn.IFS(Deelnemers[[#This Row],[Subsidie-Percentage experimentele ontwikkeling]]=0,0,Deelnemers[[#This Row],[Subsidie-Percentage experimentele ontwikkeling]]>0,Deelnemers[[#This Row],[Subsidie-Percentage experimentele ontwikkeling]]+0.25)} -> 0.5 | I17: =IF(Deelnemers[[#This Row],[Soort onderneming (MKB/Grote onderneming)]]=Blad1!$D$48,100%,0) -> 0
B18: Deelnemer 10 | E18: Grote onderneming | F18: =VLOOKUP(Deelnemers[[#This Row],[Soort onderneming (MKB/Grote onderneming)]],Blad1!$D$45:$E$48,2,FALSE)+VLOOKUP($C$6,Blad1!$D$37:$E$39,2,FALSE) -> 0.25 | G18: =VLOOKUP(Deelnemers[[#This Row],[Soort onderneming (MKB/Grote onderneming)]],Blad1!$D$45:$E$48,2,FALSE)+VLOOKUP($C$6,Blad1!$D$37:$E$39,2,FALSE) -> 0.25 | H18: {=_xlfn.IFS(Deelnemers[[#This Row],[Subsidie-Percentage experimentele ontwikkeling]]=0,0,Deelnemers[[#This Row],[Subsidie-Percentage experimentele ontwikkeling]]>0,Deelnemers[[#This Row],[Subsidie-Percentage experimentele ontwikkeling]]+0.25)} -> 0.5 | I18: =IF(Deelnemers[[#This Row],[Soort onderneming (MKB/Grote onderneming)]]=Blad1!$D$48,100%,0) -> 0
B19: Deelnemer 11 | E19: Grote onderneming | F19: =VLOOKUP(Deelnemers[[#This Row],[Soort onderneming (MKB/Grote onderneming)]],Blad1!$D$45:$E$48,2,FALSE)+VLOOKUP($C$6,Blad1!$D$37:$E$39,2,FALSE) -> 0.25 | G19: =VLOOKUP(Deelnemers[[#This Row],[Soort onderneming (MKB/Grote onderneming)]],Blad1!$D$45:$E$48,2,FALSE)+VLOOKUP($C$6,Blad1!$D$37:$E$39,2,FALSE) -> 0.25 | H19: {=_xlfn.IFS(Deelnemers[[#This Row],[Subsidie-Percentage experimentele ontwikkeling]]=0,0,Deelnemers[[#This Row],[Subsidie-Percentage experimentele ontwikkeling]]>0,Deelnemers[[#This Row],[Subsidie-Percentage experimentele ontwikkeling]]+0.25)} -> 0.5 | I19: =IF(Deelnemers[[#This Row],[Soort onderneming (MKB/Grote onderneming)]]=Blad1!$D$48,100%,0) -> 0
B20: Deelnemer 12 | E20: Grote onderneming | F20: =VLOOKUP(Deelnemers[[#This Row],[Soort onderneming (MKB/Grote onderneming)]],Blad1!$D$45:$E$48,2,FALSE)+VLOOKUP($C$6,Blad1!$D$37:$E$39,2,FALSE) -> 0.25 | G20: =VLOOKUP(Deelnemers[[#This Row],[Soort onderneming (MKB/Grote onderneming)]],Blad1!$D$45:$E$48,2,FALSE)+VLOOKUP($C$6,Blad1!$D$37:$E$39,2,FALSE) -> 0.25 | H20: {=_xlfn.IFS(Deelnemers[[#This Row],[Subsidie-Percentage experimentele ontwikkeling]]=0,0,Deelnemers[[#This Row],[Subsidie-Percentage experimentele ontwikkeling]]>0,Deelnemers[[#This Row],[Subsidie-Percentage experimentele ontwikkeling]]+0.25)} -> 0.5 | I20: =IF(Deelnemers[[#This Row],[Soort onderneming (MKB/Grote onderneming)]]=Blad1!$D$48,100%,0) -> 0
... B28: Deelnemer 20 | E28: Grote onderneming | F28: =VLOOKUP(Deelnemers[[#This Row],[Soort onderneming (MKB/Grote onderneming)]],Blad1!$D$45:$E$48,2,FALSE)+VLOOKUP($C$6,Blad1!$D$37:$E$39,2,FALSE) -> 0.25 | G28: =VLOOKUP(Deelnemers[[#This Row],[Soort onderneming (MKB/Grote onderneming)]],Blad1!$D$45:$E$48,2,FALSE)+VLOOKUP($C$6,Blad1!$D$37:$E$39,2,FALSE) -> 0.25 | H28: {=_xlfn.IFS(Deelnemers[[#This Row],[Subsidie-Percentage experimentele ontwikkeling]]=0,0,Deelnemers[[#This Row],[Subsidie-Percentage experimentele ontwikkeling]]>0,Deelnemers[[#This Row],[Subsidie-Percentage experimentele ontwikkeling]]+0.25)} -> 0.5 | I28: =IF(Deelnemers[[#This Row],[Soort onderneming (MKB/Grote onderneming)]]=Blad1!$D$48,100%,0) -> 0

Sheet Totaal
B2: Regeling | C2: ='Basisgegevens Begroting'!C4 -> Koplopersregeling Maritiem Masterplan
B3: Projecttitel: | C3: =+'Basisgegevens Begroting'!C5 -> 0
B4: Aanvrager: | C4: =+'Basisgegevens Begroting'!C9 -> 0
B6: Kosten en subsidieberekening Nederlandse organisaties
A8: 1. | B8: =+'Basisgegevens Begroting'!C9 -> 0
B9: ="Deze subsidie is conform de bedragen van " &E10 -> Deze subsidie is conform de bedragen van 0 | E9: Kosten | F9: Subsidie
E10: =+B8 -> 0
B11: ="Kosten van "&E10 -> Kosten van 0 | E11: =+'Kosten Deelnemer 1'!F86 -> 0 | F11: =+'Kosten Deelnemer 1'!H86 -> 0 | G11: {=_xlfn.IFS(E11=0,"",E11<25000,"De subsidiabele kosten mogen niet minder bedragen dan € 25.000,- per deelnemer aan het samenwerkingsverband",E11>=25000,"")}
A14: 2. | B14: =+'Basisgegevens Begroting'!C10 -> 0
B15: ="Deze subsidie is conform de bedragen van " &B14 -> Deze subsidie is conform de bedragen van 0 | E15: =+E9 -> Kosten | F15: =+F9 -> Subsidie
E16: =+B14 -> 0
B17: ="Kosten van "&E16 -> Kosten van 0 | E17: =+'Kosten Deelnemer 2'!F86 -> 0 | F17: =+'Kosten Deelnemer 2'!H86 -> 0 | G17: {=_xlfn.IFS(E17=0,"",E17<25000,"De subsidiabele kosten mogen niet minder bedragen dan € 25.000,- per deelnemer aan het samenwerkingsverband",E17>=25000,"")}
A20: 3. | B20: =+'Basisgegevens Begroting'!C11 -> 0
B21: ="Deze subsidie is conform de bedragen van " &B20 -> Deze subsidie is conform de bedragen van 0 | E21: =+E15 -> Kosten | F21: =+F15 -> Subsidie
E22: =+B20 -> 0
B23: ="Kosten van "&E22 -> Kosten van 0 | E23: =+'Kosten Deelnemer 3'!F86 -> 0 | F23: =+'Kosten Deelnemer 3'!H86 -> 0 | G23: {=_xlfn.IFS(E23=0,"",E23<25000,"De subsidiabele kosten mogen niet minder bedragen dan € 25.000,- per deelnemer aan het samenwerkingsverband",E23>=25000,"")}
A26: 4. | B26: =+'Basisgegevens Begroting'!C12 -> 0
B27: ="Deze subsidie is conform de bedragen van " &B26 -> Deze subsidie is conform de bedragen van 0 | E27: =+E21 -> Kosten | F27: =+F21 -> Subsidie
E28: =+B26 -> 0
B29: ="Kosten van "&E28 -> Kosten van 0 | E29: =+'Kosten Deelnemer 4'!F86 -> 0 | F29: =+'Kosten Deelnemer 4'!H86 -> 0 | G29: {=_xlfn.IFS(E29=0,"",E29<25000,"De subsidiabele kosten mogen niet minder bedragen dan € 25.000,- per deelnemer aan het samenwerkingsverband",E29>=25000,"")}
A32: 5. | B32: =+'Basisgegevens Begroting'!C13 -> 0
B33: ="Deze subsidie is conform de bedragen van " &B32 -> Deze subsidie is conform de bedragen van 0 | E33: =+E27 -> Kosten | F33: =+F27 -> Subsidie | I33: Nederland | J33: Andere landen
E34: =+B32 -> 0 | H34: =+D144 -> 0 | I34: =IF(E144="Nederland",D149,"") | J34: =IF(E144="Nederland","",D149) -> 0
B35: ="Kosten van "&B32 -> Kosten van 0 | E35: =+'Kosten Deelnemer 5'!F86 -> 0 | F35: =+'Kosten Deelnemer 5'!H86 -> 0 | G35: {=_xlfn.IFS(E35=0,"",E35<25000,"De subsidiabele kosten mogen niet minder bedragen dan € 25.000,- per deelnemer aan het samenwerkingsverband",E35>=25000,"")} | H35: =+F144 -> 0 | I35: =IF(G144="Nederland",F149,"") | J35: =IF(G144="Nederland","",F149) -> 0
H36: =+H144 -> 0 | I36: =IF(I144="Nederland",H149,"") | J36: =IF(I144="Nederland","",H149) -> 0
H37: =+J144 -> 0 | I37: =IF(K144="Nederland",J149,"") | J37: =IF(K144="Nederland","",J149) -> 0
A38: 6. | B38: =+'Basisgegevens Begroting'!C14 -> 0 | H38: =+B32 -> 0 | I38: =IF(M144="Nederland",L149,"") | J38: =IF(M144="Nederland","",L149) -> 0
B39: ="Deze subsidie is conform de bedragen van " &B38 -> Deze subsidie is conform de bedragen van 0 | E39: =+E33 -> Kosten | F39: =+F33 -> Subsidie | H39: =+B38 -> 0 | I39: =IF(E151="Nederland",D156,"") | J39: =IF(E151="Nederland","",D156) -> 0
E40: =+B38 -> 0 | H40: =+B44 -> 0 | I40: =IF(G151="Nederland",F156,"") | J40: =IF(G151="Nederland","",F156) -> 0
B41: ="Kosten van "&B38 -> Kosten van 0 | E41: =+'Kosten Deelnemer 6'!F86 -> 0 | F41: =+'Kosten Deelnemer 6'!H86 -> 0 | G41: {=_xlfn.IFS(E41=0,"",E41<25000,"De subsidiabele kosten mogen niet minder bedragen dan € 25.000,- per deelnemer aan het samenwerkingsverband",E41>=25000,"")} | H41: =+B50 -> 0 | I41: =IF(I151="Nederland",H156,"") | J41: =IF(I151="Nederland","",H156) -> 0
H42: =+B56 -> 0 | I42: =IF(K151="Nederland",J156,"") | J42: =IF(K151="Nederland","",J156) -> 0
H43: =+B62 -> 0 | I43: =IF(M151="Nederland",L156,"") | J43: =IF(M151="Nederland","",L156) -> 0
A44: 7. | B44: =+'Basisgegevens Begroting'!C15 -> 0 | H44: =+B68 -> 0 | I44: =IF(E158="Nederland",D163,"") | J44: =IF(E158="Nederland","",D163) -> 0
B45: ="Deze subsidie is conform de bedragen van " &B44 -> Deze subsidie is conform de bedragen van 0 | E45: =+E39 -> Kosten | F45: =+F39 -> Subsidie | H45: =+B74 -> 0 | I45: =IF(G158="Nederland",F163,"") | J45: =IF(G158="Nederland","",F163) -> 0
E46: =+B44 -> 0 | H46: =+B80 -> 0 | I46: =IF(I158="Nederland",H163,"") | J46: =IF(I158="Nederland","",H163) -> 0
B47: ="Kosten van "&'Basisgegevens Begroting'!C15 -> Kosten van | E47: =+'Kosten Deelnemer 7'!F86 -> 0 | F47: =+'Kosten Deelnemer 7'!H86 -> 0 | G47: {=_xlfn.IFS(E47=0,"",E47<25000,"De subsidiabele kosten mogen niet minder bedragen dan € 25.000,- per deelnemer aan het samenwerkingsverband",E47>=25000,"")} | H47: =+B86 -> 0 | I47: =IF(K158="Nederland",J163,"") | J47: =IF(K158="Nederland","",J163) -> 0
H48: =+B92 -> 0 | I48: =IF(M158="Nederland",L163,"") | J48: =IF(M158="Nederland","",L163) -> 0
H49: =+B98 -> 0 | I49: =IF(E165="Nederland",D170,"") | J49: =IF(E165="Nederland","",D170) -> 0
A50: 8. | B50: =+'Basisgegevens Begroting'!C16 -> 0 | H50: =+B104 -> 0 | I50: =IF(G165="Nederland",F170,"") | J50: =IF(G165="Nederland","",F170) -> 0
B51: ="Deze subsidie is conform de bedragen van " &B50 -> Deze subsidie is conform de bedragen van 0 | E51: =+E45 -> Kosten | F51: =+F45 -> Subsidie | H51: =+B110 -> 0 | I51: =IF(I165="Nederland",H170,"") | J51: =IF(I165="Nederland","",H170) -> 0
E52: =+B50 -> 0 | H52: =+B116 -> 0 | I52: =IF(K165="Nederland",J170,"") | J52: =IF(K165="Nederland","",J170) -> 0
B53: ="Kosten van "&B50 -> Kosten van 0 | E53: =+'Kosten Deelnemer 8'!F86 -> 0 | F53: =+'Kosten Deelnemer 8'!H86 -> 0 | G53: {=_xlfn.IFS(E53=0,"",E53<25000,"De subsidiabele kosten mogen niet minder bedragen dan € 25.000,- per deelnemer aan het samenwerkingsverband",E53>=25000,"")} | H53: =+B122 -> 0 | I53: =IF(M165="Nederland",L170,"") | J53: =IF(M165="Nederland","",L170) -> 0
H54: Verdeling | I54: =SUM(I34:I53) -> 0 | J54: =SUM(J34:J53) -> 0
A56: 9. | B56: =+'Basisgegevens Begroting'!C17 -> 0 | H56: =IF(J54>I54,"Ten minste 50% van de subsidiabele kosten van de deelnemers aan het samenwerkingsverband moet worden gemaakt door Nederlandse ondernemingen.","")
B57: ="Deze subsidie is conform de bedragen van " &B56 -> Deze subsidie is conform de bedragen van 0 | E57: =+E51 -> Kosten | F57: =+F51 -> Subsidie
E58: =+B56 -> 0
B59: ="Kosten van "&B56 -> Kosten van 0 | E59: =+'Kosten Deelnemer 9'!F86 -> 0 | F59: =+'Kosten Deelnemer 9'!H86 -> 0 | G59: {=_xlfn.IFS(E59=0,"",E59<25000,"De subsidiabele kosten mogen niet minder bedragen dan € 25.000,- per deelnemer aan het samenwerkingsverband",E59>=25000,"")}
A62: 10. | B62: =+'Basisgegevens Begroting'!C18 -> 0
B63: ="Deze subsidie is conform de bedragen van " &B62 -> Deze subsidie is conform de bedragen van 0 | E63: =+E57 -> Kosten | F63: =+F57 -> Subsidie
E64: =+B62 -> 0
B65: ="Kosten van "&B62 -> Kosten van 0 | E65: =+'Kosten Deelnemer 10'!$F$86 -> 0 | F65: =+'Kosten Deelnemer 10'!$H$86 -> 0 | G65: {=_xlfn.IFS(E65=0,"",E65<25000,"De subsidiabele kosten mogen niet minder bedragen dan € 25.000,- per deelnemer aan het samenwerkingsverband",E65>=25000,"")}
A68: 11. | B68: =+'Basisgegevens Begroting'!C19 -> 0
B69: ="Deze subsidie is conform de bedragen van " &B68 -> Deze subsidie is conform de bedragen van 0 | E69: Kosten | F69: Subsidie
E70: =+B68 -> 0
B71: ="Kosten van "&E70 -> Kosten van 0 | E71: =+'Kosten Deelnemer 11'!$F$86 -> 0 | F71: =+'Kosten Deelnemer 11'!$H$86 -> 0 | G71: {=_xlfn.IFS(E71=0,"",E71<25000,"De subsidiabele kosten mogen niet minder bedragen dan € 25.000,- per deelnemer aan het samenwerkingsverband",E71>=25000,"")}
A74: 12. | B74: =+'Basisgegevens Begroting'!C20 -> 0
B75: ="Deze subsidie is conform de bedragen van " &B74 -> Deze subsidie is conform de bedragen van 0 | E75: =+E69 -> Kosten | F75: =+F69 -> Subsidie
E76: =+B74 -> 0
B77: ="Kosten van "&B74 -> Kosten van 0 | E77: =+'Kosten Deelnemer 12'!$F$86 -> 0 | F77: =+'Kosten Deelnemer 12'!$H$86 -> 0 | G77: {=_xlfn.IFS(E77=0,"",E77<25000,"De subsidiabele kosten mogen niet minder bedragen dan € 25.000,- per deelnemer aan het samenwerkingsverband",E77>=25000,"")}
A80: 13. | B80: =+'Basisgegevens Begroting'!C21 -> 0
B81: ="Deze subsidie is conform de bedragen van " &B80 -> Deze subsidie is conform de bedragen van 0 | E81: =+E75 -> Kosten | F81: =+F75 -> Subsidie
E82: =+B80 -> 0
B83: ="Kosten van "&E82 -> Kosten van 0 | E83: =+'Kosten Deelnemer 13'!$F$86 -> 0 | F83: =+'Kosten Deelnemer 13'!$H$86 -> 0 | G83: {=_xlfn.IFS(E83=0,"",E83<25000,"De subsidiabele kosten mogen niet minder bedragen dan € 25.000,- per deelnemer aan het samenwerkingsverband",E83>=25000,"")}
A86: 14. | B86: =+'Basisgegevens Begroting'!C22 -> 0
B87: ="Deze subsidie is conform de bedragen van " &B86 -> Deze subsidie is conform de bedragen van 0 | E87: =+E81 -> Kosten | F87: =+F81 -> Subsidie
E88: =+B86 -> 0
B89: ="Kosten van "&E88 -> Kosten van 0 | E89: =+'Kosten Deelnemer 14'!$F$86 -> 0 | F89: =+'Kosten Deelnemer 14'!$H$86 -> 0 | G89: {=_xlfn.IFS(E89=0,"",E89<25000,"De subsidiabele kosten mogen niet minder bedragen dan € 25.000,- per deelnemer aan het samenwerkingsverband",E89>=25000,"")}
A92: 15. | B92: =+'Basisgegevens Begroting'!C23 -> 0
B93: ="Deze subsidie is conform de bedragen van " &B23 -> Deze subsidie is conform de bedragen van Kosten van 0 | E93: =+E87 -> Kosten | F93: =+F87 -> Subsidie
E94: =+B92 -> 0
B95: ="Kosten van "&B92 -> Kosten van 0 | E95: =+'Kosten Deelnemer 15'!$F$86 -> 0 | F95: =+'Kosten Deelnemer 15'!$H$86 -> 0 | G95: {=_xlfn.IFS(E95=0,"",E95<25000,"De subsidiabele kosten mogen niet minder bedragen dan € 25.000,- per deelnemer aan het samenwerkingsverband",E95>=25000,"")}
A98: 16. | B98: =+'Basisgegevens Begroting'!C24 -> 0
B99: ="Deze subsidie is conform de bedragen van " &B98 -> Deze subsidie is conform de bedragen van 0 | E99: =+E93 -> Kosten | F99: =+F93 -> Subsidie
E100: =+B98 -> 0
B101: ="Kosten van "&B98 -> Kosten van 0 | E101: =+'Kosten Deelnemer 16'!$F$86 -> 0 | F101: =+'Kosten Deelnemer 16'!$H$86 -> 0 | G101: {=_xlfn.IFS(E101=0,"",E101<25000,"De subsidiabele kosten mogen niet minder bedragen dan € 25.000,- per deelnemer aan het samenwerkingsverband",E101>=25000,"")}
A104: 17. | B104: =+'Basisgegevens Begroting'!C25 -> 0
B105: ="Deze subsidie is conform de bedragen van " &B104 -> Deze subsidie is conform de bedragen van 0 | E105: =+E99 -> Kosten | F105: =+F99 -> Subsidie
E106: =+B104 -> 0
B107: ="Kosten van "&'Basisgegevens Begroting'!C73 -> Kosten van | E107: =+'Kosten Deelnemer 17'!$F$86 -> 0 | F107: =+'Kosten Deelnemer 17'!$H$86 -> 0 | G107: {=_xlfn.IFS(E107=0,"",E107<25000,"De subsidiabele kosten mogen niet minder bedragen dan € 25.000,- per deelnemer aan het samenwerkingsverband",E107>=25000,"")}
A110: 18. | B110: =+'Basisgegevens Begroting'!C26 -> 0
B111: ="Deze subsidie is conform de bedragen van " &B110 -> Deze subsidie is conform de bedragen van 0 | E111: =+E105 -> Kosten | F111: =+F105 -> Subsidie
E112: =+B110 -> 0
B113: ="Kosten van "&B110 -> Kosten van 0 | E113: =+'Kosten Deelnemer 18'!$F$86 -> 0 | F113: =+'Kosten Deelnemer 18'!$H$86 -> 0 | G113: {=_xlfn.IFS(E113=0,"",E113<25000,"De subsidiabele kosten mogen niet minder bedragen dan € 25.000,- per deelnemer aan het samenwerkingsverband",E113>=25000,"")}
A116: 19. | B116: =+'Basisgegevens Begroting'!C27 -> 0
B117: ="Deze subsidie is conform de bedragen van " &B116 -> Deze subsidie is conform de bedragen van 0 | E117: =+E111 -> Kosten | F117: =+F111 -> Subsidie
E118: =+B116 -> 0
B119: ="Kosten van "&B116 -> Kosten van 0 | E119: =+'Kosten Deelnemer 19'!$F$86 -> 0 | F119: =+'Kosten Deelnemer 19'!$H$86 -> 0 | G119: {=_xlfn.IFS(E119=0,"",E119<25000,"De subsidiabele kosten mogen niet minder bedragen dan € 25.000,- per deelnemer aan het samenwerkingsverband",E119>=25000,"")}
A122: 20. | B122: =+'Basisgegevens Begroting'!C28 -> 0
B123: ="Deze subsidie is conform de bedragen van " &B122 -> Deze subsidie is conform de bedragen van 0 | E123: =+E117 -> Kosten | F123: =+F117 -> Subsidie
E124: =+B122 -> 0
B125: ="Kosten van "&B122 -> Kosten van 0 | E125: =+'Kosten Deelnemer 20'!$F$86 -> 0 | F125: =+'Kosten Deelnemer 20'!$H$86 -> 0
B130: Overzicht projectkosten en gevraagde subsidie
E131: =+E9 -> Kosten | F131: =+F15 -> Subsidie
B132: =+'Kosten Deelnemer 1'!A5 -> Personeelskosten | E132: =+'Kosten Deelnemer 1'!F22+'Kosten Deelnemer 2'!F22+'Kosten Deelnemer 3'!F22+'Kosten Deelnemer 4'!F22+'Kosten Deelnemer 5'!F22+'Kosten Deelnemer 6'!F22+'Kosten Deelnemer 7'!F22+'Kosten Deelnemer 8'!F22+'Kosten Deelnemer 9'!F22+'Kosten Deelnemer 10'!F22+'Kosten Deelnemer 11'!F22+'Kosten Deelnemer 12'!F22+'Kosten Deelnemer 13'!F22+'Kosten Deelnemer 14'!F22+'Kosten Deelnemer 15'!F22+'Kosten Deelnemer 16'!F22+'Kosten Deelnemer 17'!F22+'Kosten Deelnemer 18'!F22+'Kosten Deelnemer 19'!F22+'Kosten Deelnemer 20'!F22 -> 0 | F132: =+'Kosten Deelnemer 1'!H22+'Kosten Deelnemer 2'!H22+'Kosten Deelnemer 3'!H22+'Kosten Deelnemer 4'!H22+'Kosten Deelnemer 5'!H22+'Kosten Deelnemer 6'!H22+'Kosten Deelnemer 7'!H22+'Kosten Deelnemer 8'!H22+'Kosten Deelnemer 9'!H22+'Kosten Deelnemer 10'!H22+'Kosten Deelnemer 11'!H22+'Kosten Deelnemer 12'!H22+'Kosten Deelnemer 13'!H22+'Kosten Deelnemer 14'!H22+'Kosten Deelnemer 15'!H22+'Kosten Deelnemer 16'!H22+'Kosten Deelnemer 17'!H22+'Kosten Deelnemer 18'!H22+'Kosten Deelnemer 19'!H22+'Kosten Deelnemer 20'!H22 -> 0
B133: =+'Kosten Deelnemer 1'!A24 -> Brandstofkosten | E133: =+'Kosten Deelnemer 1'!F30+'Kosten Deelnemer 2'!F30+'Kosten Deelnemer 3'!F30+'Kosten Deelnemer 4'!F30+'Kosten Deelnemer 5'!F30+'Kosten Deelnemer 6'!F30+'Kosten Deelnemer 7'!F30+'Kosten Deelnemer 8'!F30+'Kosten Deelnemer 9'!F30+'Kosten Deelnemer 10'!F30+'Kosten Deelnemer 11'!F30+'Kosten Deelnemer 12'!F30+'Kosten Deelnemer 13'!F30+'Kosten Deelnemer 14'!F30+'Kosten Deelnemer 15'!F30+'Kosten Deelnemer 16'!F30+'Kosten Deelnemer 17'!F30+'Kosten Deelnemer 18'!F30+'Kosten Deelnemer 19'!F30+'Kosten Deelnemer 20'!F30 -> 0 | F133: =+'Kosten Deelnemer 1'!H30+'Kosten Deelnemer 2'!H30+'Kosten Deelnemer 3'!H30+'Kosten Deelnemer 4'!H30+'Kosten Deelnemer 5'!H30+'Kosten Deelnemer 6'!H30+'Kosten Deelnemer 7'!H30+'Kosten Deelnemer 8'!H30+'Kosten Deelnemer 9'!H30+'Kosten Deelnemer 10'!H30+'Kosten Deelnemer 11'!H30+'Kosten Deelnemer 12'!H30+'Kosten Deelnemer 13'!H30+'Kosten Deelnemer 14'!H30+'Kosten Deelnemer 15'!H30+'Kosten Deelnemer 16'!H30+'Kosten Deelnemer 17'!H30+'Kosten Deelnemer 18'!H30+'Kosten Deelnemer 19'!H30+'Kosten Deelnemer 20'!H30 -> 0
B134: =+'Kosten Deelnemer 1'!A32 -> Projectspecifieke overige subsidiabele kosten (kosten derden) | E134: =+'Kosten Deelnemer 1'!F51+'Kosten Deelnemer 2'!F51+'Kosten Deelnemer 3'!F51+'Kosten Deelnemer 4'!F51+'Kosten Deelnemer 5'!F51+'Kosten Deelnemer 6'!F51+'Kosten Deelnemer 7'!F51+'Kosten Deelnemer 8'!F51+'Kosten Deelnemer 9'!F51+'Kosten Deelnemer 10'!F51+'Kosten Deelnemer 11'!F51+'Kosten Deelnemer 12'!F51+'Kosten Deelnemer 13'!F51+'Kosten Deelnemer 14'!F51+'Kosten Deelnemer 15'!F51+'Kosten Deelnemer 16'!F51+'Kosten Deelnemer 17'!F51+'Kosten Deelnemer 18'!F51+'Kosten Deelnemer 19'!F51+'Kosten Deelnemer 20'!F51 -> 0 | F134: =+'Kosten Deelnemer 1'!H51+'Kosten Deelnemer 2'!H51+'Kosten Deelnemer 3'!H51+'Kosten Deelnemer 4'!H51+'Kosten Deelnemer 5'!H51+'Kosten Deelnemer 6'!H51+'Kosten Deelnemer 7'!H51+'Kosten Deelnemer 8'!H51+'Kosten Deelnemer 9'!H51+'Kosten Deelnemer 10'!H51+'Kosten Deelnemer 11'!H51+'Kosten Deelnemer 12'!H51+'Kosten Deelnemer 13'!H51+'Kosten Deelnemer 14'!H51+'Kosten Deelnemer 15'!H51+'Kosten Deelnemer 16'!H51+'Kosten Deelnemer 17'!H51+'Kosten Deelnemer 18'!H51+'Kosten Deelnemer 19'!H51+'Kosten Deelnemer 20'!H51 -> 0
B135: =+'Kosten Deelnemer 1'!A53 -> Subsidiabele kosten voor voor demonstratie noodzakelijke infrastructuur | E135: =+'Kosten Deelnemer 1'!F62+'Kosten Deelnemer 2'!F62+'Kosten Deelnemer 3'!F62+'Kosten Deelnemer 4'!F62+'Kosten Deelnemer 5'!F62+'Kosten Deelnemer 6'!F62+'Kosten Deelnemer 7'!F62+'Kosten Deelnemer 8'!F62+'Kosten Deelnemer 9'!F62+'Kosten Deelnemer 10'!F62+'Kosten Deelnemer 11'!F62+'Kosten Deelnemer 12'!F62+'Kosten Deelnemer 13'!F62+'Kosten Deelnemer 14'!F62+'Kosten Deelnemer 15'!F62+'Kosten Deelnemer 16'!F62+'Kosten Deelnemer 17'!F62+'Kosten Deelnemer 18'!F62+'Kosten Deelnemer 19'!F62+'Kosten Deelnemer 20'!F62 -> 0 | F135: =+'Kosten Deelnemer 1'!H62+'Kosten Deelnemer 2'!H62+'Kosten Deelnemer 3'!H62+'Kosten Deelnemer 4'!H62+'Kosten Deelnemer 5'!H62+'Kosten Deelnemer 6'!H62+'Kosten Deelnemer 7'!H62+'Kosten Deelnemer 8'!H62+'Kosten Deelnemer 9'!H62+'Kosten Deelnemer 10'!H62+'Kosten Deelnemer 11'!H62+'Kosten Deelnemer 12'!H62+'Kosten Deelnemer 13'!H62+'Kosten Deelnemer 14'!H62+'Kosten Deelnemer 15'!H62+'Kosten Deelnemer 16'!H62+'Kosten Deelnemer 17'!H62+'Kosten Deelnemer 18'!H62+'Kosten Deelnemer 19'!H62+'Kosten Deelnemer 20'!H62 -> 0
B136: =+'Kosten Deelnemer 1'!A64 -> Speciaal voor het project aan te schaffen materialen en hulpmiddelen | E136: =+'Kosten Deelnemer 1'!F83+'Kosten Deelnemer 2'!F83+'Kosten Deelnemer 3'!F83+'Kosten Deelnemer 4'!F83+'Kosten Deelnemer 5'!F83+'Kosten Deelnemer 6'!F83+'Kosten Deelnemer 7'!F83+'Kosten Deelnemer 8'!F83+'Kosten Deelnemer 9'!F83+'Kosten Deelnemer 10'!F83+'Kosten Deelnemer 11'!F83+'Kosten Deelnemer 12'!F83+'Kosten Deelnemer 13'!F83+'Kosten Deelnemer 14'!F83+'Kosten Deelnemer 15'!F83+'Kosten Deelnemer 16'!F83+'Kosten Deelnemer 17'!F83+'Kosten Deelnemer 18'!F83+'Kosten Deelnemer 19'!F83+'Kosten Deelnemer 20'!F83 -> 0 | F136: =+'Kosten Deelnemer 1'!H83+'Kosten Deelnemer 2'!H83+'Kosten Deelnemer 3'!H83+'Kosten Deelnemer 4'!H83+'Kosten Deelnemer 5'!H83+'Kosten Deelnemer 6'!H83+'Kosten Deelnemer 7'!H83+'Kosten Deelnemer 8'!H83+'Kosten Deelnemer 9'!H83+'Kosten Deelnemer 10'!H83+'Kosten Deelnemer 11'!H83+'Kosten Deelnemer 12'!H83+'Kosten Deelnemer 13'!H83+'Kosten Deelnemer 14'!H83+'Kosten Deelnemer 15'!H83+'Kosten Deelnemer 16'!H83+'Kosten Deelnemer 17'!H83+'Kosten Deelnemer 18'!H83+'Kosten Deelnemer 19'!H83+'Kosten Deelnemer 20'!H83 -> 0
B137: Totale projectkosten en berekende subsidie | E137: =+E11+E17+E23+E29+E35+E41+E47+E53+E59+E65+E71+E77+E83+E89+E95+E101+E107+E113+E119+E125 -> 0 | F137: =SUM(F11,F17,F23,F29,F35,F41,F47,F53,F59,F65,F71,F77,F83,F89,F95,F101,F107,F113,F119,F125) -> 0 | G137: {=_xlfn.IFS(F137>15000000,"Maximaal toegestane subsidie bedraagt € 15.000.000",E137=0,"",E137<500000,"Minimale projectkosten bedragen € 500.000.",E137<=500000,"",F137<=15000000,"")}
B138: ="Waarvan " &Blad1!D2 -> Waarvan Niet-economisch industrieel onderzoek of experimentele ontwikkeling | C138: =+Blad1!AG2 -> 0 | D138: {=_xlfn.IFS(F137=0,"",C138/F137>0.2,"Ten hoogste 20% van de subsidie bestaat uit niet-economisch onderzoek of experimentele ontwikkeling door een onderzoeksorganisatie",C138/F137<=0.2,"")} | I138: {=_xlfn.IFS('Basisgegevens Begroting'!C6="Nee","",E137*0.8<F137,"De subsidie bedraagt per onderneming, of per groep verbonden ondernemingen als bedoeld in artikel 3, derde lid, van bijlage I bij de algemene groepsvrijstellingsverordening, ten hoogste 80% van de totaal verleende subsidie aan het project.",E137=0,"")}
...

Sheet Kosten Deelnemer 1
A1: ='Basisgegevens Begroting'!C9 -> 0
A4: Kolom1 | B4: Kolom2 | C4: Kolom22 | D4: Kolom3 | E4: Kolom5 | F4: Kolom6 | G4: Kolom8 | H4: Kolom9 | I4: Kolom10
A5: Personeelskosten | G5: =+Totaal!I9 -> 0 | I5: =IF(EigenPersoneel[[#This Row],[Kolom8]]=100%,EigenPersoneel[[#This Row],[Kolom9]],"")
B6: Functie | C6: Subsidiedoel | D6: Uurtarief | E6: Aantal uren | F6: Uren x tarief | G6: Subsidie % | H6: Subsidie | I6: =IF(EigenPersoneel[[#This Row],[Kolom8]]=100%,EigenPersoneel[[#This Row],[Kolom9]],"")
F7: =$D7*E7 -> 0 | G7: {=+_xlfn.IFS(EigenPersoneel[[#This Row],[Kolom22]]=Blad1!$D$2,'Basisgegevens Begroting'!$I$9,EigenPersoneel[[#This Row],[Kolom22]]=Blad1!$D$3,'Basisgegevens Begroting'!$G$9,EigenPersoneel[[#This Row],[Kolom22]]=Blad1!$D$4,'Basisgegevens Begroting'!$H$9,EigenPersoneel[[#This Row],[Kolom22]]="",0)} -> 0 | H7: =+EigenPersoneel[[#This Row],[Kolom6]]*EigenPersoneel[[#This Row],[Kolom8]] -> 0 | I7: =IF(EigenPersoneel[[#This Row],[Kolom8]]=100%,EigenPersoneel[[#This Row],[Kolom9]],"")
F8: =$D8*E8 -> 0 | G8: {=+_xlfn.IFS(EigenPersoneel[[#This Row],[Kolom22]]=Blad1!$D$2,'Basisgegevens Begroting'!$I$9,EigenPersoneel[[#This Row],[Kolom22]]=Blad1!$D$3,'Basisgegevens Begroting'!$G$9,EigenPersoneel[[#This Row],[Kolom22]]=Blad1!$D$4,'Basisgegevens Begroting'!$H$9,EigenPersoneel[[#This Row],[Kolom22]]="",0)} -> 0 | H8: =+EigenPersoneel[[#This Row],[Kolom6]]*EigenPersoneel[[#This Row],[Kolom8]] -> 0 | I8: =IF(EigenPersoneel[[#This Row],[Kolom8]]=100%,EigenPersoneel[[#This Row],[Kolom9]],"")
F9: =$D9*E9 -> 0 | G9: {=+_xlfn.IFS(EigenPersoneel[[#This Row],[Kolom22]]=Blad1!$D$2,'Basisgegevens Begroting'!$I$9,EigenPersoneel[[#This Row],[Kolom22]]=Blad1!$D$3,'Basisgegevens Begroting'!$G$9,EigenPersoneel[[#This Row],[Kolom22]]=Blad1!$D$4,'Basisgegevens Begroting'!$H$9,EigenPersoneel[[#This Row],[Kolom22]]="",0)} -> 0 | H9: =+EigenPersoneel[[#This Row],[Kolom6]]*EigenPersoneel[[#This Row],[Kolom8]] -> 0 | I9: =IF(EigenPersoneel[[#This Row],[Kolom8]]=100%,EigenPersoneel[[#This Row],[Kolom9]],"")
F10: =$D10*E10 -> 0 | G10: {=+_xlfn.IFS(EigenPersoneel[[#This Row],[Kolom22]]=Blad1!$D$2,'Basisgegevens Begroting'!$I$9,EigenPersoneel[[#This Row],[Kolom22]]=Blad1!$D$3,'Basisgegevens Begroting'!$G$9,EigenPersoneel[[#This Row],[Kolom22]]=Blad1!$D$4,'Basisgegevens Begroting'!$H$9,EigenPersoneel[[#This Row],[Kolom22]]="",0)} -> 0 | H10: =+EigenPersoneel[[#This Row],[Kolom6]]*EigenPersoneel[[#This Row],[Kolom8]] -> 0 | I10: =IF(EigenPersoneel[[#This Row],[Kolom8]]=100%,EigenPersoneel[[#This Row],[Kolom9]],"")
F11: =$D11*E11 -> 0 | G11: {=+_xlfn.IFS(EigenPersoneel[[#This Row],[Kolom22]]=Blad1!$D$2,'Basisgegevens Begroting'!$I$9,EigenPersoneel[[#This Row],[Kolom22]]=Blad1!$D$3,'Basisgegevens Begroting'!$G$9,EigenPersoneel[[#This Row],[Kolom22]]=Blad1!$D$4,'Basisgegevens Begroting'!$H$9,EigenPersoneel[[#This Row],[Kolom22]]="",0)} -> 0 | H11: =+EigenPersoneel[[#This Row],[Kolom6]]*EigenPersoneel[[#This Row],[Kolom8]] -> 0 | I11: =IF(EigenPersoneel[[#This Row],[Kolom8]]=100%,EigenPersoneel[[#This Row],[Kolom9]],"")
F12: =$D12*E12 -> 0 | G12: {=+_xlfn.IFS(EigenPersoneel[[#This Row],[Kolom22]]=Blad1!$D$2,'Basisgegevens Begroting'!$I$9,EigenPersoneel[[#This Row],[Kolom22]]=Blad1!$D$3,'Basisgegevens Begroting'!$G$9,EigenPersoneel[[#This Row],[Kolom22]]=Blad1!$D$4,'Basisgegevens Begroting'!$H$9,EigenPersoneel[[#This Row],[Kolom22]]="",0)} -> 0 | H12: =+EigenPersoneel[[#This Row],[Kolom6]]*EigenPersoneel[[#This Row],[Kolom8]] -> 0 | I12: =IF(EigenPersoneel[[#This Row],[Kolom8]]=100%,EigenPersoneel[[#This Row],[Kolom9]],"")
F13: =$D13*E13 -> 0 | G13: {=+_xlfn.IFS(EigenPersoneel[[#This Row],[Kolom22]]=Blad1!$D$2,'Basisgegevens Begroting'!$I$9,EigenPersoneel[[#This Row],[Kolom22]]=Blad1!$D$3,'Basisgegevens Begroting'!$G$9,EigenPersoneel[[#This Row],[Kolom22]]=Blad1!$D$4,'Basisgegevens Begroting'!$H$9,EigenPersoneel[[#This Row],[Kolom22]]="",0)} -> 0 | H13: =+EigenPersoneel[[#This Row],[Kolom6]]*EigenPersoneel[[#This Row],[Kolom8]] -> 0 | I13: =IF(EigenPersoneel[[#This Row],[Kolom8]]=100%,EigenPersoneel[[#This Row],[Kolom9]],"")
F14: =$D14*E14 -> 0 | G14: {=+_xlfn.IFS(EigenPersoneel[[#This Row],[Kolom22]]=Blad1!$D$2,'Basisgegevens Begroting'!$I$9,EigenPersoneel[[#This Row],[Kolom22]]=Blad1!$D$3,'Basisgegevens Begroting'!$G$9,EigenPersoneel[[#This Row],[Kolom22]]=Blad1!$D$4,'Basisgegevens Begroting'!$H$9,EigenPersoneel[[#This Row],[Kolom22]]="",0)} -> 0 | H14: =+EigenPersoneel[[#This Row],[Kolom6]]*EigenPersoneel[[#This Row],[Kolom8]] -> 0 | I14: =IF(EigenPersoneel[[#This Row],[Kolom8]]=100%,EigenPersoneel[[#This Row],[Kolom9]],"")
F15: =$D15*E15 -> 0 | G15: {=+_xlfn.IFS(EigenPersoneel[[#This Row],[Kolom22]]=Blad1!$D$2,'Basisgegevens Begroting'!$I$9,EigenPersoneel[[#This Row],[Kolom22]]=Blad1!$D$3,'Basisgegevens Begroting'!$G$9,EigenPersoneel[[#This Row],[Kolom22]]=Blad1!$D$4,'Basisgegevens Begroting'!$H$9,EigenPersoneel[[#This Row],[Kolom22]]="",0)} -> 0 | H15: =+EigenPersoneel[[#This Row],[Kolom6]]*EigenPersoneel[[#This Row],[Kolom8]] -> 0 | I15: =IF(EigenPersoneel[[#This Row],[Kolom8]]=100%,EigenPersoneel[[#This Row],[Kolom9]],"")
F16: =$D16*E16 -> 0 | G16: {=+_xlfn.IFS(EigenPersoneel[[#This Row],[Kolom22]]=Blad1!$D$2,'Basisgegevens Begroting'!$I$9,EigenPersoneel[[#This Row],[Kolom22]]=Blad1!$D$3,'Basisgegevens Begroting'!$G$9,EigenPersoneel[[#This Row],[Kolom22]]=Blad1!$D$4,'Basisgegevens Begroting'!$H$9,EigenPersoneel[[#This Row],[Kolom22]]="",0)} -> 0 | H16: =+EigenPersoneel[[#This Row],[Kolom6]]*EigenPersoneel[[#This Row],[Kolom8]] -> 0 | I16: =IF(EigenPersoneel[[#This Row],[Kolom8]]=100%,EigenPersoneel[[#This Row],[Kolom9]],"")
F17: =$D17*E17 -> 0 | G17: {=+_xlfn.IFS(EigenPersoneel[[#This Row],[Kolom22]]=Blad1!$D$2,'Basisgegevens Begroting'!$I$9,EigenPersoneel[[#This Row],[Kolom22]]=Blad1!$D$3,'Basisgegevens Begroting'!$G$9,EigenPersoneel[[#This Row],[Kolom22]]=Blad1!$D$4,'Basisgegevens Begroting'!$H$9,EigenPersoneel[[#This Row],[Kolom22]]="",0)} -> 0 | H17: =+EigenPersoneel[[#This Row],[Kolom6]]*EigenPersoneel[[#This Row],[Kolom8]] -> 0 | I17: =IF(EigenPersoneel[[#This Row],[Kolom8]]=100%,EigenPersoneel[[#This Row],[Kolom9]],"")
F18: =$D18*E18 -> 0 | G18: {=+_xlfn.IFS(EigenPersoneel[[#This Row],[Kolom22]]=Blad1!$D$2,'Basisgegevens Begroting'!$I$9,EigenPersoneel[[#This Row],[Kolom22]]=Blad1!$D$3,'Basisgegevens Begroting'!$G$9,EigenPersoneel[[#This Row],[Kolom22]]=Blad1!$D$4,'Basisgegevens Begroting'!$H$9,EigenPersoneel[[#This Row],[Kolom22]]="",0)} -> 0 | H18: =+EigenPersoneel[[#This Row],[Kolom6]]*EigenPersoneel[[#This Row],[Kolom8]] -> 0 | I18: =IF(EigenPersoneel[[#This Row],[Kolom8]]=100%,EigenPersoneel[[#This Row],[Kolom9]],"")
... F21: =$D21*E21 -> 0 | G21: {=+_xlfn.IFS(EigenPersoneel[[#This Row],[Kolom22]]=Blad1!$D$2,'Basisgegevens Begroting'!$I$9,EigenPersoneel[[#This Row],[Kolom22]]=Blad1!$D$3,'Basisgegevens Begroting'!$G$9,EigenPersoneel[[#This Row],[Kolom22]]=Blad1!$D$4,'Basisgegevens Begroting'!$H$9,EigenPersoneel[[#This Row],[Kolom22]]="",0)} -> 0 | H21: =+EigenPersoneel[[#This Row],[Kolom6]]*EigenPersoneel[[#This Row],[Kolom8]] -> 0 | I21: =IF(EigenPersoneel[[#This Row],[Kolom8]]=100%,EigenPersoneel[[#This Row],[Kolom9]],"")
E22: Subtotaal: | F22: =SUM(F7:F21) -> 0 | H22: =SUM(H7:H21) -> 0 | I22: =IF(EigenPersoneel[[#This Row],[Kolom8]]=100%,EigenPersoneel[[#This Row],[Kolom9]],"")
A24: Brandstofkosten
A25: Omschrijving | B25: Leverancier | C25: Subsidiedoel | D25: Geschatte meerkosten per eenheid (kWh, liter, kilo) | E25: Aantal eenheden (kWh, liter, kilo) | F25: Kosten | G25: =+G6 -> Subsidie % | H25: =+H6 -> Subsidie
F26: =+D26*E26 -> 0 | G26: {=+_xlfn.IFS(C26=Blad1!$D$2,'Basisgegevens Begroting'!$I$9,C26=Blad1!$D$3,'Basisgegevens Begroting'!$G$9,C26=Blad1!$D$4,'Basisgegevens Begroting'!$H$9,C26="",0)} -> 0 | H26: =+G26*F26 -> 0 | I26: =IF(G26=100%,H26,"")
F27: =+D27*E27 -> 0 | G27: {=+_xlfn.IFS(C27=Blad1!$D$2,'Basisgegevens Begroting'!$I$9,C27=Blad1!$D$3,'Basisgegevens Begroting'!$G$9,C27=Blad1!$D$4,'Basisgegevens Begroting'!$H$9,C27="",0)} -> 0 | H27: =+G27*F27 -> 0 | I27: =IF(G27=100%,H27,"")
F28: =+D28*E28 -> 0 | G28: {=+_xlfn.IFS(C28=Blad1!$D$2,'Basisgegevens Begroting'!$I$9,C28=Blad1!$D$3,'Basisgegevens Begroting'!$G$9,C28=Blad1!$D$4,'Basisgegevens Begroting'!$H$9,C28="",0)} -> 0 | H28: =+G28*F28 -> 0 | I28: =IF(G28=100%,H28,"")
F29: =+D29*E29 -> 0 | G29: {=+_xlfn.IFS(C29=Blad1!$D$2,'Basisgegevens Begroting'!$I$9,C29=Blad1!$D$3,'Basisgegevens Begroting'!$G$9,C29=Blad1!$D$4,'Basisgegevens Begroting'!$H$9,C29="",0)} -> 0 | H29: =+G29*F29 -> 0 | I29: =IF(G29=100%,H29,"")
E30: Subtotaal: | F30: =SUM(F26:F29) -> 0 | H30: =SUM(H26:H29) -> 0 | I30: =IF(G30=100%,H30,"")
I31: =IF(G31=100%,H31,"")
A32: Projectspecifieke overige subsidiabele kosten (kosten derden) | I32: =IF(G32=100%,H32,"")
A33: Omschrijving | B33: Leverancier | C33: Subsidiedoel | D33: Offertenr | E33: Offertedatum | F33: Kosten | G33: =+G6 -> Subsidie % | H33: =+H6 -> Subsidie | I33: =IF(G33=100%,H33,"")
F34: 0 | G34: {=+_xlfn.IFS(C34=Blad1!$D$2,'Basisgegevens Begroting'!$I$9,C34=Blad1!$D$3,'Basisgegevens Begroting'!$G$9,C34=Blad1!$D$4,'Basisgegevens Begroting'!$H$9,C34="",0)} -> 0 | H34: =+G34*F34 -> 0 | I34: =IF(G34=100%,H34,"")
F35: 0 | G35: {=+_xlfn.IFS(C35=Blad1!$D$2,'Basisgegevens Begroting'!$I$9,C35=Blad1!$D$3,'Basisgegevens Begroting'!$G$9,C35=Blad1!$D$4,'Basisgegevens Begroting'!$H$9,C35="",0)} -> 0 | H35: =+G35*F35 -> 0 | I35: =IF(G35=100%,H35,"")
F36: 0 | G36: {=+_xlfn.IFS(C36=Blad1!$D$2,'Basisgegevens Begroting'!$I$9,C36=Blad1!$D$3,'Basisgegevens Begroting'!$G$9,C36=Blad1!$D$4,'Basisgegevens Begroting'!$H$9,C36="",0)} -> 0 | H36: =+G36*F36 -> 0 | I36: =IF(G36=100%,H36,"")
F37: 0 | G37: {=+_xlfn.IFS(C37=Blad1!$D$2,'Basisgegevens Begroting'!$I$9,C37=Blad1!$D$3,'Basisgegevens Begroting'!$G$9,C37=Blad1!$D$4,'Basisgegevens Begroting'!$H$9,C37="",0)} -> 0 | H37: =+G37*F37 -> 0 | I37: =IF(G37=100%,H37,"")
F38: 0 | G38: {=+_xlfn.IFS(C38=Blad1!$D$2,'Basisgegevens Begroting'!$I$9,C38=Blad1!$D$3,'Basisgegevens Begroting'!$G$9,C38=Blad1!$D$4,'Basisgegevens Begroting'!$H$9,C38="",0)} -> 0 | H38: =+G38*F38 -> 0 | I38: =IF(G38=100%,H38,"")
F39: 0 | G39: {=+_xlfn.IFS(C39=Blad1!$D$2,'Basisgegevens Begroting'!$I$9,C39=Blad1!$D$3,'Basisgegevens Begroting'!$G$9,C39=Blad1!$D$4,'Basisgegevens Begroting'!$H$9,C39="",0)} -> 0 | H39: =+G39*F39 -> 0 | I39: =IF(G39=100%,H39,"")
F40: 0 | G40: {=+_xlfn.IFS(C40=Blad1!$D$2,'Basisgegevens Begroting'!$I$9,C40=Blad1!$D$3,'Basisgegevens Begroting'!$G$9,C40=Blad1!$D$4,'Basisgegevens Begroting'!$H$9,C40="",0)} -> 0 | H40: =+G40*F40 -> 0 | I40: =IF(G40=100%,H40,"")
F41: 0 | G41: {=+_xlfn.IFS(C41=Blad1!$D$2,'Basisgegevens Begroting'!$I$9,C41=Blad1!$D$3,'Basisgegevens Begroting'!$G$9,C41=Blad1!$D$4,'Basisgegevens Begroting'!$H$9,C41="",0)} -> 0 | H41: =+G41*F41 -> 0 | I41: =IF(G41=100%,H41,"")
F42: 0 | G42: {=+_xlfn.IFS(C42=Blad1!$D$2,'Basisgegevens Begroting'!$I$9,C42=Blad1!$D$3,'Basisgegevens Begroting'!$G$9,C42=Blad1!$D$4,'Basisgegevens Begroting'!$H$9,C42="",0)} -> 0 | H42: =+G42*F42 -> 0 | I42: =IF(G42=100%,H42,"")
F43: 0 | G43: {=+_xlfn.IFS(C43=Blad1!$D$2,'Basisgegevens Begroting'!$I$9,C43=Blad1!$D$3,'Basisgegevens Begroting'!$G$9,C43=Blad1!$D$4,'Basisgegevens Begroting'!$H$9,C43="",0)} -> 0 | H43: =+G43*F43 -> 0 | I43: =IF(G43=100%,H43,"")
F44: 0 | G44: {=+_xlfn.IFS(C44=Blad1!$D$2,'Basisgegevens Begroting'!$I$9,C44=Blad1!$D$3,'Basisgegevens Begroting'!$G$9,C44=Blad1!$D$4,'Basisgegevens Begroting'!$H$9,C44="",0)} -> 0 | H44: =+G44*F44 -> 0 | I44: =IF(G44=100%,H44,"")
F45: 0 | G45: {=+_xlfn.IFS(C45=Blad1!$D$2,'Basisgegevens Begroting'!$I$9,C45=Blad1!$D$3,'Basisgegevens Begroting'!$G$9,C45=Blad1!$D$4,'Basisgegevens Begroting'!$H$9,C45="",0)} -> 0 | H45: =+G45*F45 -> 0 | I45: =IF(G45=100%,H45,"")
... F49: 0 | G49: {=+_xlfn.IFS(C49=Blad1!$D$2,'Basisgegevens Begroting'!$I$9,C49=Blad1!$D$3,'Basisgegevens Begroting'!$G$9,C49=Blad1!$D$4,'Basisgegevens Begroting'!$H$9,C49="",0)} -> 0 | H49: =+G49*F49 -> 0 | I49: =IF(G49=100%,H49,"")
E51: Subtotaal: | F51: =SUM(F34:F50) -> 0 | G51: Subtotaal: | H51: =SUM(H34:H50) -> 0
A53: Subsidiabele kosten voor voor demonstratie noodzakelijke infrastructuur
A54: Omschrijving | B54: Leverancier | C54: Subsidiedoel | D54: Offertenr | E54: Offertedatum | F54: Kosten | G54: =+G33 -> Subsidie % | H54: =+H33 -> Subsidie
F55: 0 | G55: {=+_xlfn.IFS(C55=Blad1!$D$2,'Basisgegevens Begroting'!$I$9,C55=Blad1!$D$3,'Basisgegevens Begroting'!$G$9,C55=Blad1!$D$4,'Basisgegevens Begroting'!$H$9,C55="",0)} -> 0 | H55: =+G55*F55 -> 0 | I55: =IF(G55=100%,H55,"")
F56: 0 | G56: {=+_xlfn.IFS(C56=Blad1!$D$2,'Basisgegevens Begroting'!$I$9,C56=Blad1!$D$3,'Basisgegevens Begroting'!$G$9,C56=Blad1!$D$4,'Basisgegevens Begroting'!$H$9,C56="",0)} -> 0 | H56: =+G56*F56 -> 0 | I56: =IF(G56=100%,H56,"")
F57: 0 | G57: {=+_xlfn.IFS(C57=Blad1!$D$2,'Basisgegevens Begroting'!$I$9,C57=Blad1!$D$3,'Basisgegevens Begroting'!$G$9,C57=Blad1!$D$4,'Basisgegevens Begroting'!$H$9,C57="",0)} -> 0 | H57: =+G57*F57 -> 0 | I57: =IF(G57=100%,H57,"")
F58: 0 | G58: {=+_xlfn.IFS(C58=Blad1!$D$2,'Basisgegevens Begroting'!$I$9,C58=Blad1!$D$3,'Basisgegevens Begroting'!$G$9,C58=Blad1!$D$4,'Basisgegevens Begroting'!$H$9,C58="",0)} -> 0 | H58: =+G58*F58 -> 0 | I58: =IF(G58=100%,H58,"")
F59: 0 | G59: {=+_xlfn.IFS(C59=Blad1!$D$2,'Basisgegevens Begroting'!$I$9,C59=Blad1!$D$3,'Basisgegevens Begroting'!$G$9,C59=Blad1!$D$4,'Basisgegevens Begroting'!$H$9,C59="",0)} -> 0 | H59: =+G59*F59 -> 0 | I59: =IF(G59=100%,H59,"")
F60: 0 | G60: {=+_xlfn.IFS(C60=Blad1!$D$2,'Basisgegevens Begroting'!$I$9,C60=Blad1!$D$3,'Basisgegevens Begroting'!$G$9,C60=Blad1!$D$4,'Basisgegevens Begroting'!$H$9,C60="",0)} -> 0 | H60: =+G60*F60 -> 0 | I60: =IF(G60=100%,H60,"")
E62: Subtotaal: | F62: =SUM(F55:F61) -> 0 | G62: Subtotaal: | H62: =SUM(H55:H61) -> 0
A64: Speciaal voor het project aan te schaffen materialen en hulpmiddelen
A65: Omschrijving materiaal | B65: Leverancier | C65: Subsidiedoel | D65: Offertenr | E65: Gebruikspercentage apparatuur | F65: Kosten | G65: =+G54 -> Subsidie % | H65: =+H54 -> Subsidie
E66: 1 | F66: 0 | G66: {=+_xlfn.IFS(C66=Blad1!$D$2,'Basisgegevens Begroting'!$I$9,C66=Blad1!$D$3,'Basisgegevens Begroting'!$G$9,C66=Blad1!$D$4,'Basisgegevens Begroting'!$H$9,C66="",0)} -> 0 | H66: =+G66*F66*E66 -> 0 | I66: =IF(G66=100%,H66,"")
E67: 1 | F67: 0 | G67: {=+_xlfn.IFS(C67=Blad1!$D$2,'Basisgegevens Begroting'!$I$9,C67=Blad1!$D$3,'Basisgegevens Begroting'!$G$9,C67=Blad1!$D$4,'Basisgegevens Begroting'!$H$9,C67="",0)} -> 0 | H67: =+G67*F67*E67 -> 0 | I67: =IF(G67=100%,H67,"")
E68: 1 | F68: 0 | G68: {=+_xlfn.IFS(C68=Blad1!$D$2,'Basisgegevens Begroting'!$I$9,C68=Blad1!$D$3,'Basisgegevens Begroting'!$G$9,C68=Blad1!$D$4,'Basisgegevens Begroting'!$H$9,C68="",0)} -> 0 | H68: =+G68*F68*E68 -> 0 | I68: =IF(G68=100%,H68,"")
E69: 1 | F69: 0 | G69: {=+_xlfn.IFS(C69=Blad1!$D$2,'Basisgegevens Begroting'!$I$9,C69=Blad1!$D$3,'Basisgegevens Begroting'!$G$9,C69=Blad1!$D$4,'Basisgegevens Begroting'!$H$9,C69="",0)} -> 0 | H69: =+G69*F69*E69 -> 0 | I69: =IF(G69=100%,H69,"")
E70: 1 | F70: 0 | G70: {=+_xlfn.IFS(C70=Blad1!$D$2,'Basisgegevens Begroting'!$I$9,C70=Blad1!$D$3,'Basisgegevens Begroting'!$G$9,C70=Blad1!$D$4,'Basisgegevens Begroting'!$H$9,C70="",0)} -> 0 | H70: =+G70*F70*E70 -> 0 | I70: =IF(G70=100%,H70,"")
E71: 1 | F71: 0 | G71: {=+_xlfn.IFS(C71=Blad1!$D$2,'Basisgegevens Begroting'!$I$9,C71=Blad1!$D$3,'Basisgegevens Begroting'!$G$9,C71=Blad1!$D$4,'Basisgegevens Begroting'!$H$9,C71="",0)} -> 0 | H71: =+G71*F71*E71 -> 0 | I71: =IF(G71=100%,H71,"")
E72: 1 | F72: 0 | G72: {=+_xlfn.IFS(C72=Blad1!$D$2,'Basisgegevens Begroting'!$I$9,C72=Blad1!$D$3,'Basisgegevens Begroting'!$G$9,C72=Blad1!$D$4,'Basisgegevens Begroting'!$H$9,C72="",0)} -> 0 | H72: =+G72*F72*E72 -> 0 | I72: =IF(G72=100%,H72,"")
E73: 1 | F73: 0 | G73: {=+_xlfn.IFS(C73=Blad1!$D$2,'Basisgegevens Begroting'!$I$9,C73=Blad1!$D$3,'Basisgegevens Begroting'!$G$9,C73=Blad1!$D$4,'Basisgegevens Begroting'!$H$9,C73="",0)} -> 0 | H73: =+G73*F73*E73 -> 0 | I73: =IF(G73=100%,H73,"")
E74: 1 | F74: 0 | G74: {=+_xlfn.IFS(C74=Blad1!$D$2,'Basisgegevens Begroting'!$I$9,C74=Blad1!$D$3,'Basisgegevens Begroting'!$G$9,C74=Blad1!$D$4,'Basisgegevens Begroting'!$H$9,C74="",0)} -> 0 | H74: =+G74*F74*E74 -> 0 | I74: =IF(G74=100%,H74,"")
E75: 1 | F75: 0 | G75: {=+_xlfn.IFS(C75=Blad1!$D$2,'Basisgegevens Begroting'!$I$9,C75=Blad1!$D$3,'Basisgegevens Begroting'!$G$9,C75=Blad1!$D$4,'Basisgegevens Begroting'!$H$9,C75="",0)} -> 0 | H75: =+G75*F75*E75 -> 0 | I75: =IF(G75=100%,H75,"")
E76: 1 | F76: 0 | G76: {=+_xlfn.IFS(C76=Blad1!$D$2,'Basisgegevens Begroting'!$I$9,C76=Blad1!$D$3,'Basisgegevens Begroting'!$G$9,C76=Blad1!$D$4,'Basisgegevens Begroting'!$H$9,C76="",0)} -> 0 | H76: =+G76*F76*E76 -> 0 | I76: =IF(G76=100%,H76,"")
E77: 1 | F77: 0 | G77: {=+_xlfn.IFS(C77=Blad1!$D$2,'Basisgegevens Begroting'!$I$9,C77=Blad1!$D$3,'Basisgegevens Begroting'!$G$9,C77=Blad1!$D$4,'Basisgegevens Begroting'!$H$9,C77="",0)} -> 0 | H77: =+G77*F77*E77 -> 0 | I77: =IF(G77=100%,H77,"")
... E81: 1 | F81: 0 | G81: {=+_xlfn.IFS(C81=Blad1!$D$2,'Basisgegevens Begroting'!$I$9,C81=Blad1!$D$3,'Basisgegevens Begroting'!$G$9,C81=Blad1!$D$4,'Basisgegevens Begroting'!$H$9,C81="",0)} -> 0 | H81: =+G81*F81*E81 -> 0 | I81: =IF(G81=100%,H81,"")
I82: =IF(G82=100%,H82,"")
E83: Subtotaal: | F83: =SUM(F66:F82) -> 0 | G83: Subtotaal: | H83: =SUM(H66:H82) -> 0
E86: Totaal | F86: =+F51+F30+F22+F62+F83 -> 0 | H86: =+H51+H30+H22+H62+H83 -> 0 | I86: =SUM(I5:I82) -> 0

Sheet Kosten Deelnemer 2
A1: ='Basisgegevens Begroting'!C10 -> 0
A4: Kolom1 | B4: Kolom2 | C4: Kolom22 | D4: Kolom3 | E4: Kolom5 | F4: Kolom6 | G4: Kolom8 | H4: Kolom9 | I4: Kolom10
A5: Personeelskosten | G5: =+Totaal!I9 -> 0 | I5: =IF(EigenPersoneel[[#This Row],[Kolom8]]=100%,EigenPersoneel[[#This Row],[Kolom9]],"")
B6: Functie | C6: Subsidiedoel | D6: Uurtarief | E6: Aantal uren | F6: Uren x tarief | G6: Subsidie % | H6: Subsidie | I6: =IF(EigenPersoneel[[#This Row],[Kolom8]]=100%,EigenPersoneel[[#This Row],[Kolom9]],"")
F7: =$D7*E7 -> 0 | G7: {=+_xlfn.IFS(C7=Blad1!$D$2,'Basisgegevens Begroting'!$I$10,C7=Blad1!$D$3,'Basisgegevens Begroting'!$G$10,C7=Blad1!$D$4,'Basisgegevens Begroting'!$H$10,C7="",0)} -> 0 | H7: =+EigenPersoneel7[[#This Row],[Kolom8]]*EigenPersoneel7[[#This Row],[Kolom6]] -> 0 | I7: =IF(G7=100%,H7,"")
F8: =$D8*E8 -> 0 | G8: {=+_xlfn.IFS(C8=Blad1!$D$2,'Basisgegevens Begroting'!$I$10,C8=Blad1!$D$3,'Basisgegevens Begroting'!$G$10,C8=Blad1!$D$4,'Basisgegevens Begroting'!$H$10,C8="",0)} -> 0 | H8: =+EigenPersoneel7[[#This Row],[Kolom8]]*EigenPersoneel7[[#This Row],[Kolom6]] -> 0 | I8: =IF(G8=100%,H8,"")
F9: =$D9*E9 -> 0 | G9: {=+_xlfn.IFS(C9=Blad1!$D$2,'Basisgegevens Begroting'!$I$10,C9=Blad1!$D$3,'Basisgegevens Begroting'!$G$10,C9=Blad1!$D$4,'Basisgegevens Begroting'!$H$10,C9="",0)} -> 0 | H9: =+EigenPersoneel7[[#This Row],[Kolom8]]*EigenPersoneel7[[#This Row],[Kolom6]] -> 0 | I9: =IF(G9=100%,H9,"")
F10: =$D10*E10 -> 0 | G10: {=+_xlfn.IFS(C10=Blad1!$D$2,'Basisgegevens Begroting'!$I$10,C10=Blad1!$D$3,'Basisgegevens Begroting'!$G$10,C10=Blad1!$D$4,'Basisgegevens Begroting'!$H$10,C10="",0)} -> 0 | H10: =+EigenPersoneel7[[#This Row],[Kolom8]]*EigenPersoneel7[[#This Row],[Kolom6]] -> 0 | I10: =IF(G10=100%,H10,"")
F11: =$D11*E11 -> 0 | G11: {=+_xlfn.IFS(C11=Blad1!$D$2,'Basisgegevens Begroting'!$I$10,C11=Blad1!$D$3,'Basisgegevens Begroting'!$G$10,C11=Blad1!$D$4,'Basisgegevens Begroting'!$H$10,C11="",0)} -> 0 | H11: =+EigenPersoneel7[[#This Row],[Kolom8]]*EigenPersoneel7[[#This Row],[Kolom6]] -> 0 | I11: =IF(G11=100%,H11,"")
F12: =$D12*E12 -> 0 | G12: {=+_xlfn.IFS(C12=Blad1!$D$2,'Basisgegevens Begroting'!$I$10,C12=Blad1!$D$3,'Basisgegevens Begroting'!$G$10,C12=Blad1!$D$4,'Basisgegevens Begroting'!$H$10,C12="",0)} -> 0 | H12: =+EigenPersoneel7[[#This Row],[Kolom8]]*EigenPersoneel7[[#This Row],[Kolom6]] -> 0 | I12: =IF(G12=100%,H12,"")
F13: =$D13*E13 -> 0 | G13: {=+_xlfn.IFS(C13=Blad1!$D$2,'Basisgegevens Begroting'!$I$10,C13=Blad1!$D$3,'Basisgegevens Begroting'!$G$10,C13=Blad1!$D$4,'Basisgegevens Begroting'!$H$10,C13="",0)} -> 0 | H13: =+EigenPersoneel7[[#This Row],[Kolom8]]*EigenPersoneel7[[#This Row],[Kolom6]] -> 0 | I13: =IF(G13=100%,H13,"")
F14: =$D14*E14 -> 0 | G14: {=+_xlfn.IFS(C14=Blad1!$D$2,'Basisgegevens Begroting'!$I$10,C14=Blad1!$D$3,'Basisgegevens Begroting'!$G$10,C14=Blad1!$D$4,'Basisgegevens Begroting'!$H$10,C14="",0)} -> 0 | H14: =+EigenPersoneel7[[#This Row],[Kolom8]]*EigenPersoneel7[[#This Row],[Kolom6]] -> 0 | I14: =IF(G14=100%,H14,"")
F15: =$D15*E15 -> 0 | G15: {=+_xlfn.IFS(C15=Blad1!$D$2,'Basisgegevens Begroting'!$I$10,C15=Blad1!$D$3,'Basisgegevens Begroting'!$G$10,C15=Blad1!$D$4,'Basisgegevens Begroting'!$H$10,C15="",0)} -> 0 | H15: =+EigenPersoneel7[[#This Row],[Kolom8]]*EigenPersoneel7[[#This Row],[Kolom6]] -> 0 | I15: =IF(G15=100%,H15,"")
F16: =$D16*E16 -> 0 | G16: {=+_xlfn.IFS(C16=Blad1!$D$2,'Basisgegevens Begroting'!$I$10,C16=Blad1!$D$3,'Basisgegevens Begroting'!$G$10,C16=Blad1!$D$4,'Basisgegevens Begroting'!$H$10,C16="",0)} -> 0 | H16: =+EigenPersoneel7[[#This Row],[Kolom8]]*EigenPersoneel7[[#This Row],[Kolom6]] -> 0 | I16: =IF(G16=100%,H16,"")
F17: =$D17*E17 -> 0 | G17: {=+_xlfn.IFS(C17=Blad1!$D$2,'Basisgegevens Begroting'!$I$10,C17=Blad1!$D$3,'Basisgegevens Begroting'!$G$10,C17=Blad1!$D$4,'Basisgegevens Begroting'!$H$10,C17="",0)} -> 0 | H17: =+EigenPersoneel7[[#This Row],[Kolom8]]*EigenPersoneel7[[#This Row],[Kolom6]] -> 0 | I17: =IF(G17=100%,H17,"")
F18: =$D18*E18 -> 0 | G18: {=+_xlfn.IFS(C18=Blad1!$D$2,'Basisgegevens Begroting'!$I$10,C18=Blad1!$D$3,'Basisgegevens Begroting'!$G$10,C18=Blad1!$D$4,'Basisgegevens Begroting'!$H$10,C18="",0)} -> 0 | H18: =+EigenPersoneel7[[#This Row],[Kolom8]]*EigenPersoneel7[[#This Row],[Kolom6]] -> 0 | I18: =IF(G18=100%,H18,"")
... F21: =$D21*E21 -> 0 | G21: {=+_xlfn.IFS(C21=Blad1!$D$2,'Basisgegevens Begroting'!$I$10,C21=Blad1!$D$3,'Basisgegevens Begroting'!$G$10,C21=Blad1!$D$4,'Basisgegevens Begroting'!$H$10,C21="",0)} -> 0 | H21: =+EigenPersoneel7[[#This Row],[Kolom8]]*EigenPersoneel7[[#This Row],[Kolom6]] -> 0 | I21: =IF(G21=100%,H21,"")
E22: Subtotaal: | F22: =SUM(F7:F21) -> 0 | G22: Subtotaal: | H22: =SUM(H7:H21) -> 0 | I22: =IF(G22=100%,H22,"")
I23: =IF(G23=100%,H23,"")
A24: Brandstofkosten | I24: =IF(G24=100%,H24,"")
A25: Omschrijving | B25: Leverancier | C25: Subsidiedoel | D25: Geschatte meerkosten per eenheid (kWh, liter, kilo) | E25: Aantal eenheden (kWh, liter, kilo) | F25: Kosten | G25: =+G6 -> Subsidie % | H25: =+H6 -> Subsidie | I25: =IF(G25=100%,H25,"")
F26: =+D26*E26 -> 0 | G26: {=+_xlfn.IFS(C26=Blad1!$D$2,'Basisgegevens Begroting'!$I$10,C26=Blad1!$D$3,'Basisgegevens Begroting'!$G$10,C26=Blad1!$D$4,'Basisgegevens Begroting'!$H$10,C26="",0)} -> 0 | H26: =+G26*F26 -> 0 | I26: =IF(G26=100%,H26,"")
F27: =+D27*E27 -> 0 | G27: {=+_xlfn.IFS(C27=Blad1!$D$2,'Basisgegevens Begroting'!$I$10,C27=Blad1!$D$3,'Basisgegevens Begroting'!$G$10,C27=Blad1!$D$4,'Basisgegevens Begroting'!$H$10,C27="",0)} -> 0 | H27: =+G27*F27 -> 0 | I27: =IF(G27=100%,H27,"")
F28: =+D28*E28 -> 0 | G28: {=+_xlfn.IFS(C28=Blad1!$D$2,'Basisgegevens Begroting'!$I$10,C28=Blad1!$D$3,'Basisgegevens Begroting'!$G$10,C28=Blad1!$D$4,'Basisgegevens Begroting'!$H$10,C28="",0)} -> 0 | H28: =+G28*F28 -> 0 | I28: =IF(G28=100%,H28,"")
F29: =+D29*E29 -> 0 | G29: {=+_xlfn.IFS(C29=Blad1!$D$2,'Basisgegevens Begroting'!$I$10,C29=Blad1!$D$3,'Basisgegevens Begroting'!$G$10,C29=Blad1!$D$4,'Basisgegevens Begroting'!$H$10,C29="",0)} -> 0 | H29: =+G29*F29 -> 0 | I29: =IF(G29=100%,H29,"")
E30: Subtotaal: | F30: =SUM(F26:F29) -> 0 | H30: =SUM(H26:H29) -> 0 | I30: =IF(G30=100%,H30,"")
I31: =IF(G31=100%,H31,"")
A32: Projectspecifieke overige subsidiabele kosten (kosten derden) | I32: =IF(G32=100%,H32,"")
A33: Omschrijving | B33: Leverancier | C33: Subsidiedoel | D33: Offertenr | E33: Offertedatum | F33: Kosten | G33: =+G6 -> Subsidie % | H33: =+H6 -> Subsidie | I33: =IF(G33=100%,H33,"")
F34: 0 | G34: {=+_xlfn.IFS(C34=Blad1!$D$2,'Basisgegevens Begroting'!$I$10,C34=Blad1!$D$3,'Basisgegevens Begroting'!$G$10,C34=Blad1!$D$4,'Basisgegevens Begroting'!$H$10,C34="",0)} -> 0 | H34: =+G34*F34 -> 0 | I34: =IF(G34=100%,H34,"")
F35: 0 | G35: {=+_xlfn.IFS(C35=Blad1!$D$2,'Basisgegevens Begroting'!$I$10,C35=Blad1!$D$3,'Basisgegevens Begroting'!$G$10,C35=Blad1!$D$4,'Basisgegevens Begroting'!$H$10,C35="",0)} -> 0 | H35: =+G35*F35 -> 0 | I35: =IF(G35=100%,H35,"")
F36: 0 | G36: {=+_xlfn.IFS(C36=Blad1!$D$2,'Basisgegevens Begroting'!$I$10,C36=Blad1!$D$3,'Basisgegevens Begroting'!$G$10,C36=Blad1!$D$4,'Basisgegevens Begroting'!$H$10,C36="",0)} -> 0 | H36: =+G36*F36 -> 0 | I36: =IF(G36=100%,H36,"")
F37: 0 | G37: {=+_xlfn.IFS(C37=Blad1!$D$2,'Basisgegevens Begroting'!$I$10,C37=Blad1!$D$3,'Basisgegevens Begroting'!$G$10,C37=Blad1!$D$4,'Basisgegevens Begroting'!$H$10,C37="",0)} -> 0 | H37: =+G37*F37 -> 0 | I37: =IF(G37=100%,H37,"")
F38: 0 | G38: {=+_xlfn.IFS(C38=Blad1!$D$2,'Basisgegevens Begroting'!$I$10,C38=Blad1!$D$3,'Basisgegevens Begroting'!$G$10,C38=Blad1!$D$4,'Basisgegevens Begroting'!$H$10,C38="",0)} -> 0 | H38: =+G38*F38 -> 0 | I38: =IF(G38=100%,H38,"")
F39: 0 | G39: {=+_xlfn.IFS(C39=Blad1!$D$2,'Basisgegevens Begroting'!$I$10,C39=Blad1!$D$3,'Basisgegevens Begroting'!$G$10,C39=Blad1!$D$4,'Basisgegevens Begroting'!$H$10,C39="",0)} -> 0 | H39: =+G39*F39 -> 0 | I39: =IF(G39=100%,H39,"")
F40: 0 | G40: {=+_xlfn.IFS(C40=Blad1!$D$2,'Basisgegevens Begroting'!$I$10,C40=Blad1!$D$3,'Basisgegevens Begroting'!$G$10,C40=Blad1!$D$4,'Basisgegevens Begroting'!$H$10,C40="",0)} -> 0 | H40: =+G40*F40 -> 0 | I40: =IF(G40=100%,H40,"")
F41: 0 | G41: {=+_xlfn.IFS(C41=Blad1!$D$2,'Basisgegevens Begroting'!$I$10,C41=Blad1!$D$3,'Basisgegevens Begroting'!$G$10,C41=Blad1!$D$4,'Basisgegevens Begroting'!$H$10,C41="",0)} -> 0 | H41: =+G41*F41 -> 0 | I41: =IF(G41=100%,H41,"")
F42: 0 | G42: {=+_xlfn.IFS(C42=Blad1!$D$2,'Basisgegevens Begroting'!$I$10,C42=Blad1!$D$3,'Basisgegevens Begroting'!$G$10,C42=Blad1!$D$4,'Basisgegevens Begroting'!$H$10,C42="",0)} -> 0 | H42: =+G42*F42 -> 0 | I42: =IF(G42=100%,H42,"")
F43: 0 | G43: {=+_xlfn.IFS(C43=Blad1!$D$2,'Basisgegevens Begroting'!$I$10,C43=Blad1!$D$3,'Basisgegevens Begroting'!$G$10,C43=Blad1!$D$4,'Basisgegevens Begroting'!$H$10,C43="",0)} -> 0 | H43: =+G43*F43 -> 0 | I43: =IF(G43=100%,H43,"")
F44: 0 | G44: {=+_xlfn.IFS(C44=Blad1!$D$2,'Basisgegevens Begroting'!$I$10,C44=Blad1!$D$3,'Basisgegevens Begroting'!$G$10,C44=Blad1!$D$4,'Basisgegevens Begroting'!$H$10,C44="",0)} -> 0 | H44: =+G44*F44 -> 0 | I44: =IF(G44=100%,H44,"")
F45: 0 | G45: {=+_xlfn.IFS(C45=Blad1!$D$2,'Basisgegevens Begroting'!$I$10,C45=Blad1!$D$3,'Basisgegevens Begroting'!$G$10,C45=Blad1!$D$4,'Basisgegevens Begroting'!$H$10,C45="",0)} -> 0 | H45: =+G45*F45 -> 0 | I45: =IF(G45=100%,H45,"")
... F49: 0 | G49: {=+_xlfn.IFS(C49=Blad1!$D$2,'Basisgegevens Begroting'!$I$10,C49=Blad1!$D$3,'Basisgegevens Begroting'!$G$10,C49=Blad1!$D$4,'Basisgegevens Begroting'!$H$10,C49="",0)} -> 0 | H49: =+G49*F49 -> 0 | I49: =IF(G49=100%,H49,"")
E51: Subtotaal: | F51: =SUM(F34:F50) -> 0 | G51: Subtotaal: | H51: =SUM(H34:H50) -> 0
A53: Subsidiabele kosten voor voor demonstratie noodzakelijke infrastructuur
A54: Omschrijving | B54: Leverancier | C54: Subsidiedoel | D54: Offertenr | E54: Offertedatum | F54: Kosten | G54: =+G33 -> Subsidie % | H54: =+H33 -> Subsidie
F55: 0 | G55: {=+_xlfn.IFS(C55=Blad1!$D$2,'Basisgegevens Begroting'!$I$10,C55=Blad1!$D$3,'Basisgegevens Begroting'!$G$10,C55=Blad1!$D$4,'Basisgegevens Begroting'!$H$10,C55="",0)} -> 0 | H55: =+G55*F55 -> 0 | I55: =IF(G55=100%,H55,"")
F56: 0 | G56: {=+_xlfn.IFS(C56=Blad1!$D$2,'Basisgegevens Begroting'!$I$10,C56=Blad1!$D$3,'Basisgegevens Begroting'!$G$10,C56=Blad1!$D$4,'Basisgegevens Begroting'!$H$10,C56="",0)} -> 0 | H56: =+G56*F56 -> 0 | I56: =IF(G56=100%,H56,"")
F57: 0 | G57: {=+_xlfn.IFS(C57=Blad1!$D$2,'Basisgegevens Begroting'!$I$10,C57=Blad1!$D$3,'Basisgegevens Begroting'!$G$10,C57=Blad1!$D$4,'Basisgegevens Begroting'!$H$10,C57="",0)} -> 0 | H57: =+G57*F57 -> 0 | I57: =IF(G57=100%,H57,"")
F58: 0 | G58: {=+_xlfn.IFS(C58=Blad1!$D$2,'Basisgegevens Begroting'!$I$10,C58=Blad1!$D$3,'Basisgegevens Begroting'!$G$10,C58=Blad1!$D$4,'Basisgegevens Begroting'!$H$10,C58="",0)} -> 0 | H58: =+G58*F58 -> 0 | I58: =IF(G58=100%,H58,"")
F59: 0 | G59: {=+_xlfn.IFS(C59=Blad1!$D$2,'Basisgegevens Begroting'!$I$10,C59=Blad1!$D$3,'Basisgegevens Begroting'!$G$10,C59=Blad1!$D$4,'Basisgegevens Begroting'!$H$10,C59="",0)} -> 0 | H59: =+G59*F59 -> 0 | I59: =IF(G59=100%,H59,"")
F60: 0 | G60: {=+_xlfn.IFS(C60=Blad1!$D$2,'Basisgegevens Begroting'!$I$10,C60=Blad1!$D$3,'Basisgegevens Begroting'!$G$10,C60=Blad1!$D$4,'Basisgegevens Begroting'!$H$10,C60="",0)} -> 0 | H60: =+G60*F60 -> 0 | I60: =IF(G60=100%,H60,"")
E62: Subtotaal: | F62: =SUM(F55:F61) -> 0 | G62: Subtotaal: | H62: =SUM(H55:H61) -> 0
A64: Projectspecifieke kosten voor speciaal voor het project aan te schaffen materialen en hulpmiddelen
A65: Omschrijving materiaal | B65: Leverancier | C65: Subsidiedoel | D65: Offertenr | E65: Gebruikspercentage apparatuur | F65: Kosten | G65: =+G54 -> Subsidie % | H65: =+H54 -> Subsidie
E66: 1 | F66: 0 | G66: {=+_xlfn.IFS(C66=Blad1!$D$2,'Basisgegevens Begroting'!$I$10,C66=Blad1!$D$3,'Basisgegevens Begroting'!$G$10,C66=Blad1!$D$4,'Basisgegevens Begroting'!$H$10,C66="",0)} -> 0 | H66: =+G66*F66*E66 -> 0 | I66: =IF(G66=100%,H66,"")
E67: 1 | F67: 0 | G67: {=+_xlfn.IFS(C67=Blad1!$D$2,'Basisgegevens Begroting'!$I$10,C67=Blad1!$D$3,'Basisgegevens Begroting'!$G$10,C67=Blad1!$D$4,'Basisgegevens Begroting'!$H$10,C67="",0)} -> 0 | H67: =+G67*F67*E67 -> 0 | I67: =IF(G67=100%,H67,"")
E68: 1 | F68: 0 | G68: {=+_xlfn.IFS(C68=Blad1!$D$2,'Basisgegevens Begroting'!$I$10,C68=Blad1!$D$3,'Basisgegevens Begroting'!$G$10,C68=Blad1!$D$4,'Basisgegevens Begroting'!$H$10,C68="",0)} -> 0 | H68: =+G68*F68*E68 -> 0 | I68: =IF(G68=100%,H68,"")
E69: 1 | F69: 0 | G69: {=+_xlfn.IFS(C69=Blad1!$D$2,'Basisgegevens Begroting'!$I$10,C69=Blad1!$D$3,'Basisgegevens Begroting'!$G$10,C69=Blad1!$D$4,'Basisgegevens Begroting'!$H$10,C69="",0)} -> 0 | H69: =+G69*F69*E69 -> 0 | I69: =IF(G69=100%,H69,"")
E70: 1 | F70: 0 | G70: {=+_xlfn.IFS(C70=Blad1!$D$2,'Basisgegevens Begroting'!$I$10,C70=Blad1!$D$3,'Basisgegevens Begroting'!$G$10,C70=Blad1!$D$4,'Basisgegevens Begroting'!$H$10,C70="",0)} -> 0 | H70: =+G70*F70*E70 -> 0 | I70: =IF(G70=100%,H70,"")
E71: 1 | F71: 0 | G71: {=+_xlfn.IFS(C71=Blad1!$D$2,'Basisgegevens Begroting'!$I$10,C71=Blad1!$D$3,'Basisgegevens Begroting'!$G$10,C71=Blad1!$D$4,'Basisgegevens Begroting'!$H$10,C71="",0)} -> 0 | H71: =+G71*F71*E71 -> 0 | I71: =IF(G71=100%,H71,"")
E72: 1 | F72: 0 | G72: {=+_xlfn.IFS(C72=Blad1!$D$2,'Basisgegevens Begroting'!$I$10,C72=Blad1!$D$3,'Basisgegevens Begroting'!$G$10,C72=Blad1!$D$4,'Basisgegevens Begroting'!$H$10,C72="",0)} -> 0 | H72: =+G72*F72*E72 -> 0 | I72: =IF(G72=100%,H72,"")
E73: 1 | F73: 0 | G73: {=+_xlfn.IFS(C73=Blad1!$D$2,'Basisgegevens Begroting'!$I$10,C73=Blad1!$D$3,'Basisgegevens Begroting'!$G$10,C73=Blad1!$D$4,'Basisgegevens Begroting'!$H$10,C73="",0)} -> 0 | H73: =+G73*F73*E73 -> 0 | I73: =IF(G73=100%,H73,"")
E74: 1 | F74: 0 | G74: {=+_xlfn.IFS(C74=Blad1!$D$2,'Basisgegevens Begroting'!$I$10,C74=Blad1!$D$3,'Basisgegevens Begroting'!$G$10,C74=Blad1!$D$4,'Basisgegevens Begroting'!$H$10,C74="",0)} -> 0 | H74: =+G74*F74*E74 -> 0 | I74: =IF(G74=100%,H74,"")
E75: 1 | F75: 0 | G75: {=+_xlfn.IFS(C75=Blad1!$D$2,'Basisgegevens Begroting'!$I$10,C75=Blad1!$D$3,'Basisgegevens Begroting'!$G$10,C75=Blad1!$D$4,'Basisgegevens Begroting'!$H$10,C75="",0)} -> 0 | H75: =+G75*F75*E75 -> 0 | I75: =IF(G75=100%,H75,"")
E76: 1 | F76: 0 | G76: {=+_xlfn.IFS(C76=Blad1!$D$2,'Basisgegevens Begroting'!$I$10,C76=Blad1!$D$3,'Basisgegevens Begroting'!$G$10,C76=Blad1!$D$4,'Basisgegevens Begroting'!$H$10,C76="",0)} -> 0 | H76: =+G76*F76*E76 -> 0 | I76: =IF(G76=100%,H76,"")
E77: 1 | F77: 0 | G77: {=+_xlfn.IFS(C77=Blad1!$D$2,'Basisgegevens Begroting'!$I$10,C77=Blad1!$D$3,'Basisgegevens Begroting'!$G$10,C77=Blad1!$D$4,'Basisgegevens Begroting'!$H$10,C77="",0)} -> 0 | H77: =+G77*F77*E77 -> 0 | I77: =IF(G77=100%,H77,"")
... E81: 1 | F81: 0 | G81: {=+_xlfn.IFS(C81=Blad1!$D$2,'Basisgegevens Begroting'!$I$10,C81=Blad1!$D$3,'Basisgegevens Begroting'!$G$10,C81=Blad1!$D$4,'Basisgegevens Begroting'!$H$10,C81="",0)} -> 0 | H81: =+G81*F81*E81 -> 0 | I81: =IF(G81=100%,H81,"")
I82: =IF(G82=100%,H82,"")
E83: Subtotaal: | F83: =SUM(F66:F82) -> 0 | G83: Subtotaal: | H83: =SUM(H66:H82) -> 0
E86: Totaal | F86: =+F51+F30+F22+F62+F83 -> 0 | H86: =+H51+H30+H22+H62+H83 -> 0 | I86: =SUM(I5:I82) -> 0

Sheet Kosten Deelnemer 3
A1: ='Basisgegevens Begroting'!C11 -> 0
A4: Kolom1 | B4: Kolom2 | C4: Kolom22 | D4: Kolom3 | E4: Kolom5 | F4: Kolom6 | G4: Kolom8 | H4: Kolom9
A5: Personeelskosten | G5: =+Totaal!I9 -> 0
B6: Functie | C6: Subsidiedoel | D6: Uurtarief | E6: Aantal uren | F6: Uren x tarief | G6: Subsidie % | H6: Subsidie
B7: onderz | F7: =$D7*E7 -> 0 | G7: {=+_xlfn.IFS(C7=Blad1!$D$2,'Basisgegevens Begroting'!$I$11,C7=Blad1!$D$3,'Basisgegevens Begroting'!$G$11,C7=Blad1!$D$4,'Basisgegevens Begroting'!$H$11,C7="",0)} -> 0 | H7: =+EigenPersoneel78[[#This Row],[Kolom8]]*EigenPersoneel78[[#This Row],[Kolom6]] -> 0 | I7: =IF(G7=100%,H7,"")
F8: =$D8*E8 -> 0 | G8: {=+_xlfn.IFS(C8=Blad1!$D$2,'Basisgegevens Begroting'!$I$11,C8=Blad1!$D$3,'Basisgegevens Begroting'!$G$11,C8=Blad1!$D$4,'Basisgegevens Begroting'!$H$11,C8="",0)} -> 0 | H8: =+EigenPersoneel78[[#This Row],[Kolom8]]*EigenPersoneel78[[#This Row],[Kolom6]] -> 0 | I8: =IF(G8=100%,H8,"")
F9: =$D9*E9 -> 0 | G9: {=+_xlfn.IFS(C9=Blad1!$D$2,'Basisgegevens Begroting'!$I$11,C9=Blad1!$D$3,'Basisgegevens Begroting'!$G$11,C9=Blad1!$D$4,'Basisgegevens Begroting'!$H$11,C9="",0)} -> 0 | H9: =+EigenPersoneel78[[#This Row],[Kolom8]]*EigenPersoneel78[[#This Row],[Kolom6]] -> 0 | I9: =IF(G9=100%,H9,"")
F10: =$D10*E10 -> 0 | G10: {=+_xlfn.IFS(C10=Blad1!$D$2,'Basisgegevens Begroting'!$I$11,C10=Blad1!$D$3,'Basisgegevens Begroting'!$G$11,C10=Blad1!$D$4,'Basisgegevens Begroting'!$H$11,C10="",0)} -> 0 | H10: =+EigenPersoneel78[[#This Row],[Kolom8]]*EigenPersoneel78[[#This Row],[Kolom6]] -> 0 | I10: =IF(G10=100%,H10,"")
F11: =$D11*E11 -> 0 | G11: {=+_xlfn.IFS(C11=Blad1!$D$2,'Basisgegevens Begroting'!$I$11,C11=Blad1!$D$3,'Basisgegevens Begroting'!$G$11,C11=Blad1!$D$4,'Basisgegevens Begroting'!$H$11,C11="",0)} -> 0 | H11: =+EigenPersoneel78[[#This Row],[Kolom8]]*EigenPersoneel78[[#This Row],[Kolom6]] -> 0 | I11: =IF(G11=100%,H11,"")
F12: =$D12*E12 -> 0 | G12: {=+_xlfn.IFS(C12=Blad1!$D$2,'Basisgegevens Begroting'!$I$11,C12=Blad1!$D$3,'Basisgegevens Begroting'!$G$11,C12=Blad1!$D$4,'Basisgegevens Begroting'!$H$11,C12="",0)} -> 0 | H12: =+EigenPersoneel78[[#This Row],[Kolom8]]*EigenPersoneel78[[#This Row],[Kolom6]] -> 0 | I12: =IF(G12=100%,H12,"")
F13: =$D13*E13 -> 0 | G13: {=+_xlfn.IFS(C13=Blad1!$D$2,'Basisgegevens Begroting'!$I$11,C13=Blad1!$D$3,'Basisgegevens Begroting'!$G$11,C13=Blad1!$D$4,'Basisgegevens Begroting'!$H$11,C13="",0)} -> 0 | H13: =+EigenPersoneel78[[#This Row],[Kolom8]]*EigenPersoneel78[[#This Row],[Kolom6]] -> 0 | I13: =IF(G13=100%,H13,"")
F14: =$D14*E14 -> 0 | G14: {=+_xlfn.IFS(C14=Blad1!$D$2,'Basisgegevens Begroting'!$I$11,C14=Blad1!$D$3,'Basisgegevens Begroting'!$G$11,C14=Blad1!$D$4,'Basisgegevens Begroting'!$H$11,C14="",0)} -> 0 | H14: =+EigenPersoneel78[[#This Row],[Kolom8]]*EigenPersoneel78[[#This Row],[Kolom6]] -> 0 | I14: =IF(G14=100%,H14,"")
F15: =$D15*E15 -> 0 | G15: {=+_xlfn.IFS(C15=Blad1!$D$2,'Basisgegevens Begroting'!$I$11,C15=Blad1!$D$3,'Basisgegevens Begroting'!$G$11,C15=Blad1!$D$4,'Basisgegevens Begroting'!$H$11,C15="",0)} -> 0 | H15: =+EigenPersoneel78[[#This Row],[Kolom8]]*EigenPersoneel78[[#This Row],[Kolom6]] -> 0 | I15: =IF(G15=100%,H15,"")
F16: =$D16*E16 -> 0 | G16: {=+_xlfn.IFS(C16=Blad1!$D$2,'Basisgegevens Begroting'!$I$11,C16=Blad1!$D$3,'Basisgegevens Begroting'!$G$11,C16=Blad1!$D$4,'Basisgegevens Begroting'!$H$11,C16="",0)} -> 0 | H16: =+EigenPersoneel78[[#This Row],[Kolom8]]*EigenPersoneel78[[#This Row],[Kolom6]] -> 0 | I16: =IF(G16=100%,H16,"")
F17: =$D17*E17 -> 0 | G17: {=+_xlfn.IFS(C17=Blad1!$D$2,'Basisgegevens Begroting'!$I$11,C17=Blad1!$D$3,'Basisgegevens Begroting'!$G$11,C17=Blad1!$D$4,'Basisgegevens Begroting'!$H$11,C17="",0)} -> 0 | H17: =+EigenPersoneel78[[#This Row],[Kolom8]]*EigenPersoneel78[[#This Row],[Kolom6]] -> 0 | I17: =IF(G17=100%,H17,"")
F18: =$D18*E18 -> 0 | G18: {=+_xlfn.IFS(C18=Blad1!$D$2,'Basisgegevens Begroting'!$I$11,C18=Blad1!$D$3,'Basisgegevens Begroting'!$G$11,C18=Blad1!$D$4,'Basisgegevens Begroting'!$H$11,C18="",0)} -> 0 | H18: =+EigenPersoneel78[[#This Row],[Kolom8]]*EigenPersoneel78[[#This Row],[Kolom6]] -> 0 | I18: =IF(G18=100%,H18,"")
F19: =$D19*E19 -> 0 | G19: {=+_xlfn.IFS(C19=Blad1!$D$2,'Basisgegevens Begroting'!$I$11,C19=Blad1!$D$3,'Basisgegevens Begroting'!$G$11,C19=Blad1!$D$4,'Basisgegevens Begroting'!$H$11,C19="",0)} -> 0 | H19: =+EigenPersoneel78[[#This Row],[Kolom8]]*EigenPersoneel78[[#This Row],[Kolom6]] -> 0 | I19: =IF(G19=100%,H19,"")
... F21: =$D21*E21 -> 0 | G21: {=+_xlfn.IFS(C21=Blad1!$D$2,'Basisgegevens Begroting'!$I$11,C21=Blad1!$D$3,'Basisgegevens Begroting'!$G$11,C21=Blad1!$D$4,'Basisgegevens Begroting'!$H$11,C21="",0)} -> 0 | H21: =+EigenPersoneel78[[#This Row],[Kolom8]]*EigenPersoneel78[[#This Row],[Kolom6]] -> 0 | I21: =IF(G21=100%,H21,"")
E22: Subtotaal: | F22: =SUM(F7:F21) -> 0 | G22: Subtotaal: | H22: =SUM(H7:H21) -> 0 | I22: =IF(G22=100%,H22,"")
I23: =IF(G23=100%,H23,"")
A24: Brandstofkosten | I24: =IF(G24=100%,H24,"")
A25: Omschrijving | B25: Leverancier | C25: Subsidiedoel | D25: Geschatte meerkosten per eenheid (kWh, liter, kilo) | E25: Aantal eenheden (kWh, liter, kilo) | F25: Kosten | G25: =+G6 -> Subsidie % | H25: =+H6 -> Subsidie | I25: =IF(G25=100%,H25,"")
F26: =+D26*E26 -> 0 | G26: {=+_xlfn.IFS(C26=Blad1!$D$2,'Basisgegevens Begroting'!$I$11,C26=Blad1!$D$3,'Basisgegevens Begroting'!$G$11,C26=Blad1!$D$4,'Basisgegevens Begroting'!$H$11,C26="",0)} -> 0 | H26: =+G26*F26 -> 0 | I26: =IF(G26=100%,H26,"")
F27: =+D27*E27 -> 0 | G27: {=+_xlfn.IFS(C27=Blad1!$D$2,'Basisgegevens Begroting'!$I$11,C27=Blad1!$D$3,'Basisgegevens Begroting'!$G$11,C27=Blad1!$D$4,'Basisgegevens Begroting'!$H$11,C27="",0)} -> 0 | H27: =+G27*F27 -> 0 | I27: =IF(G27=100%,H27,"")
F28: =+D28*E28 -> 0 | G28: {=+_xlfn.IFS(C28=Blad1!$D$2,'Basisgegevens Begroting'!$I$11,C28=Blad1!$D$3,'Basisgegevens Begroting'!$G$11,C28=Blad1!$D$4,'Basisgegevens Begroting'!$H$11,C28="",0)} -> 0 | H28: =+G28*F28 -> 0 | I28: =IF(G28=100%,H28,"")
F29: =+D29*E29 -> 0 | G29: {=+_xlfn.IFS(C29=Blad1!$D$2,'Basisgegevens Begroting'!$I$11,C29=Blad1!$D$3,'Basisgegevens Begroting'!$G$11,C29=Blad1!$D$4,'Basisgegevens Begroting'!$H$11,C29="",0)} -> 0 | H29: =+G29*F29 -> 0 | I29: =IF(G29=100%,H29,"")
E30: Subtotaal: | F30: =SUM(F26:F29) -> 0 | H30: =SUM(H26:H29) -> 0 | I30: =IF(G30=100%,H30,"")
I31: =IF(G31=100%,H31,"")
A32: Projectspecifieke overige subsidiabele kosten (kosten derden) | I32: =IF(G32=100%,H32,"")
A33: Omschrijving | B33: Leverancier | C33: Subsidiedoel | D33: Offertenr | E33: Offertedatum | F33: Kosten | G33: =+G6 -> Subsidie % | H33: =+H6 -> Subsidie | I33: =IF(G33=100%,H33,"")
F34: 0 | G34: {=+_xlfn.IFS(C34=Blad1!$D$2,'Basisgegevens Begroting'!$I$11,C34=Blad1!$D$3,'Basisgegevens Begroting'!$G$11,C34=Blad1!$D$4,'Basisgegevens Begroting'!$H$11,C34="",0)} -> 0 | H34: =+G34*F34 -> 0 | I34: =IF(G34=100%,H34,"")
F35: 0 | G35: {=+_xlfn.IFS(C35=Blad1!$D$2,'Basisgegevens Begroting'!$I$11,C35=Blad1!$D$3,'Basisgegevens Begroting'!$G$11,C35=Blad1!$D$4,'Basisgegevens Begroting'!$H$11,C35="",0)} -> 0 | H35: =+G35*F35 -> 0 | I35: =IF(G35=100%,H35,"")
F36: 0 | G36: {=+_xlfn.IFS(C36=Blad1!$D$2,'Basisgegevens Begroting'!$I$11,C36=Blad1!$D$3,'Basisgegevens Begroting'!$G$11,C36=Blad1!$D$4,'Basisgegevens Begroting'!$H$11,C36="",0)} -> 0 | H36: =+G36*F36 -> 0 | I36: =IF(G36=100%,H36,"")
F37: 0 | G37: {=+_xlfn.IFS(C37=Blad1!$D$2,'Basisgegevens Begroting'!$I$11,C37=Blad1!$D$3,'Basisgegevens Begroting'!$G$11,C37=Blad1!$D$4,'Basisgegevens Begroting'!$H$11,C37="",0)} -> 0 | H37: =+G37*F37 -> 0 | I37: =IF(G37=100%,H37,"")
F38: 0 | G38: {=+_xlfn.IFS(C38=Blad1!$D$2,'Basisgegevens Begroting'!$I$11,C38=Blad1!$D$3,'Basisgegevens Begroting'!$G$11,C38=Blad1!$D$4,'Basisgegevens Begroting'!$H$11,C38="",0)} -> 0 | H38: =+G38*F38 -> 0 | I38: =IF(G38=100%,H38,"")
F39: 0 | G39: {=+_xlfn.IFS(C39=Blad1!$D$2,'Basisgegevens Begroting'!$I$11,C39=Blad1!$D$3,'Basisgegevens Begroting'!$G$11,C39=Blad1!$D$4,'Basisgegevens Begroting'!$H$11,C39="",0)} -> 0 | H39: =+G39*F39 -> 0 | I39: =IF(G39=100%,H39,"")
F40: 0 | G40: {=+_xlfn.IFS(C40=Blad1!$D$2,'Basisgegevens Begroting'!$I$11,C40=Blad1!$D$3,'Basisgegevens Begroting'!$G$11,C40=Blad1!$D$4,'Basisgegevens Begroting'!$H$11,C40="",0)} -> 0 | H40: =+G40*F40 -> 0 | I40: =IF(G40=100%,H40,"")
F41: 0 | G41: {=+_xlfn.IFS(C41=Blad1!$D$2,'Basisgegevens Begroting'!$I$11,C41=Blad1!$D$3,'Basisgegevens Begroting'!$G$11,C41=Blad1!$D$4,'Basisgegevens Begroting'!$H$11,C41="",0)} -> 0 | H41: =+G41*F41 -> 0 | I41: =IF(G41=100%,H41,"")
F42: 0 | G42: {=+_xlfn.IFS(C42=Blad1!$D$2,'Basisgegevens Begroting'!$I$11,C42=Blad1!$D$3,'Basisgegevens Begroting'!$G$11,C42=Blad1!$D$4,'Basisgegevens Begroting'!$H$11,C42="",0)} -> 0 | H42: =+G42*F42 -> 0 | I42: =IF(G42=100%,H42,"")
F43: 0 | G43: {=+_xlfn.IFS(C43=Blad1!$D$2,'Basisgegevens Begroting'!$I$11,C43=Blad1!$D$3,'Basisgegevens Begroting'!$G$11,C43=Blad1!$D$4,'Basisgegevens Begroting'!$H$11,C43="",0)} -> 0 | H43: =+G43*F43 -> 0 | I43: =IF(G43=100%,H43,"")
F44: 0 | G44: {=+_xlfn.IFS(C44=Blad1!$D$2,'Basisgegevens Begroting'!$I$11,C44=Blad1!$D$3,'Basisgegevens Begroting'!$G$11,C44=Blad1!$D$4,'Basisgegevens Begroting'!$H$11,C44="",0)} -> 0 | H44: =+G44*F44 -> 0 | I44: =IF(G44=100%,H44,"")
F45: 0 | G45: {=+_xlfn.IFS(C45=Blad1!$D$2,'Basisgegevens Begroting'!$I$11,C45=Blad1!$D$3,'Basisgegevens Begroting'!$G$11,C45=Blad1!$D$4,'Basisgegevens Begroting'!$H$11,C45="",0)} -> 0 | H45: =+G45*F45 -> 0 | I45: =IF(G45=100%,H45,"")
... F49: 0 | G49: {=+_xlfn.IFS(C49=Blad1!$D$2,'Basisgegevens Begroting'!$I$11,C49=Blad1!$D$3,'Basisgegevens Begroting'!$G$11,C49=Blad1!$D$4,'Basisgegevens Begroting'!$H$11,C49="",0)} -> 0 | H49: =+G49*F49 -> 0 | I49: =IF(G49=100%,H49,"")
E51: Subtotaal: | F51: =SUM(F34:F50) -> 0 | G51: Subtotaal: | H51: =SUM(H34:H50) -> 0
A53: Subsidiabele kosten voor voor demonstratie noodzakelijke infrastructuur
A54: Omschrijving | B54: Leverancier | C54: Subsidiedoel | D54: Offertenr | E54: Offertedatum | F54: Kosten | G54: =+G33 -> Subsidie % | H54: =+H33 -> Subsidie
F55: 0 | G55: {=+_xlfn.IFS(C55=Blad1!$D$2,'Basisgegevens Begroting'!$I$11,C55=Blad1!$D$3,'Basisgegevens Begroting'!$G$11,C55=Blad1!$D$4,'Basisgegevens Begroting'!$H$11,C55="",0)} -> 0 | H55: =+G55*F55 -> 0 | I55: =IF(G55=100%,H55,"")
F56: 0 | G56: {=+_xlfn.IFS(C56=Blad1!$D$2,'Basisgegevens Begroting'!$I$11,C56=Blad1!$D$3,'Basisgegevens Begroting'!$G$11,C56=Blad1!$D$4,'Basisgegevens Begroting'!$H$11,C56="",0)} -> 0 | H56: =+G56*F56 -> 0 | I56: =IF(G56=100%,H56,"")
F57: 0 | G57: {=+_xlfn.IFS(C57=Blad1!$D$2,'Basisgegevens Begroting'!$I$11,C57=Blad1!$D$3,'Basisgegevens Begroting'!$G$11,C57=Blad1!$D$4,'Basisgegevens Begroting'!$H$11,C57="",0)} -> 0 | H57: =+G57*F57 -> 0 | I57: =IF(G57=100%,H57,"")
F58: 0 | G58: {=+_xlfn.IFS(C58=Blad1!$D$2,'Basisgegevens Begroting'!$I$11,C58=Blad1!$D$3,'Basisgegevens Begroting'!$G$11,C58=Blad1!$D$4,'Basisgegevens Begroting'!$H$11,C58="",0)} -> 0 | H58: =+G58*F58 -> 0 | I58: =IF(G58=100%,H58,"")
F59: 0 | G59: {=+_xlfn.IFS(C59=Blad1!$D$2,'Basisgegevens Begroting'!$I$11,C59=Blad1!$D$3,'Basisgegevens Begroting'!$G$11,C59=Blad1!$D$4,'Basisgegevens Begroting'!$H$11,C59="",0)} -> 0 | H59: =+G59*F59 -> 0 | I59: =IF(G59=100%,H59,"")
F60: 0 | G60: {=+_xlfn.IFS(C60=Blad1!$D$2,'Basisgegevens Begroting'!$I$11,C60=Blad1!$D$3,'Basisgegevens Begroting'!$G$11,C60=Blad1!$D$4,'Basisgegevens Begroting'!$H$11,C60="",0)} -> 0 | H60: =+G60*F60 -> 0 | I60: =IF(G60=100%,H60,"")
E62: Subtotaal: | F62: =SUM(F55:F61) -> 0 | G62: Subtotaal: | H62: =SUM(H55:H61) -> 0
A64: Projectspecifieke kosten voor speciaal voor het project aan te schaffen materialen en hulpmiddelen
A65: Omschrijving materiaal | B65: Leverancier | C65: Subsidiedoel | D65: Offertenr | E65: Gebruikspercentage apparatuur | F65: Kosten | G65: =+G54 -> Subsidie % | H65: =+H54 -> Subsidie
E66: 1 | F66: 0 | G66: {=+_xlfn.IFS(C66=Blad1!$D$2,'Basisgegevens Begroting'!$I$11,C66=Blad1!$D$3,'Basisgegevens Begroting'!$G$11,C66=Blad1!$D$4,'Basisgegevens Begroting'!$H$11,C66="",0)} -> 0 | H66: =+G66*F66*E66 -> 0 | I66: =IF(G66=100%,H66,"")
E67: 1 | F67: 0 | G67: {=+_xlfn.IFS(C67=Blad1!$D$2,'Basisgegevens Begroting'!$I$11,C67=Blad1!$D$3,'Basisgegevens Begroting'!$G$11,C67=Blad1!$D$4,'Basisgegevens Begroting'!$H$11,C67="",0)} -> 0 | H67: =+G67*F67*E67 -> 0 | I67: =IF(G67=100%,H67,"")
E68: 1 | F68: 0 | G68: {=+_xlfn.IFS(C68=Blad1!$D$2,'Basisgegevens Begroting'!$I$11,C68=Blad1!$D$3,'Basisgegevens Begroting'!$G$11,C68=Blad1!$D$4,'Basisgegevens Begroting'!$H$11,C68="",0)} -> 0 | H68: =+G68*F68*E68 -> 0 | I68: =IF(G68=100%,H68,"")
E69: 1 | F69: 0 | G69: {=+_xlfn.IFS(C69=Blad1!$D$2,'Basisgegevens Begroting'!$I$11,C69=Blad1!$D$3,'Basisgegevens Begroting'!$G$11,C69=Blad1!$D$4,'Basisgegevens Begroting'!$H$11,C69="",0)} -> 0 | H69: =+G69*F69*E69 -> 0 | I69: =IF(G69=100%,H69,"")
E70: 1 | F70: 0 | G70: {=+_xlfn.IFS(C70=Blad1!$D$2,'Basisgegevens Begroting'!$I$11,C70=Blad1!$D$3,'Basisgegevens Begroting'!$G$11,C70=Blad1!$D$4,'Basisgegevens Begroting'!$H$11,C70="",0)} -> 0 | H70: =+G70*F70*E70 -> 0 | I70: =IF(G70=100%,H70,"")
E71: 1 | F71: 0 | G71: {=+_xlfn.IFS(C71=Blad1!$D$2,'Basisgegevens Begroting'!$I$11,C71=Blad1!$D$3,'Basisgegevens Begroting'!$G$11,C71=Blad1!$D$4,'Basisgegevens Begroting'!$H$11,C71="",0)} -> 0 | H71: =+G71*F71*E71 -> 0 | I71: =IF(G71=100%,H71,"")
E72: 1 | F72: 0 | G72: {=+_xlfn.IFS(C72=Blad1!$D$2,'Basisgegevens Begroting'!$I$11,C72=Blad1!$D$3,'Basisgegevens Begroting'!$G$11,C72=Blad1!$D$4,'Basisgegevens Begroting'!$H$11,C72="",0)} -> 0 | H72: =+G72*F72*E72 -> 0 | I72: =IF(G72=100%,H72,"")
E73: 1 | F73: 0 | G73: {=+_xlfn.IFS(C73=Blad1!$D$2,'Basisgegevens Begroting'!$I$11,C73=Blad1!$D$3,'Basisgegevens Begroting'!$G$11,C73=Blad1!$D$4,'Basisgegevens Begroting'!$H$11,C73="",0)} -> 0 | H73: =+G73*F73*E73 -> 0 | I73: =IF(G73=100%,H73,"")
E74: 1 | F74: 0 | G74: {=+_xlfn.IFS(C74=Blad1!$D$2,'Basisgegevens Begroting'!$I$11,C74=Blad1!$D$3,'Basisgegevens Begroting'!$G$11,C74=Blad1!$D$4,'Basisgegevens Begroting'!$H$11,C74="",0)} -> 0 | H74: =+G74*F74*E74 -> 0 | I74: =IF(G74=100%,H74,"")
E75: 1 | F75: 0 | G75: {=+_xlfn.IFS(C75=Blad1!$D$2,'Basisgegevens Begroting'!$I$11,C75=Blad1!$D$3,'Basisgegevens Begroting'!$G$11,C75=Blad1!$D$4,'Basisgegevens Begroting'!$H$11,C75="",0)} -> 0 | H75: =+G75*F75*E75 -> 0 | I75: =IF(G75=100%,H75,"")
E76: 1 | F76: 0 | G76: {=+_xlfn.IFS(C76=Blad1!$D$2,'Basisgegevens Begroting'!$I$11,C76=Blad1!$D$3,'Basisgegevens Begroting'!$G$11,C76=Blad1!$D$4,'Basisgegevens Begroting'!$H$11,C76="",0)} -> 0 | H76: =+G76*F76*E76 -> 0 | I76: =IF(G76=100%,H76,"")
E77: 1 | F77: 0 | G77: {=+_xlfn.IFS(C77=Blad1!$D$2,'Basisgegevens Begroting'!$I$11,C77=Blad1!$D$3,'Basisgegevens Begroting'!$G$11,C77=Blad1!$D$4,'Basisgegevens Begroting'!$H$11,C77="",0)} -> 0 | H77: =+G77*F77*E77 -> 0 | I77: =IF(G77=100%,H77,"")
... E81: 1 | F81: 0 | G81: {=+_xlfn.IFS(C81=Blad1!$D$2,'Basisgegevens Begroting'!$I$11,C81=Blad1!$D$3,'Basisgegevens Begroting'!$G$11,C81=Blad1!$D$4,'Basisgegevens Begroting'!$H$11,C81="",0)} -> 0 | H81: =+G81*F81*E81 -> 0 | I81: =IF(G81=100%,H81,"")
I82: =IF(G82=100%,H82,"")
E83: Subtotaal: | F83: =SUM(F66:F82) -> 0 | G83: Subtotaal: | H83: =SUM(H66:H82) -> 0
E86: Totaal | F86: =+F51+F30+F22+F62+F83 -> 0 | H86: =+H51+H30+H22+H62+H83 -> 0 | I86: =SUM(I5:I82) -> 0

Sheet Kosten Deelnemer 4
A1: =+'Basisgegevens Begroting'!C12 -> 0
A4: Kolom1 | B4: Kolom2 | C4: Kolom22 | D4: Kolom3 | E4: Kolom5 | F4: Kolom6 | G4: Kolom8 | H4: Kolom9
A5: Personeelskosten | G5: =+Totaal!I9 -> 0
B6: Functie | C6: Subsidiedoel | D6: Uurtarief | E6: Aantal uren | F6: Uren x tarief | G6: Ophoging Subsidie % | H6: Subsidie
F7: =$D7*E7 -> 0 | G7: {=+_xlfn.IFS(C7=Blad1!$D$2,'Basisgegevens Begroting'!$I$12,C7=Blad1!$D$3,'Basisgegevens Begroting'!$G$12,C7=Blad1!$D$4,'Basisgegevens Begroting'!$H$12,C7="",0)} -> 0 | H7: =+EigenPersoneel789[[#This Row],[Kolom8]]*EigenPersoneel789[[#This Row],[Kolom6]] -> 0 | I7: =IF(G7=100%,H7,"")
F8: =$D8*E8 -> 0 | G8: {=+_xlfn.IFS(C8=Blad1!$D$2,'Basisgegevens Begroting'!$I$12,C8=Blad1!$D$3,'Basisgegevens Begroting'!$G$12,C8=Blad1!$D$4,'Basisgegevens Begroting'!$H$12,C8="",0)} -> 0 | H8: =+EigenPersoneel789[[#This Row],[Kolom8]]*EigenPersoneel789[[#This Row],[Kolom6]] -> 0 | I8: =IF(G8=100%,H8,"")
F9: =$D9*E9 -> 0 | G9: {=+_xlfn.IFS(C9=Blad1!$D$2,'Basisgegevens Begroting'!$I$12,C9=Blad1!$D$3,'Basisgegevens Begroting'!$G$12,C9=Blad1!$D$4,'Basisgegevens Begroting'!$H$12,C9="",0)} -> 0 | H9: =+EigenPersoneel789[[#This Row],[Kolom8]]*EigenPersoneel789[[#This Row],[Kolom6]] -> 0 | I9: =IF(G9=100%,H9,"")
F10: =$D10*E10 -> 0 | G10: {=+_xlfn.IFS(C10=Blad1!$D$2,'Basisgegevens Begroting'!$I$12,C10=Blad1!$D$3,'Basisgegevens Begroting'!$G$12,C10=Blad1!$D$4,'Basisgegevens Begroting'!$H$12,C10="",0)} -> 0 | H10: =+EigenPersoneel789[[#This Row],[Kolom8]]*EigenPersoneel789[[#This Row],[Kolom6]] -> 0 | I10: =IF(G10=100%,H10,"")
F11: =$D11*E11 -> 0 | G11: {=+_xlfn.IFS(C11=Blad1!$D$2,'Basisgegevens Begroting'!$I$12,C11=Blad1!$D$3,'Basisgegevens Begroting'!$G$12,C11=Blad1!$D$4,'Basisgegevens Begroting'!$H$12,C11="",0)} -> 0 | H11: =+EigenPersoneel789[[#This Row],[Kolom8]]*EigenPersoneel789[[#This Row],[Kolom6]] -> 0 | I11: =IF(G11=100%,H11,"")
F12: =$D12*E12 -> 0 | G12: {=+_xlfn.IFS(C12=Blad1!$D$2,'Basisgegevens Begroting'!$I$12,C12=Blad1!$D$3,'Basisgegevens Begroting'!$G$12,C12=Blad1!$D$4,'Basisgegevens Begroting'!$H$12,C12="",0)} -> 0 | H12: =+EigenPersoneel789[[#This Row],[Kolom8]]*EigenPersoneel789[[#This Row],[Kolom6]] -> 0 | I12: =IF(G12=100%,H12,"")
F13: =$D13*E13 -> 0 | G13: {=+_xlfn.IFS(C13=Blad1!$D$2,'Basisgegevens Begroting'!$I$12,C13=Blad1!$D$3,'Basisgegevens Begroting'!$G$12,C13=Blad1!$D$4,'Basisgegevens Begroting'!$H$12,C13="",0)} -> 0 | H13: =+EigenPersoneel789[[#This Row],[Kolom8]]*EigenPersoneel789[[#This Row],[Kolom6]] -> 0 | I13: =IF(G13=100%,H13,"")
F14: =$D14*E14 -> 0 | G14: {=+_xlfn.IFS(C14=Blad1!$D$2,'Basisgegevens Begroting'!$I$12,C14=Blad1!$D$3,'Basisgegevens Begroting'!$G$12,C14=Blad1!$D$4,'Basisgegevens Begroting'!$H$12,C14="",0)} -> 0 | H14: =+EigenPersoneel789[[#This Row],[Kolom8]]*EigenPersoneel789[[#This Row],[Kolom6]] -> 0 | I14: =IF(G14=100%,H14,"")
F15: =$D15*E15 -> 0 | G15: {=+_xlfn.IFS(C15=Blad1!$D$2,'Basisgegevens Begroting'!$I$12,C15=Blad1!$D$3,'Basisgegevens Begroting'!$G$12,C15=Blad1!$D$4,'Basisgegevens Begroting'!$H$12,C15="",0)} -> 0 | H15: =+EigenPersoneel789[[#This Row],[Kolom8]]*EigenPersoneel789[[#This Row],[Kolom6]] -> 0 | I15: =IF(G15=100%,H15,"")
F16: =$D16*E16 -> 0 | G16: {=+_xlfn.IFS(C16=Blad1!$D$2,'Basisgegevens Begroting'!$I$12,C16=Blad1!$D$3,'Basisgegevens Begroting'!$G$12,C16=Blad1!$D$4,'Basisgegevens Begroting'!$H$12,C16="",0)} -> 0 | H16: =+EigenPersoneel789[[#This Row],[Kolom8]]*EigenPersoneel789[[#This Row],[Kolom6]] -> 0 | I16: =IF(G16=100%,H16,"")
F17: =$D17*E17 -> 0 | G17: {=+_xlfn.IFS(C17=Blad1!$D$2,'Basisgegevens Begroting'!$I$12,C17=Blad1!$D$3,'Basisgegevens Begroting'!$G$12,C17=Blad1!$D$4,'Basisgegevens Begroting'!$H$12,C17="",0)} -> 0 | H17: =+EigenPersoneel789[[#This Row],[Kolom8]]*EigenPersoneel789[[#This Row],[Kolom6]] -> 0 | I17: =IF(G17=100%,H17,"")
F18: =$D18*E18 -> 0 | G18: {=+_xlfn.IFS(C18=Blad1!$D$2,'Basisgegevens Begroting'!$I$12,C18=Blad1!$D$3,'Basisgegevens Begroting'!$G$12,C18=Blad1!$D$4,'Basisgegevens Begroting'!$H$12,C18="",0)} -> 0 | H18: =+EigenPersoneel789[[#This Row],[Kolom8]]*EigenPersoneel789[[#This Row],[Kolom6]] -> 0 | I18: =IF(G18=100%,H18,"")
... F21: =$D21*E21 -> 0 | G21: {=+_xlfn.IFS(C21=Blad1!$D$2,'Basisgegevens Begroting'!$I$12,C21=Blad1!$D$3,'Basisgegevens Begroting'!$G$12,C21=Blad1!$D$4,'Basisgegevens Begroting'!$H$12,C21="",0)} -> 0 | H21: =+EigenPersoneel789[[#This Row],[Kolom8]]*EigenPersoneel789[[#This Row],[Kolom6]] -> 0 | I21: =IF(G21=100%,H21,"")
E22: Subtotaal: | F22: =SUM(F7:F21) -> 0 | G22: Subtotaal: | H22: =SUM(H7:H21) -> 0 | I22: =IF(G22=100%,H22,"")
I23: =IF(G23=100%,H23,"")
A24: Brandstofkosten | I24: =IF(G24=100%,H24,"")
A25: Omschrijving | B25: Leverancier | C25: Subsidiedoel | D25: Geschatte meerkosten per eenheid (kWh, liter, kilo) | E25: Aantal eenheden (kWh, liter, kilo) | F25: Kosten | G25: =+G6 -> Ophoging Subsidie % | H25: =+H6 -> Subsidie | I25: =IF(G25=100%,H25,"")
F26: =+D26*E26 -> 0 | G26: {=+_xlfn.IFS(C26=Blad1!$D$2,'Basisgegevens Begroting'!$I$12,C26=Blad1!$D$3,'Basisgegevens Begroting'!$G$12,C26=Blad1!$D$4,'Basisgegevens Begroting'!$H$12,C26="",0)} -> 0 | H26: =+G26*F26 -> 0 | I26: =IF(G26=100%,H26,"")
F27: =+D27*E27 -> 0 | G27: {=+_xlfn.IFS(C27=Blad1!$D$2,'Basisgegevens Begroting'!$I$12,C27=Blad1!$D$3,'Basisgegevens Begroting'!$G$12,C27=Blad1!$D$4,'Basisgegevens Begroting'!$H$12,C27="",0)} -> 0 | H27: =+G27*F27 -> 0 | I27: =IF(G27=100%,H27,"")
F28: =+D28*E28 -> 0 | G28: {=+_xlfn.IFS(C28=Blad1!$D$2,'Basisgegevens Begroting'!$I$12,C28=Blad1!$D$3,'Basisgegevens Begroting'!$G$12,C28=Blad1!$D$4,'Basisgegevens Begroting'!$H$12,C28="",0)} -> 0 | H28: =+G28*F28 -> 0 | I28: =IF(G28=100%,H28,"")
F29: =+D29*E29 -> 0 | G29: {=+_xlfn.IFS(C29=Blad1!$D$2,'Basisgegevens Begroting'!$I$12,C29=Blad1!$D$3,'Basisgegevens Begroting'!$G$12,C29=Blad1!$D$4,'Basisgegevens Begroting'!$H$12,C29="",0)} -> 0 | H29: =+G29*F29 -> 0 | I29: =IF(G29=100%,H29,"")
E30: Subtotaal: | F30: =SUM(F26:F29) -> 0 | H30: =SUM(H26:H29) -> 0 | I30: =IF(G30=100%,H30,"")
I31: =IF(G31=100%,H31,"")
A32: Projectspecifieke overige subsidiabele kosten (kosten derden) | I32: =IF(G32=100%,H32,"")
A33: Omschrijving | B33: Leverancier | C33: Subsidiedoel | D33: Offertenr | E33: Offertedatum | F33: Kosten | G33: =+G6 -> Ophoging Subsidie % | H33: =+H6 -> Subsidie | I33: =IF(G33=100%,H33,"")
F34: 0 | G34: {=+_xlfn.IFS(C34=Blad1!$D$2,'Basisgegevens Begroting'!$I$12,C34=Blad1!$D$3,'Basisgegevens Begroting'!$G$12,C34=Blad1!$D$4,'Basisgegevens Begroting'!$H$12,C34="",0)} -> 0 | H34: =+G34*F34 -> 0 | I34: =IF(G34=100%,H34,"")
F35: 0 | G35: {=+_xlfn.IFS(C35=Blad1!$D$2,'Basisgegevens Begroting'!$I$12,C35=Blad1!$D$3,'Basisgegevens Begroting'!$G$12,C35=Blad1!$D$4,'Basisgegevens Begroting'!$H$12,C35="",0)} -> 0 | H35: =+G35*F35 -> 0 | I35: =IF(G35=100%,H35,"")
F36: 0 | G36: {=+_xlfn.IFS(C36=Blad1!$D$2,'Basisgegevens Begroting'!$I$12,C36=Blad1!$D$3,'Basisgegevens Begroting'!$G$12,C36=Blad1!$D$4,'Basisgegevens Begroting'!$H$12,C36="",0)} -> 0 | H36: =+G36*F36 -> 0 | I36: =IF(G36=100%,H36,"")
F37: 0 | G37: {=+_xlfn.IFS(C37=Blad1!$D$2,'Basisgegevens Begroting'!$I$12,C37=Blad1!$D$3,'Basisgegevens Begroting'!$G$12,C37=Blad1!$D$4,'Basisgegevens Begroting'!$H$12,C37="",0)} -> 0 | H37: =+G37*F37 -> 0 | I37: =IF(G37=100%,H37,"")
F38: 0 | G38: {=+_xlfn.IFS(C38=Blad1!$D$2,'Basisgegevens Begroting'!$I$12,C38=Blad1!$D$3,'Basisgegevens Begroting'!$G$12,C38=Blad1!$D$4,'Basisgegevens Begroting'!$H$12,C38="",0)} -> 0 | H38: =+G38*F38 -> 0 | I38: =IF(G38=100%,H38,"")
F39: 0 | G39: {=+_xlfn.IFS(C39=Blad1!$D$2,'Basisgegevens Begroting'!$I$12,C39=Blad1!$D$3,'Basisgegevens Begroting'!$G$12,C39=Blad1!$D$4,'Basisgegevens Begroting'!$H$12,C39="",0)} -> 0 | H39: =+G39*F39 -> 0 | I39: =IF(G39=100%,H39,"")
F40: 0 | G40: {=+_xlfn.IFS(C40=Blad1!$D$2,'Basisgegevens Begroting'!$I$12,C40=Blad1!$D$3,'Basisgegevens Begroting'!$G$12,C40=Blad1!$D$4,'Basisgegevens Begroting'!$H$12,C40="",0)} -> 0 | H40: =+G40*F40 -> 0 | I40: =IF(G40=100%,H40,"")
F41: 0 | G41: {=+_xlfn.IFS(C41=Blad1!$D$2,'Basisgegevens Begroting'!$I$12,C41=Blad1!$D$3,'Basisgegevens Begroting'!$G$12,C41=Blad1!$D$4,'Basisgegevens Begroting'!$H$12,C41="",0)} -> 0 | H41: =+G41*F41 -> 0 | I41: =IF(G41=100%,H41,"")
F42: 0 | G42: {=+_xlfn.IFS(C42=Blad1!$D$2,'Basisgegevens Begroting'!$I$12,C42=Blad1!$D$3,'Basisgegevens Begroting'!$G$12,C42=Blad1!$D$4,'Basisgegevens Begroting'!$H$12,C42="",0)} -> 0 | H42: =+G42*F42 -> 0 | I42: =IF(G42=100%,H42,"")
F43: 0 | G43: {=+_xlfn.IFS(C43=Blad1!$D$2,'Basisgegevens Begroting'!$I$12,C43=Blad1!$D$3,'Basisgegevens Begroting'!$G$12,C43=Blad1!$D$4,'Basisgegevens Begroting'!$H$12,C43="",0)} -> 0 | H43: =+G43*F43 -> 0 | I43: =IF(G43=100%,H43,"")
F44: 0 | G44: {=+_xlfn.IFS(C44=Blad1!$D$2,'Basisgegevens Begroting'!$I$12,C44=Blad1!$D$3,'Basisgegevens Begroting'!$G$12,C44=Blad1!$D$4,'Basisgegevens Begroting'!$H$12,C44="",0)} -> 0 | H44: =+G44*F44 -> 0 | I44: =IF(G44=100%,H44,"")
F45: 0 | G45: {=+_xlfn.IFS(C45=Blad1!$D$2,'Basisgegevens Begroting'!$I$12,C45=Blad1!$D$3,'Basisgegevens Begroting'!$G$12,C45=Blad1!$D$4,'Basisgegevens Begroting'!$H$12,C45="",0)} -> 0 | H45: =+G45*F45 -> 0 | I45: =IF(G45=100%,H45,"")
... F49: 0 | G49: {=+_xlfn.IFS(C49=Blad1!$D$2,'Basisgegevens Begroting'!$I$12,C49=Blad1!$D$3,'Basisgegevens Begroting'!$G$12,C49=Blad1!$D$4,'Basisgegevens Begroting'!$H$12,C49="",0)} -> 0 | H49: =+G49*F49 -> 0 | I49: =IF(G49=100%,H49,"")
E51: Subtotaal: | F51: =SUM(F34:F50) -> 0 | G51: Subtotaal: | H51: =SUM(H34:H50) -> 0
A53: Subsidiabele kosten voor voor demonstratie noodzakelijke infrastructuur
A54: Omschrijving | B54: Leverancier | C54: Subsidiedoel | D54: Offertenr | E54: Offertedatum | F54: Kosten | G54: =+G33 -> Ophoging Subsidie % | H54: =+H33 -> Subsidie
C55: Niet-economisch industrieel onderzoek of experimentele ontwikkeling | F55: 0 | G55: {=+_xlfn.IFS(C55=Blad1!$D$2,'Basisgegevens Begroting'!$I$12,C55=Blad1!$D$3,'Basisgegevens Begroting'!$G$12,C55=Blad1!$D$4,'Basisgegevens Begroting'!$H$12,C55="",0)} -> 0 | H55: =+G55*F55 -> 0 | I55: =IF(G55=100%,H55,"")
F56: 0 | G56: {=+_xlfn.IFS(C56=Blad1!$D$2,'Basisgegevens Begroting'!$I$12,C56=Blad1!$D$3,'Basisgegevens Begroting'!$G$12,C56=Blad1!$D$4,'Basisgegevens Begroting'!$H$12,C56="",0)} -> 0 | H56: =+G56*F56 -> 0 | I56: =IF(G56=100%,H56,"")
F57: 0 | G57: {=+_xlfn.IFS(C57=Blad1!$D$2,'Basisgegevens Begroting'!$I$12,C57=Blad1!$D$3,'Basisgegevens Begroting'!$G$12,C57=Blad1!$D$4,'Basisgegevens Begroting'!$H$12,C57="",0)} -> 0 | H57: =+G57*F57 -> 0 | I57: =IF(G57=100%,H57,"")
F58: 0 | G58: {=+_xlfn.IFS(C58=Blad1!$D$2,'Basisgegevens Begroting'!$I$12,C58=Blad1!$D$3,'Basisgegevens Begroting'!$G$12,C58=Blad1!$D$4,'Basisgegevens Begroting'!$H$12,C58="",0)} -> 0 | H58: =+G58*F58 -> 0 | I58: =IF(G58=100%,H58,"")
F59: 0 | G59: {=+_xlfn.IFS(C59=Blad1!$D$2,'Basisgegevens Begroting'!$I$12,C59=Blad1!$D$3,'Basisgegevens Begroting'!$G$12,C59=Blad1!$D$4,'Basisgegevens Begroting'!$H$12,C59="",0)} -> 0 | H59: =+G59*F59 -> 0 | I59: =IF(G59=100%,H59,"")
F60: 0 | G60: {=+_xlfn.IFS(C60=Blad1!$D$2,'Basisgegevens Begroting'!$I$12,C60=Blad1!$D$3,'Basisgegevens Begroting'!$G$12,C60=Blad1!$D$4,'Basisgegevens Begroting'!$H$12,C60="",0)} -> 0 | H60: =+G60*F60 -> 0 | I60: =IF(G60=100%,H60,"")
E62: Subtotaal: | F62: =SUM(F55:F61) -> 0 | G62: Subtotaal: | H62: =SUM(H55:H61) -> 0
A64: Projectspecifieke kosten voor speciaal voor het project aan te schaffen materialen en hulpmiddelen
A65: Leverancier | B65: Omschrijving materiaal | C65: Offertenummer | D65: Offertenr | E65: Gebruikspercentage apparatuur | F65: Kosten | G65: =+G54 -> Ophoging Subsidie % | H65: =+H54 -> Subsidie
E66: 1 | F66: 0 | G66: {=+_xlfn.IFS(C66=Blad1!$D$2,'Basisgegevens Begroting'!$I$12,C66=Blad1!$D$3,'Basisgegevens Begroting'!$G$12,C66=Blad1!$D$4,'Basisgegevens Begroting'!$H$12,C66="",0)} -> 0 | H66: =+G66*F66*E66 -> 0 | I66: =IF(G66=100%,H66,"")
E67: 1 | F67: 0 | G67: {=+_xlfn.IFS(C67=Blad1!$D$2,'Basisgegevens Begroting'!$I$12,C67=Blad1!$D$3,'Basisgegevens Begroting'!$G$12,C67=Blad1!$D$4,'Basisgegevens Begroting'!$H$12,C67="",0)} -> 0 | H67: =+G67*F67*E67 -> 0 | I67: =IF(G67=100%,H67,"")
E68: 1 | F68: 0 | G68: {=+_xlfn.IFS(C68=Blad1!$D$2,'Basisgegevens Begroting'!$I$12,C68=Blad1!$D$3,'Basisgegevens Begroting'!$G$12,C68=Blad1!$D$4,'Basisgegevens Begroting'!$H$12,C68="",0)} -> 0 | H68: =+G68*F68*E68 -> 0 | I68: =IF(G68=100%,H68,"")
E69: 1 | F69: 0 | G69: {=+_xlfn.IFS(C69=Blad1!$D$2,'Basisgegevens Begroting'!$I$12,C69=Blad1!$D$3,'Basisgegevens Begroting'!$G$12,C69=Blad1!$D$4,'Basisgegevens Begroting'!$H$12,C69="",0)} -> 0 | H69: =+G69*F69*E69 -> 0 | I69: =IF(G69=100%,H69,"")
E70: 1 | F70: 0 | G70: {=+_xlfn.IFS(C70=Blad1!$D$2,'Basisgegevens Begroting'!$I$12,C70=Blad1!$D$3,'Basisgegevens Begroting'!$G$12,C70=Blad1!$D$4,'Basisgegevens Begroting'!$H$12,C70="",0)} -> 0 | H70: =+G70*F70*E70 -> 0 | I70: =IF(G70=100%,H70,"")
E71: 1 | F71: 0 | G71: {=+_xlfn.IFS(C71=Blad1!$D$2,'Basisgegevens Begroting'!$I$12,C71=Blad1!$D$3,'Basisgegevens Begroting'!$G$12,C71=Blad1!$D$4,'Basisgegevens Begroting'!$H$12,C71="",0)} -> 0 | H71: =+G71*F71*E71 -> 0 | I71: =IF(G71=100%,H71,"")
E72: 1 | F72: 0 | G72: {=+_xlfn.IFS(C72=Blad1!$D$2,'Basisgegevens Begroting'!$I$12,C72=Blad1!$D$3,'Basisgegevens Begroting'!$G$12,C72=Blad1!$D$4,'Basisgegevens Begroting'!$H$12,C72="",0)} -> 0 | H72: =+G72*F72*E72 -> 0 | I72: =IF(G72=100%,H72,"")
E73: 1 | F73: 0 | G73: {=+_xlfn.IFS(C73=Blad1!$D$2,'Basisgegevens Begroting'!$I$12,C73=Blad1!$D$3,'Basisgegevens Begroting'!$G$12,C73=Blad1!$D$4,'Basisgegevens Begroting'!$H$12,C73="",0)} -> 0 | H73: =+G73*F73*E73 -> 0 | I73: =IF(G73=100%,H73,"")
E74: 1 | F74: 0 | G74: {=+_xlfn.IFS(C74=Blad1!$D$2,'Basisgegevens Begroting'!$I$12,C74=Blad1!$D$3,'Basisgegevens Begroting'!$G$12,C74=Blad1!$D$4,'Basisgegevens Begroting'!$H$12,C74="",0)} -> 0 | H74: =+G74*F74*E74 -> 0 | I74: =IF(G74=100%,H74,"")
E75: 1 | F75: 0 | G75: {=+_xlfn.IFS(C75=Blad1!$D$2,'Basisgegevens Begroting'!$I$12,C75=Blad1!$D$3,'Basisgegevens Begroting'!$G$12,C75=Blad1!$D$4,'Basisgegevens Begroting'!$H$12,C75="",0)} -> 0 | H75: =+G75*F75*E75 -> 0 | I75: =IF(G75=100%,H75,"")
E76: 1 | F76: 0 | G76: {=+_xlfn.IFS(C76=Blad1!$D$2,'Basisgegevens Begroting'!$I$12,C76=Blad1!$D$3,'Basisgegevens Begroting'!$G$12,C76=Blad1!$D$4,'Basisgegevens Begroting'!$H$12,C76="",0)} -> 0 | H76: =+G76*F76*E76 -> 0 | I76: =IF(G76=100%,H76,"")
E77: 1 | F77: 0 | G77: {=+_xlfn.IFS(C77=Blad1!$D$2,'Basisgegevens Begroting'!$I$12,C77=Blad1!$D$3,'Basisgegevens Begroting'!$G$12,C77=Blad1!$D$4,'Basisgegevens Begroting'!$H$12,C77="",0)} -> 0 | H77: =+G77*F77*E77 -> 0 | I77: =IF(G77=100%,H77,"")
... E81: 1 | F81: 0 | G81: {=+_xlfn.IFS(C81=Blad1!$D$2,'Basisgegevens Begroting'!$I$12,C81=Blad1!$D$3,'Basisgegevens Begroting'!$G$12,C81=Blad1!$D$4,'Basisgegevens Begroting'!$H$12,C81="",0)} -> 0 | H81: =+G81*F81*E81 -> 0 | I81: =IF(G81=100%,H81,"")
I82: =IF(G82=100%,H82,"")
E83: Subtotaal: | F83: =SUM(F66:F82) -> 0 | G83: Subtotaal: | H83: =SUM(H66:H82) -> 0
E86: Totaal | F86: =+F51+F30+F22+F62+F83 -> 0 | H86: =+H51+H30+H22+H62+H83 -> 0 | I86: =SUM(I6:I82) -> 0

Sheet Kosten Deelnemer 5
A1: ='Basisgegevens Begroting'!C13 -> 0
A4: Kolom1 | B4: Kolom2 | C4: Kolom22 | D4: Kolom3 | E4: Kolom5 | F4: Kolom6 | G4: Kolom8 | H4: Kolom9
A5: Personeelskosten | G5: =+Totaal!I9 -> 0
B6: Functie | C6: Subsidiedoel | D6: Uurtarief | E6: Aantal uren | F6: Uren x tarief | G6: Ophoging Subsidie % | H6: Subsidie
F7: =$D7*E7 -> 0 | G7: {=+_xlfn.IFS(C7=Blad1!$D$2,'Basisgegevens Begroting'!$I$13,C7=Blad1!$D$3,'Basisgegevens Begroting'!$G$13,C7=Blad1!$D$4,'Basisgegevens Begroting'!$H$13,C7="",0)} -> 0 | H7: =+EigenPersoneel7894[[#This Row],[Kolom8]]*EigenPersoneel7894[[#This Row],[Kolom6]] -> 0 | I7: =IF(G7=100%,H7,"")
F8: =$D8*E8 -> 0 | G8: {=+_xlfn.IFS(C8=Blad1!$D$2,'Basisgegevens Begroting'!$I$13,C8=Blad1!$D$3,'Basisgegevens Begroting'!$G$13,C8=Blad1!$D$4,'Basisgegevens Begroting'!$H$13,C8="",0)} -> 0 | H8: =+EigenPersoneel7894[[#This Row],[Kolom8]]*EigenPersoneel7894[[#This Row],[Kolom6]] -> 0 | I8: =IF(G8=100%,H8,"")
F9: =$D9*E9 -> 0 | G9: {=+_xlfn.IFS(C9=Blad1!$D$2,'Basisgegevens Begroting'!$I$13,C9=Blad1!$D$3,'Basisgegevens Begroting'!$G$13,C9=Blad1!$D$4,'Basisgegevens Begroting'!$H$13,C9="",0)} -> 0 | H9: =+EigenPersoneel7894[[#This Row],[Kolom8]]*EigenPersoneel7894[[#This Row],[Kolom6]] -> 0 | I9: =IF(G9=100%,H9,"")
F10: =$D10*E10 -> 0 | G10: {=+_xlfn.IFS(C10=Blad1!$D$2,'Basisgegevens Begroting'!$I$13,C10=Blad1!$D$3,'Basisgegevens Begroting'!$G$13,C10=Blad1!$D$4,'Basisgegevens Begroting'!$H$13,C10="",0)} -> 0 | H10: =+EigenPersoneel7894[[#This Row],[Kolom8]]*EigenPersoneel7894[[#This Row],[Kolom6]] -> 0 | I10: =IF(G10=100%,H10,"")
F11: =$D11*E11 -> 0 | G11: {=+_xlfn.IFS(C11=Blad1!$D$2,'Basisgegevens Begroting'!$I$13,C11=Blad1!$D$3,'Basisgegevens Begroting'!$G$13,C11=Blad1!$D$4,'Basisgegevens Begroting'!$H$13,C11="",0)} -> 0 | H11: =+EigenPersoneel7894[[#This Row],[Kolom8]]*EigenPersoneel7894[[#This Row],[Kolom6]] -> 0 | I11: =IF(G11=100%,H11,"")
F12: =$D12*E12 -> 0 | G12: {=+_xlfn.IFS(C12=Blad1!$D$2,'Basisgegevens Begroting'!$I$13,C12=Blad1!$D$3,'Basisgegevens Begroting'!$G$13,C12=Blad1!$D$4,'Basisgegevens Begroting'!$H$13,C12="",0)} -> 0 | H12: =+EigenPersoneel7894[[#This Row],[Kolom8]]*EigenPersoneel7894[[#This Row],[Kolom6]] -> 0 | I12: =IF(G12=100%,H12,"")
F13: =$D13*E13 -> 0 | G13: {=+_xlfn.IFS(C13=Blad1!$D$2,'Basisgegevens Begroting'!$I$13,C13=Blad1!$D$3,'Basisgegevens Begroting'!$G$13,C13=Blad1!$D$4,'Basisgegevens Begroting'!$H$13,C13="",0)} -> 0 | H13: =+EigenPersoneel7894[[#This Row],[Kolom8]]*EigenPersoneel7894[[#This Row],[Kolom6]] -> 0 | I13: =IF(G13=100%,H13,"")
F14: =$D14*E14 -> 0 | G14: {=+_xlfn.IFS(C14=Blad1!$D$2,'Basisgegevens Begroting'!$I$13,C14=Blad1!$D$3,'Basisgegevens Begroting'!$G$13,C14=Blad1!$D$4,'Basisgegevens Begroting'!$H$13,C14="",0)} -> 0 | H14: =+EigenPersoneel7894[[#This Row],[Kolom8]]*EigenPersoneel7894[[#This Row],[Kolom6]] -> 0 | I14: =IF(G14=100%,H14,"")
F15: =$D15*E15 -> 0 | G15: {=+_xlfn.IFS(C15=Blad1!$D$2,'Basisgegevens Begroting'!$I$13,C15=Blad1!$D$3,'Basisgegevens Begroting'!$G$13,C15=Blad1!$D$4,'Basisgegevens Begroting'!$H$13,C15="",0)} -> 0 | H15: =+EigenPersoneel7894[[#This Row],[Kolom8]]*EigenPersoneel7894[[#This Row],[Kolom6]] -> 0 | I15: =IF(G15=100%,H15,"")
F16: =$D16*E16 -> 0 | G16: {=+_xlfn.IFS(C16=Blad1!$D$2,'Basisgegevens Begroting'!$I$13,C16=Blad1!$D$3,'Basisgegevens Begroting'!$G$13,C16=Blad1!$D$4,'Basisgegevens Begroting'!$H$13,C16="",0)} -> 0 | H16: =+EigenPersoneel7894[[#This Row],[Kolom8]]*EigenPersoneel7894[[#This Row],[Kolom6]] -> 0 | I16: =IF(G16=100%,H16,"")
F17: =$D17*E17 -> 0 | G17: {=+_xlfn.IFS(C17=Blad1!$D$2,'Basisgegevens Begroting'!$I$13,C17=Blad1!$D$3,'Basisgegevens Begroting'!$G$13,C17=Blad1!$D$4,'Basisgegevens Begroting'!$H$13,C17="",0)} -> 0 | H17: =+EigenPersoneel7894[[#This Row],[Kolom8]]*EigenPersoneel7894[[#This Row],[Kolom6]] -> 0 | I17: =IF(G17=100%,H17,"")
F18: =$D18*E18 -> 0 | G18: {=+_xlfn.IFS(C18=Blad1!$D$2,'Basisgegevens Begroting'!$I$13,C18=Blad1!$D$3,'Basisgegevens Begroting'!$G$13,C18=Blad1!$D$4,'Basisgegevens Begroting'!$H$13,C18="",0)} -> 0 | H18: =+EigenPersoneel7894[[#This Row],[Kolom8]]*EigenPersoneel7894[[#This Row],[Kolom6]] -> 0 | I18: =IF(G18=100%,H18,"")
... F21: =$D21*E21 -> 0 | G21: {=+_xlfn.IFS(C21=Blad1!$D$2,'Basisgegevens Begroting'!$I$13,C21=Blad1!$D$3,'Basisgegevens Begroting'!$G$13,C21=Blad1!$D$4,'Basisgegevens Begroting'!$H$13,C21="",0)} -> 0 | H21: =+EigenPersoneel7894[[#This Row],[Kolom8]]*EigenPersoneel7894[[#This Row],[Kolom6]] -> 0 | I21: =IF(G21=100%,H21,"")
E22: Subtotaal: | F22: =SUM(F7:F21) -> 0 | G22: Subtotaal: | H22: =SUM(H7:H21) -> 0 | I22: =IF(G22=100%,H22,"")
I23: =IF(G23=100%,H23,"")
A24: Brandstofkosten | I24: =IF(G24=100%,H24,"")
A25: Omschrijving | B25: Leverancier | C25: Subsidiedoel | D25: Geschatte meerkosten per eenheid (kWh, liter, kilo) | E25: Aantal eenheden (kWh, liter, kilo) | F25: Kosten | G25: =+G6 -> Ophoging Subsidie % | H25: =+H6 -> Subsidie | I25: =IF(G25=100%,H25,"")
F26: =+D26*E26 -> 0 | G26: {=+_xlfn.IFS(C26=Blad1!$D$2,'Basisgegevens Begroting'!$I$13,C26=Blad1!$D$3,'Basisgegevens Begroting'!$G$13,C26=Blad1!$D$4,'Basisgegevens Begroting'!$H$13,C26="",0)} -> 0 | H26: =+G26*F26 -> 0 | I26: =IF(G26=100%,H26,"")
F27: =+D27*E27 -> 0 | G27: {=+_xlfn.IFS(C27=Blad1!$D$2,'Basisgegevens Begroting'!$I$13,C27=Blad1!$D$3,'Basisgegevens Begroting'!$G$13,C27=Blad1!$D$4,'Basisgegevens Begroting'!$H$13,C27="",0)} -> 0 | H27: =+G27*F27 -> 0 | I27: =IF(G27=100%,H27,"")
F28: =+D28*E28 -> 0 | G28: {=+_xlfn.IFS(C28=Blad1!$D$2,'Basisgegevens Begroting'!$I$13,C28=Blad1!$D$3,'Basisgegevens Begroting'!$G$13,C28=Blad1!$D$4,'Basisgegevens Begroting'!$H$13,C28="",0)} -> 0 | H28: =+G28*F28 -> 0 | I28: =IF(G28=100%,H28,"")
F29: =+D29*E29 -> 0 | G29: {=+_xlfn.IFS(C29=Blad1!$D$2,'Basisgegevens Begroting'!$I$13,C29=Blad1!$D$3,'Basisgegevens Begroting'!$G$13,C29=Blad1!$D$4,'Basisgegevens Begroting'!$H$13,C29="",0)} -> 0 | H29: =+G29*F29 -> 0 | I29: =IF(G29=100%,H29,"")
E30: Subtotaal: | F30: =SUM(F26:F29) -> 0 | H30: =SUM(H26:H29) -> 0 | I30: =IF(G30=100%,H30,"")
I31: =IF(G31=100%,H31,"")
A32: Projectspecifieke overige subsidiabele kosten (kosten derden) | I32: =IF(G32=100%,H32,"")
A33: Omschrijving | B33: Leverancier | C33: Subsidiedoel | D33: Offertenr | E33: Offertedatum | F33: Kosten | G33: =+G6 -> Ophoging Subsidie % | H33: =+H6 -> Subsidie | I33: =IF(G33=100%,H33,"")
F34: 0 | G34: {=+_xlfn.IFS(C34=Blad1!$D$2,'Basisgegevens Begroting'!$I$13,C34=Blad1!$D$3,'Basisgegevens Begroting'!$G$13,C34=Blad1!$D$4,'Basisgegevens Begroting'!$H$13,C34="",0)} -> 0 | H34: =+G34*F34 -> 0 | I34: =IF(G34=100%,H34,"")
F35: 0 | G35: {=+_xlfn.IFS(C35=Blad1!$D$2,'Basisgegevens Begroting'!$I$13,C35=Blad1!$D$3,'Basisgegevens Begroting'!$G$13,C35=Blad1!$D$4,'Basisgegevens Begroting'!$H$13,C35="",0)} -> 0 | H35: =+G35*F35 -> 0 | I35: =IF(G35=100%,H35,"")
F36: 0 | G36: {=+_xlfn.IFS(C36=Blad1!$D$2,'Basisgegevens Begroting'!$I$13,C36=Blad1!$D$3,'Basisgegevens Begroting'!$G$13,C36=Blad1!$D$4,'Basisgegevens Begroting'!$H$13,C36="",0)} -> 0 | H36: =+G36*F36 -> 0 | I36: =IF(G36=100%,H36,"")
F37: 0 | G37: {=+_xlfn.IFS(C37=Blad1!$D$2,'Basisgegevens Begroting'!$I$13,C37=Blad1!$D$3,'Basisgegevens Begroting'!$G$13,C37=Blad1!$D$4,'Basisgegevens Begroting'!$H$13,C37="",0)} -> 0 | H37: =+G37*F37 -> 0 | I37: =IF(G37=100%,H37,"")
F38: 0 | G38: {=+_xlfn.IFS(C38=Blad1!$D$2,'Basisgegevens Begroting'!$I$13,C38=Blad1!$D$3,'Basisgegevens Begroting'!$G$13,C38=Blad1!$D$4,'Basisgegevens Begroting'!$H$13,C38="",0)} -> 0 | H38: =+G38*F38 -> 0 | I38: =IF(G38=100%,H38,"")
F39: 0 | G39: {=+_xlfn.IFS(C39=Blad1!$D$2,'Basisgegevens Begroting'!$I$13,C39=Blad1!$D$3,'Basisgegevens Begroting'!$G$13,C39=Blad1!$D$4,'Basisgegevens Begroting'!$H$13,C39="",0)} -> 0 | H39: =+G39*F39 -> 0 | I39: =IF(G39=100%,H39,"")
F40: 0 | G40: {=+_xlfn.IFS(C40=Blad1!$D$2,'Basisgegevens Begroting'!$I$13,C40=Blad1!$D$3,'Basisgegevens Begroting'!$G$13,C40=Blad1!$D$4,'Basisgegevens Begroting'!$H$13,C40="",0)} -> 0 | H40: =+G40*F40 -> 0 | I40: =IF(G40=100%,H40,"")
F41: 0 | G41: {=+_xlfn.IFS(C41=Blad1!$D$2,'Basisgegevens Begroting'!$I$13,C41=Blad1!$D$3,'Basisgegevens Begroting'!$G$13,C41=Blad1!$D$4,'Basisgegevens Begroting'!$H$13,C41="",0)} -> 0 | H41: =+G41*F41 -> 0 | I41: =IF(G41=100%,H41,"")
F42: 0 | G42: {=+_xlfn.IFS(C42=Blad1!$D$2,'Basisgegevens Begroting'!$I$13,C42=Blad1!$D$3,'Basisgegevens Begroting'!$G$13,C42=Blad1!$D$4,'Basisgegevens Begroting'!$H$13,C42="",0)} -> 0 | H42: =+G42*F42 -> 0 | I42: =IF(G42=100%,H42,"")
F43: 0 | G43: {=+_xlfn.IFS(C43=Blad1!$D$2,'Basisgegevens Begroting'!$I$13,C43=Blad1!$D$3,'Basisgegevens Begroting'!$G$13,C43=Blad1!$D$4,'Basisgegevens Begroting'!$H$13,C43="",0)} -> 0 | H43: =+G43*F43 -> 0 | I43: =IF(G43=100%,H43,"")
F44: 0 | G44: {=+_xlfn.IFS(C44=Blad1!$D$2,'Basisgegevens Begroting'!$I$13,C44=Blad1!$D$3,'Basisgegevens Begroting'!$G$13,C44=Blad1!$D$4,'Basisgegevens Begroting'!$H$13,C44="",0)} -> 0 | H44: =+G44*F44 -> 0 | I44: =IF(G44=100%,H44,"")
F45: 0 | G45: {=+_xlfn.IFS(C45=Blad1!$D$2,'Basisgegevens Begroting'!$I$13,C45=Blad1!$D$3,'Basisgegevens Begroting'!$G$13,C45=Blad1!$D$4,'Basisgegevens Begroting'!$H$13,C45="",0)} -> 0 | H45: =+G45*F45 -> 0 | I45: =IF(G45=100%,H45,"")
... F49: 0 | G49: {=+_xlfn.IFS(C49=Blad1!$D$2,'Basisgegevens Begroting'!$I$13,C49=Blad1!$D$3,'Basisgegevens Begroting'!$G$13,C49=Blad1!$D$4,'Basisgegevens Begroting'!$H$13,C49="",0)} -> 0 | H49: =+G49*F49 -> 0 | I49: =IF(G49=100%,H49,"")
E51: Subtotaal: | F51: =SUM(F34:F50) -> 0 | G51: Subtotaal: | H51: =SUM(H34:H50) -> 0
A53: Subsidiabele kosten voor voor demonstratie noodzakelijke infrastructuur
A54: Omschrijving | B54: Leverancier | C54: Subsidiedoel | D54: Offertenr | E54: Offertedatum | F54: Kosten | G54: =+G33 -> Ophoging Subsidie % | H54: =+H33 -> Subsidie
F55: 0 | G55: {=+_xlfn.IFS(C55=Blad1!$D$2,'Basisgegevens Begroting'!$I$13,C55=Blad1!$D$3,'Basisgegevens Begroting'!$G$13,C55=Blad1!$D$4,'Basisgegevens Begroting'!$H$13,C55="",0)} -> 0 | H55: =+G55*F55 -> 0 | I55: =IF(G55=100%,H55,"")
F56: 0 | G56: {=+_xlfn.IFS(C56=Blad1!$D$2,'Basisgegevens Begroting'!$I$13,C56=Blad1!$D$3,'Basisgegevens Begroting'!$G$13,C56=Blad1!$D$4,'Basisgegevens Begroting'!$H$13,C56="",0)} -> 0 | H56: =+G56*F56 -> 0 | I56: =IF(G56=100%,H56,"")
F57: 0 | G57: {=+_xlfn.IFS(C57=Blad1!$D$2,'Basisgegevens Begroting'!$I$13,C57=Blad1!$D$3,'Basisgegevens Begroting'!$G$13,C57=Blad1!$D$4,'Basisgegevens Begroting'!$H$13,C57="",0)} -> 0 | H57: =+G57*F57 -> 0 | I57: =IF(G57=100%,H57,"")
F58: 0 | G58: {=+_xlfn.IFS(C58=Blad1!$D$2,'Basisgegevens Begroting'!$I$13,C58=Blad1!$D$3,'Basisgegevens Begroting'!$G$13,C58=Blad1!$D$4,'Basisgegevens Begroting'!$H$13,C58="",0)} -> 0 | H58: =+G58*F58 -> 0 | I58: =IF(G58=100%,H58,"")
F59: 0 | G59: {=+_xlfn.IFS(C59=Blad1!$D$2,'Basisgegevens Begroting'!$I$13,C59=Blad1!$D$3,'Basisgegevens Begroting'!$G$13,C59=Blad1!$D$4,'Basisgegevens Begroting'!$H$13,C59="",0)} -> 0 | H59: =+G59*F59 -> 0 | I59: =IF(G59=100%,H59,"")
F60: 0 | G60: {=+_xlfn.IFS(C60=Blad1!$D$2,'Basisgegevens Begroting'!$I$13,C60=Blad1!$D$3,'Basisgegevens Begroting'!$G$13,C60=Blad1!$D$4,'Basisgegevens Begroting'!$H$13,C60="",0)} -> 0 | H60: =+G60*F60 -> 0 | I60: =IF(G60=100%,H60,"")
E62: Subtotaal: | F62: =SUM(F55:F61) -> 0 | G62: Subtotaal: | H62: =SUM(H55:H61) -> 0
A64: Projectspecifieke kosten voor speciaal voor het project aan te schaffen materialen en hulpmiddelen
A65: Omschrijving materiaal | B65: Leverancier | C65: Subsidiedoel | D65: Offertenr | E65: Gebruikspercentage apparatuur | F65: Kosten | G65: =+G54 -> Ophoging Subsidie % | H65: =+H54 -> Subsidie
E66: 1 | F66: 0 | G66: {=+_xlfn.IFS(C66=Blad1!$D$2,'Basisgegevens Begroting'!$I$13,C66=Blad1!$D$3,'Basisgegevens Begroting'!$G$13,C66=Blad1!$D$4,'Basisgegevens Begroting'!$H$13,C66="",0)} -> 0 | H66: =+G66*F66*E66 -> 0 | I66: =IF(G66=100%,H66,"")
E67: 1 | F67: 0 | G67: {=+_xlfn.IFS(C67=Blad1!$D$2,'Basisgegevens Begroting'!$I$13,C67=Blad1!$D$3,'Basisgegevens Begroting'!$G$13,C67=Blad1!$D$4,'Basisgegevens Begroting'!$H$13,C67="",0)} -> 0 | H67: =+G67*F67*E67 -> 0 | I67: =IF(G67=100%,H67,"")
E68: 1 | F68: 0 | G68: {=+_xlfn.IFS(C68=Blad1!$D$2,'Basisgegevens Begroting'!$I$13,C68=Blad1!$D$3,'Basisgegevens Begroting'!$G$13,C68=Blad1!$D$4,'Basisgegevens Begroting'!$H$13,C68="",0)} -> 0 | H68: =+G68*F68*E68 -> 0 | I68: =IF(G68=100%,H68,"")
E69: 1 | F69: 0 | G69: {=+_xlfn.IFS(C69=Blad1!$D$2,'Basisgegevens Begroting'!$I$13,C69=Blad1!$D$3,'Basisgegevens Begroting'!$G$13,C69=Blad1!$D$4,'Basisgegevens Begroting'!$H$13,C69="",0)} -> 0 | H69: =+G69*F69*E69 -> 0 | I69: =IF(G69=100%,H69,"")
E70: 1 | F70: 0 | G70: {=+_xlfn.IFS(C70=Blad1!$D$2,'Basisgegevens Begroting'!$I$13,C70=Blad1!$D$3,'Basisgegevens Begroting'!$G$13,C70=Blad1!$D$4,'Basisgegevens Begroting'!$H$13,C70="",0)} -> 0 | H70: =+G70*F70*E70 -> 0 | I70: =IF(G70=100%,H70,"")
E71: 1 | F71: 0 | G71: {=+_xlfn.IFS(C71=Blad1!$D$2,'Basisgegevens Begroting'!$I$13,C71=Blad1!$D$3,'Basisgegevens Begroting'!$G$13,C71=Blad1!$D$4,'Basisgegevens Begroting'!$H$13,C71="",0)} -> 0 | H71: =+G71*F71*E71 -> 0 | I71: =IF(G71=100%,H71,"")
E72: 1 | F72: 0 | G72: {=+_xlfn.IFS(C72=Blad1!$D$2,'Basisgegevens Begroting'!$I$13,C72=Blad1!$D$3,'Basisgegevens Begroting'!$G$13,C72=Blad1!$D$4,'Basisgegevens Begroting'!$H$13,C72="",0)} -> 0 | H72: =+G72*F72*E72 -> 0 | I72: =IF(G72=100%,H72,"")
E73: 1 | F73: 0 | G73: {=+_xlfn.IFS(C73=Blad1!$D$2,'Basisgegevens Begroting'!$I$13,C73=Blad1!$D$3,'Basisgegevens Begroting'!$G$13,C73=Blad1!$D$4,'Basisgegevens Begroting'!$H$13,C73="",0)} -> 0 | H73: =+G73*F73*E73 -> 0 | I73: =IF(G73=100%,H73,"")
E74: 1 | F74: 0 | G74: {=+_xlfn.IFS(C74=Blad1!$D$2,'Basisgegevens Begroting'!$I$13,C74=Blad1!$D$3,'Basisgegevens Begroting'!$G$13,C74=Blad1!$D$4,'Basisgegevens Begroting'!$H$13,C74="",0)} -> 0 | H74: =+G74*F74*E74 -> 0 | I74: =IF(G74=100%,H74,"")
E75: 1 | F75: 0 | G75: {=+_xlfn.IFS(C75=Blad1!$D$2,'Basisgegevens Begroting'!$I$13,C75=Blad1!$D$3,'Basisgegevens Begroting'!$G$13,C75=Blad1!$D$4,'Basisgegevens Begroting'!$H$13,C75="",0)} -> 0 | H75: =+G75*F75*E75 -> 0 | I75: =IF(G75=100%,H75,"")
E76: 1 | F76: 0 | G76: {=+_xlfn.IFS(C76=Blad1!$D$2,'Basisgegevens Begroting'!$I$13,C76=Blad1!$D$3,'Basisgegevens Begroting'!$G$13,C76=Blad1!$D$4,'Basisgegevens Begroting'!$H$13,C76="",0)} -> 0 | H76: =+G76*F76*E76 -> 0 | I76: =IF(G76=100%,H76,"")
E77: 1 | F77: 0 | G77: {=+_xlfn.IFS(C77=Blad1!$D$2,'Basisgegevens Begroting'!$I$13,C77=Blad1!$D$3,'Basisgegevens Begroting'!$G$13,C77=Blad1!$D$4,'Basisgegevens Begroting'!$H$13,C77="",0)} -> 0 | H77: =+G77*F77*E77 -> 0 | I77: =IF(G77=100%,H77,"")
... E81: 1 | F81: 0 | G81: {=+_xlfn.IFS(C81=Blad1!$D$2,'Basisgegevens Begroting'!$I$13,C81=Blad1!$D$3,'Basisgegevens Begroting'!$G$13,C81=Blad1!$D$4,'Basisgegevens Begroting'!$H$13,C81="",0)} -> 0 | H81: =+G81*F81*E81 -> 0 | I81: =IF(G81=100%,H81,"")
I82: =IF(G82=100%,H82,"")
E83: Subtotaal: | F83: =SUM(F66:F82) -> 0 | G83: Subtotaal: | H83: =SUM(H66:H82) -> 0
E86: Totaal | F86: =+F51+F30+F22+F62+F83 -> 0 | H86: =+H51+H30+H22+H62+H83 -> 0 | I86: =SUM(I5:I82) -> 0

Sheet Kosten Deelnemer 6
A1: ='Basisgegevens Begroting'!C14 -> 0
A4: Kolom1 | B4: Kolom2 | C4: Kolom22 | D4: Kolom3 | E4: Kolom5 | F4: Kolom6 | G4: Kolom8 | H4: Kolom9
A5: Personeelskosten | G5: =+Totaal!I9 -> 0
B6: Functie | C6: Subsidiedoel | D6: Uurtarief | E6: Aantal uren | F6: Uren x tarief | G6: Ophoging Subsidie % | H6: Subsidie
F7: =$D7*E7 -> 0 | G7: {=+_xlfn.IFS(C7=Blad1!$D$2,'Basisgegevens Begroting'!$I$14,C7=Blad1!$D$3,'Basisgegevens Begroting'!$G$14,C7=Blad1!$D$4,'Basisgegevens Begroting'!$H$14,C7="",0)} -> 0 | H7: =+EigenPersoneel78945[[#This Row],[Kolom8]]*EigenPersoneel78945[[#This Row],[Kolom6]] -> 0 | I7: =IF(G7=100%,H7,"")
F8: =$D8*E8 -> 0 | G8: {=+_xlfn.IFS(C8=Blad1!$D$2,'Basisgegevens Begroting'!$I$14,C8=Blad1!$D$3,'Basisgegevens Begroting'!$G$14,C8=Blad1!$D$4,'Basisgegevens Begroting'!$H$14,C8="",0)} -> 0 | H8: =+EigenPersoneel78945[[#This Row],[Kolom8]]*EigenPersoneel78945[[#This Row],[Kolom6]] -> 0 | I8: =IF(G8=100%,H8,"")
F9: =$D9*E9 -> 0 | G9: {=+_xlfn.IFS(C9=Blad1!$D$2,'Basisgegevens Begroting'!$I$14,C9=Blad1!$D$3,'Basisgegevens Begroting'!$G$14,C9=Blad1!$D$4,'Basisgegevens Begroting'!$H$14,C9="",0)} -> 0 | H9: =+EigenPersoneel78945[[#This Row],[Kolom8]]*EigenPersoneel78945[[#This Row],[Kolom6]] -> 0 | I9: =IF(G9=100%,H9,"")
F10: =$D10*E10 -> 0 | G10: {=+_xlfn.IFS(C10=Blad1!$D$2,'Basisgegevens Begroting'!$I$14,C10=Blad1!$D$3,'Basisgegevens Begroting'!$G$14,C10=Blad1!$D$4,'Basisgegevens Begroting'!$H$14,C10="",0)} -> 0 | H10: =+EigenPersoneel78945[[#This Row],[Kolom8]]*EigenPersoneel78945[[#This Row],[Kolom6]] -> 0 | I10: =IF(G10=100%,H10,"")
F11: =$D11*E11 -> 0 | G11: {=+_xlfn.IFS(C11=Blad1!$D$2,'Basisgegevens Begroting'!$I$14,C11=Blad1!$D$3,'Basisgegevens Begroting'!$G$14,C11=Blad1!$D$4,'Basisgegevens Begroting'!$H$14,C11="",0)} -> 0 | H11: =+EigenPersoneel78945[[#This Row],[Kolom8]]*EigenPersoneel78945[[#This Row],[Kolom6]] -> 0 | I11: =IF(G11=100%,H11,"")
F12: =$D12*E12 -> 0 | G12: {=+_xlfn.IFS(C12=Blad1!$D$2,'Basisgegevens Begroting'!$I$14,C12=Blad1!$D$3,'Basisgegevens Begroting'!$G$14,C12=Blad1!$D$4,'Basisgegevens Begroting'!$H$14,C12="",0)} -> 0 | H12: =+EigenPersoneel78945[[#This Row],[Kolom8]]*EigenPersoneel78945[[#This Row],[Kolom6]] -> 0 | I12: =IF(G12=100%,H12,"")
F13: =$D13*E13 -> 0 | G13: {=+_xlfn.IFS(C13=Blad1!$D$2,'Basisgegevens Begroting'!$I$14,C13=Blad1!$D$3,'Basisgegevens Begroting'!$G$14,C13=Blad1!$D$4,'Basisgegevens Begroting'!$H$14,C13="",0)} -> 0 | H13: =+EigenPersoneel78945[[#This Row],[Kolom8]]*EigenPersoneel78945[[#This Row],[Kolom6]] -> 0 | I13: =IF(G13=100%,H13,"")
F14: =$D14*E14 -> 0 | G14: {=+_xlfn.IFS(C14=Blad1!$D$2,'Basisgegevens Begroting'!$I$14,C14=Blad1!$D$3,'Basisgegevens Begroting'!$G$14,C14=Blad1!$D$4,'Basisgegevens Begroting'!$H$14,C14="",0)} -> 0 | H14: =+EigenPersoneel78945[[#This Row],[Kolom8]]*EigenPersoneel78945[[#This Row],[Kolom6]] -> 0 | I14: =IF(G14=100%,H14,"")
F15: =$D15*E15 -> 0 | G15: {=+_xlfn.IFS(C15=Blad1!$D$2,'Basisgegevens Begroting'!$I$14,C15=Blad1!$D$3,'Basisgegevens Begroting'!$G$14,C15=Blad1!$D$4,'Basisgegevens Begroting'!$H$14,C15="",0)} -> 0 | H15: =+EigenPersoneel78945[[#This Row],[Kolom8]]*EigenPersoneel78945[[#This Row],[Kolom6]] -> 0 | I15: =IF(G15=100%,H15,"")
F16: =$D16*E16 -> 0 | G16: {=+_xlfn.IFS(C16=Blad1!$D$2,'Basisgegevens Begroting'!$I$14,C16=Blad1!$D$3,'Basisgegevens Begroting'!$G$14,C16=Blad1!$D$4,'Basisgegevens Begroting'!$H$14,C16="",0)} -> 0 | H16: =+EigenPersoneel78945[[#This Row],[Kolom8]]*EigenPersoneel78945[[#This Row],[Kolom6]] -> 0 | I16: =IF(G16=100%,H16,"")
F17: =$D17*E17 -> 0 | G17: {=+_xlfn.IFS(C17=Blad1!$D$2,'Basisgegevens Begroting'!$I$14,C17=Blad1!$D$3,'Basisgegevens Begroting'!$G$14,C17=Blad1!$D$4,'Basisgegevens Begroting'!$H$14,C17="",0)} -> 0 | H17: =+EigenPersoneel78945[[#This Row],[Kolom8]]*EigenPersoneel78945[[#This Row],[Kolom6]] -> 0 | I17: =IF(G17=100%,H17,"")
F18: =$D18*E18 -> 0 | G18: {=+_xlfn.IFS(C18=Blad1!$D$2,'Basisgegevens Begroting'!$I$14,C18=Blad1!$D$3,'Basisgegevens Begroting'!$G$14,C18=Blad1!$D$4,'Basisgegevens Begroting'!$H$14,C18="",0)} -> 0 | H18: =+EigenPersoneel78945[[#This Row],[Kolom8]]*EigenPersoneel78945[[#This Row],[Kolom6]] -> 0 | I18: =IF(G18=100%,H18,"")
... F21: =$D21*E21 -> 0 | G21: {=+_xlfn.IFS(C21=Blad1!$D$2,'Basisgegevens Begroting'!$I$14,C21=Blad1!$D$3,'Basisgegevens Begroting'!$G$14,C21=Blad1!$D$4,'Basisgegevens Begroting'!$H$14,C21="",0)} -> 0 | H21: =+EigenPersoneel78945[[#This Row],[Kolom8]]*EigenPersoneel78945[[#This Row],[Kolom6]] -> 0 | I21: =IF(G21=100%,H21,"")
E22: Subtotaal: | F22: =SUM(F7:F21) -> 0 | G22: Subtotaal: | H22: =SUM(H7:H21) -> 0 | I22: =IF(G22=100%,H22,"")
I23: =IF(G23=100%,H23,"")
A24: Brandstofkosten | I24: =IF(G24=100%,H24,"")
A25: Omschrijving | B25: Leverancier | C25: Subsidiedoel | D25: Geschatte meerkosten per eenheid (kWh, liter, kilo) | E25: Aantal eenheden (kWh, liter, kilo) | F25: Kosten | G25: =+G6 -> Ophoging Subsidie % | H25: =+H6 -> Subsidie | I25: =IF(G25=100%,H25,"")
F26: =+D26*E26 -> 0 | G26: {=+_xlfn.IFS(C26=Blad1!$D$2,'Basisgegevens Begroting'!$I$14,C26=Blad1!$D$3,'Basisgegevens Begroting'!$G$14,C26=Blad1!$D$4,'Basisgegevens Begroting'!$H$14,C26="",0)} -> 0 | H26: =+G26*F26 -> 0 | I26: =IF(G26=100%,H26,"")
F27: =+D27*E27 -> 0 | G27: {=+_xlfn.IFS(C27=Blad1!$D$2,'Basisgegevens Begroting'!$I$14,C27=Blad1!$D$3,'Basisgegevens Begroting'!$G$14,C27=Blad1!$D$4,'Basisgegevens Begroting'!$H$14,C27="",0)} -> 0 | H27: =+G27*F27 -> 0 | I27: =IF(G27=100%,H27,"")
F28: =+D28*E28 -> 0 | G28: {=+_xlfn.IFS(C28=Blad1!$D$2,'Basisgegevens Begroting'!$I$14,C28=Blad1!$D$3,'Basisgegevens Begroting'!$G$14,C28=Blad1!$D$4,'Basisgegevens Begroting'!$H$14,C28="",0)} -> 0 | H28: =+G28*F28 -> 0 | I28: =IF(G28=100%,H28,"")
F29: =+D29*E29 -> 0 | G29: {=+_xlfn.IFS(C29=Blad1!$D$2,'Basisgegevens Begroting'!$I$14,C29=Blad1!$D$3,'Basisgegevens Begroting'!$G$14,C29=Blad1!$D$4,'Basisgegevens Begroting'!$H$14,C29="",0)} -> 0 | H29: =+G29*F29 -> 0 | I29: =IF(G29=100%,H29,"")
E30: Subtotaal: | F30: =SUM(F26:F29) -> 0 | H30: =SUM(H26:H29) -> 0 | I30: =IF(G30=100%,H30,"")
I31: =IF(G31=100%,H31,"")
A32: Projectspecifieke overige subsidiabele kosten (kosten derden) | I32: =IF(G32=100%,H32,"")
A33: Omschrijving | B33: Leverancier | C33: Subsidiedoel | D33: Offertenr | E33: Offertedatum | F33: Kosten | G33: =+G6 -> Ophoging Subsidie % | H33: =+H6 -> Subsidie | I33: =IF(G33=100%,H33,"")
F34: 0 | G34: {=+_xlfn.IFS(C34=Blad1!$D$2,'Basisgegevens Begroting'!$I$14,C34=Blad1!$D$3,'Basisgegevens Begroting'!$G$14,C34=Blad1!$D$4,'Basisgegevens Begroting'!$H$14,C34="",0)} -> 0 | H34: =+G34*F34 -> 0 | I34: =IF(G34=100%,H34,"")
F35: 0 | G35: {=+_xlfn.IFS(C35=Blad1!$D$2,'Basisgegevens Begroting'!$I$14,C35=Blad1!$D$3,'Basisgegevens Begroting'!$G$14,C35=Blad1!$D$4,'Basisgegevens Begroting'!$H$14,C35="",0)} -> 0 | H35: =+G35*F35 -> 0 | I35: =IF(G35=100%,H35,"")
F36: 0 | G36: {=+_xlfn.IFS(C36=Blad1!$D$2,'Basisgegevens Begroting'!$I$14,C36=Blad1!$D$3,'Basisgegevens Begroting'!$G$14,C36=Blad1!$D$4,'Basisgegevens Begroting'!$H$14,C36="",0)} -> 0 | H36: =+G36*F36 -> 0 | I36: =IF(G36=100%,H36,"")
F37: 0 | G37: {=+_xlfn.IFS(C37=Blad1!$D$2,'Basisgegevens Begroting'!$I$14,C37=Blad1!$D$3,'Basisgegevens Begroting'!$G$14,C37=Blad1!$D$4,'Basisgegevens Begroting'!$H$14,C37="",0)} -> 0 | H37: =+G37*F37 -> 0 | I37: =IF(G37=100%,H37,"")
F38: 0 | G38: {=+_xlfn.IFS(C38=Blad1!$D$2,'Basisgegevens Begroting'!$I$14,C38=Blad1!$D$3,'Basisgegevens Begroting'!$G$14,C38=Blad1!$D$4,'Basisgegevens Begroting'!$H$14,C38="",0)} -> 0 | H38: =+G38*F38 -> 0 | I38: =IF(G38=100%,H38,"")
F39: 0 | G39: {=+_xlfn.IFS(C39=Blad1!$D$2,'Basisgegevens Begroting'!$I$14,C39=Blad1!$D$3,'Basisgegevens Begroting'!$G$14,C39=Blad1!$D$4,'Basisgegevens Begroting'!$H$14,C39="",0)} -> 0 | H39: =+G39*F39 -> 0 | I39: =IF(G39=100%,H39,"")
F40: 0 | G40: {=+_xlfn.IFS(C40=Blad1!$D$2,'Basisgegevens Begroting'!$I$14,C40=Blad1!$D$3,'Basisgegevens Begroting'!$G$14,C40=Blad1!$D$4,'Basisgegevens Begroting'!$H$14,C40="",0)} -> 0 | H40: =+G40*F40 -> 0 | I40: =IF(G40=100%,H40,"")
F41: 0 | G41: {=+_xlfn.IFS(C41=Blad1!$D$2,'Basisgegevens Begroting'!$I$14,C41=Blad1!$D$3,'Basisgegevens Begroting'!$G$14,C41=Blad1!$D$4,'Basisgegevens Begroting'!$H$14,C41="",0)} -> 0 | H41: =+G41*F41 -> 0 | I41: =IF(G41=100%,H41,"")
F42: 0 | G42: {=+_xlfn.IFS(C42=Blad1!$D$2,'Basisgegevens Begroting'!$I$14,C42=Blad1!$D$3,'Basisgegevens Begroting'!$G$14,C42=Blad1!$D$4,'Basisgegevens Begroting'!$H$14,C42="",0)} -> 0 | H42: =+G42*F42 -> 0 | I42: =IF(G42=100%,H42,"")
F43: 0 | G43: {=+_xlfn.IFS(C43=Blad1!$D$2,'Basisgegevens Begroting'!$I$14,C43=Blad1!$D$3,'Basisgegevens Begroting'!$G$14,C43=Blad1!$D$4,'Basisgegevens Begroting'!$H$14,C43="",0)} -> 0 | H43: =+G43*F43 -> 0 | I43: =IF(G43=100%,H43,"")
F44: 0 | G44: {=+_xlfn.IFS(C44=Blad1!$D$2,'Basisgegevens Begroting'!$I$14,C44=Blad1!$D$3,'Basisgegevens Begroting'!$G$14,C44=Blad1!$D$4,'Basisgegevens Begroting'!$H$14,C44="",0)} -> 0 | H44: =+G44*F44 -> 0 | I44: =IF(G44=100%,H44,"")
F45: 0 | G45: {=+_xlfn.IFS(C45=Blad1!$D$2,'Basisgegevens Begroting'!$I$14,C45=Blad1!$D$3,'Basisgegevens Begroting'!$G$14,C45=Blad1!$D$4,'Basisgegevens Begroting'!$H$14,C45="",0)} -> 0 | H45: =+G45*F45 -> 0 | I45: =IF(G45=100%,H45,"")
... F49: 0 | G49: {=+_xlfn.IFS(C49=Blad1!$D$2,'Basisgegevens Begroting'!$I$14,C49=Blad1!$D$3,'Basisgegevens Begroting'!$G$14,C49=Blad1!$D$4,'Basisgegevens Begroting'!$H$14,C49="",0)} -> 0 | H49: =+G49*F49 -> 0 | I49: =IF(G49=100%,H49,"")
E51: Subtotaal: | F51: =SUM(F34:F50) -> 0 | G51: Subtotaal: | H51: =SUM(H34:H50) -> 0
A53: Subsidiabele kosten voor voor demonstratie noodzakelijke infrastructuur
A54: Omschrijving | B54: Leverancier | C54: Subsidiedoel | D54: Offertenr | E54: Offertedatum | F54: Kosten | G54: =+G33 -> Ophoging Subsidie % | H54: =+H33 -> Subsidie
F55: 0 | G55: {=+_xlfn.IFS(C55=Blad1!$D$2,'Basisgegevens Begroting'!$I$14,C55=Blad1!$D$3,'Basisgegevens Begroting'!$G$14,C55=Blad1!$D$4,'Basisgegevens Begroting'!$H$14,C55="",0)} -> 0 | H55: =+G55*F55 -> 0 | I55: =IF(G55=100%,H55,"")
F56: 0 | G56: {=+_xlfn.IFS(C56=Blad1!$D$2,'Basisgegevens Begroting'!$I$14,C56=Blad1!$D$3,'Basisgegevens Begroting'!$G$14,C56=Blad1!$D$4,'Basisgegevens Begroting'!$H$14,C56="",0)} -> 0 | H56: =+G56*F56 -> 0 | I56: =IF(G56=100%,H56,"")
F57: 0 | G57: {=+_xlfn.IFS(C57=Blad1!$D$2,'Basisgegevens Begroting'!$I$14,C57=Blad1!$D$3,'Basisgegevens Begroting'!$G$14,C57=Blad1!$D$4,'Basisgegevens Begroting'!$H$14,C57="",0)} -> 0 | H57: =+G57*F57 -> 0 | I57: =IF(G57=100%,H57,"")
F58: 0 | G58: {=+_xlfn.IFS(C58=Blad1!$D$2,'Basisgegevens Begroting'!$I$14,C58=Blad1!$D$3,'Basisgegevens Begroting'!$G$14,C58=Blad1!$D$4,'Basisgegevens Begroting'!$H$14,C58="",0)} -> 0 | H58: =+G58*F58 -> 0 | I58: =IF(G58=100%,H58,"")
F59: 0 | G59: {=+_xlfn.IFS(C59=Blad1!$D$2,'Basisgegevens Begroting'!$I$14,C59=Blad1!$D$3,'Basisgegevens Begroting'!$G$14,C59=Blad1!$D$4,'Basisgegevens Begroting'!$H$14,C59="",0)} -> 0 | H59: =+G59*F59 -> 0 | I59: =IF(G59=100%,H59,"")
F60: 0 | G60: {=+_xlfn.IFS(C60=Blad1!$D$2,'Basisgegevens Begroting'!$I$14,C60=Blad1!$D$3,'Basisgegevens Begroting'!$G$14,C60=Blad1!$D$4,'Basisgegevens Begroting'!$H$14,C60="",0)} -> 0 | H60: =+G60*F60 -> 0 | I60: =IF(G60=100%,H60,"")
E62: Subtotaal: | F62: =SUM(F55:F61) -> 0 | G62: Subtotaal: | H62: =SUM(H55:H61) -> 0
A64: Projectspecifieke kosten voor speciaal voor het project aan te schaffen materialen en hulpmiddelen
A65: Omschrijving materiaal | B65: Leverancier | C65: Subsidiedoel | D65: Offertenr | E65: Gebruikspercentage apparatuur | F65: Kosten | G65: =+G54 -> Ophoging Subsidie % | H65: =+H54 -> Subsidie
E66: 1 | F66: 0 | G66: {=+_xlfn.IFS(C66=Blad1!$D$2,'Basisgegevens Begroting'!$I$14,C66=Blad1!$D$3,'Basisgegevens Begroting'!$G$14,C66=Blad1!$D$4,'Basisgegevens Begroting'!$H$14,C66="",0)} -> 0 | H66: =+G66*F66*E66 -> 0 | I66: =IF(G66=100%,H66,"")
E67: 1 | F67: 0 | G67: {=+_xlfn.IFS(C67=Blad1!$D$2,'Basisgegevens Begroting'!$I$14,C67=Blad1!$D$3,'Basisgegevens Begroting'!$G$14,C67=Blad1!$D$4,'Basisgegevens Begroting'!$H$14,C67="",0)} -> 0 | H67: =+G67*F67*E67 -> 0 | I67: =IF(G67=100%,H67,"")
E68: 1 | F68: 0 | G68: {=+_xlfn.IFS(C68=Blad1!$D$2,'Basisgegevens Begroting'!$I$14,C68=Blad1!$D$3,'Basisgegevens Begroting'!$G$14,C68=Blad1!$D$4,'Basisgegevens Begroting'!$H$14,C68="",0)} -> 0 | H68: =+G68*F68*E68 -> 0 | I68: =IF(G68=100%,H68,"")
E69: 1 | F69: 0 | G69: {=+_xlfn.IFS(C69=Blad1!$D$2,'Basisgegevens Begroting'!$I$14,C69=Blad1!$D$3,'Basisgegevens Begroting'!$G$14,C69=Blad1!$D$4,'Basisgegevens Begroting'!$H$14,C69="",0)} -> 0 | H69: =+G69*F69*E69 -> 0 | I69: =IF(G69=100%,H69,"")
E70: 1 | F70: 0 | G70: {=+_xlfn.IFS(C70=Blad1!$D$2,'Basisgegevens Begroting'!$I$14,C70=Blad1!$D$3,'Basisgegevens Begroting'!$G$14,C70=Blad1!$D$4,'Basisgegevens Begroting'!$H$14,C70="",0)} -> 0 | H70: =+G70*F70*E70 -> 0 | I70: =IF(G70=100%,H70,"")
E71: 1 | F71: 0 | G71: {=+_xlfn.IFS(C71=Blad1!$D$2,'Basisgegevens Begroting'!$I$14,C71=Blad1!$D$3,'Basisgegevens Begroting'!$G$14,C71=Blad1!$D$4,'Basisgegevens Begroting'!$H$14,C71="",0)} -> 0 | H71: =+G71*F71*E71 -> 0 | I71: =IF(G71=100%,H71,"")
E72: 1 | F72: 0 | G72: {=+_xlfn.IFS(C72=Blad1!$D$2,'Basisgegevens Begroting'!$I$14,C72=Blad1!$D$3,'Basisgegevens Begroting'!$G$14,C72=Blad1!$D$4,'Basisgegevens Begroting'!$H$14,C72="",0)} -> 0 | H72: =+G72*F72*E72 -> 0 | I72: =IF(G72=100%,H72,"")
E73: 1 | F73: 0 | G73: {=+_xlfn.IFS(C73=Blad1!$D$2,'Basisgegevens Begroting'!$I$14,C73=Blad1!$D$3,'Basisgegevens Begroting'!$G$14,C73=Blad1!$D$4,'Basisgegevens Begroting'!$H$14,C73="",0)} -> 0 | H73: =+G73*F73*E73 -> 0 | I73: =IF(G73=100%,H73,"")
E74: 1 | F74: 0 | G74: {=+_xlfn.IFS(C74=Blad1!$D$2,'Basisgegevens Begroting'!$I$14,C74=Blad1!$D$3,'Basisgegevens Begroting'!$G$14,C74=Blad1!$D$4,'Basisgegevens Begroting'!$H$14,C74="",0)} -> 0 | H74: =+G74*F74*E74 -> 0 | I74: =IF(G74=100%,H74,"")
E75: 1 | F75: 0 | G75: {=+_xlfn.IFS(C75=Blad1!$D$2,'Basisgegevens Begroting'!$I$14,C75=Blad1!$D$3,'Basisgegevens Begroting'!$G$14,C75=Blad1!$D$4,'Basisgegevens Begroting'!$H$14,C75="",0)} -> 0 | H75: =+G75*F75*E75 -> 0 | I75: =IF(G75=100%,H75,"")
E76: 1 | F76: 0 | G76: {=+_xlfn.IFS(C76=Blad1!$D$2,'Basisgegevens Begroting'!$I$14,C76=Blad1!$D$3,'Basisgegevens Begroting'!$G$14,C76=Blad1!$D$4,'Basisgegevens Begroting'!$H$14,C76="",0)} -> 0 | H76: =+G76*F76*E76 -> 0 | I76: =IF(G76=100%,H76,"")
E77: 1 | F77: 0 | G77: {=+_xlfn.IFS(C77=Blad1!$D$2,'Basisgegevens Begroting'!$I$14,C77=Blad1!$D$3,'Basisgegevens Begroting'!$G$14,C77=Blad1!$D$4,'Basisgegevens Begroting'!$H$14,C77="",0)} -> 0 | H77: =+G77*F77*E77 -> 0 | I77: =IF(G77=100%,H77,"")
... E81: 1 | F81: 0 | G81: {=+_xlfn.IFS(C81=Blad1!$D$2,'Basisgegevens Begroting'!$I$14,C81=Blad1!$D$3,'Basisgegevens Begroting'!$G$14,C81=Blad1!$D$4,'Basisgegevens Begroting'!$H$14,C81="",0)} -> 0 | H81: =+G81*F81*E81 -> 0 | I81: =IF(G81=100%,H81,"")
I82: =IF(G82=100%,H82,"")
E83: Subtotaal: | F83: =SUM(F66:F82) -> 0 | G83: Subtotaal: | H83: =SUM(H66:H82) -> 0
E86: Totaal | F86: =+F51+F30+F22+F62+F83 -> 0 | H86: =+H51+H30+H22+H62+H83 -> 0 | I86: =SUM(I5:I82) -> 0

Sheet Kosten Deelnemer 7
A1: =+'Basisgegevens Begroting'!C15 -> 0
A4: Kolom1 | B4: Kolom2 | C4: Kolom22 | D4: Kolom3 | E4: Kolom5 | F4: Kolom6 | G4: Kolom8 | H4: Kolom9
A5: Personeelskosten | G5: =+Totaal!I9 -> 0
B6: Functie | C6: Subsidiedoel | D6: Uurtarief | E6: Aantal uren | F6: Uren x tarief | G6: Ophoging Subsidie % | H6: Subsidie
F7: =$D7*E7 -> 0 | G7: {=+_xlfn.IFS(C7=Blad1!$D$2,'Basisgegevens Begroting'!$I$15,C7=Blad1!$D$3,'Basisgegevens Begroting'!$G$15,C7=Blad1!$D$4,'Basisgegevens Begroting'!$H$15,C7="",0)} -> 0 | H7: =+EigenPersoneel789456[[#This Row],[Kolom8]]*EigenPersoneel789456[[#This Row],[Kolom6]] -> 0 | I7: =IF(G7=100%,H7,"")
F8: =$D8*E8 -> 0 | G8: {=+_xlfn.IFS(C8=Blad1!$D$2,'Basisgegevens Begroting'!$I$15,C8=Blad1!$D$3,'Basisgegevens Begroting'!$G$15,C8=Blad1!$D$4,'Basisgegevens Begroting'!$H$15,C8="",0)} -> 0 | H8: =+EigenPersoneel789456[[#This Row],[Kolom8]]*EigenPersoneel789456[[#This Row],[Kolom6]] -> 0 | I8: =IF(G8=100%,H8,"")
F9: =$D9*E9 -> 0 | G9: {=+_xlfn.IFS(C9=Blad1!$D$2,'Basisgegevens Begroting'!$I$15,C9=Blad1!$D$3,'Basisgegevens Begroting'!$G$15,C9=Blad1!$D$4,'Basisgegevens Begroting'!$H$15,C9="",0)} -> 0 | H9: =+EigenPersoneel789456[[#This Row],[Kolom8]]*EigenPersoneel789456[[#This Row],[Kolom6]] -> 0 | I9: =IF(G9=100%,H9,"")
F10: =$D10*E10 -> 0 | G10: {=+_xlfn.IFS(C10=Blad1!$D$2,'Basisgegevens Begroting'!$I$15,C10=Blad1!$D$3,'Basisgegevens Begroting'!$G$15,C10=Blad1!$D$4,'Basisgegevens Begroting'!$H$15,C10="",0)} -> 0 | H10: =+EigenPersoneel789456[[#This Row],[Kolom8]]*EigenPersoneel789456[[#This Row],[Kolom6]] -> 0 | I10: =IF(G10=100%,H10,"")
F11: =$D11*E11 -> 0 | G11: {=+_xlfn.IFS(C11=Blad1!$D$2,'Basisgegevens Begroting'!$I$15,C11=Blad1!$D$3,'Basisgegevens Begroting'!$G$15,C11=Blad1!$D$4,'Basisgegevens Begroting'!$H$15,C11="",0)} -> 0 | H11: =+EigenPersoneel789456[[#This Row],[Kolom8]]*EigenPersoneel789456[[#This Row],[Kolom6]] -> 0 | I11: =IF(G11=100%,H11,"")
F12: =$D12*E12 -> 0 | G12: {=+_xlfn.IFS(C12=Blad1!$D$2,'Basisgegevens Begroting'!$I$15,C12=Blad1!$D$3,'Basisgegevens Begroting'!$G$15,C12=Blad1!$D$4,'Basisgegevens Begroting'!$H$15,C12="",0)} -> 0 | H12: =+EigenPersoneel789456[[#This Row],[Kolom8]]*EigenPersoneel789456[[#This Row],[Kolom6]] -> 0 | I12: =IF(G12=100%,H12,"")
F13: =$D13*E13 -> 0 | G13: {=+_xlfn.IFS(C13=Blad1!$D$2,'Basisgegevens Begroting'!$I$15,C13=Blad1!$D$3,'Basisgegevens Begroting'!$G$15,C13=Blad1!$D$4,'Basisgegevens Begroting'!$H$15,C13="",0)} -> 0 | H13: =+EigenPersoneel789456[[#This Row],[Kolom8]]*EigenPersoneel789456[[#This Row],[Kolom6]] -> 0 | I13: =IF(G13=100%,H13,"")
F14: =$D14*E14 -> 0 | G14: {=+_xlfn.IFS(C14=Blad1!$D$2,'Basisgegevens Begroting'!$I$15,C14=Blad1!$D$3,'Basisgegevens Begroting'!$G$15,C14=Blad1!$D$4,'Basisgegevens Begroting'!$H$15,C14="",0)} -> 0 | H14: =+EigenPersoneel789456[[#This Row],[Kolom8]]*EigenPersoneel789456[[#This Row],[Kolom6]] -> 0 | I14: =IF(G14=100%,H14,"")
F15: =$D15*E15 -> 0 | G15: {=+_xlfn.IFS(C15=Blad1!$D$2,'Basisgegevens Begroting'!$I$15,C15=Blad1!$D$3,'Basisgegevens Begroting'!$G$15,C15=Blad1!$D$4,'Basisgegevens Begroting'!$H$15,C15="",0)} -> 0 | H15: =+EigenPersoneel789456[[#This Row],[Kolom8]]*EigenPersoneel789456[[#This Row],[Kolom6]] -> 0 | I15: =IF(G15=100%,H15,"")
F16: =$D16*E16 -> 0 | G16: {=+_xlfn.IFS(C16=Blad1!$D$2,'Basisgegevens Begroting'!$I$15,C16=Blad1!$D$3,'Basisgegevens Begroting'!$G$15,C16=Blad1!$D$4,'Basisgegevens Begroting'!$H$15,C16="",0)} -> 0 | H16: =+EigenPersoneel789456[[#This Row],[Kolom8]]*EigenPersoneel789456[[#This Row],[Kolom6]] -> 0 | I16: =IF(G16=100%,H16,"")
F17: =$D17*E17 -> 0 | G17: {=+_xlfn.IFS(C17=Blad1!$D$2,'Basisgegevens Begroting'!$I$15,C17=Blad1!$D$3,'Basisgegevens Begroting'!$G$15,C17=Blad1!$D$4,'Basisgegevens Begroting'!$H$15,C17="",0)} -> 0 | H17: =+EigenPersoneel789456[[#This Row],[Kolom8]]*EigenPersoneel789456[[#This Row],[Kolom6]] -> 0 | I17: =IF(G17=100%,H17,"")
F18: =$D18*E18 -> 0 | G18: {=+_xlfn.IFS(C18=Blad1!$D$2,'Basisgegevens Begroting'!$I$15,C18=Blad1!$D$3,'Basisgegevens Begroting'!$G$15,C18=Blad1!$D$4,'Basisgegevens Begroting'!$H$15,C18="",0)} -> 0 | H18: =+EigenPersoneel789456[[#This Row],[Kolom8]]*EigenPersoneel789456[[#This Row],[Kolom6]] -> 0 | I18: =IF(G18=100%,H18,"")
... F21: =$D21*E21 -> 0 | G21: {=+_xlfn.IFS(C21=Blad1!$D$2,'Basisgegevens Begroting'!$I$15,C21=Blad1!$D$3,'Basisgegevens Begroting'!$G$15,C21=Blad1!$D$4,'Basisgegevens Begroting'!$H$15,C21="",0)} -> 0 | H21: =+EigenPersoneel789456[[#This Row],[Kolom8]]*EigenPersoneel789456[[#This Row],[Kolom6]] -> 0 | I21: =IF(G21=100%,H21,"")
E22: Subtotaal: | F22: =SUM(F7:F21) -> 0 | G22: Subtotaal: | H22: =SUM(H7:H21) -> 0 | I22: =IF(G22=100%,H22,"")
I23: =IF(G23=100%,H23,"")
A24: Brandstofkosten | I24: =IF(G24=100%,H24,"")
A25: Omschrijving | B25: Leverancier | C25: Subsidiedoel | D25: Geschatte meerkosten per eenheid (kWh, liter, kilo) | E25: Aantal eenheden (kWh, liter, kilo) | F25: Kosten | G25: =+G6 -> Ophoging Subsidie % | H25: =+H6 -> Subsidie | I25: =IF(G25=100%,H25,"")
F26: =+D26*E26 -> 0 | G26: {=+_xlfn.IFS(C26=Blad1!$D$2,'Basisgegevens Begroting'!$I$15,C26=Blad1!$D$3,'Basisgegevens Begroting'!$G$15,C26=Blad1!$D$4,'Basisgegevens Begroting'!$H$15,C26="",0)} -> 0 | H26: =+G26*F26 -> 0 | I26: =IF(G26=100%,H26,"")
F27: =+D27*E27 -> 0 | G27: {=+_xlfn.IFS(C27=Blad1!$D$2,'Basisgegevens Begroting'!$I$15,C27=Blad1!$D$3,'Basisgegevens Begroting'!$G$15,C27=Blad1!$D$4,'Basisgegevens Begroting'!$H$15,C27="",0)} -> 0 | H27: =+G27*F27 -> 0 | I27: =IF(G27=100%,H27,"")
F28: =+D28*E28 -> 0 | G28: {=+_xlfn.IFS(C28=Blad1!$D$2,'Basisgegevens Begroting'!$I$15,C28=Blad1!$D$3,'Basisgegevens Begroting'!$G$15,C28=Blad1!$D$4,'Basisgegevens Begroting'!$H$15,C28="",0)} -> 0 | H28: =+G28*F28 -> 0 | I28: =IF(G28=100%,H28,"")
F29: =+D29*E29 -> 0 | G29: {=+_xlfn.IFS(C29=Blad1!$D$2,'Basisgegevens Begroting'!$I$15,C29=Blad1!$D$3,'Basisgegevens Begroting'!$G$15,C29=Blad1!$D$4,'Basisgegevens Begroting'!$H$15,C29="",0)} -> 0 | H29: =+G29*F29 -> 0 | I29: =IF(G29=100%,H29,"")
E30: Subtotaal: | F30: =SUM(F26:F29) -> 0 | H30: =SUM(H26:H29) -> 0 | I30: =IF(G30=100%,H30,"")
I31: =IF(G31=100%,H31,"")
A32: Projectspecifieke overige subsidiabele kosten (kosten derden) | I32: =IF(G32=100%,H32,"")
A33: Omschrijving | B33: Leverancier | C33: Subsidiedoel | D33: Offertenr | E33: Offertedatum | F33: Kosten | G33: =+G6 -> Ophoging Subsidie % | H33: =+H6 -> Subsidie | I33: =IF(G33=100%,H33,"")
F34: 0 | G34: {=+_xlfn.IFS(C34=Blad1!$D$2,'Basisgegevens Begroting'!$I$15,C34=Blad1!$D$3,'Basisgegevens Begroting'!$G$15,C34=Blad1!$D$4,'Basisgegevens Begroting'!$H$15,C34="",0)} -> 0 | H34: =+G34*F34 -> 0 | I34: =IF(G34=100%,H34,"")
F35: 0 | G35: {=+_xlfn.IFS(C35=Blad1!$D$2,'Basisgegevens Begroting'!$I$15,C35=Blad1!$D$3,'Basisgegevens Begroting'!$G$15,C35=Blad1!$D$4,'Basisgegevens Begroting'!$H$15,C35="",0)} -> 0 | H35: =+G35*F35 -> 0 | I35: =IF(G35=100%,H35,"")
F36: 0 | G36: {=+_xlfn.IFS(C36=Blad1!$D$2,'Basisgegevens Begroting'!$I$15,C36=Blad1!$D$3,'Basisgegevens Begroting'!$G$15,C36=Blad1!$D$4,'Basisgegevens Begroting'!$H$15,C36="",0)} -> 0 | H36: =+G36*F36 -> 0 | I36: =IF(G36=100%,H36,"")
F37: 0 | G37: {=+_xlfn.IFS(C37=Blad1!$D$2,'Basisgegevens Begroting'!$I$15,C37=Blad1!$D$3,'Basisgegevens Begroting'!$G$15,C37=Blad1!$D$4,'Basisgegevens Begroting'!$H$15,C37="",0)} -> 0 | H37: =+G37*F37 -> 0 | I37: =IF(G37=100%,H37,"")
F38: 0 | G38: {=+_xlfn.IFS(C38=Blad1!$D$2,'Basisgegevens Begroting'!$I$15,C38=Blad1!$D$3,'Basisgegevens Begroting'!$G$15,C38=Blad1!$D$4,'Basisgegevens Begroting'!$H$15,C38="",0)} -> 0 | H38: =+G38*F38 -> 0 | I38: =IF(G38=100%,H38,"")
F39: 0 | G39: {=+_xlfn.IFS(C39=Blad1!$D$2,'Basisgegevens Begroting'!$I$15,C39=Blad1!$D$3,'Basisgegevens Begroting'!$G$15,C39=Blad1!$D$4,'Basisgegevens Begroting'!$H$15,C39="",0)} -> 0 | H39: =+G39*F39 -> 0 | I39: =IF(G39=100%,H39,"")
F40: 0 | G40: {=+_xlfn.IFS(C40=Blad1!$D$2,'Basisgegevens Begroting'!$I$15,C40=Blad1!$D$3,'Basisgegevens Begroting'!$G$15,C40=Blad1!$D$4,'Basisgegevens Begroting'!$H$15,C40="",0)} -> 0 | H40: =+G40*F40 -> 0 | I40: =IF(G40=100%,H40,"")
F41: 0 | G41: {=+_xlfn.IFS(C41=Blad1!$D$2,'Basisgegevens Begroting'!$I$15,C41=Blad1!$D$3,'Basisgegevens Begroting'!$G$15,C41=Blad1!$D$4,'Basisgegevens Begroting'!$H$15,C41="",0)} -> 0 | H41: =+G41*F41 -> 0 | I41: =IF(G41=100%,H41,"")
F42: 0 | G42: {=+_xlfn.IFS(C42=Blad1!$D$2,'Basisgegevens Begroting'!$I$15,C42=Blad1!$D$3,'Basisgegevens Begroting'!$G$15,C42=Blad1!$D$4,'Basisgegevens Begroting'!$H$15,C42="",0)} -> 0 | H42: =+G42*F42 -> 0 | I42: =IF(G42=100%,H42,"")
F43: 0 | G43: {=+_xlfn.IFS(C43=Blad1!$D$2,'Basisgegevens Begroting'!$I$15,C43=Blad1!$D$3,'Basisgegevens Begroting'!$G$15,C43=Blad1!$D$4,'Basisgegevens Begroting'!$H$15,C43="",0)} -> 0 | H43: =+G43*F43 -> 0 | I43: =IF(G43=100%,H43,"")
F44: 0 | G44: {=+_xlfn.IFS(C44=Blad1!$D$2,'Basisgegevens Begroting'!$I$15,C44=Blad1!$D$3,'Basisgegevens Begroting'!$G$15,C44=Blad1!$D$4,'Basisgegevens Begroting'!$H$15,C44="",0)} -> 0 | H44: =+G44*F44 -> 0 | I44: =IF(G44=100%,H44,"")
F45: 0 | G45: {=+_xlfn.IFS(C45=Blad1!$D$2,'Basisgegevens Begroting'!$I$15,C45=Blad1!$D$3,'Basisgegevens Begroting'!$G$15,C45=Blad1!$D$4,'Basisgegevens Begroting'!$H$15,C45="",0)} -> 0 | H45: =+G45*F45 -> 0 | I45: =IF(G45=100%,H45,"")
... F49: 0 | G49: {=+_xlfn.IFS(C49=Blad1!$D$2,'Basisgegevens Begroting'!$I$15,C49=Blad1!$D$3,'Basisgegevens Begroting'!$G$15,C49=Blad1!$D$4,'Basisgegevens Begroting'!$H$15,C49="",0)} -> 0 | H49: =+G49*F49 -> 0 | I49: =IF(G49=100%,H49,"")
E51: Subtotaal: | F51: =SUM(F34:F50) -> 0 | G51: Subtotaal: | H51: =SUM(H34:H50) -> 0
A53: Subsidiabele kosten voor voor demonstratie noodzakelijke infrastructuur
A54: Omschrijving | B54: Leverancier | C54: Subsidiedoel | D54: Offertenr | E54: Offertedatum | F54: Kosten | G54: =+G33 -> Ophoging Subsidie % | H54: =+H33 -> Subsidie
F55: 0 | G55: {=+_xlfn.IFS(C55=Blad1!$D$2,'Basisgegevens Begroting'!$I$15,C55=Blad1!$D$3,'Basisgegevens Begroting'!$G$15,C55=Blad1!$D$4,'Basisgegevens Begroting'!$H$15,C55="",0)} -> 0 | H55: =+G55*F55 -> 0 | I55: =IF(G55=100%,H55,"")
F56: 0 | G56: {=+_xlfn.IFS(C56=Blad1!$D$2,'Basisgegevens Begroting'!$I$15,C56=Blad1!$D$3,'Basisgegevens Begroting'!$G$15,C56=Blad1!$D$4,'Basisgegevens Begroting'!$H$15,C56="",0)} -> 0 | H56: =+G56*F56 -> 0 | I56: =IF(G56=100%,H56,"")
F57: 0 | G57: {=+_xlfn.IFS(C57=Blad1!$D$2,'Basisgegevens Begroting'!$I$15,C57=Blad1!$D$3,'Basisgegevens Begroting'!$G$15,C57=Blad1!$D$4,'Basisgegevens Begroting'!$H$15,C57="",0)} -> 0 | H57: =+G57*F57 -> 0 | I57: =IF(G57=100%,H57,"")
F58: 0 | G58: {=+_xlfn.IFS(C58=Blad1!$D$2,'Basisgegevens Begroting'!$I$15,C58=Blad1!$D$3,'Basisgegevens Begroting'!$G$15,C58=Blad1!$D$4,'Basisgegevens Begroting'!$H$15,C58="",0)} -> 0 | H58: =+G58*F58 -> 0 | I58: =IF(G58=100%,H58,"")
F59: 0 | G59: {=+_xlfn.IFS(C59=Blad1!$D$2,'Basisgegevens Begroting'!$I$15,C59=Blad1!$D$3,'Basisgegevens Begroting'!$G$15,C59=Blad1!$D$4,'Basisgegevens Begroting'!$H$15,C59="",0)} -> 0 | H59: =+G59*F59 -> 0 | I59: =IF(G59=100%,H59,"")
F60: 0 | G60: {=+_xlfn.IFS(C60=Blad1!$D$2,'Basisgegevens Begroting'!$I$15,C60=Blad1!$D$3,'Basisgegevens Begroting'!$G$15,C60=Blad1!$D$4,'Basisgegevens Begroting'!$H$15,C60="",0)} -> 0 | H60: =+G60*F60 -> 0 | I60: =IF(G60=100%,H60,"")
E62: Subtotaal: | F62: =SUM(F55:F61) -> 0 | G62: Subtotaal: | H62: =SUM(H55:H61) -> 0
A64: Projectspecifieke kosten voor speciaal voor het project aan te schaffen materialen en hulpmiddelen
A65: Omschrijving materiaal | B65: Leverancier | C65: Subsidiedoel | D65: Offertenr | E65: Gebruikspercentage apparatuur | F65: Kosten | G65: =+G54 -> Ophoging Subsidie % | H65: =+H54 -> Subsidie
E66: 1 | F66: 0 | G66: {=+_xlfn.IFS(C66=Blad1!$D$2,'Basisgegevens Begroting'!$I$15,C66=Blad1!$D$3,'Basisgegevens Begroting'!$G$15,C66=Blad1!$D$4,'Basisgegevens Begroting'!$H$15,C66="",0)} -> 0 | H66: =+G66*F66*E66 -> 0 | I66: =IF(G66=100%,H66,"")
E67: 1 | F67: 0 | G67: {=+_xlfn.IFS(C67=Blad1!$D$2,'Basisgegevens Begroting'!$I$15,C67=Blad1!$D$3,'Basisgegevens Begroting'!$G$15,C67=Blad1!$D$4,'Basisgegevens Begroting'!$H$15,C67="",0)} -> 0 | H67: =+G67*F67*E67 -> 0 | I67: =IF(G67=100%,H67,"")
E68: 1 | F68: 0 | G68: {=+_xlfn.IFS(C68=Blad1!$D$2,'Basisgegevens Begroting'!$I$15,C68=Blad1!$D$3,'Basisgegevens Begroting'!$G$15,C68=Blad1!$D$4,'Basisgegevens Begroting'!$H$15,C68="",0)} -> 0 | H68: =+G68*F68*E68 -> 0 | I68: =IF(G68=100%,H68,"")
E69: 1 | F69: 0 | G69: {=+_xlfn.IFS(C69=Blad1!$D$2,'Basisgegevens Begroting'!$I$15,C69=Blad1!$D$3,'Basisgegevens Begroting'!$G$15,C69=Blad1!$D$4,'Basisgegevens Begroting'!$H$15,C69="",0)} -> 0 | H69: =+G69*F69*E69 -> 0 | I69: =IF(G69=100%,H69,"")
E70: 1 | F70: 0 | G70: {=+_xlfn.IFS(C70=Blad1!$D$2,'Basisgegevens Begroting'!$I$15,C70=Blad1!$D$3,'Basisgegevens Begroting'!$G$15,C70=Blad1!$D$4,'Basisgegevens Begroting'!$H$15,C70="",0)} -> 0 | H70: =+G70*F70*E70 -> 0 | I70: =IF(G70=100%,H70,"")
E71: 1 | F71: 0 | G71: {=+_xlfn.IFS(C71=Blad1!$D$2,'Basisgegevens Begroting'!$I$15,C71=Blad1!$D$3,'Basisgegevens Begroting'!$G$15,C71=Blad1!$D$4,'Basisgegevens Begroting'!$H$15,C71="",0)} -> 0 | H71: =+G71*F71*E71 -> 0 | I71: =IF(G71=100%,H71,"")
E72: 1 | F72: 0 | G72: {=+_xlfn.IFS(C72=Blad1!$D$2,'Basisgegevens Begroting'!$I$15,C72=Blad1!$D$3,'Basisgegevens Begroting'!$G$15,C72=Blad1!$D$4,'Basisgegevens Begroting'!$H$15,C72="",0)} -> 0 | H72: =+G72*F72*E72 -> 0 | I72: =IF(G72=100%,H72,"")
E73: 1 | F73: 0 | G73: {=+_xlfn.IFS(C73=Blad1!$D$2,'Basisgegevens Begroting'!$I$15,C73=Blad1!$D$3,'Basisgegevens Begroting'!$G$15,C73=Blad1!$D$4,'Basisgegevens Begroting'!$H$15,C73="",0)} -> 0 | H73: =+G73*F73*E73 -> 0 | I73: =IF(G73=100%,H73,"")
E74: 1 | F74: 0 | G74: {=+_xlfn.IFS(C74=Blad1!$D$2,'Basisgegevens Begroting'!$I$15,C74=Blad1!$D$3,'Basisgegevens Begroting'!$G$15,C74=Blad1!$D$4,'Basisgegevens Begroting'!$H$15,C74="",0)} -> 0 | H74: =+G74*F74*E74 -> 0 | I74: =IF(G74=100%,H74,"")
E75: 1 | F75: 0 | G75: {=+_xlfn.IFS(C75=Blad1!$D$2,'Basisgegevens Begroting'!$I$15,C75=Blad1!$D$3,'Basisgegevens Begroting'!$G$15,C75=Blad1!$D$4,'Basisgegevens Begroting'!$H$15,C75="",0)} -> 0 | H75: =+G75*F75*E75 -> 0 | I75: =IF(G75=100%,H75,"")
E76: 1 | F76: 0 | G76: {=+_xlfn.IFS(C76=Blad1!$D$2,'Basisgegevens Begroting'!$I$15,C76=Blad1!$D$3,'Basisgegevens Begroting'!$G$15,C76=Blad1!$D$4,'Basisgegevens Begroting'!$H$15,C76="",0)} -> 0 | H76: =+G76*F76*E76 -> 0 | I76: =IF(G76=100%,H76,"")
E77: 1 | F77: 0 | G77: {=+_xlfn.IFS(C77=Blad1!$D$2,'Basisgegevens Begroting'!$I$15,C77=Blad1!$D$3,'Basisgegevens Begroting'!$G$15,C77=Blad1!$D$4,'Basisgegevens Begroting'!$H$15,C77="",0)} -> 0 | H77: =+G77*F77*E77 -> 0 | I77: =IF(G77=100%,H77,"")
... E81: 1 | F81: 0 | G81: {=+_xlfn.IFS(C81=Blad1!$D$2,'Basisgegevens Begroting'!$I$15,C81=Blad1!$D$3,'Basisgegevens Begroting'!$G$15,C81=Blad1!$D$4,'Basisgegevens Begroting'!$H$15,C81="",0)} -> 0 | H81: =+G81*F81*E81 -> 0 | I81: =IF(G81=100%,H81,"")
I82: =IF(G82=100%,H82,"")
E83: Subtotaal: | F83: =SUM(F66:F82) -> 0 | G83: Subtotaal: | H83: =SUM(H66:H82) -> 0
E86: Totaal | F86: =+F51+F30+F22+F62+F83 -> 0 | H86: =+H51+H30+H22+H62+H83 -> 0 | I86: =SUM(I5:I82) -> 0

Sheet Kosten Deelnemer 8
A1: =+'Basisgegevens Begroting'!C16 -> 0
A4: Kolom1 | B4: Kolom2 | C4: Kolom22 | D4: Kolom3 | E4: Kolom5 | F4: Kolom6 | G4: Kolom8 | H4: Kolom9
A5: Personeelskosten | G5: =+Totaal!I9 -> 0
B6: Functie | C6: Subsidiedoel | D6: Uurtarief | E6: Aantal uren | F6: Uren x tarief | G6: Ophoging Subsidie % | H6: Subsidie
F7: =$D7*E7 -> 0 | G7: {=+_xlfn.IFS(C7=Blad1!$D$2,'Basisgegevens Begroting'!$I$16,C7=Blad1!$D$3,'Basisgegevens Begroting'!$G$16,C7=Blad1!$D$4,'Basisgegevens Begroting'!$H$16,C7="",0)} -> 0 | H7: =+EigenPersoneel78945612[[#This Row],[Kolom8]]*EigenPersoneel78945612[[#This Row],[Kolom6]] -> 0 | I7: =IF(G7=100%,H7,"")
F8: =$D8*E8 -> 0 | G8: {=+_xlfn.IFS(C8=Blad1!$D$2,'Basisgegevens Begroting'!$I$16,C8=Blad1!$D$3,'Basisgegevens Begroting'!$G$16,C8=Blad1!$D$4,'Basisgegevens Begroting'!$H$16,C8="",0)} -> 0 | H8: =+EigenPersoneel78945612[[#This Row],[Kolom8]]*EigenPersoneel78945612[[#This Row],[Kolom6]] -> 0 | I8: =IF(G8=100%,H8,"")
F9: =$D9*E9 -> 0 | G9: {=+_xlfn.IFS(C9=Blad1!$D$2,'Basisgegevens Begroting'!$I$16,C9=Blad1!$D$3,'Basisgegevens Begroting'!$G$16,C9=Blad1!$D$4,'Basisgegevens Begroting'!$H$16,C9="",0)} -> 0 | H9: =+EigenPersoneel78945612[[#This Row],[Kolom8]]*EigenPersoneel78945612[[#This Row],[Kolom6]] -> 0 | I9: =IF(G9=100%,H9,"")
F10: =$D10*E10 -> 0 | G10: {=+_xlfn.IFS(C10=Blad1!$D$2,'Basisgegevens Begroting'!$I$16,C10=Blad1!$D$3,'Basisgegevens Begroting'!$G$16,C10=Blad1!$D$4,'Basisgegevens Begroting'!$H$16,C10="",0)} -> 0 | H10: =+EigenPersoneel78945612[[#This Row],[Kolom8]]*EigenPersoneel78945612[[#This Row],[Kolom6]] -> 0 | I10: =IF(G10=100%,H10,"")
F11: =$D11*E11 -> 0 | G11: {=+_xlfn.IFS(C11=Blad1!$D$2,'Basisgegevens Begroting'!$I$16,C11=Blad1!$D$3,'Basisgegevens Begroting'!$G$16,C11=Blad1!$D$4,'Basisgegevens Begroting'!$H$16,C11="",0)} -> 0 | H11: =+EigenPersoneel78945612[[#This Row],[Kolom8]]*EigenPersoneel78945612[[#This Row],[Kolom6]] -> 0 | I11: =IF(G11=100%,H11,"")
F12: =$D12*E12 -> 0 | G12: {=+_xlfn.IFS(C12=Blad1!$D$2,'Basisgegevens Begroting'!$I$16,C12=Blad1!$D$3,'Basisgegevens Begroting'!$G$16,C12=Blad1!$D$4,'Basisgegevens Begroting'!$H$16,C12="",0)} -> 0 | H12: =+EigenPersoneel78945612[[#This Row],[Kolom8]]*EigenPersoneel78945612[[#This Row],[Kolom6]] -> 0 | I12: =IF(G12=100%,H12,"")
F13: =$D13*E13 -> 0 | G13: {=+_xlfn.IFS(C13=Blad1!$D$2,'Basisgegevens Begroting'!$I$16,C13=Blad1!$D$3,'Basisgegevens Begroting'!$G$16,C13=Blad1!$D$4,'Basisgegevens Begroting'!$H$16,C13="",0)} -> 0 | H13: =+EigenPersoneel78945612[[#This Row],[Kolom8]]*EigenPersoneel78945612[[#This Row],[Kolom6]] -> 0 | I13: =IF(G13=100%,H13,"")
F14: =$D14*E14 -> 0 | G14: {=+_xlfn.IFS(C14=Blad1!$D$2,'Basisgegevens Begroting'!$I$16,C14=Blad1!$D$3,'Basisgegevens Begroting'!$G$16,C14=Blad1!$D$4,'Basisgegevens Begroting'!$H$16,C14="",0)} -> 0 | H14: =+EigenPersoneel78945612[[#This Row],[Kolom8]]*EigenPersoneel78945612[[#This Row],[Kolom6]] -> 0 | I14: =IF(G14=100%,H14,"")
F15: =$D15*E15 -> 0 | G15: {=+_xlfn.IFS(C15=Blad1!$D$2,'Basisgegevens Begroting'!$I$16,C15=Blad1!$D$3,'Basisgegevens Begroting'!$G$16,C15=Blad1!$D$4,'Basisgegevens Begroting'!$H$16,C15="",0)} -> 0 | H15: =+EigenPersoneel78945612[[#This Row],[Kolom8]]*EigenPersoneel78945612[[#This Row],[Kolom6]] -> 0 | I15: =IF(G15=100%,H15,"")
F16: =$D16*E16 -> 0 | G16: {=+_xlfn.IFS(C16=Blad1!$D$2,'Basisgegevens Begroting'!$I$16,C16=Blad1!$D$3,'Basisgegevens Begroting'!$G$16,C16=Blad1!$D$4,'Basisgegevens Begroting'!$H$16,C16="",0)} -> 0 | H16: =+EigenPersoneel78945612[[#This Row],[Kolom8]]*EigenPersoneel78945612[[#This Row],[Kolom6]] -> 0 | I16: =IF(G16=100%,H16,"")
F17: =$D17*E17 -> 0 | G17: {=+_xlfn.IFS(C17=Blad1!$D$2,'Basisgegevens Begroting'!$I$16,C17=Blad1!$D$3,'Basisgegevens Begroting'!$G$16,C17=Blad1!$D$4,'Basisgegevens Begroting'!$H$16,C17="",0)} -> 0 | H17: =+EigenPersoneel78945612[[#This Row],[Kolom8]]*EigenPersoneel78945612[[#This Row],[Kolom6]] -> 0 | I17: =IF(G17=100%,H17,"")
F18: =$D18*E18 -> 0 | G18: {=+_xlfn.IFS(C18=Blad1!$D$2,'Basisgegevens Begroting'!$I$16,C18=Blad1!$D$3,'Basisgegevens Begroting'!$G$16,C18=Blad1!$D$4,'Basisgegevens Begroting'!$H$16,C18="",0)} -> 0 | H18: =+EigenPersoneel78945612[[#This Row],[Kolom8]]*EigenPersoneel78945612[[#This Row],[Kolom6]] -> 0 | I18: =IF(G18=100%,H18,"")
... F21: =$D21*E21 -> 0 | G21: {=+_xlfn.IFS(C21=Blad1!$D$2,'Basisgegevens Begroting'!$I$16,C21=Blad1!$D$3,'Basisgegevens Begroting'!$G$16,C21=Blad1!$D$4,'Basisgegevens Begroting'!$H$16,C21="",0)} -> 0 | H21: =+EigenPersoneel78945612[[#This Row],[Kolom8]]*EigenPersoneel78945612[[#This Row],[Kolom6]] -> 0 | I21: =IF(G21=100%,H21,"")
E22: Subtotaal: | F22: =SUM(F7:F21) -> 0 | G22: Subtotaal: | H22: =SUM(H7:H21) -> 0 | I22: =IF(G22=100%,H22,"")
I23: =IF(G23=100%,H23,"")
A24: Brandstofkosten | I24: =IF(G24=100%,H24,"")
A25: Omschrijving | B25: Leverancier | C25: Subsidiedoel | D25: Geschatte meerkosten per eenheid (kWh, liter, kilo) | E25: Aantal eenheden (kWh, liter, kilo) | F25: Kosten | G25: =+G6 -> Ophoging Subsidie % | H25: =+H6 -> Subsidie | I25: =IF(G25=100%,H25,"")
F26: =+D26*E26 -> 0 | G26: {=+_xlfn.IFS(C26=Blad1!$D$2,'Basisgegevens Begroting'!$I$16,C26=Blad1!$D$3,'Basisgegevens Begroting'!$G$16,C26=Blad1!$D$4,'Basisgegevens Begroting'!$H$16,C26="",0)} -> 0 | H26: =+G26*F26 -> 0 | I26: =IF(G26=100%,H26,"")
F27: =+D27*E27 -> 0 | G27: {=+_xlfn.IFS(C27=Blad1!$D$2,'Basisgegevens Begroting'!$I$16,C27=Blad1!$D$3,'Basisgegevens Begroting'!$G$16,C27=Blad1!$D$4,'Basisgegevens Begroting'!$H$16,C27="",0)} -> 0 | H27: =+G27*F27 -> 0 | I27: =IF(G27=100%,H27,"")
F28: =+D28*E28 -> 0 | G28: {=+_xlfn.IFS(C28=Blad1!$D$2,'Basisgegevens Begroting'!$I$16,C28=Blad1!$D$3,'Basisgegevens Begroting'!$G$16,C28=Blad1!$D$4,'Basisgegevens Begroting'!$H$16,C28="",0)} -> 0 | H28: =+G28*F28 -> 0 | I28: =IF(G28=100%,H28,"")
F29: =+D29*E29 -> 0 | G29: {=+_xlfn.IFS(C29=Blad1!$D$2,'Basisgegevens Begroting'!$I$16,C29=Blad1!$D$3,'Basisgegevens Begroting'!$G$16,C29=Blad1!$D$4,'Basisgegevens Begroting'!$H$16,C29="",0)} -> 0 | H29: =+G29*F29 -> 0 | I29: =IF(G29=100%,H29,"")
E30: Subtotaal: | F30: =SUM(F26:F29) -> 0 | H30: =SUM(H26:H29) -> 0 | I30: =IF(G30=100%,H30,"")
I31: =IF(G31=100%,H31,"")
A32: Projectspecifieke overige subsidiabele kosten (kosten derden) | I32: =IF(G32=100%,H32,"")
A33: Omschrijving | B33: Leverancier | C33: Subsidiedoel | D33: Offertenr | E33: Offertedatum | F33: Kosten | G33: =+G6 -> Ophoging Subsidie % | H33: =+H6 -> Subsidie | I33: =IF(G33=100%,H33,"")
F34: 0 | G34: {=+_xlfn.IFS(C34=Blad1!$D$2,'Basisgegevens Begroting'!$I$16,C34=Blad1!$D$3,'Basisgegevens Begroting'!$G$16,C34=Blad1!$D$4,'Basisgegevens Begroting'!$H$16,C34="",0)} -> 0 | H34: =+G34*F34 -> 0 | I34: =IF(G34=100%,H34,"")
F35: 0 | G35: {=+_xlfn.IFS(C35=Blad1!$D$2,'Basisgegevens Begroting'!$I$16,C35=Blad1!$D$3,'Basisgegevens Begroting'!$G$16,C35=Blad1!$D$4,'Basisgegevens Begroting'!$H$16,C35="",0)} -> 0 | H35: =+G35*F35 -> 0 | I35: =IF(G35=100%,H35,"")
F36: 0 | G36: {=+_xlfn.IFS(C36=Blad1!$D$2,'Basisgegevens Begroting'!$I$16,C36=Blad1!$D$3,'Basisgegevens Begroting'!$G$16,C36=Blad1!$D$4,'Basisgegevens Begroting'!$H$16,C36="",0)} -> 0 | H36: =+G36*F36 -> 0 | I36: =IF(G36=100%,H36,"")
F37: 0 | G37: {=+_xlfn.IFS(C37=Blad1!$D$2,'Basisgegevens Begroting'!$I$16,C37=Blad1!$D$3,'Basisgegevens Begroting'!$G$16,C37=Blad1!$D$4,'Basisgegevens Begroting'!$H$16,C37="",0)} -> 0 | H37: =+G37*F37 -> 0 | I37: =IF(G37=100%,H37,"")
F38: 0 | G38: {=+_xlfn.IFS(C38=Blad1!$D$2,'Basisgegevens Begroting'!$I$16,C38=Blad1!$D$3,'Basisgegevens Begroting'!$G$16,C38=Blad1!$D$4,'Basisgegevens Begroting'!$H$16,C38="",0)} -> 0 | H38: =+G38*F38 -> 0 | I38: =IF(G38=100%,H38,"")
F39: 0 | G39: {=+_xlfn.IFS(C39=Blad1!$D$2,'Basisgegevens Begroting'!$I$16,C39=Blad1!$D$3,'Basisgegevens Begroting'!$G$16,C39=Blad1!$D$4,'Basisgegevens Begroting'!$H$16,C39="",0)} -> 0 | H39: =+G39*F39 -> 0 | I39: =IF(G39=100%,H39,"")
F40: 0 | G40: {=+_xlfn.IFS(C40=Blad1!$D$2,'Basisgegevens Begroting'!$I$16,C40=Blad1!$D$3,'Basisgegevens Begroting'!$G$16,C40=Blad1!$D$4,'Basisgegevens Begroting'!$H$16,C40="",0)} -> 0 | H40: =+G40*F40 -> 0 | I40: =IF(G40=100%,H40,"")
F41: 0 | G41: {=+_xlfn.IFS(C41=Blad1!$D$2,'Basisgegevens Begroting'!$I$16,C41=Blad1!$D$3,'Basisgegevens Begroting'!$G$16,C41=Blad1!$D$4,'Basisgegevens Begroting'!$H$16,C41="",0)} -> 0 | H41: =+G41*F41 -> 0 | I41: =IF(G41=100%,H41,"")
F42: 0 | G42: {=+_xlfn.IFS(C42=Blad1!$D$2,'Basisgegevens Begroting'!$I$16,C42=Blad1!$D$3,'Basisgegevens Begroting'!$G$16,C42=Blad1!$D$4,'Basisgegevens Begroting'!$H$16,C42="",0)} -> 0 | H42: =+G42*F42 -> 0 | I42: =IF(G42=100%,H42,"")
F43: 0 | G43: {=+_xlfn.IFS(C43=Blad1!$D$2,'Basisgegevens Begroting'!$I$16,C43=Blad1!$D$3,'Basisgegevens Begroting'!$G$16,C43=Blad1!$D$4,'Basisgegevens Begroting'!$H$16,C43="",0)} -> 0 | H43: =+G43*F43 -> 0 | I43: =IF(G43=100%,H43,"")
F44: 0 | G44: {=+_xlfn.IFS(C44=Blad1!$D$2,'Basisgegevens Begroting'!$I$16,C44=Blad1!$D$3,'Basisgegevens Begroting'!$G$16,C44=Blad1!$D$4,'Basisgegevens Begroting'!$H$16,C44="",0)} -> 0 | H44: =+G44*F44 -> 0 | I44: =IF(G44=100%,H44,"")
F45: 0 | G45: {=+_xlfn.IFS(C45=Blad1!$D$2,'Basisgegevens Begroting'!$I$16,C45=Blad1!$D$3,'Basisgegevens Begroting'!$G$16,C45=Blad1!$D$4,'Basisgegevens Begroting'!$H$16,C45="",0)} -> 0 | H45: =+G45*F45 -> 0 | I45: =IF(G45=100%,H45,"")
... F49: 0 | G49: {=+_xlfn.IFS(C49=Blad1!$D$2,'Basisgegevens Begroting'!$I$16,C49=Blad1!$D$3,'Basisgegevens Begroting'!$G$16,C49=Blad1!$D$4,'Basisgegevens Begroting'!$H$16,C49="",0)} -> 0 | H49: =+G49*F49 -> 0 | I49: =IF(G49=100%,H49,"")
E51: Subtotaal: | F51: =SUM(F34:F50) -> 0 | G51: Subtotaal: | H51: =SUM(H34:H50) -> 0
A53: Subsidiabele kosten voor voor demonstratie noodzakelijke infrastructuur
A54: Omschrijving | B54: Leverancier | C54: Subsidiedoel | D54: Offertenr | E54: Offertedatum | F54: Kosten | G54: =+G33 -> Ophoging Subsidie % | H54: =+H33 -> Subsidie
F55: 0 | G55: {=+_xlfn.IFS(C55=Blad1!$D$2,'Basisgegevens Begroting'!$I$16,C55=Blad1!$D$3,'Basisgegevens Begroting'!$G$16,C55=Blad1!$D$4,'Basisgegevens Begroting'!$H$16,C55="",0)} -> 0 | H55: =+G55*F55 -> 0 | I55: =IF(G55=100%,H55,"")
F56: 0 | G56: {=+_xlfn.IFS(C56=Blad1!$D$2,'Basisgegevens Begroting'!$I$16,C56=Blad1!$D$3,'Basisgegevens Begroting'!$G$16,C56=Blad1!$D$4,'Basisgegevens Begroting'!$H$16,C56="",0)} -> 0 | H56: =+G56*F56 -> 0 | I56: =IF(G56=100%,H56,"")
F57: 0 | G57: {=+_xlfn.IFS(C57=Blad1!$D$2,'Basisgegevens Begroting'!$I$16,C57=Blad1!$D$3,'Basisgegevens Begroting'!$G$16,C57=Blad1!$D$4,'Basisgegevens Begroting'!$H$16,C57="",0)} -> 0 | H57: =+G57*F57 -> 0 | I57: =IF(G57=100%,H57,"")
F58: 0 | G58: {=+_xlfn.IFS(C58=Blad1!$D$2,'Basisgegevens Begroting'!$I$16,C58=Blad1!$D$3,'Basisgegevens Begroting'!$G$16,C58=Blad1!$D$4,'Basisgegevens Begroting'!$H$16,C58="",0)} -> 0 | H58: =+G58*F58 -> 0 | I58: =IF(G58=100%,H58,"")
F59: 0 | G59: {=+_xlfn.IFS(C59=Blad1!$D$2,'Basisgegevens Begroting'!$I$16,C59=Blad1!$D$3,'Basisgegevens Begroting'!$G$16,C59=Blad1!$D$4,'Basisgegevens Begroting'!$H$16,C59="",0)} -> 0 | H59: =+G59*F59 -> 0 | I59: =IF(G59=100%,H59,"")
F60: 0 | G60: {=+_xlfn.IFS(C60=Blad1!$D$2,'Basisgegevens Begroting'!$I$16,C60=Blad1!$D$3,'Basisgegevens Begroting'!$G$16,C60=Blad1!$D$4,'Basisgegevens Begroting'!$H$16,C60="",0)} -> 0 | H60: =+G60*F60 -> 0 | I60: =IF(G60=100%,H60,"")
E62: Subtotaal: | F62: =SUM(F55:F61) -> 0 | G62: Subtotaal: | H62: =SUM(H55:H61) -> 0
A64: Projectspecifieke kosten voor speciaal voor het project aan te schaffen materialen en hulpmiddelen
A65: Omschrijving materiaal | B65: Leverancier | C65: Subsidiedoel | D65: Offertenr | E65: Gebruikspercentage apparatuur | F65: Kosten | G65: =+G54 -> Ophoging Subsidie % | H65: =+H54 -> Subsidie
E66: 1 | F66: 0 | G66: {=+_xlfn.IFS(C66=Blad1!$D$2,'Basisgegevens Begroting'!$I$16,C66=Blad1!$D$3,'Basisgegevens Begroting'!$G$16,C66=Blad1!$D$4,'Basisgegevens Begroting'!$H$16,C66="",0)} -> 0 | H66: =+G66*F66*E66 -> 0 | I66: =IF(G66=100%,H66,"")
E67: 1 | F67: 0 | G67: {=+_xlfn.IFS(C67=Blad1!$D$2,'Basisgegevens Begroting'!$I$16,C67=Blad1!$D$3,'Basisgegevens Begroting'!$G$16,C67=Blad1!$D$4,'Basisgegevens Begroting'!$H$16,C67="",0)} -> 0 | H67: =+G67*F67*E67 -> 0 | I67: =IF(G67=100%,H67,"")
E68: 1 | F68: 0 | G68: {=+_xlfn.IFS(C68=Blad1!$D$2,'Basisgegevens Begroting'!$I$16,C68=Blad1!$D$3,'Basisgegevens Begroting'!$G$16,C68=Blad1!$D$4,'Basisgegevens Begroting'!$H$16,C68="",0)} -> 0 | H68: =+G68*F68*E68 -> 0 | I68: =IF(G68=100%,H68,"")
E69: 1 | F69: 0 | G69: {=+_xlfn.IFS(C69=Blad1!$D$2,'Basisgegevens Begroting'!$I$16,C69=Blad1!$D$3,'Basisgegevens Begroting'!$G$16,C69=Blad1!$D$4,'Basisgegevens Begroting'!$H$16,C69="",0)} -> 0 | H69: =+G69*F69*E69 -> 0 | I69: =IF(G69=100%,H69,"")
E70: 1 | F70: 0 | G70: {=+_xlfn.IFS(C70=Blad1!$D$2,'Basisgegevens Begroting'!$I$16,C70=Blad1!$D$3,'Basisgegevens Begroting'!$G$16,C70=Blad1!$D$4,'Basisgegevens Begroting'!$H$16,C70="",0)} -> 0 | H70: =+G70*F70*E70 -> 0 | I70: =IF(G70=100%,H70,"")
E71: 1 | F71: 0 | G71: {=+_xlfn.IFS(C71=Blad1!$D$2,'Basisgegevens Begroting'!$I$16,C71=Blad1!$D$3,'Basisgegevens Begroting'!$G$16,C71=Blad1!$D$4,'Basisgegevens Begroting'!$H$16,C71="",0)} -> 0 | H71: =+G71*F71*E71 -> 0 | I71: =IF(G71=100%,H71,"")
E72: 1 | F72: 0 | G72: {=+_xlfn.IFS(C72=Blad1!$D$2,'Basisgegevens Begroting'!$I$16,C72=Blad1!$D$3,'Basisgegevens Begroting'!$G$16,C72=Blad1!$D$4,'Basisgegevens Begroting'!$H$16,C72="",0)} -> 0 | H72: =+G72*F72*E72 -> 0 | I72: =IF(G72=100%,H72,"")
E73: 1 | F73: 0 | G73: {=+_xlfn.IFS(C73=Blad1!$D$2,'Basisgegevens Begroting'!$I$16,C73=Blad1!$D$3,'Basisgegevens Begroting'!$G$16,C73=Blad1!$D$4,'Basisgegevens Begroting'!$H$16,C73="",0)} -> 0 | H73: =+G73*F73*E73 -> 0 | I73: =IF(G73=100%,H73,"")
E74: 1 | F74: 0 | G74: {=+_xlfn.IFS(C74=Blad1!$D$2,'Basisgegevens Begroting'!$I$16,C74=Blad1!$D$3,'Basisgegevens Begroting'!$G$16,C74=Blad1!$D$4,'Basisgegevens Begroting'!$H$16,C74="",0)} -> 0 | H74: =+G74*F74*E74 -> 0 | I74: =IF(G74=100%,H74,"")
E75: 1 | F75: 0 | G75: {=+_xlfn.IFS(C75=Blad1!$D$2,'Basisgegevens Begroting'!$I$16,C75=Blad1!$D$3,'Basisgegevens Begroting'!$G$16,C75=Blad1!$D$4,'Basisgegevens Begroting'!$H$16,C75="",0)} -> 0 | H75: =+G75*F75*E75 -> 0 | I75: =IF(G75=100%,H75,"")
E76: 1 | F76: 0 | G76: {=+_xlfn.IFS(C76=Blad1!$D$2,'Basisgegevens Begroting'!$I$16,C76=Blad1!$D$3,'Basisgegevens Begroting'!$G$16,C76=Blad1!$D$4,'Basisgegevens Begroting'!$H$16,C76="",0)} -> 0 | H76: =+G76*F76*E76 -> 0 | I76: =IF(G76=100%,H76,"")
E77: 1 | F77: 0 | G77: {=+_xlfn.IFS(C77=Blad1!$D$2,'Basisgegevens Begroting'!$I$16,C77=Blad1!$D$3,'Basisgegevens Begroting'!$G$16,C77=Blad1!$D$4,'Basisgegevens Begroting'!$H$16,C77="",0)} -> 0 | H77: =+G77*F77*E77 -> 0 | I77: =IF(G77=100%,H77,"")
... E81: 1 | F81: 0 | G81: {=+_xlfn.IFS(C81=Blad1!$D$2,'Basisgegevens Begroting'!$I$16,C81=Blad1!$D$3,'Basisgegevens Begroting'!$G$16,C81=Blad1!$D$4,'Basisgegevens Begroting'!$H$16,C81="",0)} -> 0 | H81: =+G81*F81*E81 -> 0 | I81: =IF(G81=100%,H81,"")
I82: =IF(G82=100%,H82,"")
E83: Subtotaal: | F83: =SUM(F66:F82) -> 0 | G83: Subtotaal: | H83: =SUM(H66:H82) -> 0
E86: Totaal | F86: =+F51+F30+F22+F62+F83 -> 0 | H86: =+H51+H30+H22+H62+H83 -> 0 | I86: =SUM(I5:I82) -> 0

Sheet Kosten Deelnemer 9
A1: =+'Basisgegevens Begroting'!C17 -> 0
A4: Kolom1 | B4: Kolom2 | C4: Kolom22 | D4: Kolom3 | E4: Kolom5 | F4: Kolom6 | G4: Kolom8 | H4: Kolom9
A5: Personeelskosten | G5: =+Totaal!I9 -> 0
B6: Functie | C6: Subsidiedoel | D6: Uurtarief | E6: Aantal uren | F6: Uren x tarief | G6: Ophoging Subsidie % | H6: Subsidie
F7: =$D7*E7 -> 0 | G7: {=+_xlfn.IFS(C7=Blad1!$D$2,'Basisgegevens Begroting'!$I$17,C7=Blad1!$D$3,'Basisgegevens Begroting'!$G$17,C7=Blad1!$D$4,'Basisgegevens Begroting'!$H$17,C7="",0)} -> 0 | H7: =+EigenPersoneel7894510[[#This Row],[Kolom8]]*EigenPersoneel7894510[[#This Row],[Kolom6]] -> 0 | I7: =IF(G7=100%,H7,"")
F8: =$D8*E8 -> 0 | G8: {=+_xlfn.IFS(C8=Blad1!$D$2,'Basisgegevens Begroting'!$I$17,C8=Blad1!$D$3,'Basisgegevens Begroting'!$G$17,C8=Blad1!$D$4,'Basisgegevens Begroting'!$H$17,C8="",0)} -> 0 | H8: =+EigenPersoneel7894510[[#This Row],[Kolom8]]*EigenPersoneel7894510[[#This Row],[Kolom6]] -> 0 | I8: =IF(G8=100%,H8,"")
F9: =$D9*E9 -> 0 | G9: {=+_xlfn.IFS(C9=Blad1!$D$2,'Basisgegevens Begroting'!$I$17,C9=Blad1!$D$3,'Basisgegevens Begroting'!$G$17,C9=Blad1!$D$4,'Basisgegevens Begroting'!$H$17,C9="",0)} -> 0 | H9: =+EigenPersoneel7894510[[#This Row],[Kolom8]]*EigenPersoneel7894510[[#This Row],[Kolom6]] -> 0 | I9: =IF(G9=100%,H9,"")
F10: =$D10*E10 -> 0 | G10: {=+_xlfn.IFS(C10=Blad1!$D$2,'Basisgegevens Begroting'!$I$17,C10=Blad1!$D$3,'Basisgegevens Begroting'!$G$17,C10=Blad1!$D$4,'Basisgegevens Begroting'!$H$17,C10="",0)} -> 0 | H10: =+EigenPersoneel7894510[[#This Row],[Kolom8]]*EigenPersoneel7894510[[#This Row],[Kolom6]] -> 0 | I10: =IF(G10=100%,H10,"")
F11: =$D11*E11 -> 0 | G11: {=+_xlfn.IFS(C11=Blad1!$D$2,'Basisgegevens Begroting'!$I$17,C11=Blad1!$D$3,'Basisgegevens Begroting'!$G$17,C11=Blad1!$D$4,'Basisgegevens Begroting'!$H$17,C11="",0)} -> 0 | H11: =+EigenPersoneel7894510[[#This Row],[Kolom8]]*EigenPersoneel7894510[[#This Row],[Kolom6]] -> 0 | I11: =IF(G11=100%,H11,"")
F12: =$D12*E12 -> 0 | G12: {=+_xlfn.IFS(C12=Blad1!$D$2,'Basisgegevens Begroting'!$I$17,C12=Blad1!$D$3,'Basisgegevens Begroting'!$G$17,C12=Blad1!$D$4,'Basisgegevens Begroting'!$H$17,C12="",0)} -> 0 | H12: =+EigenPersoneel7894510[[#This Row],[Kolom8]]*EigenPersoneel7894510[[#This Row],[Kolom6]] -> 0 | I12: =IF(G12=100%,H12,"")
F13: =$D13*E13 -> 0 | G13: {=+_xlfn.IFS(C13=Blad1!$D$2,'Basisgegevens Begroting'!$I$17,C13=Blad1!$D$3,'Basisgegevens Begroting'!$G$17,C13=Blad1!$D$4,'Basisgegevens Begroting'!$H$17,C13="",0)} -> 0 | H13: =+EigenPersoneel7894510[[#This Row],[Kolom8]]*EigenPersoneel7894510[[#This Row],[Kolom6]] -> 0 | I13: =IF(G13=100%,H13,"")
F14: =$D14*E14 -> 0 | G14: {=+_xlfn.IFS(C14=Blad1!$D$2,'Basisgegevens Begroting'!$I$17,C14=Blad1!$D$3,'Basisgegevens Begroting'!$G$17,C14=Blad1!$D$4,'Basisgegevens Begroting'!$H$17,C14="",0)} -> 0 | H14: =+EigenPersoneel7894510[[#This Row],[Kolom8]]*EigenPersoneel7894510[[#This Row],[Kolom6]] -> 0 | I14: =IF(G14=100%,H14,"")
F15: =$D15*E15 -> 0 | G15: {=+_xlfn.IFS(C15=Blad1!$D$2,'Basisgegevens Begroting'!$I$17,C15=Blad1!$D$3,'Basisgegevens Begroting'!$G$17,C15=Blad1!$D$4,'Basisgegevens Begroting'!$H$17,C15="",0)} -> 0 | H15: =+EigenPersoneel7894510[[#This Row],[Kolom8]]*EigenPersoneel7894510[[#This Row],[Kolom6]] -> 0 | I15: =IF(G15=100%,H15,"")
F16: =$D16*E16 -> 0 | G16: {=+_xlfn.IFS(C16=Blad1!$D$2,'Basisgegevens Begroting'!$I$17,C16=Blad1!$D$3,'Basisgegevens Begroting'!$G$17,C16=Blad1!$D$4,'Basisgegevens Begroting'!$H$17,C16="",0)} -> 0 | H16: =+EigenPersoneel7894510[[#This Row],[Kolom8]]*EigenPersoneel7894510[[#This Row],[Kolom6]] -> 0 | I16: =IF(G16=100%,H16,"")
F17: =$D17*E17 -> 0 | G17: {=+_xlfn.IFS(C17=Blad1!$D$2,'Basisgegevens Begroting'!$I$17,C17=Blad1!$D$3,'Basisgegevens Begroting'!$G$17,C17=Blad1!$D$4,'Basisgegevens Begroting'!$H$17,C17="",0)} -> 0 | H17: =+EigenPersoneel7894510[[#This Row],[Kolom8]]*EigenPersoneel7894510[[#This Row],[Kolom6]] -> 0 | I17: =IF(G17=100%,H17,"")
F18: =$D18*E18 -> 0 | G18: {=+_xlfn.IFS(C18=Blad1!$D$2,'Basisgegevens Begroting'!$I$17,C18=Blad1!$D$3,'Basisgegevens Begroting'!$G$17,C18=Blad1!$D$4,'Basisgegevens Begroting'!$H$17,C18="",0)} -> 0 | H18: =+EigenPersoneel7894510[[#This Row],[Kolom8]]*EigenPersoneel7894510[[#This Row],[Kolom6]] -> 0 | I18: =IF(G18=100%,H18,"")
... F21: =$D21*E21 -> 0 | G21: {=+_xlfn.IFS(C21=Blad1!$D$2,'Basisgegevens Begroting'!$I$17,C21=Blad1!$D$3,'Basisgegevens Begroting'!$G$17,C21=Blad1!$D$4,'Basisgegevens Begroting'!$H$17,C21="",0)} -> 0 | H21: =+EigenPersoneel7894510[[#This Row],[Kolom8]]*EigenPersoneel7894510[[#This Row],[Kolom6]] -> 0 | I21: =IF(G21=100%,H21,"")
E22: Subtotaal: | F22: =SUM(F7:F21) -> 0 | G22: Subtotaal: | H22: =SUM(H7:H21) -> 0 | I22: =IF(G22=100%,H22,"")
I23: =IF(G23=100%,H23,"")
A24: Brandstofkosten | I24: =IF(G24=100%,H24,"")
A25: Omschrijving | B25: Leverancier | C25: Subsidiedoel | D25: Geschatte meerkosten per eenheid (kWh, liter, kilo) | E25: Aantal eenheden (kWh, liter, kilo) | F25: Kosten | G25: =+G6 -> Ophoging Subsidie % | H25: =+H6 -> Subsidie | I25: =IF(G25=100%,H25,"")
F26: =+D26*E26 -> 0 | G26: {=+_xlfn.IFS(C26=Blad1!$D$2,'Basisgegevens Begroting'!$I$17,C26=Blad1!$D$3,'Basisgegevens Begroting'!$G$17,C26=Blad1!$D$4,'Basisgegevens Begroting'!$H$17,C26="",0)} -> 0 | H26: =+G26*F26 -> 0 | I26: =IF(G26=100%,H26,"")
F27: =+D27*E27 -> 0 | G27: {=+_xlfn.IFS(C27=Blad1!$D$2,'Basisgegevens Begroting'!$I$17,C27=Blad1!$D$3,'Basisgegevens Begroting'!$G$17,C27=Blad1!$D$4,'Basisgegevens Begroting'!$H$17,C27="",0)} -> 0 | H27: =+G27*F27 -> 0 | I27: =IF(G27=100%,H27,"")
F28: =+D28*E28 -> 0 | G28: {=+_xlfn.IFS(C28=Blad1!$D$2,'Basisgegevens Begroting'!$I$17,C28=Blad1!$D$3,'Basisgegevens Begroting'!$G$17,C28=Blad1!$D$4,'Basisgegevens Begroting'!$H$17,C28="",0)} -> 0 | H28: =+G28*F28 -> 0 | I28: =IF(G28=100%,H28,"")
F29: =+D29*E29 -> 0 | G29: {=+_xlfn.IFS(C29=Blad1!$D$2,'Basisgegevens Begroting'!$I$17,C29=Blad1!$D$3,'Basisgegevens Begroting'!$G$17,C29=Blad1!$D$4,'Basisgegevens Begroting'!$H$17,C29="",0)} -> 0 | H29: =+G29*F29 -> 0 | I29: =IF(G29=100%,H29,"")
E30: Subtotaal: | F30: =SUM(F26:F29) -> 0 | H30: =SUM(H26:H29) -> 0 | I30: =IF(G30=100%,H30,"")
I31: =IF(G31=100%,H31,"")
A32: Projectspecifieke overige subsidiabele kosten (kosten derden) | I32: =IF(G32=100%,H32,"")
A33: Omschrijving | B33: Leverancier | C33: Subsidiedoel | D33: Offertenr | E33: Offertedatum | F33: Kosten | G33: =+G6 -> Ophoging Subsidie % | H33: =+H6 -> Subsidie | I33: =IF(G33=100%,H33,"")
F34: 0 | G34: {=+_xlfn.IFS(C34=Blad1!$D$2,'Basisgegevens Begroting'!$I$17,C34=Blad1!$D$3,'Basisgegevens Begroting'!$G$17,C34=Blad1!$D$4,'Basisgegevens Begroting'!$H$17,C34="",0)} -> 0 | H34: =+G34*F34 -> 0 | I34: =IF(G34=100%,H34,"")
F35: 0 | G35: {=+_xlfn.IFS(C35=Blad1!$D$2,'Basisgegevens Begroting'!$I$17,C35=Blad1!$D$3,'Basisgegevens Begroting'!$G$17,C35=Blad1!$D$4,'Basisgegevens Begroting'!$H$17,C35="",0)} -> 0 | H35: =+G35*F35 -> 0 | I35: =IF(G35=100%,H35,"")
F36: 0 | G36: {=+_xlfn.IFS(C36=Blad1!$D$2,'Basisgegevens Begroting'!$I$17,C36=Blad1!$D$3,'Basisgegevens Begroting'!$G$17,C36=Blad1!$D$4,'Basisgegevens Begroting'!$H$17,C36="",0)} -> 0 | H36: =+G36*F36 -> 0 | I36: =IF(G36=100%,H36,"")
F37: 0 | G37: {=+_xlfn.IFS(C37=Blad1!$D$2,'Basisgegevens Begroting'!$I$17,C37=Blad1!$D$3,'Basisgegevens Begroting'!$G$17,C37=Blad1!$D$4,'Basisgegevens Begroting'!$H$17,C37="",0)} -> 0 | H37: =+G37*F37 -> 0 | I37: =IF(G37=100%,H37,"")
F38: 0 | G38: {=+_xlfn.IFS(C38=Blad1!$D$2,'Basisgegevens Begroting'!$I$17,C38=Blad1!$D$3,'Basisgegevens Begroting'!$G$17,C38=Blad1!$D$4,'Basisgegevens Begroting'!$H$17,C38="",0)} -> 0 | H38: =+G38*F38 -> 0 | I38: =IF(G38=100%,H38,"")
F39: 0 | G39: {=+_xlfn.IFS(C39=Blad1!$D$2,'Basisgegevens Begroting'!$I$17,C39=Blad1!$D$3,'Basisgegevens Begroting'!$G$17,C39=Blad1!$D$4,'Basisgegevens Begroting'!$H$17,C39="",0)} -> 0 | H39: =+G39*F39 -> 0 | I39: =IF(G39=100%,H39,"")
F40: 0 | G40: {=+_xlfn.IFS(C40=Blad1!$D$2,'Basisgegevens Begroting'!$I$17,C40=Blad1!$D$3,'Basisgegevens Begroting'!$G$17,C40=Blad1!$D$4,'Basisgegevens Begroting'!$H$17,C40="",0)} -> 0 | H40: =+G40*F40 -> 0 | I40: =IF(G40=100%,H40,"")
F41: 0 | G41: {=+_xlfn.IFS(C41=Blad1!$D$2,'Basisgegevens Begroting'!$I$17,C41=Blad1!$D$3,'Basisgegevens Begroting'!$G$17,C41=Blad1!$D$4,'Basisgegevens Begroting'!$H$17,C41="",0)} -> 0 | H41: =+G41*F41 -> 0 | I41: =IF(G41=100%,H41,"")
F42: 0 | G42: {=+_xlfn.IFS(C42=Blad1!$D$2,'Basisgegevens Begroting'!$I$17,C42=Blad1!$D$3,'Basisgegevens Begroting'!$G$17,C42=Blad1!$D$4,'Basisgegevens Begroting'!$H$17,C42="",0)} -> 0 | H42: =+G42*F42 -> 0 | I42: =IF(G42=100%,H42,"")
F43: 0 | G43: {=+_xlfn.IFS(C43=Blad1!$D$2,'Basisgegevens Begroting'!$I$17,C43=Blad1!$D$3,'Basisgegevens Begroting'!$G$17,C43=Blad1!$D$4,'Basisgegevens Begroting'!$H$17,C43="",0)} -> 0 | H43: =+G43*F43 -> 0 | I43: =IF(G43=100%,H43,"")
F44: 0 | G44: {=+_xlfn.IFS(C44=Blad1!$D$2,'Basisgegevens Begroting'!$I$17,C44=Blad1!$D$3,'Basisgegevens Begroting'!$G$17,C44=Blad1!$D$4,'Basisgegevens Begroting'!$H$17,C44="",0)} -> 0 | H44: =+G44*F44 -> 0 | I44: =IF(G44=100%,H44,"")
F45: 0 | G45: {=+_xlfn.IFS(C45=Blad1!$D$2,'Basisgegevens Begroting'!$I$17,C45=Blad1!$D$3,'Basisgegevens Begroting'!$G$17,C45=Blad1!$D$4,'Basisgegevens Begroting'!$H$17,C45="",0)} -> 0 | H45: =+G45*F45 -> 0 | I45: =IF(G45=100%,H45,"")
... F49: 0 | G49: {=+_xlfn.IFS(C49=Blad1!$D$2,'Basisgegevens Begroting'!$I$17,C49=Blad1!$D$3,'Basisgegevens Begroting'!$G$17,C49=Blad1!$D$4,'Basisgegevens Begroting'!$H$17,C49="",0)} -> 0 | H49: =+G49*F49 -> 0 | I49: =IF(G49=100%,H49,"")
E51: Subtotaal: | F51: =SUM(F34:F50) -> 0 | G51: Subtotaal: | H51: =SUM(H34:H50) -> 0
A53: Subsidiabele kosten voor voor demonstratie noodzakelijke infrastructuur
A54: Omschrijving | B54: Leverancier | C54: Subsidiedoel | D54: Offertenr | E54: Offertedatum | F54: Kosten | G54: =+G33 -> Ophoging Subsidie % | H54: =+H33 -> Subsidie
F55: 0 | G55: {=+_xlfn.IFS(C55=Blad1!$D$2,'Basisgegevens Begroting'!$I$17,C55=Blad1!$D$3,'Basisgegevens Begroting'!$G$17,C55=Blad1!$D$4,'Basisgegevens Begroting'!$H$17,C55="",0)} -> 0 | H55: =+G55*F55 -> 0 | I55: =IF(G55=100%,H55,"")
F56: 0 | G56: {=+_xlfn.IFS(C56=Blad1!$D$2,'Basisgegevens Begroting'!$I$17,C56=Blad1!$D$3,'Basisgegevens Begroting'!$G$17,C56=Blad1!$D$4,'Basisgegevens Begroting'!$H$17,C56="",0)} -> 0 | H56: =+G56*F56 -> 0 | I56: =IF(G56=100%,H56,"")
F57: 0 | G57: {=+_xlfn.IFS(C57=Blad1!$D$2,'Basisgegevens Begroting'!$I$17,C57=Blad1!$D$3,'Basisgegevens Begroting'!$G$17,C57=Blad1!$D$4,'Basisgegevens Begroting'!$H$17,C57="",0)} -> 0 | H57: =+G57*F57 -> 0 | I57: =IF(G57=100%,H57,"")
F58: 0 | G58: {=+_xlfn.IFS(C58=Blad1!$D$2,'Basisgegevens Begroting'!$I$17,C58=Blad1!$D$3,'Basisgegevens Begroting'!$G$17,C58=Blad1!$D$4,'Basisgegevens Begroting'!$H$17,C58="",0)} -> 0 | H58: =+G58*F58 -> 0 | I58: =IF(G58=100%,H58,"")
F59: 0 | G59: {=+_xlfn.IFS(C59=Blad1!$D$2,'Basisgegevens Begroting'!$I$17,C59=Blad1!$D$3,'Basisgegevens Begroting'!$G$17,C59=Blad1!$D$4,'Basisgegevens Begroting'!$H$17,C59="",0)} -> 0 | H59: =+G59*F59 -> 0 | I59: =IF(G59=100%,H59,"")
F60: 0 | G60: {=+_xlfn.IFS(C60=Blad1!$D$2,'Basisgegevens Begroting'!$I$17,C60=Blad1!$D$3,'Basisgegevens Begroting'!$G$17,C60=Blad1!$D$4,'Basisgegevens Begroting'!$H$17,C60="",0)} -> 0 | H60: =+G60*F60 -> 0 | I60: =IF(G60=100%,H60,"")
E62: Subtotaal: | F62: =SUM(F55:F61) -> 0 | G62: Subtotaal: | H62: =SUM(H55:H61) -> 0
A64: Projectspecifieke kosten voor speciaal voor het project aan te schaffen materialen en hulpmiddelen
A65: Omschrijving materiaal | B65: Leverancier | C65: Subsidiedoel | D65: Offertenr | E65: Gebruikspercentage apparatuur | F65: Kosten | G65: =+G54 -> Ophoging Subsidie % | H65: =+H54 -> Subsidie
E66: 1 | F66: 0 | G66: {=+_xlfn.IFS(C66=Blad1!$D$2,'Basisgegevens Begroting'!$I$17,C66=Blad1!$D$3,'Basisgegevens Begroting'!$G$17,C66=Blad1!$D$4,'Basisgegevens Begroting'!$H$17,C66="",0)} -> 0 | H66: =+G66*F66*E66 -> 0 | I66: =IF(G66=100%,H66,"")
E67: 1 | F67: 0 | G67: {=+_xlfn.IFS(C67=Blad1!$D$2,'Basisgegevens Begroting'!$I$17,C67=Blad1!$D$3,'Basisgegevens Begroting'!$G$17,C67=Blad1!$D$4,'Basisgegevens Begroting'!$H$17,C67="",0)} -> 0 | H67: =+G67*F67*E67 -> 0 | I67: =IF(G67=100%,H67,"")
E68: 1 | F68: 0 | G68: {=+_xlfn.IFS(C68=Blad1!$D$2,'Basisgegevens Begroting'!$I$17,C68=Blad1!$D$3,'Basisgegevens Begroting'!$G$17,C68=Blad1!$D$4,'Basisgegevens Begroting'!$H$17,C68="",0)} -> 0 | H68: =+G68*F68*E68 -> 0 | I68: =IF(G68=100%,H68,"")
E69: 1 | F69: 0 | G69: {=+_xlfn.IFS(C69=Blad1!$D$2,'Basisgegevens Begroting'!$I$17,C69=Blad1!$D$3,'Basisgegevens Begroting'!$G$17,C69=Blad1!$D$4,'Basisgegevens Begroting'!$H$17,C69="",0)} -> 0 | H69: =+G69*F69*E69 -> 0 | I69: =IF(G69=100%,H69,"")
E70: 1 | F70: 0 | G70: {=+_xlfn.IFS(C70=Blad1!$D$2,'Basisgegevens Begroting'!$I$17,C70=Blad1!$D$3,'Basisgegevens Begroting'!$G$17,C70=Blad1!$D$4,'Basisgegevens Begroting'!$H$17,C70="",0)} -> 0 | H70: =+G70*F70*E70 -> 0 | I70: =IF(G70=100%,H70,"")
E71: 1 | F71: 0 | G71: {=+_xlfn.IFS(C71=Blad1!$D$2,'Basisgegevens Begroting'!$I$17,C71=Blad1!$D$3,'Basisgegevens Begroting'!$G$17,C71=Blad1!$D$4,'Basisgegevens Begroting'!$H$17,C71="",0)} -> 0 | H71: =+G71*F71*E71 -> 0 | I71: =IF(G71=100%,H71,"")
E72: 1 | F72: 0 | G72: {=+_xlfn.IFS(C72=Blad1!$D$2,'Basisgegevens Begroting'!$I$17,C72=Blad1!$D$3,'Basisgegevens Begroting'!$G$17,C72=Blad1!$D$4,'Basisgegevens Begroting'!$H$17,C72="",0)} -> 0 | H72: =+G72*F72*E72 -> 0 | I72: =IF(G72=100%,H72,"")
E73: 1 | F73: 0 | G73: {=+_xlfn.IFS(C73=Blad1!$D$2,'Basisgegevens Begroting'!$I$17,C73=Blad1!$D$3,'Basisgegevens Begroting'!$G$17,C73=Blad1!$D$4,'Basisgegevens Begroting'!$H$17,C73="",0)} -> 0 | H73: =+G73*F73*E73 -> 0 | I73: =IF(G73=100%,H73,"")
E74: 1 | F74: 0 | G74: {=+_xlfn.IFS(C74=Blad1!$D$2,'Basisgegevens Begroting'!$I$17,C74=Blad1!$D$3,'Basisgegevens Begroting'!$G$17,C74=Blad1!$D$4,'Basisgegevens Begroting'!$H$17,C74="",0)} -> 0 | H74: =+G74*F74*E74 -> 0 | I74: =IF(G74=100%,H74,"")
E75: 1 | F75: 0 | G75: {=+_xlfn.IFS(C75=Blad1!$D$2,'Basisgegevens Begroting'!$I$17,C75=Blad1!$D$3,'Basisgegevens Begroting'!$G$17,C75=Blad1!$D$4,'Basisgegevens Begroting'!$H$17,C75="",0)} -> 0 | H75: =+G75*F75*E75 -> 0 | I75: =IF(G75=100%,H75,"")
E76: 1 | F76: 0 | G76: {=+_xlfn.IFS(C76=Blad1!$D$2,'Basisgegevens Begroting'!$I$17,C76=Blad1!$D$3,'Basisgegevens Begroting'!$G$17,C76=Blad1!$D$4,'Basisgegevens Begroting'!$H$17,C76="",0)} -> 0 | H76: =+G76*F76*E76 -> 0 | I76: =IF(G76=100%,H76,"")
E77: 1 | F77: 0 | G77: {=+_xlfn.IFS(C77=Blad1!$D$2,'Basisgegevens Begroting'!$I$17,C77=Blad1!$D$3,'Basisgegevens Begroting'!$G$17,C77=Blad1!$D$4,'Basisgegevens Begroting'!$H$17,C77="",0)} -> 0 | H77: =+G77*F77*E77 -> 0 | I77: =IF(G77=100%,H77,"")
... E81: 1 | F81: 0 | G81: {=+_xlfn.IFS(C81=Blad1!$D$2,'Basisgegevens Begroting'!$I$17,C81=Blad1!$D$3,'Basisgegevens Begroting'!$G$17,C81=Blad1!$D$4,'Basisgegevens Begroting'!$H$17,C81="",0)} -> 0 | H81: =+G81*F81*E81 -> 0 | I81: =IF(G81=100%,H81,"")
I82: =IF(G82=100%,H82,"")
E83: Subtotaal: | F83: =SUM(F66:F82) -> 0 | G83: Subtotaal: | H83: =SUM(H66:H82) -> 0
E86: Totaal | F86: =+F51+F30+F22+F62+F83 -> 0 | H86: =+H51+H30+H22+H62+H83 -> 0 | I86: =SUM(I5:I82) -> 0

Sheet Kosten Deelnemer 10
A1: =+'Basisgegevens Begroting'!C18 -> 0
A4: Kolom1 | B4: Kolom2 | C4: Kolom22 | D4: Kolom3 | E4: Kolom5 | F4: Kolom6 | G4: Kolom8 | H4: Kolom9
A5: Personeelskosten | G5: =+Totaal!I9 -> 0
B6: Functie | C6: Subsidiedoel | D6: Uurtarief | E6: Aantal uren | F6: Uren x tarief | G6: Ophoging Subsidie % | H6: Subsidie
F7: =$D7*E7 -> 0 | G7: {=+_xlfn.IFS(C7=Blad1!$D$2,'Basisgegevens Begroting'!$I$18,C7=Blad1!$D$3,'Basisgegevens Begroting'!$G$18,C7=Blad1!$D$4,'Basisgegevens Begroting'!$H$18,C7="",0)} -> 0 | H7: =+EigenPersoneel7894511[[#This Row],[Kolom8]]*EigenPersoneel7894511[[#This Row],[Kolom6]] -> 0 | I7: =IF(G7=100%,H7,"")
F8: =$D8*E8 -> 0 | G8: {=+_xlfn.IFS(C8=Blad1!$D$2,'Basisgegevens Begroting'!$I$18,C8=Blad1!$D$3,'Basisgegevens Begroting'!$G$18,C8=Blad1!$D$4,'Basisgegevens Begroting'!$H$18,C8="",0)} -> 0 | H8: =+EigenPersoneel7894511[[#This Row],[Kolom8]]*EigenPersoneel7894511[[#This Row],[Kolom6]] -> 0 | I8: =IF(G8=100%,H8,"")
F9: =$D9*E9 -> 0 | G9: {=+_xlfn.IFS(C9=Blad1!$D$2,'Basisgegevens Begroting'!$I$18,C9=Blad1!$D$3,'Basisgegevens Begroting'!$G$18,C9=Blad1!$D$4,'Basisgegevens Begroting'!$H$18,C9="",0)} -> 0 | H9: =+EigenPersoneel7894511[[#This Row],[Kolom8]]*EigenPersoneel7894511[[#This Row],[Kolom6]] -> 0 | I9: =IF(G9=100%,H9,"")
F10: =$D10*E10 -> 0 | G10: {=+_xlfn.IFS(C10=Blad1!$D$2,'Basisgegevens Begroting'!$I$18,C10=Blad1!$D$3,'Basisgegevens Begroting'!$G$18,C10=Blad1!$D$4,'Basisgegevens Begroting'!$H$18,C10="",0)} -> 0 | H10: =+EigenPersoneel7894511[[#This Row],[Kolom8]]*EigenPersoneel7894511[[#This Row],[Kolom6]] -> 0 | I10: =IF(G10=100%,H10,"")
F11: =$D11*E11 -> 0 | G11: {=+_xlfn.IFS(C11=Blad1!$D$2,'Basisgegevens Begroting'!$I$18,C11=Blad1!$D$3,'Basisgegevens Begroting'!$G$18,C11=Blad1!$D$4,'Basisgegevens Begroting'!$H$18,C11="",0)} -> 0 | H11: =+EigenPersoneel7894511[[#This Row],[Kolom8]]*EigenPersoneel7894511[[#This Row],[Kolom6]] -> 0 | I11: =IF(G11=100%,H11,"")
F12: =$D12*E12 -> 0 | G12: {=+_xlfn.IFS(C12=Blad1!$D$2,'Basisgegevens Begroting'!$I$18,C12=Blad1!$D$3,'Basisgegevens Begroting'!$G$18,C12=Blad1!$D$4,'Basisgegevens Begroting'!$H$18,C12="",0)} -> 0 | H12: =+EigenPersoneel7894511[[#This Row],[Kolom8]]*EigenPersoneel7894511[[#This Row],[Kolom6]] -> 0 | I12: =IF(G12=100%,H12,"")
F13: =$D13*E13 -> 0 | G13: {=+_xlfn.IFS(C13=Blad1!$D$2,'Basisgegevens Begroting'!$I$18,C13=Blad1!$D$3,'Basisgegevens Begroting'!$G$18,C13=Blad1!$D$4,'Basisgegevens Begroting'!$H$18,C13="",0)} -> 0 | H13: =+EigenPersoneel7894511[[#This Row],[Kolom8]]*EigenPersoneel7894511[[#This Row],[Kolom6]] -> 0 | I13: =IF(G13=100%,H13,"")
F14: =$D14*E14 -> 0 | G14: {=+_xlfn.IFS(C14=Blad1!$D$2,'Basisgegevens Begroting'!$I$18,C14=Blad1!$D$3,'Basisgegevens Begroting'!$G$18,C14=Blad1!$D$4,'Basisgegevens Begroting'!$H$18,C14="",0)} -> 0 | H14: =+EigenPersoneel7894511[[#This Row],[Kolom8]]*EigenPersoneel7894511[[#This Row],[Kolom6]] -> 0 | I14: =IF(G14=100%,H14,"")
F15: =$D15*E15 -> 0 | G15: {=+_xlfn.IFS(C15=Blad1!$D$2,'Basisgegevens Begroting'!$I$18,C15=Blad1!$D$3,'Basisgegevens Begroting'!$G$18,C15=Blad1!$D$4,'Basisgegevens Begroting'!$H$18,C15="",0)} -> 0 | H15: =+EigenPersoneel7894511[[#This Row],[Kolom8]]*EigenPersoneel7894511[[#This Row],[Kolom6]] -> 0 | I15: =IF(G15=100%,H15,"")
F16: =$D16*E16 -> 0 | G16: {=+_xlfn.IFS(C16=Blad1!$D$2,'Basisgegevens Begroting'!$I$18,C16=Blad1!$D$3,'Basisgegevens Begroting'!$G$18,C16=Blad1!$D$4,'Basisgegevens Begroting'!$H$18,C16="",0)} -> 0 | H16: =+EigenPersoneel7894511[[#This Row],[Kolom8]]*EigenPersoneel7894511[[#This Row],[Kolom6]] -> 0 | I16: =IF(G16=100%,H16,"")
F17: =$D17*E17 -> 0 | G17: {=+_xlfn.IFS(C17=Blad1!$D$2,'Basisgegevens Begroting'!$I$18,C17=Blad1!$D$3,'Basisgegevens Begroting'!$G$18,C17=Blad1!$D$4,'Basisgegevens Begroting'!$H$18,C17="",0)} -> 0 | H17: =+EigenPersoneel7894511[[#This Row],[Kolom8]]*EigenPersoneel7894511[[#This Row],[Kolom6]] -> 0 | I17: =IF(G17=100%,H17,"")
F18: =$D18*E18 -> 0 | G18: {=+_xlfn.IFS(C18=Blad1!$D$2,'Basisgegevens Begroting'!$I$18,C18=Blad1!$D$3,'Basisgegevens Begroting'!$G$18,C18=Blad1!$D$4,'Basisgegevens Begroting'!$H$18,C18="",0)} -> 0 | H18: =+EigenPersoneel7894511[[#This Row],[Kolom8]]*EigenPersoneel7894511[[#This Row],[Kolom6]] -> 0 | I18: =IF(G18=100%,H18,"")
... F21: =$D21*E21 -> 0 | G21: {=+_xlfn.IFS(C21=Blad1!$D$2,'Basisgegevens Begroting'!$I$18,C21=Blad1!$D$3,'Basisgegevens Begroting'!$G$18,C21=Blad1!$D$4,'Basisgegevens Begroting'!$H$18,C21="",0)} -> 0 | H21: =+EigenPersoneel7894511[[#This Row],[Kolom8]]*EigenPersoneel7894511[[#This Row],[Kolom6]] -> 0 | I21: =IF(G21=100%,H21,"")
E22: Subtotaal: | F22: =SUM(F7:F21) -> 0 | G22: Subtotaal: | H22: =SUM(H7:H21) -> 0 | I22: =IF(G22=100%,H22,"")
I23: =IF(G23=100%,H23,"")
A24: Brandstofkosten | I24: =IF(G24=100%,H24,"")
A25: Omschrijving | B25: Leverancier | C25: Subsidiedoel | D25: Geschatte meerkosten per eenheid (kWh, liter, kilo) | E25: Aantal eenheden (kWh, liter, kilo) | F25: Kosten | G25: =+G6 -> Ophoging Subsidie % | H25: =+H6 -> Subsidie | I25: =IF(G25=100%,H25,"")
F26: =+D26*E26 -> 0 | G26: {=+_xlfn.IFS(C26=Blad1!$D$2,'Basisgegevens Begroting'!$I$18,C26=Blad1!$D$3,'Basisgegevens Begroting'!$G$18,C26=Blad1!$D$4,'Basisgegevens Begroting'!$H$18,C26="",0)} -> 0 | H26: =+G26*F26 -> 0 | I26: =IF(G26=100%,H26,"")
F27: =+D27*E27 -> 0 | G27: {=+_xlfn.IFS(C27=Blad1!$D$2,'Basisgegevens Begroting'!$I$18,C27=Blad1!$D$3,'Basisgegevens Begroting'!$G$18,C27=Blad1!$D$4,'Basisgegevens Begroting'!$H$18,C27="",0)} -> 0 | H27: =+G27*F27 -> 0 | I27: =IF(G27=100%,H27,"")
F28: =+D28*E28 -> 0 | G28: {=+_xlfn.IFS(C28=Blad1!$D$2,'Basisgegevens Begroting'!$I$18,C28=Blad1!$D$3,'Basisgegevens Begroting'!$G$18,C28=Blad1!$D$4,'Basisgegevens Begroting'!$H$18,C28="",0)} -> 0 | H28: =+G28*F28 -> 0 | I28: =IF(G28=100%,H28,"")
F29: =+D29*E29 -> 0 | G29: {=+_xlfn.IFS(C29=Blad1!$D$2,'Basisgegevens Begroting'!$I$18,C29=Blad1!$D$3,'Basisgegevens Begroting'!$G$18,C29=Blad1!$D$4,'Basisgegevens Begroting'!$H$18,C29="",0)} -> 0 | H29: =+G29*F29 -> 0 | I29: =IF(G29=100%,H29,"")
E30: Subtotaal: | F30: =SUM(F26:F29) -> 0 | H30: =SUM(H26:H29) -> 0 | I30: =IF(G30=100%,H30,"")
I31: =IF(G31=100%,H31,"")
A32: Projectspecifieke overige subsidiabele kosten (kosten derden) | I32: =IF(G32=100%,H32,"")
A33: Omschrijving | B33: Leverancier | C33: Subsidiedoel | D33: Offertenr | E33: Offertedatum | F33: Kosten | G33: =+G6 -> Ophoging Subsidie % | H33: =+H6 -> Subsidie | I33: =IF(G33=100%,H33,"")
F34: 0 | G34: {=+_xlfn.IFS(C34=Blad1!$D$2,'Basisgegevens Begroting'!$I$18,C34=Blad1!$D$3,'Basisgegevens Begroting'!$G$18,C34=Blad1!$D$4,'Basisgegevens Begroting'!$H$18,C34="",0)} -> 0 | H34: =+G34*F34 -> 0 | I34: =IF(G34=100%,H34,"")
F35: 0 | G35: {=+_xlfn.IFS(C35=Blad1!$D$2,'Basisgegevens Begroting'!$I$18,C35=Blad1!$D$3,'Basisgegevens Begroting'!$G$18,C35=Blad1!$D$4,'Basisgegevens Begroting'!$H$18,C35="",0)} -> 0 | H35: =+G35*F35 -> 0 | I35: =IF(G35=100%,H35,"")
F36: 0 | G36: {=+_xlfn.IFS(C36=Blad1!$D$2,'Basisgegevens Begroting'!$I$18,C36=Blad1!$D$3,'Basisgegevens Begroting'!$G$18,C36=Blad1!$D$4,'Basisgegevens Begroting'!$H$18,C36="",0)} -> 0 | H36: =+G36*F36 -> 0 | I36: =IF(G36=100%,H36,"")
F37: 0 | G37: {=+_xlfn.IFS(C37=Blad1!$D$2,'Basisgegevens Begroting'!$I$18,C37=Blad1!$D$3,'Basisgegevens Begroting'!$G$18,C37=Blad1!$D$4,'Basisgegevens Begroting'!$H$18,C37="",0)} -> 0 | H37: =+G37*F37 -> 0 | I37: =IF(G37=100%,H37,"")
F38: 0 | G38: {=+_xlfn.IFS(C38=Blad1!$D$2,'Basisgegevens Begroting'!$I$18,C38=Blad1!$D$3,'Basisgegevens Begroting'!$G$18,C38=Blad1!$D$4,'Basisgegevens Begroting'!$H$18,C38="",0)} -> 0 | H38: =+G38*F38 -> 0 | I38: =IF(G38=100%,H38,"")
F39: 0 | G39: {=+_xlfn.IFS(C39=Blad1!$D$2,'Basisgegevens Begroting'!$I$18,C39=Blad1!$D$3,'Basisgegevens Begroting'!$G$18,C39=Blad1!$D$4,'Basisgegevens Begroting'!$H$18,C39="",0)} -> 0 | H39: =+G39*F39 -> 0 | I39: =IF(G39=100%,H39,"")
F40: 0 | G40: {=+_xlfn.IFS(C40=Blad1!$D$2,'Basisgegevens Begroting'!$I$18,C40=Blad1!$D$3,'Basisgegevens Begroting'!$G$18,C40=Blad1!$D$4,'Basisgegevens Begroting'!$H$18,C40="",0)} -> 0 | H40: =+G40*F40 -> 0 | I40: =IF(G40=100%,H40,"")
F41: 0 | G41: {=+_xlfn.IFS(C41=Blad1!$D$2,'Basisgegevens Begroting'!$I$18,C41=Blad1!$D$3,'Basisgegevens Begroting'!$G$18,C41=Blad1!$D$4,'Basisgegevens Begroting'!$H$18,C41="",0)} -> 0 | H41: =+G41*F41 -> 0 | I41: =IF(G41=100%,H41,"")
F42: 0 | G42: {=+_xlfn.IFS(C42=Blad1!$D$2,'Basisgegevens Begroting'!$I$18,C42=Blad1!$D$3,'Basisgegevens Begroting'!$G$18,C42=Blad1!$D$4,'Basisgegevens Begroting'!$H$18,C42="",0)} -> 0 | H42: =+G42*F42 -> 0 | I42: =IF(G42=100%,H42,"")
F43: 0 | G43: {=+_xlfn.IFS(C43=Blad1!$D$2,'Basisgegevens Begroting'!$I$18,C43=Blad1!$D$3,'Basisgegevens Begroting'!$G$18,C43=Blad1!$D$4,'Basisgegevens Begroting'!$H$18,C43="",0)} -> 0 | H43: =+G43*F43 -> 0 | I43: =IF(G43=100%,H43,"")
F44: 0 | G44: {=+_xlfn.IFS(C44=Blad1!$D$2,'Basisgegevens Begroting'!$I$18,C44=Blad1!$D$3,'Basisgegevens Begroting'!$G$18,C44=Blad1!$D$4,'Basisgegevens Begroting'!$H$18,C44="",0)} -> 0 | H44: =+G44*F44 -> 0 | I44: =IF(G44=100%,H44,"")
F45: 0 | G45: {=+_xlfn.IFS(C45=Blad1!$D$2,'Basisgegevens Begroting'!$I$18,C45=Blad1!$D$3,'Basisgegevens Begroting'!$G$18,C45=Blad1!$D$4,'Basisgegevens Begroting'!$H$18,C45="",0)} -> 0 | H45: =+G45*F45 -> 0 | I45: =IF(G45=100%,H45,"")
... F49: 0 | G49: {=+_xlfn.IFS(C49=Blad1!$D$2,'Basisgegevens Begroting'!$I$18,C49=Blad1!$D$3,'Basisgegevens Begroting'!$G$18,C49=Blad1!$D$4,'Basisgegevens Begroting'!$H$18,C49="",0)} -> 0 | H49: =+G49*F49 -> 0 | I49: =IF(G49=100%,H49,"")
E51: Subtotaal: | F51: =SUM(F34:F50) -> 0 | G51: Subtotaal: | H51: =SUM(H34:H50) -> 0
A53: Subsidiabele kosten voor voor demonstratie noodzakelijke infrastructuur | I53: =SUM(I7:I51) -> 0
A54: Omschrijving | B54: Leverancier | C54: Subsidiedoel | D54: Offertenr | E54: Offertedatum | F54: Kosten | G54: =+G33 -> Ophoging Subsidie % | H54: =+H33 -> Subsidie
F55: 0 | G55: {=+_xlfn.IFS(C55=Blad1!$D$2,'Basisgegevens Begroting'!$I$18,C55=Blad1!$D$3,'Basisgegevens Begroting'!$G$18,C55=Blad1!$D$4,'Basisgegevens Begroting'!$H$18,C55="",0)} -> 0 | H55: =+G55*F55 -> 0 | I55: =IF(G55=100%,H55,"")
F56: 0 | G56: {=+_xlfn.IFS(C56=Blad1!$D$2,'Basisgegevens Begroting'!$I$18,C56=Blad1!$D$3,'Basisgegevens Begroting'!$G$18,C56=Blad1!$D$4,'Basisgegevens Begroting'!$H$18,C56="",0)} -> 0 | H56: =+G56*F56 -> 0 | I56: =IF(G56=100%,H56,"")
F57: 0 | G57: {=+_xlfn.IFS(C57=Blad1!$D$2,'Basisgegevens Begroting'!$I$18,C57=Blad1!$D$3,'Basisgegevens Begroting'!$G$18,C57=Blad1!$D$4,'Basisgegevens Begroting'!$H$18,C57="",0)} -> 0 | H57: =+G57*F57 -> 0 | I57: =IF(G57=100%,H57,"")
F58: 0 | G58: {=+_xlfn.IFS(C58=Blad1!$D$2,'Basisgegevens Begroting'!$I$18,C58=Blad1!$D$3,'Basisgegevens Begroting'!$G$18,C58=Blad1!$D$4,'Basisgegevens Begroting'!$H$18,C58="",0)} -> 0 | H58: =+G58*F58 -> 0 | I58: =IF(G58=100%,H58,"")
F59: 0 | G59: {=+_xlfn.IFS(C59=Blad1!$D$2,'Basisgegevens Begroting'!$I$18,C59=Blad1!$D$3,'Basisgegevens Begroting'!$G$18,C59=Blad1!$D$4,'Basisgegevens Begroting'!$H$18,C59="",0)} -> 0 | H59: =+G59*F59 -> 0 | I59: =IF(G59=100%,H59,"")
F60: 0 | G60: {=+_xlfn.IFS(C60=Blad1!$D$2,'Basisgegevens Begroting'!$I$18,C60=Blad1!$D$3,'Basisgegevens Begroting'!$G$18,C60=Blad1!$D$4,'Basisgegevens Begroting'!$H$18,C60="",0)} -> 0 | H60: =+G60*F60 -> 0 | I60: =IF(G60=100%,H60,"")
E62: Subtotaal: | F62: =SUM(F55:F61) -> 0 | G62: Subtotaal: | H62: =SUM(H55:H61) -> 0
A64: Projectspecifieke kosten voor speciaal voor het project aan te schaffen materialen en hulpmiddelen
A65: Omschrijving materiaal | B65: Leverancier | C65: Subsidiedoel | D65: Offertenr | E65: Gebruikspercentage apparatuur | F65: Kosten | G65: =+G54 -> Ophoging Subsidie % | H65: =+H54 -> Subsidie
E66: 1 | F66: 0 | G66: {=+_xlfn.IFS(C66=Blad1!$D$2,'Basisgegevens Begroting'!$I$18,C66=Blad1!$D$3,'Basisgegevens Begroting'!$G$18,C66=Blad1!$D$4,'Basisgegevens Begroting'!$H$18,C66="",0)} -> 0 | H66: =+G66*F66*E66 -> 0 | I66: =IF(G66=100%,H66,"")
E67: 1 | F67: 0 | G67: {=+_xlfn.IFS(C67=Blad1!$D$2,'Basisgegevens Begroting'!$I$18,C67=Blad1!$D$3,'Basisgegevens Begroting'!$G$18,C67=Blad1!$D$4,'Basisgegevens Begroting'!$H$18,C67="",0)} -> 0 | H67: =+G67*F67*E67 -> 0 | I67: =IF(G67=100%,H67,"")
E68: 1 | F68: 0 | G68: {=+_xlfn.IFS(C68=Blad1!$D$2,'Basisgegevens Begroting'!$I$18,C68=Blad1!$D$3,'Basisgegevens Begroting'!$G$18,C68=Blad1!$D$4,'Basisgegevens Begroting'!$H$18,C68="",0)} -> 0 | H68: =+G68*F68*E68 -> 0 | I68: =IF(G68=100%,H68,"")
E69: 1 | F69: 0 | G69: {=+_xlfn.IFS(C69=Blad1!$D$2,'Basisgegevens Begroting'!$I$18,C69=Blad1!$D$3,'Basisgegevens Begroting'!$G$18,C69=Blad1!$D$4,'Basisgegevens Begroting'!$H$18,C69="",0)} -> 0 | H69: =+G69*F69*E69 -> 0 | I69: =IF(G69=100%,H69,"")
E70: 1 | F70: 0 | G70: {=+_xlfn.IFS(C70=Blad1!$D$2,'Basisgegevens Begroting'!$I$18,C70=Blad1!$D$3,'Basisgegevens Begroting'!$G$18,C70=Blad1!$D$4,'Basisgegevens Begroting'!$H$18,C70="",0)} -> 0 | H70: =+G70*F70*E70 -> 0 | I70: =IF(G70=100%,H70,"")
E71: 1 | F71: 0 | G71: {=+_xlfn.IFS(C71=Blad1!$D$2,'Basisgegevens Begroting'!$I$18,C71=Blad1!$D$3,'Basisgegevens Begroting'!$G$18,C71=Blad1!$D$4,'Basisgegevens Begroting'!$H$18,C71="",0)} -> 0 | H71: =+G71*F71*E71 -> 0 | I71: =IF(G71=100%,H71,"")
E72: 1 | F72: 0 | G72: {=+_xlfn.IFS(C72=Blad1!$D$2,'Basisgegevens Begroting'!$I$18,C72=Blad1!$D$3,'Basisgegevens Begroting'!$G$18,C72=Blad1!$D$4,'Basisgegevens Begroting'!$H$18,C72="",0)} -> 0 | H72: =+G72*F72*E72 -> 0 | I72: =IF(G72=100%,H72,"")
E73: 1 | F73: 0 | G73: {=+_xlfn.IFS(C73=Blad1!$D$2,'Basisgegevens Begroting'!$I$18,C73=Blad1!$D$3,'Basisgegevens Begroting'!$G$18,C73=Blad1!$D$4,'Basisgegevens Begroting'!$H$18,C73="",0)} -> 0 | H73: =+G73*F73*E73 -> 0 | I73: =IF(G73=100%,H73,"")
E74: 1 | F74: 0 | G74: {=+_xlfn.IFS(C74=Blad1!$D$2,'Basisgegevens Begroting'!$I$18,C74=Blad1!$D$3,'Basisgegevens Begroting'!$G$18,C74=Blad1!$D$4,'Basisgegevens Begroting'!$H$18,C74="",0)} -> 0 | H74: =+G74*F74*E74 -> 0 | I74: =IF(G74=100%,H74,"")
E75: 1 | F75: 0 | G75: {=+_xlfn.IFS(C75=Blad1!$D$2,'Basisgegevens Begroting'!$I$18,C75=Blad1!$D$3,'Basisgegevens Begroting'!$G$18,C75=Blad1!$D$4,'Basisgegevens Begroting'!$H$18,C75="",0)} -> 0 | H75: =+G75*F75*E75 -> 0 | I75: =IF(G75=100%,H75,"")
E76: 1 | F76: 0 | G76: {=+_xlfn.IFS(C76=Blad1!$D$2,'Basisgegevens Begroting'!$I$18,C76=Blad1!$D$3,'Basisgegevens Begroting'!$G$18,C76=Blad1!$D$4,'Basisgegevens Begroting'!$H$18,C76="",0)} -> 0 | H76: =+G76*F76*E76 -> 0 | I76: =IF(G76=100%,H76,"")
E77: 1 | F77: 0 | G77: {=+_xlfn.IFS(C77=Blad1!$D$2,'Basisgegevens Begroting'!$I$18,C77=Blad1!$D$3,'Basisgegevens Begroting'!$G$18,C77=Blad1!$D$4,'Basisgegevens Begroting'!$H$18,C77="",0)} -> 0 | H77: =+G77*F77*E77 -> 0 | I77: =IF(G77=100%,H77,"")
... E81: 1 | F81: 0 | G81: {=+_xlfn.IFS(C81=Blad1!$D$2,'Basisgegevens Begroting'!$I$18,C81=Blad1!$D$3,'Basisgegevens Begroting'!$G$18,C81=Blad1!$D$4,'Basisgegevens Begroting'!$H$18,C81="",0)} -> 0 | H81: =+G81*F81*E81 -> 0 | I81: =IF(G81=100%,H81,"")
I82: =IF(G82=100%,H82,"")
E83: Subtotaal: | F83: =SUM(F66:F82) -> 0 | G83: Subtotaal: | H83: =SUM(H66:H82) -> 0
E86: Totaal | F86: =+F51+F30+F22+F62+F83 -> 0 | H86: =+H51+H30+H22+H62+H83 -> 0 | I86: =SUM(I5:I82) -> 0

Sheet Kosten Deelnemer 11
A1: =+'Basisgegevens Begroting'!C19 -> 0
A4: Kolom1 | B4: Kolom2 | C4: Kolom22 | D4: Kolom3 | E4: Kolom5 | F4: Kolom6 | G4: Kolom8 | H4: Kolom9
A5: Personeelskosten | G5: =+Totaal!I9 -> 0
B6: Functie | C6: Subsidiedoel | D6: Uurtarief | E6: Aantal uren | F6: Uren x tarief | G6: Ophoging Subsidie % | H6: Subsidie
F7: =$D7*E7 -> 0 | G7: {=+_xlfn.IFS(C7=Blad1!$D$2,'Basisgegevens Begroting'!$I$19,C7=Blad1!$D$3,'Basisgegevens Begroting'!$G$19,C7=Blad1!$D$4,'Basisgegevens Begroting'!$H$19,C7="",0)} -> 0 | H7: =+EigenPersoneel789451113[[#This Row],[Kolom8]]*EigenPersoneel789451113[[#This Row],[Kolom6]] -> 0 | I7: =IF(G7=100%,H7,"")
F8: =$D8*E8 -> 0 | G8: {=+_xlfn.IFS(C8=Blad1!$D$2,'Basisgegevens Begroting'!$I$19,C8=Blad1!$D$3,'Basisgegevens Begroting'!$G$19,C8=Blad1!$D$4,'Basisgegevens Begroting'!$H$19,C8="",0)} -> 0 | H8: =+EigenPersoneel789451113[[#This Row],[Kolom8]]*EigenPersoneel789451113[[#This Row],[Kolom6]] -> 0 | I8: =IF(G8=100%,H8,"")
F9: =$D9*E9 -> 0 | G9: {=+_xlfn.IFS(C9=Blad1!$D$2,'Basisgegevens Begroting'!$I$19,C9=Blad1!$D$3,'Basisgegevens Begroting'!$G$19,C9=Blad1!$D$4,'Basisgegevens Begroting'!$H$19,C9="",0)} -> 0 | H9: =+EigenPersoneel789451113[[#This Row],[Kolom8]]*EigenPersoneel789451113[[#This Row],[Kolom6]] -> 0 | I9: =IF(G9=100%,H9,"")
F10: =$D10*E10 -> 0 | G10: {=+_xlfn.IFS(C10=Blad1!$D$2,'Basisgegevens Begroting'!$I$19,C10=Blad1!$D$3,'Basisgegevens Begroting'!$G$19,C10=Blad1!$D$4,'Basisgegevens Begroting'!$H$19,C10="",0)} -> 0 | H10: =+EigenPersoneel789451113[[#This Row],[Kolom8]]*EigenPersoneel789451113[[#This Row],[Kolom6]] -> 0 | I10: =IF(G10=100%,H10,"")
F11: =$D11*E11 -> 0 | G11: {=+_xlfn.IFS(C11=Blad1!$D$2,'Basisgegevens Begroting'!$I$19,C11=Blad1!$D$3,'Basisgegevens Begroting'!$G$19,C11=Blad1!$D$4,'Basisgegevens Begroting'!$H$19,C11="",0)} -> 0 | H11: =+EigenPersoneel789451113[[#This Row],[Kolom8]]*EigenPersoneel789451113[[#This Row],[Kolom6]] -> 0 | I11: =IF(G11=100%,H11,"")
F12: =$D12*E12 -> 0 | G12: {=+_xlfn.IFS(C12=Blad1!$D$2,'Basisgegevens Begroting'!$I$19,C12=Blad1!$D$3,'Basisgegevens Begroting'!$G$19,C12=Blad1!$D$4,'Basisgegevens Begroting'!$H$19,C12="",0)} -> 0 | H12: =+EigenPersoneel789451113[[#This Row],[Kolom8]]*EigenPersoneel789451113[[#This Row],[Kolom6]] -> 0 | I12: =IF(G12=100%,H12,"")
F13: =$D13*E13 -> 0 | G13: {=+_xlfn.IFS(C13=Blad1!$D$2,'Basisgegevens Begroting'!$I$19,C13=Blad1!$D$3,'Basisgegevens Begroting'!$G$19,C13=Blad1!$D$4,'Basisgegevens Begroting'!$H$19,C13="",0)} -> 0 | H13: =+EigenPersoneel789451113[[#This Row],[Kolom8]]*EigenPersoneel789451113[[#This Row],[Kolom6]] -> 0 | I13: =IF(G13=100%,H13,"")
F14: =$D14*E14 -> 0 | G14: {=+_xlfn.IFS(C14=Blad1!$D$2,'Basisgegevens Begroting'!$I$19,C14=Blad1!$D$3,'Basisgegevens Begroting'!$G$19,C14=Blad1!$D$4,'Basisgegevens Begroting'!$H$19,C14="",0)} -> 0 | H14: =+EigenPersoneel789451113[[#This Row],[Kolom8]]*EigenPersoneel789451113[[#This Row],[Kolom6]] -> 0 | I14: =IF(G14=100%,H14,"")
F15: =$D15*E15 -> 0 | G15: {=+_xlfn.IFS(C15=Blad1!$D$2,'Basisgegevens Begroting'!$I$19,C15=Blad1!$D$3,'Basisgegevens Begroting'!$G$19,C15=Blad1!$D$4,'Basisgegevens Begroting'!$H$19,C15="",0)} -> 0 | H15: =+EigenPersoneel789451113[[#This Row],[Kolom8]]*EigenPersoneel789451113[[#This Row],[Kolom6]] -> 0 | I15: =IF(G15=100%,H15,"")
F16: =$D16*E16 -> 0 | G16: {=+_xlfn.IFS(C16=Blad1!$D$2,'Basisgegevens Begroting'!$I$19,C16=Blad1!$D$3,'Basisgegevens Begroting'!$G$19,C16=Blad1!$D$4,'Basisgegevens Begroting'!$H$19,C16="",0)} -> 0 | H16: =+EigenPersoneel789451113[[#This Row],[Kolom8]]*EigenPersoneel789451113[[#This Row],[Kolom6]] -> 0 | I16: =IF(G16=100%,H16,"")
F17: =$D17*E17 -> 0 | G17: {=+_xlfn.IFS(C17=Blad1!$D$2,'Basisgegevens Begroting'!$I$19,C17=Blad1!$D$3,'Basisgegevens Begroting'!$G$19,C17=Blad1!$D$4,'Basisgegevens Begroting'!$H$19,C17="",0)} -> 0 | H17: =+EigenPersoneel789451113[[#This Row],[Kolom8]]*EigenPersoneel789451113[[#This Row],[Kolom6]] -> 0 | I17: =IF(G17=100%,H17,"")
F18: =$D18*E18 -> 0 | G18: {=+_xlfn.IFS(C18=Blad1!$D$2,'Basisgegevens Begroting'!$I$19,C18=Blad1!$D$3,'Basisgegevens Begroting'!$G$19,C18=Blad1!$D$4,'Basisgegevens Begroting'!$H$19,C18="",0)} -> 0 | H18: =+EigenPersoneel789451113[[#This Row],[Kolom8]]*EigenPersoneel789451113[[#This Row],[Kolom6]] -> 0 | I18: =IF(G18=100%,H18,"")
... F21: =$D21*E21 -> 0 | G21: {=+_xlfn.IFS(C21=Blad1!$D$2,'Basisgegevens Begroting'!$I$19,C21=Blad1!$D$3,'Basisgegevens Begroting'!$G$19,C21=Blad1!$D$4,'Basisgegevens Begroting'!$H$19,C21="",0)} -> 0 | H21: =+EigenPersoneel789451113[[#This Row],[Kolom8]]*EigenPersoneel789451113[[#This Row],[Kolom6]] -> 0 | I21: =IF(G21=100%,H21,"")
E22: Subtotaal: | F22: =SUM(F7:F21) -> 0 | G22: Subtotaal: | H22: =SUM(H7:H21) -> 0 | I22: =IF(G22=100%,H22,"")
I23: =IF(G23=100%,H23,"")
A24: Brandstofkosten | I24: =IF(G24=100%,H24,"")
A25: Omschrijving | B25: Leverancier | C25: Subsidiedoel | D25: Geschatte meerkosten per eenheid (kWh, liter, kilo) | E25: Aantal eenheden (kWh, liter, kilo) | F25: Kosten | G25: =+G6 -> Ophoging Subsidie % | H25: =+H6 -> Subsidie | I25: =IF(G25=100%,H25,"")
F26: =+D26*E26 -> 0 | G26: {=+_xlfn.IFS(C26=Blad1!$D$2,'Basisgegevens Begroting'!$I$19,C26=Blad1!$D$3,'Basisgegevens Begroting'!$G$19,C26=Blad1!$D$4,'Basisgegevens Begroting'!$H$19,C26="",0)} -> 0 | H26: =+G26*F26 -> 0 | I26: =IF(G26=100%,H26,"")
F27: =+D27*E27 -> 0 | G27: {=+_xlfn.IFS(C27=Blad1!$D$2,'Basisgegevens Begroting'!$I$19,C27=Blad1!$D$3,'Basisgegevens Begroting'!$G$19,C27=Blad1!$D$4,'Basisgegevens Begroting'!$H$19,C27="",0)} -> 0 | H27: =+G27*F27 -> 0 | I27: =IF(G27=100%,H27,"")
F28: =+D28*E28 -> 0 | G28: {=+_xlfn.IFS(C28=Blad1!$D$2,'Basisgegevens Begroting'!$I$19,C28=Blad1!$D$3,'Basisgegevens Begroting'!$G$19,C28=Blad1!$D$4,'Basisgegevens Begroting'!$H$19,C28="",0)} -> 0 | H28: =+G28*F28 -> 0 | I28: =IF(G28=100%,H28,"")
F29: =+D29*E29 -> 0 | G29: {=+_xlfn.IFS(C29=Blad1!$D$2,'Basisgegevens Begroting'!$I$19,C29=Blad1!$D$3,'Basisgegevens Begroting'!$G$19,C29=Blad1!$D$4,'Basisgegevens Begroting'!$H$19,C29="",0)} -> 0 | H29: =+G29*F29 -> 0 | I29: =IF(G29=100%,H29,"")
E30: Subtotaal: | F30: =SUM(F26:F29) -> 0 | H30: =SUM(H26:H29) -> 0 | I30: =IF(G30=100%,H30,"")
I31: =IF(G31=100%,H31,"")
A32: Projectspecifieke overige subsidiabele kosten (kosten derden) | I32: =IF(G32=100%,H32,"")
A33: Omschrijving | B33: Leverancier | C33: Subsidiedoel | D33: Offertenr | E33: Offertedatum | F33: Kosten | G33: =+G6 -> Ophoging Subsidie % | H33: =+H6 -> Subsidie | I33: =IF(G33=100%,H33,"")
F34: 0 | G34: {=+_xlfn.IFS(C34=Blad1!$D$2,'Basisgegevens Begroting'!$I$19,C34=Blad1!$D$3,'Basisgegevens Begroting'!$G$19,C34=Blad1!$D$4,'Basisgegevens Begroting'!$H$19,C34="",0)} -> 0 | H34: =+G34*F34 -> 0 | I34: =IF(G34=100%,H34,"")
F35: 0 | G35: {=+_xlfn.IFS(C35=Blad1!$D$2,'Basisgegevens Begroting'!$I$19,C35=Blad1!$D$3,'Basisgegevens Begroting'!$G$19,C35=Blad1!$D$4,'Basisgegevens Begroting'!$H$19,C35="",0)} -> 0 | H35: =+G35*F35 -> 0 | I35: =IF(G35=100%,H35,"")
F36: 0 | G36: {=+_xlfn.IFS(C36=Blad1!$D$2,'Basisgegevens Begroting'!$I$19,C36=Blad1!$D$3,'Basisgegevens Begroting'!$G$19,C36=Blad1!$D$4,'Basisgegevens Begroting'!$H$19,C36="",0)} -> 0 | H36: =+G36*F36 -> 0 | I36: =IF(G36=100%,H36,"")
F37: 0 | G37: {=+_xlfn.IFS(C37=Blad1!$D$2,'Basisgegevens Begroting'!$I$19,C37=Blad1!$D$3,'Basisgegevens Begroting'!$G$19,C37=Blad1!$D$4,'Basisgegevens Begroting'!$H$19,C37="",0)} -> 0 | H37: =+G37*F37 -> 0 | I37: =IF(G37=100%,H37,"")
F38: 0 | G38: {=+_xlfn.IFS(C38=Blad1!$D$2,'Basisgegevens Begroting'!$I$19,C38=Blad1!$D$3,'Basisgegevens Begroting'!$G$19,C38=Blad1!$D$4,'Basisgegevens Begroting'!$H$19,C38="",0)} -> 0 | H38: =+G38*F38 -> 0 | I38: =IF(G38=100%,H38,"")
F39: 0 | G39: {=+_xlfn.IFS(C39=Blad1!$D$2,'Basisgegevens Begroting'!$I$19,C39=Blad1!$D$3,'Basisgegevens Begroting'!$G$19,C39=Blad1!$D$4,'Basisgegevens Begroting'!$H$19,C39="",0)} -> 0 | H39: =+G39*F39 -> 0 | I39: =IF(G39=100%,H39,"")
F40: 0 | G40: {=+_xlfn.IFS(C40=Blad1!$D$2,'Basisgegevens Begroting'!$I$19,C40=Blad1!$D$3,'Basisgegevens Begroting'!$G$19,C40=Blad1!$D$4,'Basisgegevens Begroting'!$H$19,C40="",0)} -> 0 | H40: =+G40*F40 -> 0 | I40: =IF(G40=100%,H40,"")
F41: 0 | G41: {=+_xlfn.IFS(C41=Blad1!$D$2,'Basisgegevens Begroting'!$I$19,C41=Blad1!$D$3,'Basisgegevens Begroting'!$G$19,C41=Blad1!$D$4,'Basisgegevens Begroting'!$H$19,C41="",0)} -> 0 | H41: =+G41*F41 -> 0 | I41: =IF(G41=100%,H41,"")
F42: 0 | G42: {=+_xlfn.IFS(C42=Blad1!$D$2,'Basisgegevens Begroting'!$I$19,C42=Blad1!$D$3,'Basisgegevens Begroting'!$G$19,C42=Blad1!$D$4,'Basisgegevens Begroting'!$H$19,C42="",0)} -> 0 | H42: =+G42*F42 -> 0 | I42: =IF(G42=100%,H42,"")
F43: 0 | G43: {=+_xlfn.IFS(C43=Blad1!$D$2,'Basisgegevens Begroting'!$I$19,C43=Blad1!$D$3,'Basisgegevens Begroting'!$G$19,C43=Blad1!$D$4,'Basisgegevens Begroting'!$H$19,C43="",0)} -> 0 | H43: =+G43*F43 -> 0 | I43: =IF(G43=100%,H43,"")
F44: 0 | G44: {=+_xlfn.IFS(C44=Blad1!$D$2,'Basisgegevens Begroting'!$I$19,C44=Blad1!$D$3,'Basisgegevens Begroting'!$G$19,C44=Blad1!$D$4,'Basisgegevens Begroting'!$H$19,C44="",0)} -> 0 | H44: =+G44*F44 -> 0 | I44: =IF(G44=100%,H44,"")
F45: 0 | G45: {=+_xlfn.IFS(C45=Blad1!$D$2,'Basisgegevens Begroting'!$I$19,C45=Blad1!$D$3,'Basisgegevens Begroting'!$G$19,C45=Blad1!$D$4,'Basisgegevens Begroting'!$H$19,C45="",0)} -> 0 | H45: =+G45*F45 -> 0 | I45: =IF(G45=100%,H45,"")
... F49: 0 | G49: {=+_xlfn.IFS(C49=Blad1!$D$2,'Basisgegevens Begroting'!$I$19,C49=Blad1!$D$3,'Basisgegevens Begroting'!$G$19,C49=Blad1!$D$4,'Basisgegevens Begroting'!$H$19,C49="",0)} -> 0 | H49: =+G49*F49 -> 0 | I49: =IF(G49=100%,H49,"")
E51: Subtotaal: | F51: =SUM(F34:F50) -> 0 | G51: Subtotaal: | H51: =SUM(H34:H50) -> 0
A53: Subsidiabele kosten voor voor demonstratie noodzakelijke infrastructuur
A54: Omschrijving | B54: Leverancier | C54: Subsidiedoel | D54: Offertenr | E54: Offertedatum | F54: Kosten | G54: =+G33 -> Ophoging Subsidie % | H54: =+H33 -> Subsidie
F55: 0 | G55: {=+_xlfn.IFS(C55=Blad1!$D$2,'Basisgegevens Begroting'!$I$19,C55=Blad1!$D$3,'Basisgegevens Begroting'!$G$19,C55=Blad1!$D$4,'Basisgegevens Begroting'!$H$19,C55="",0)} -> 0 | H55: =+G55*F55 -> 0 | I55: =IF(G55=100%,H55,"")
F56: 0 | G56: {=+_xlfn.IFS(C56=Blad1!$D$2,'Basisgegevens Begroting'!$I$19,C56=Blad1!$D$3,'Basisgegevens Begroting'!$G$19,C56=Blad1!$D$4,'Basisgegevens Begroting'!$H$19,C56="",0)} -> 0 | H56: =+G56*F56 -> 0 | I56: =IF(G56=100%,H56,"")
F57: 0 | G57: {=+_xlfn.IFS(C57=Blad1!$D$2,'Basisgegevens Begroting'!$I$19,C57=Blad1!$D$3,'Basisgegevens Begroting'!$G$19,C57=Blad1!$D$4,'Basisgegevens Begroting'!$H$19,C57="",0)} -> 0 | H57: =+G57*F57 -> 0 | I57: =IF(G57=100%,H57,"")
F58: 0 | G58: {=+_xlfn.IFS(C58=Blad1!$D$2,'Basisgegevens Begroting'!$I$19,C58=Blad1!$D$3,'Basisgegevens Begroting'!$G$19,C58=Blad1!$D$4,'Basisgegevens Begroting'!$H$19,C58="",0)} -> 0 | H58: =+G58*F58 -> 0 | I58: =IF(G58=100%,H58,"")
F59: 0 | G59: {=+_xlfn.IFS(C59=Blad1!$D$2,'Basisgegevens Begroting'!$I$19,C59=Blad1!$D$3,'Basisgegevens Begroting'!$G$19,C59=Blad1!$D$4,'Basisgegevens Begroting'!$H$19,C59="",0)} -> 0 | H59: =+G59*F59 -> 0 | I59: =IF(G59=100%,H59,"")
F60: 0 | G60: {=+_xlfn.IFS(C60=Blad1!$D$2,'Basisgegevens Begroting'!$I$19,C60=Blad1!$D$3,'Basisgegevens Begroting'!$G$19,C60=Blad1!$D$4,'Basisgegevens Begroting'!$H$19,C60="",0)} -> 0 | H60: =+G60*F60 -> 0 | I60: =IF(G60=100%,H60,"")
E62: Subtotaal: | F62: =SUM(F55:F61) -> 0 | G62: Subtotaal: | H62: =SUM(H55:H61) -> 0
A64: Projectspecifieke kosten voor speciaal voor het project aan te schaffen materialen en hulpmiddelen
A65: Omschrijving materiaal | B65: Leverancier | C65: Subsidiedoel | D65: Offertenr | E65: Gebruikspercentage apparatuur | F65: Kosten | G65: =+G54 -> Ophoging Subsidie % | H65: =+H54 -> Subsidie
E66: 1 | F66: 0 | G66: {=+_xlfn.IFS(C66=Blad1!$D$2,'Basisgegevens Begroting'!$I$19,C66=Blad1!$D$3,'Basisgegevens Begroting'!$G$19,C66=Blad1!$D$4,'Basisgegevens Begroting'!$H$19,C66="",0)} -> 0 | H66: =+G66*F66*E66 -> 0 | I66: =IF(G66=100%,H66,"")
E67: 1 | F67: 0 | G67: {=+_xlfn.IFS(C67=Blad1!$D$2,'Basisgegevens Begroting'!$I$19,C67=Blad1!$D$3,'Basisgegevens Begroting'!$G$19,C67=Blad1!$D$4,'Basisgegevens Begroting'!$H$19,C67="",0)} -> 0 | H67: =+G67*F67*E67 -> 0 | I67: =IF(G67=100%,H67,"")
E68: 1 | F68: 0 | G68: {=+_xlfn.IFS(C68=Blad1!$D$2,'Basisgegevens Begroting'!$I$19,C68=Blad1!$D$3,'Basisgegevens Begroting'!$G$19,C68=Blad1!$D$4,'Basisgegevens Begroting'!$H$19,C68="",0)} -> 0 | H68: =+G68*F68*E68 -> 0 | I68: =IF(G68=100%,H68,"")
E69: 1 | F69: 0 | G69: {=+_xlfn.IFS(C69=Blad1!$D$2,'Basisgegevens Begroting'!$I$19,C69=Blad1!$D$3,'Basisgegevens Begroting'!$G$19,C69=Blad1!$D$4,'Basisgegevens Begroting'!$H$19,C69="",0)} -> 0 | H69: =+G69*F69*E69 -> 0 | I69: =IF(G69=100%,H69,"")
E70: 1 | F70: 0 | G70: {=+_xlfn.IFS(C70=Blad1!$D$2,'Basisgegevens Begroting'!$I$19,C70=Blad1!$D$3,'Basisgegevens Begroting'!$G$19,C70=Blad1!$D$4,'Basisgegevens Begroting'!$H$19,C70="",0)} -> 0 | H70: =+G70*F70*E70 -> 0 | I70: =IF(G70=100%,H70,"")
E71: 1 | F71: 0 | G71: {=+_xlfn.IFS(C71=Blad1!$D$2,'Basisgegevens Begroting'!$I$19,C71=Blad1!$D$3,'Basisgegevens Begroting'!$G$19,C71=Blad1!$D$4,'Basisgegevens Begroting'!$H$19,C71="",0)} -> 0 | H71: =+G71*F71*E71 -> 0 | I71: =IF(G71=100%,H71,"")
E72: 1 | F72: 0 | G72: {=+_xlfn.IFS(C72=Blad1!$D$2,'Basisgegevens Begroting'!$I$19,C72=Blad1!$D$3,'Basisgegevens Begroting'!$G$19,C72=Blad1!$D$4,'Basisgegevens Begroting'!$H$19,C72="",0)} -> 0 | H72: =+G72*F72*E72 -> 0 | I72: =IF(G72=100%,H72,"")
E73: 1 | F73: 0 | G73: {=+_xlfn.IFS(C73=Blad1!$D$2,'Basisgegevens Begroting'!$I$19,C73=Blad1!$D$3,'Basisgegevens Begroting'!$G$19,C73=Blad1!$D$4,'Basisgegevens Begroting'!$H$19,C73="",0)} -> 0 | H73: =+G73*F73*E73 -> 0 | I73: =IF(G73=100%,H73,"")
E74: 1 | F74: 0 | G74: {=+_xlfn.IFS(C74=Blad1!$D$2,'Basisgegevens Begroting'!$I$19,C74=Blad1!$D$3,'Basisgegevens Begroting'!$G$19,C74=Blad1!$D$4,'Basisgegevens Begroting'!$H$19,C74="",0)} -> 0 | H74: =+G74*F74*E74 -> 0 | I74: =IF(G74=100%,H74,"")
E75: 1 | F75: 0 | G75: {=+_xlfn.IFS(C75=Blad1!$D$2,'Basisgegevens Begroting'!$I$19,C75=Blad1!$D$3,'Basisgegevens Begroting'!$G$19,C75=Blad1!$D$4,'Basisgegevens Begroting'!$H$19,C75="",0)} -> 0 | H75: =+G75*F75*E75 -> 0 | I75: =IF(G75=100%,H75,"")
E76: 1 | F76: 0 | G76: {=+_xlfn.IFS(C76=Blad1!$D$2,'Basisgegevens Begroting'!$I$19,C76=Blad1!$D$3,'Basisgegevens Begroting'!$G$19,C76=Blad1!$D$4,'Basisgegevens Begroting'!$H$19,C76="",0)} -> 0 | H76: =+G76*F76*E76 -> 0 | I76: =IF(G76=100%,H76,"")
E77: 1 | F77: 0 | G77: {=+_xlfn.IFS(C77=Blad1!$D$2,'Basisgegevens Begroting'!$I$19,C77=Blad1!$D$3,'Basisgegevens Begroting'!$G$19,C77=Blad1!$D$4,'Basisgegevens Begroting'!$H$19,C77="",0)} -> 0 | H77: =+G77*F77*E77 -> 0 | I77: =IF(G77=100%,H77,"")
... E81: 1 | F81: 0 | G81: {=+_xlfn.IFS(C81=Blad1!$D$2,'Basisgegevens Begroting'!$I$19,C81=Blad1!$D$3,'Basisgegevens Begroting'!$G$19,C81=Blad1!$D$4,'Basisgegevens Begroting'!$H$19,C81="",0)} -> 0 | H81: =+G81*F81*E81 -> 0 | I81: =IF(G81=100%,H81,"")
I82: =IF(G82=100%,H82,"")
E83: Subtotaal: | F83: =SUM(F66:F82) -> 0 | G83: Subtotaal: | H83: =SUM(H66:H82) -> 0
E86: Totaal | F86: =+F51+F30+F22+F62+F83 -> 0 | H86: =+H51+H30+H22+H62+H83 -> 0 | I86: =SUM(I5:I82) -> 0

Sheet Kosten Deelnemer 12
A1: =+'Basisgegevens Begroting'!C20 -> 0
A4: Kolom1 | B4: Kolom2 | C4: Kolom22 | D4: Kolom3 | E4: Kolom5 | F4: Kolom6 | G4: Kolom8 | H4: Kolom9
A5: Personeelskosten | G5: =+Totaal!I9 -> 0
B6: Functie | C6: Subsidiedoel | D6: Uurtarief | E6: Aantal uren | F6: Uren x tarief | G6: Ophoging Subsidie % | H6: Subsidie
F7: =$D7*E7 -> 0 | G7: {=+_xlfn.IFS(C7=Blad1!$D$2,'Basisgegevens Begroting'!$I$20,C7=Blad1!$D$3,'Basisgegevens Begroting'!$G$20,C7=Blad1!$D$4,'Basisgegevens Begroting'!$H$20,C7="",0)} -> 0 | H7: =+EigenPersoneel789451114[[#This Row],[Kolom8]]*EigenPersoneel789451114[[#This Row],[Kolom6]] -> 0 | I7: =IF(G7=100%,H7,"")
F8: =$D8*E8 -> 0 | G8: {=+_xlfn.IFS(C8=Blad1!$D$2,'Basisgegevens Begroting'!$I$20,C8=Blad1!$D$3,'Basisgegevens Begroting'!$G$20,C8=Blad1!$D$4,'Basisgegevens Begroting'!$H$20,C8="",0)} -> 0 | H8: =+EigenPersoneel789451114[[#This Row],[Kolom8]]*EigenPersoneel789451114[[#This Row],[Kolom6]] -> 0 | I8: =IF(G8=100%,H8,"")
F9: =$D9*E9 -> 0 | G9: {=+_xlfn.IFS(C9=Blad1!$D$2,'Basisgegevens Begroting'!$I$20,C9=Blad1!$D$3,'Basisgegevens Begroting'!$G$20,C9=Blad1!$D$4,'Basisgegevens Begroting'!$H$20,C9="",0)} -> 0 | H9: =+EigenPersoneel789451114[[#This Row],[Kolom8]]*EigenPersoneel789451114[[#This Row],[Kolom6]] -> 0 | I9: =IF(G9=100%,H9,"")
F10: =$D10*E10 -> 0 | G10: {=+_xlfn.IFS(C10=Blad1!$D$2,'Basisgegevens Begroting'!$I$20,C10=Blad1!$D$3,'Basisgegevens Begroting'!$G$20,C10=Blad1!$D$4,'Basisgegevens Begroting'!$H$20,C10="",0)} -> 0 | H10: =+EigenPersoneel789451114[[#This Row],[Kolom8]]*EigenPersoneel789451114[[#This Row],[Kolom6]] -> 0 | I10: =IF(G10=100%,H10,"")
F11: =$D11*E11 -> 0 | G11: {=+_xlfn.IFS(C11=Blad1!$D$2,'Basisgegevens Begroting'!$I$20,C11=Blad1!$D$3,'Basisgegevens Begroting'!$G$20,C11=Blad1!$D$4,'Basisgegevens Begroting'!$H$20,C11="",0)} -> 0 | H11: =+EigenPersoneel789451114[[#This Row],[Kolom8]]*EigenPersoneel789451114[[#This Row],[Kolom6]] -> 0 | I11: =IF(G11=100%,H11,"")
F12: =$D12*E12 -> 0 | G12: {=+_xlfn.IFS(C12=Blad1!$D$2,'Basisgegevens Begroting'!$I$20,C12=Blad1!$D$3,'Basisgegevens Begroting'!$G$20,C12=Blad1!$D$4,'Basisgegevens Begroting'!$H$20,C12="",0)} -> 0 | H12: =+EigenPersoneel789451114[[#This Row],[Kolom8]]*EigenPersoneel789451114[[#This Row],[Kolom6]] -> 0 | I12: =IF(G12=100%,H12,"")
F13: =$D13*E13 -> 0 | G13: {=+_xlfn.IFS(C13=Blad1!$D$2,'Basisgegevens Begroting'!$I$20,C13=Blad1!$D$3,'Basisgegevens Begroting'!$G$20,C13=Blad1!$D$4,'Basisgegevens Begroting'!$H$20,C13="",0)} -> 0 | H13: =+EigenPersoneel789451114[[#This Row],[Kolom8]]*EigenPersoneel789451114[[#This Row],[Kolom6]] -> 0 | I13: =IF(G13=100%,H13,"")
