Workbook
Name Gegevens_deelnemers: 'Basisgegevens Begroting'!$B$12:$H$13
Name Gegevens_deelnemers: 'Basisgegevens Begroting'!$B$12:$H$13
Name Gegevens_deelnemers: 'Basisgegevens Begroting'!$B$12:$H$13
Name keuze_energie: Blad1!$D$57:$D$59
Name keuze_jn: Blad1!$D$37:$D$39
Name keuze_onderneming: Blad1!$D$45:$D$49
Name keuze_thema: Blad1!$D$52:$D$54
Name Kostensystematiek: '[1]Penvoerder-aanvrager 1'!$Q$12:$Q$17

Sheet Toelichting projectkosten
A1: {=_xlfn._xlws.FILTER('Basisgegevens Begroting'!$C$13:$C$13,'Basisgegevens Begroting'!$C$13:$C$13<>"")} -> <maak een keuze>
A3: Toelichting begroting Vroege opschaling energietransitie zeeschepen 2026-2030
A5: Bij de tabbladen vult u in:
A7: Basisgegevens Begroting
A8: Hier vult u de groengekleurde velden in, al dan niet via het rolmenu.
A10: De subsidie bedraagt maximaal € 4.000.000,-
A11: De subsidie voor de investering in energiebesparende technieken en de aanschaf van een batterijpakket zijn voor beiden maximaal € 400.000,-.
A12: De subsidie voor de energiebesparende technieken en het batterijpakket vallen binnen het maximum van € 4.000.000,– .
A13: De subsidie bedraagt ten hoogste 40% van de subsidiabele kosten, met een maximum van € 4.000.000,– per project.
A15: Dit percentage wordt verhoogd met:
A16: - 10% voor middelgrote ondernemingen;
A17: - 20% voor kleine ondernemingen;
A18: En met
... A59: leningsovereenkomst, agiostorting middels een getekende overeenkomst met een investeerder, garantstelling.

Sheet Basisgegevens Begroting
B1: Basisgegevens begroting
B3: Projectgegevens
B4: Regeling | C4: Vroege opschaling energietransitie zeeschepen 2026-2030
B5: Projecttitel | C5: <maak een keuze>
B6: Themakeuze | C6: <maak een keuze> | D6: =IF($C$6="nieuwbouw"," Let op: vul op tabblad 'Kosten Aanvrager' ook de kosten voor een referentieschip inclusief aandrijflijn op.","")
B7: Emissievrij zeeschip | C7: <maak een keuze> | D7: =IF($C$7="Ja"," Uw schip kwalificeert na afloop van het project als een emissievrij zeeschip.","")
B8: Energielijn | C8: <maak een keuze>
B9: Batterijpakket | C9: <maak een keuze>
B10: Energiebesparende technieken | C10: <maak een keuze>
C12: Naam organisatie | D12: Vestigingsland | E12: Soort onderneming (MKB/Grote onderneming) | F12: Subsidie-Percentage algemeen | G12: Opslag emissievrij zeeschip | H12: Subsidie-percentage Kleine (20%) en Middelgrote ondernemingen (10%)
B13: Aanvrager | C13: <maak een keuze> | D13: <maak een keuze> | E13: Middelgrote onderneming | F13: 0.4 | G13: =IF(C7="Ja",10%,0%) -> 0 | H13: =IFERROR(_xlfn.XLOOKUP(E13,Blad1!D46:D48,Blad1!E46:E48,,0),"n.v.t.") -> 0.1
E15: Vul de MKB verklaring in die te vinden is op onze website en stuur deze mee met uw aanvraag
E16: Mkb-verklaring | RVO.nl

Sheet Kosten Aanvrager
A1: =+'Basisgegevens Begroting'!C13 -> <maak een keuze>
A3: Kosten derden voor energielijn
A4: Omschrijving | B4: Leverancier | C4: Offertenr | D4: Offertedatum | E4: Kosten | F4: Subsidie % | G4: Subsidie
E5: 0 | F5: =IF(E5,SUM('Basisgegevens Begroting'!$F$13:$H$13),0) -> 0 | G5: =+F5*E5 -> 0
E6: 0 | F6: =IF(E6,SUM('Basisgegevens Begroting'!$F$13:$H$13),0) -> 0 | G6: =+F6*E6 -> 0
E7: 0 | F7: =IF(E7,SUM('Basisgegevens Begroting'!$F$13:$H$13),0) -> 0 | G7: =+F7*E7 -> 0
E8: 0 | F8: =IF(E8,SUM('Basisgegevens Begroting'!$F$13:$H$13),0) -> 0 | G8: =+F8*E8 -> 0
E9: 0 | F9: =IF(E9,SUM('Basisgegevens Begroting'!$F$13:$H$13),0) -> 0 | G9: =+F9*E9 -> 0
E10: 0 | F10: =IF(E10,SUM('Basisgegevens Begroting'!$F$13:$H$13),0) -> 0 | G10: =+F10*E10 -> 0
E11: 0 | F11: =IF(E11,SUM('Basisgegevens Begroting'!$F$13:$H$13),0) -> 0 | G11: =+F11*E11 -> 0
E12: 0 | F12: =IF(E12,SUM('Basisgegevens Begroting'!$F$13:$H$13),0) -> 0 | G12: =+F12*E12 -> 0
E13: 0 | F13: =IF(E13,SUM('Basisgegevens Begroting'!$F$13:$H$13),0) -> 0 | G13: =+F13*E13 -> 0
E14: 0 | F14: =IF(E14,SUM('Basisgegevens Begroting'!$F$13:$H$13),0) -> 0 | G14: =+F14*E14 -> 0
E15: 0 | F15: =IF(E15,SUM('Basisgegevens Begroting'!$F$13:$H$13),0) -> 0 | G15: =+F15*E15 -> 0
E16: 0 | F16: =IF(E16,SUM('Basisgegevens Begroting'!$F$13:$H$13),0) -> 0 | G16: =+F16*E16 -> 0
... E20: 0 | F20: =IF(E20,SUM('Basisgegevens Begroting'!$F$13:$H$13),0) -> 0 | G20: =+F20*E20 -> 0
D21: Subtotaal: | E21: =SUM(E5:E20) -> 0 | F21: Subtotaal: | G21: =SUM(G5:G20) -> 0 | H21: =IF(($G$21+$G$33+$G$45)>Blad1!$E$61,"!!","")
A23: Energiebesparende technieken
A24: Omschrijving | B24: Leverancier | C24: Offertenr | D24: Offertedatum | E24: Kosten | F24: Subsidie % | G24: Subsidie
E25: 0 | F25: =IF(E25,SUM('Basisgegevens Begroting'!$F$13:$H$13),0) -> 0 | G25: =+F25*E25 -> 0
E26: 0 | F26: =IF(E26,SUM('Basisgegevens Begroting'!$F$13:$H$13),0) -> 0 | G26: =+F26*E26 -> 0
E27: 0 | F27: =IF(E27,SUM('Basisgegevens Begroting'!$F$13:$H$13),0) -> 0 | G27: =+F27*E27 -> 0
E28: 0 | F28: =IF(E28,SUM('Basisgegevens Begroting'!$F$13:$H$13),0) -> 0 | G28: =+F28*E28 -> 0
E29: 0 | F29: =IF(E29,SUM('Basisgegevens Begroting'!$F$13:$H$13),0) -> 0 | G29: =+F29*E29 -> 0
E30: 0 | F30: =IF(E30,SUM('Basisgegevens Begroting'!$F$13:$H$13),0) -> 0 | G30: =+F30*E30 -> 0
E31: 0 | F31: =IF(E31,SUM('Basisgegevens Begroting'!$F$13:$H$13),0) -> 0 | G31: =+F31*E31 -> 0
E32: 0 | F32: =IF(E32,SUM('Basisgegevens Begroting'!$F$13:$H$13),0) -> 0 | G32: =+F32*E32 -> 0
D33: Subtotaal: | E33: =SUM(E25:E32) -> 0 | F33: Subtotaal: | G33: =MIN(SUM(G25:G32),Blad1!$E$62) -> 0 | H33: =IF(($G$21+$G$33+$G$45)>Blad1!$E$61,"!!","")
G34: =IF(SUM(G25:G32)>Blad1!$E$62,"Let op, maximum subsidie voor dit onderdeel bedraagt € "&TEXT(Blad1!$E$62,"0.00"),"")
A35: Batterijpakket
A36: Omschrijving | B36: Leverancier | C36: Offertenr | D36: Offertedatum | E36: Kosten | F36: Subsidie % | G36: Subsidie
E37: 0 | F37: =IF(E37,SUM('Basisgegevens Begroting'!$F$13:$H$13),0) -> 0 | G37: =+F37*E37 -> 0
E38: 0 | F38: =IF(E38,SUM('Basisgegevens Begroting'!$F$13:$H$13),0) -> 0 | G38: =+F38*E38 -> 0
E39: 0 | F39: =IF(E39,SUM('Basisgegevens Begroting'!$F$13:$H$13),0) -> 0 | G39: =+F39*E39 -> 0
E40: 0 | F40: =IF(E40,SUM('Basisgegevens Begroting'!$F$13:$H$13),0) -> 0 | G40: =+F40*E40 -> 0
E41: 0 | F41: =IF(E41,SUM('Basisgegevens Begroting'!$F$13:$H$13),0) -> 0 | G41: =+F41*E41 -> 0
E42: 0 | F42: =IF(E42,SUM('Basisgegevens Begroting'!$F$13:$H$13),0) -> 0 | G42: =+F42*E42 -> 0
E43: 0 | F43: =IF(E43,SUM('Basisgegevens Begroting'!$F$13:$H$13),0) -> 0 | G43: =+F43*E43 -> 0
E44: 0 | F44: =IF(E44,SUM('Basisgegevens Begroting'!$F$13:$H$13),0) -> 0 | G44: =+F44*E44 -> 0
D45: Subtotaal: | E45: =SUM(E37:E44) -> 0 | F45: Subtotaal: | G45: =MIN(SUM(G37:G44),Blad1!$E$63) -> 0 | H45: =IF(($G$21+$G$33+$G$45)>Blad1!$E$61,"!!","")
...

Sheet Totaal Overzicht
B2: Regeling | C2: ='Basisgegevens Begroting'!C4 -> Vroege opschaling energietransitie zeeschepen 2026-2030
B3: Projecttitel: | C3: =+'Basisgegevens Begroting'!C5 -> <maak een keuze>
B4: Aanvrager: | C4: =+'Basisgegevens Begroting'!C13 -> <maak een keuze>
B6: Kosten en subsidieberekening
B7: =+'Basisgegevens Begroting'!C13 -> <maak een keuze>
B8: ="Deze subsidie is conform de bedragen van " &E9 -> Deze subsidie is conform de bedragen van <maak een keuze> | E8: Kosten | F8: Subsidie
E9: =+B7 -> <maak een keuze>
B10: ="Kosten van "&E9 -> Kosten van <maak een keuze> | E10: =+'Kosten Aanvrager'!E71 -> 0 | F10: =+'Kosten Aanvrager'!G71 -> 0
B13: Overzicht projectkosten en gevraagde subsidie
E14: Investeringskosten | F14: Subsidie
B15: Kosten derden voor energielijn | E15: ='Kosten Aanvrager'!E21 -> 0 | F15: ='Kosten Aanvrager'!G21 -> 0
B16: Energiebesparende technieken | E16: ='Kosten Aanvrager'!E33 -> 0 | F16: ='Kosten Aanvrager'!G33 -> 0
B17: Batterijpakket | E17: ='Kosten Aanvrager'!E45 -> 0 | F17: ='Kosten Aanvrager'!G45 -> 0 | G17: =IF(SUM('Kosten Aanvrager'!$G$37:$G$44)>Blad1!$E$63,"Let op, maximum subsidie voor dit onderdeel bedraagt € "&TEXT(Blad1!$E$63,"0.00"),"")
E19: Referentiekosten
B20: Kosten derden voor energielijn | E20: ='Kosten Aanvrager'!E69 -> 0 | F20: ='Kosten Aanvrager'!G69 -> 0 | G20: =IF(SUM('Kosten Aanvrager'!$G$25:$G$32)>Blad1!$E$62,"Let op, maximum subsidie voor dit onderdeel bedraagt € "&TEXT(Blad1!$E$62,"0.00"),"")
B22: Totale subsidiabele projectkosten en berekende subsidie | E22: =SUM(E15:E18)-E20 -> 0 | F22: =MIN(SUM(F15:F21),Blad1!$E$61) -> 0 | G22: =IF(('Kosten Aanvrager'!$G$21),"Let op, maximum subsidie bedraagt € "&TEXT(Blad1!$E$61,"0.00"),"")
B24: Totale projectkosten | C24: =SUM(E15:E17) -> 0
B25: Gevraagde subsidie | C25: ='Kosten Aanvrager'!G74 -> 0
B26: Financiering eigen bijdrage in projectkosten:
B27: <financieringsbron 1> | C27: 0 | D27: Vermeld in de tabel wie de financiering levert en om welk bedrag het gaat.
B28: <financieringsbron 2> | C28: 0 | D28: Stuur de stukken die de financiering van deze eigen bijdrage onderbouwen mee met uw aanvraag. Denk hierbij aan
B29: <financieringsbron 3> | C29: 0 | D29: een leningsovereenkomst, agiostorting middels een getekende overeenkomst met een investeerder, garantstelling.
B30: <financieringsbron 4> | C30: 0 | D30: Licht dit verder toe in het projectplan.
B31: Totale onderbouwing aanvullende financiering | C31: =SUM(C27:C30) -> 0
B32: Nog te financieren eigen bijdrage | C32: =C24-C25-C31 -> 0
B34: Uitbetaling
B35: Bij subsidieverlening (30%) | C35: =+$F$10*Blad1!E26 -> 0
B36: Start werkzaamheden (50%) | C36: =+$F$10*Blad1!E27 -> 0
B37: Vaststelling (20%) | C37: =+$F$10*Blad1!E28 -> 0
B38: Totaal toe te kennen subsidiebedrag | C38: =SUM(C35:C37) -> 0
B40: [Ruimte voor toelichting]

Sheet Kosten Deelnemer 2
A1: =+'Basisgegevens Begroting'!#REF! -> #REF!
A4: Kolom1 | B4: Kolom2 | C4: Kolom22 | D4: Kolom3 | E4: Kolom5 | F4: Kolom6 | G4: Kolom8 | H4: Kolom9 | I4: Kolom10
A5: Personeelskosten | G5: =+'Totaal Overzicht'!I8 -> 0 | I5: =IF('Kosten Aanvrager'!#REF!=100%,'Kosten Aanvrager'!#REF!,"") -> #REF!
B6: Functie | C6: Subsidiedoel | D6: Uurtarief | E6: Aantal uren | F6: Uren x tarief | G6: Subsidie % | H6: Subsidie | I6: =IF('Kosten Aanvrager'!#REF!=100%,'Kosten Aanvrager'!#REF!,"") -> #REF!
F7: =$D7*E7 -> 0 | G7: {=+_xlfn.IFS(C7=Blad1!$D$2,'Basisgegevens Begroting'!#REF!,C7=Blad1!$D$3,'Basisgegevens Begroting'!#REF!,C7=Blad1!$D$4,'Basisgegevens Begroting'!#REF!,C7="",0)} -> 0 | H7: =+EigenPersoneel7[[#This Row],[Kolom8]]*EigenPersoneel7[[#This Row],[Kolom6]] -> 0 | I7: =IF(G7=100%,H7,"")
F8: =$D8*E8 -> 0 | G8: {=+_xlfn.IFS(C8=Blad1!$D$2,'Basisgegevens Begroting'!#REF!,C8=Blad1!$D$3,'Basisgegevens Begroting'!#REF!,C8=Blad1!$D$4,'Basisgegevens Begroting'!#REF!,C8="",0)} -> 0 | H8: =+EigenPersoneel7[[#This Row],[Kolom8]]*EigenPersoneel7[[#This Row],[Kolom6]] -> 0 | I8: =IF(G8=100%,H8,"")
F9: =$D9*E9 -> 0 | G9: {=+_xlfn.IFS(C9=Blad1!$D$2,'Basisgegevens Begroting'!#REF!,C9=Blad1!$D$3,'Basisgegevens Begroting'!#REF!,C9=Blad1!$D$4,'Basisgegevens Begroting'!#REF!,C9="",0)} -> 0 | H9: =+EigenPersoneel7[[#This Row],[Kolom8]]*EigenPersoneel7[[#This Row],[Kolom6]] -> 0 | I9: =IF(G9=100%,H9,"")
F10: =$D10*E10 -> 0 | G10: {=+_xlfn.IFS(C10=Blad1!$D$2,'Basisgegevens Begroting'!#REF!,C10=Blad1!$D$3,'Basisgegevens Begroting'!#REF!,C10=Blad1!$D$4,'Basisgegevens Begroting'!#REF!,C10="",0)} -> 0 | H10: =+EigenPersoneel7[[#This Row],[Kolom8]]*EigenPersoneel7[[#This Row],[Kolom6]] -> 0 | I10: =IF(G10=100%,H10,"")
F11: =$D11*E11 -> 0 | G11: {=+_xlfn.IFS(C11=Blad1!$D$2,'Basisgegevens Begroting'!#REF!,C11=Blad1!$D$3,'Basisgegevens Begroting'!#REF!,C11=Blad1!$D$4,'Basisgegevens Begroting'!#REF!,C11="",0)} -> 0 | H11: =+EigenPersoneel7[[#This Row],[Kolom8]]*EigenPersoneel7[[#This Row],[Kolom6]] -> 0 | I11: =IF(G11=100%,H11,"")
F12: =$D12*E12 -> 0 | G12: {=+_xlfn.IFS(C12=Blad1!$D$2,'Basisgegevens Begroting'!#REF!,C12=Blad1!$D$3,'Basisgegevens Begroting'!#REF!,C12=Blad1!$D$4,'Basisgegevens Begroting'!#REF!,C12="",0)} -> 0 | H12: =+EigenPersoneel7[[#This Row],[Kolom8]]*EigenPersoneel7[[#This Row],[Kolom6]] -> 0 | I12: =IF(G12=100%,H12,"")
F13: =$D13*E13 -> 0 | G13: {=+_xlfn.IFS(C13=Blad1!$D$2,'Basisgegevens Begroting'!#REF!,C13=Blad1!$D$3,'Basisgegevens Begroting'!#REF!,C13=Blad1!$D$4,'Basisgegevens Begroting'!#REF!,C13="",0)} -> 0 | H13: =+EigenPersoneel7[[#This Row],[Kolom8]]*EigenPersoneel7[[#This Row],[Kolom6]] -> 0 | I13: =IF(G13=100%,H13,"")
F14: =$D14*E14 -> 0 | G14: {=+_xlfn.IFS(C14=Blad1!$D$2,'Basisgegevens Begroting'!#REF!,C14=Blad1!$D$3,'Basisgegevens Begroting'!#REF!,C14=Blad1!$D$4,'Basisgegevens Begroting'!#REF!,C14="",0)} -> 0 | H14: =+EigenPersoneel7[[#This Row],[Kolom8]]*EigenPersoneel7[[#This Row],[Kolom6]] -> 0 | I14: =IF(G14=100%,H14,"")
F15: =$D15*E15 -> 0 | G15: {=+_xlfn.IFS(C15=Blad1!$D$2,'Basisgegevens Begroting'!#REF!,C15=Blad1!$D$3,'Basisgegevens Begroting'!#REF!,C15=Blad1!$D$4,'Basisgegevens Begroting'!#REF!,C15="",0)} -> 0 | H15: =+EigenPersoneel7[[#This Row],[Kolom8]]*EigenPersoneel7[[#This Row],[Kolom6]] -> 0 | I15: =IF(G15=100%,H15,"")
F16: =$D16*E16 -> 0 | G16: {=+_xlfn.IFS(C16=Blad1!$D$2,'Basisgegevens Begroting'!#REF!,C16=Blad1!$D$3,'Basisgegevens Begroting'!#REF!,C16=Blad1!$D$4,'Basisgegevens Begroting'!#REF!,C16="",0)} -> 0 | H16: =+EigenPersoneel7[[#This Row],[Kolom8]]*EigenPersoneel7[[#This Row],[Kolom6]] -> 0 | I16: =IF(G16=100%,H16,"")
F17: =$D17*E17 -> 0 | G17: {=+_xlfn.IFS(C17=Blad1!$D$2,'Basisgegevens Begroting'!#REF!,C17=Blad1!$D$3,'Basisgegevens Begroting'!#REF!,C17=Blad1!$D$4,'Basisgegevens Begroting'!#REF!,C17="",0)} -> 0 | H17: =+EigenPersoneel7[[#This Row],[Kolom8]]*EigenPersoneel7[[#This Row],[Kolom6]] -> 0 | I17: =IF(G17=100%,H17,"")
F18: =$D18*E18 -> 0 | G18: {=+_xlfn.IFS(C18=Blad1!$D$2,'Basisgegevens Begroting'!#REF!,C18=Blad1!$D$3,'Basisgegevens Begroting'!#REF!,C18=Blad1!$D$4,'Basisgegevens Begroting'!#REF!,C18="",0)} -> 0 | H18: =+EigenPersoneel7[[#This Row],[Kolom8]]*EigenPersoneel7[[#This Row],[Kolom6]] -> 0 | I18: =IF(G18=100%,H18,"")
... F21: =$D21*E21 -> 0 | G21: {=+_xlfn.IFS(C21=Blad1!$D$2,'Basisgegevens Begroting'!#REF!,C21=Blad1!$D$3,'Basisgegevens Begroting'!#REF!,C21=Blad1!$D$4,'Basisgegevens Begroting'!#REF!,C21="",0)} -> 0 | H21: =+EigenPersoneel7[[#This Row],[Kolom8]]*EigenPersoneel7[[#This Row],[Kolom6]] -> 0 | I21: =IF(G21=100%,H21,"")
E22: Subtotaal: | F22: =SUM(F7:F21) -> 0 | G22: Subtotaal: | H22: =SUM(H7:H21) -> 0 | I22: =IF(G22=100%,H22,"")
I23: =IF(G23=100%,H23,"")
A24: Brandstofkosten | I24: =IF(G24=100%,H24,"")
A25: Omschrijving | B25: Leverancier | C25: Subsidiedoel | D25: Geschatte meerkosten per eenheid (kWh, liter, kilo) | E25: Aantal eenheden (kWh, liter, kilo) | F25: Kosten | G25: =+G6 -> Subsidie % | H25: =+H6 -> Subsidie | I25: =IF(G25=100%,H25,"")
F26: =+D26*E26 -> 0 | G26: {=+_xlfn.IFS(C26=Blad1!$D$2,'Basisgegevens Begroting'!#REF!,C26=Blad1!$D$3,'Basisgegevens Begroting'!#REF!,C26=Blad1!$D$4,'Basisgegevens Begroting'!#REF!,C26="",0)} -> 0 | H26: =+G26*F26 -> 0 | I26: =IF(G26=100%,H26,"")
F27: =+D27*E27 -> 0 | G27: {=+_xlfn.IFS(C27=Blad1!$D$2,'Basisgegevens Begroting'!#REF!,C27=Blad1!$D$3,'Basisgegevens Begroting'!#REF!,C27=Blad1!$D$4,'Basisgegevens Begroting'!#REF!,C27="",0)} -> 0 | H27: =+G27*F27 -> 0 | I27: =IF(G27=100%,H27,"")
F28: =+D28*E28 -> 0 | G28: {=+_xlfn.IFS(C28=Blad1!$D$2,'Basisgegevens Begroting'!#REF!,C28=Blad1!$D$3,'Basisgegevens Begroting'!#REF!,C28=Blad1!$D$4,'Basisgegevens Begroting'!#REF!,C28="",0)} -> 0 | H28: =+G28*F28 -> 0 | I28: =IF(G28=100%,H28,"")
F29: =+D29*E29 -> 0 | G29: {=+_xlfn.IFS(C29=Blad1!$D$2,'Basisgegevens Begroting'!#REF!,C29=Blad1!$D$3,'Basisgegevens Begroting'!#REF!,C29=Blad1!$D$4,'Basisgegevens Begroting'!#REF!,C29="",0)} -> 0 | H29: =+G29*F29 -> 0 | I29: =IF(G29=100%,H29,"")
E30: Subtotaal: | F30: =SUM(F26:F29) -> 0 | H30: =SUM(H26:H29) -> 0 | I30: =IF(G30=100%,H30,"")
I31: =IF(G31=100%,H31,"")
A32: Projectspecifieke overige subsidiabele kosten (kosten derden) | I32: =IF(G32=100%,H32,"")
A33: Omschrijving | B33: Leverancier | C33: Subsidiedoel | D33: Offertenr | E33: Offertedatum | F33: Kosten | G33: =+G6 -> Subsidie % | H33: =+H6 -> Subsidie | I33: =IF(G33=100%,H33,"")
F34: 0 | G34: {=+_xlfn.IFS(C34=Blad1!$D$2,'Basisgegevens Begroting'!#REF!,C34=Blad1!$D$3,'Basisgegevens Begroting'!#REF!,C34=Blad1!$D$4,'Basisgegevens Begroting'!#REF!,C34="",0)} -> 0 | H34: =+G34*F34 -> 0 | I34: =IF(G34=100%,H34,"")
F35: 0 | G35: {=+_xlfn.IFS(C35=Blad1!$D$2,'Basisgegevens Begroting'!#REF!,C35=Blad1!$D$3,'Basisgegevens Begroting'!#REF!,C35=Blad1!$D$4,'Basisgegevens Begroting'!#REF!,C35="",0)} -> 0 | H35: =+G35*F35 -> 0 | I35: =IF(G35=100%,H35,"")
F36: 0 | G36: {=+_xlfn.IFS(C36=Blad1!$D$2,'Basisgegevens Begroting'!#REF!,C36=Blad1!$D$3,'Basisgegevens Begroting'!#REF!,C36=Blad1!$D$4,'Basisgegevens Begroting'!#REF!,C36="",0)} -> 0 | H36: =+G36*F36 -> 0 | I36: =IF(G36=100%,H36,"")
F37: 0 | G37: {=+_xlfn.IFS(C37=Blad1!$D$2,'Basisgegevens Begroting'!#REF!,C37=Blad1!$D$3,'Basisgegevens Begroting'!#REF!,C37=Blad1!$D$4,'Basisgegevens Begroting'!#REF!,C37="",0)} -> 0 | H37: =+G37*F37 -> 0 | I37: =IF(G37=100%,H37,"")
F38: 0 | G38: {=+_xlfn.IFS(C38=Blad1!$D$2,'Basisgegevens Begroting'!#REF!,C38=Blad1!$D$3,'Basisgegevens Begroting'!#REF!,C38=Blad1!$D$4,'Basisgegevens Begroting'!#REF!,C38="",0)} -> 0 | H38: =+G38*F38 -> 0 | I38: =IF(G38=100%,H38,"")
F39: 0 | G39: {=+_xlfn.IFS(C39=Blad1!$D$2,'Basisgegevens Begroting'!#REF!,C39=Blad1!$D$3,'Basisgegevens Begroting'!#REF!,C39=Blad1!$D$4,'Basisgegevens Begroting'!#REF!,C39="",0)} -> 0 | H39: =+G39*F39 -> 0 | I39: =IF(G39=100%,H39,"")
F40: 0 | G40: {=+_xlfn.IFS(C40=Blad1!$D$2,'Basisgegevens Begroting'!#REF!,C40=Blad1!$D$3,'Basisgegevens Begroting'!#REF!,C40=Blad1!$D$4,'Basisgegevens Begroting'!#REF!,C40="",0)} -> 0 | H40: =+G40*F40 -> 0 | I40: =IF(G40=100%,H40,"")
F41: 0 | G41: {=+_xlfn.IFS(C41=Blad1!$D$2,'Basisgegevens Begroting'!#REF!,C41=Blad1!$D$3,'Basisgegevens Begroting'!#REF!,C41=Blad1!$D$4,'Basisgegevens Begroting'!#REF!,C41="",0)} -> 0 | H41: =+G41*F41 -> 0 | I41: =IF(G41=100%,H41,"")
F42: 0 | G42: {=+_xlfn.IFS(C42=Blad1!$D$2,'Basisgegevens Begroting'!#REF!,C42=Blad1!$D$3,'Basisgegevens Begroting'!#REF!,C42=Blad1!$D$4,'Basisgegevens Begroting'!#REF!,C42="",0)} -> 0 | H42: =+G42*F42 -> 0 | I42: =IF(G42=100%,H42,"")
F43: 0 | G43: {=+_xlfn.IFS(C43=Blad1!$D$2,'Basisgegevens Begroting'!#REF!,C43=Blad1!$D$3,'Basisgegevens Begroting'!#REF!,C43=Blad1!$D$4,'Basisgegevens Begroting'!#REF!,C43="",0)} -> 0 | H43: =+G43*F43 -> 0 | I43: =IF(G43=100%,H43,"")
F44: 0 | G44: {=+_xlfn.IFS(C44=Blad1!$D$2,'Basisgegevens Begroting'!#REF!,C44=Blad1!$D$3,'Basisgegevens Begroting'!#REF!,C44=Blad1!$D$4,'Basisgegevens Begroting'!#REF!,C44="",0)} -> 0 | H44: =+G44*F44 -> 0 | I44: =IF(G44=100%,H44,"")
...

Sheet Kosten Deelnemer 3
A1: =+'Basisgegevens Begroting'!#REF! -> #REF!
A4: Kolom1 | B4: Kolom2 | C4: Kolom22 | D4: Kolom3 | E4: Kolom5 | F4: Kolom6 | G4: Kolom8 | H4: Kolom9
A5: Personeelskosten | G5: =+'Totaal Overzicht'!I8 -> 0
B6: Functie | C6: Subsidiedoel | D6: Uurtarief | E6: Aantal uren | F6: Uren x tarief | G6: Subsidie % | H6: Subsidie
B7: onderz | F7: =$D7*E7 -> 0 | G7: {=+_xlfn.IFS(C7=Blad1!$D$2,'Basisgegevens Begroting'!#REF!,C7=Blad1!$D$3,'Basisgegevens Begroting'!#REF!,C7=Blad1!$D$4,'Basisgegevens Begroting'!#REF!,C7="",0)} -> 0 | H7: =+EigenPersoneel78[[#This Row],[Kolom8]]*EigenPersoneel78[[#This Row],[Kolom6]] -> 0 | I7: =IF(G7=100%,H7,"")
F8: =$D8*E8 -> 0 | G8: {=+_xlfn.IFS(C8=Blad1!$D$2,'Basisgegevens Begroting'!#REF!,C8=Blad1!$D$3,'Basisgegevens Begroting'!#REF!,C8=Blad1!$D$4,'Basisgegevens Begroting'!#REF!,C8="",0)} -> 0 | H8: =+EigenPersoneel78[[#This Row],[Kolom8]]*EigenPersoneel78[[#This Row],[Kolom6]] -> 0 | I8: =IF(G8=100%,H8,"")
F9: =$D9*E9 -> 0 | G9: {=+_xlfn.IFS(C9=Blad1!$D$2,'Basisgegevens Begroting'!#REF!,C9=Blad1!$D$3,'Basisgegevens Begroting'!#REF!,C9=Blad1!$D$4,'Basisgegevens Begroting'!#REF!,C9="",0)} -> 0 | H9: =+EigenPersoneel78[[#This Row],[Kolom8]]*EigenPersoneel78[[#This Row],[Kolom6]] -> 0 | I9: =IF(G9=100%,H9,"")
F10: =$D10*E10 -> 0 | G10: {=+_xlfn.IFS(C10=Blad1!$D$2,'Basisgegevens Begroting'!#REF!,C10=Blad1!$D$3,'Basisgegevens Begroting'!#REF!,C10=Blad1!$D$4,'Basisgegevens Begroting'!#REF!,C10="",0)} -> 0 | H10: =+EigenPersoneel78[[#This Row],[Kolom8]]*EigenPersoneel78[[#This Row],[Kolom6]] -> 0 | I10: =IF(G10=100%,H10,"")
F11: =$D11*E11 -> 0 | G11: {=+_xlfn.IFS(C11=Blad1!$D$2,'Basisgegevens Begroting'!#REF!,C11=Blad1!$D$3,'Basisgegevens Begroting'!#REF!,C11=Blad1!$D$4,'Basisgegevens Begroting'!#REF!,C11="",0)} -> 0 | H11: =+EigenPersoneel78[[#This Row],[Kolom8]]*EigenPersoneel78[[#This Row],[Kolom6]] -> 0 | I11: =IF(G11=100%,H11,"")
F12: =$D12*E12 -> 0 | G12: {=+_xlfn.IFS(C12=Blad1!$D$2,'Basisgegevens Begroting'!#REF!,C12=Blad1!$D$3,'Basisgegevens Begroting'!#REF!,C12=Blad1!$D$4,'Basisgegevens Begroting'!#REF!,C12="",0)} -> 0 | H12: =+EigenPersoneel78[[#This Row],[Kolom8]]*EigenPersoneel78[[#This Row],[Kolom6]] -> 0 | I12: =IF(G12=100%,H12,"")
F13: =$D13*E13 -> 0 | G13: {=+_xlfn.IFS(C13=Blad1!$D$2,'Basisgegevens Begroting'!#REF!,C13=Blad1!$D$3,'Basisgegevens Begroting'!#REF!,C13=Blad1!$D$4,'Basisgegevens Begroting'!#REF!,C13="",0)} -> 0 | H13: =+EigenPersoneel78[[#This Row],[Kolom8]]*EigenPersoneel78[[#This Row],[Kolom6]] -> 0 | I13: =IF(G13=100%,H13,"")
F14: =$D14*E14 -> 0 | G14: {=+_xlfn.IFS(C14=Blad1!$D$2,'Basisgegevens Begroting'!#REF!,C14=Blad1!$D$3,'Basisgegevens Begroting'!#REF!,C14=Blad1!$D$4,'Basisgegevens Begroting'!#REF!,C14="",0)} -> 0 | H14: =+EigenPersoneel78[[#This Row],[Kolom8]]*EigenPersoneel78[[#This Row],[Kolom6]] -> 0 | I14: =IF(G14=100%,H14,"")
F15: =$D15*E15 -> 0 | G15: {=+_xlfn.IFS(C15=Blad1!$D$2,'Basisgegevens Begroting'!#REF!,C15=Blad1!$D$3,'Basisgegevens Begroting'!#REF!,C15=Blad1!$D$4,'Basisgegevens Begroting'!#REF!,C15="",0)} -> 0 | H15: =+EigenPersoneel78[[#This Row],[Kolom8]]*EigenPersoneel78[[#This Row],[Kolom6]] -> 0 | I15: =IF(G15=100%,H15,"")
F16: =$D16*E16 -> 0 | G16: {=+_xlfn.IFS(C16=Blad1!$D$2,'Basisgegevens Begroting'!#REF!,C16=Blad1!$D$3,'Basisgegevens Begroting'!#REF!,C16=Blad1!$D$4,'Basisgegevens Begroting'!#REF!,C16="",0)} -> 0 | H16: =+EigenPersoneel78[[#This Row],[Kolom8]]*EigenPersoneel78[[#This Row],[Kolom6]] -> 0 | I16: =IF(G16=100%,H16,"")
F17: =$D17*E17 -> 0 | G17: {=+_xlfn.IFS(C17=Blad1!$D$2,'Basisgegevens Begroting'!#REF!,C17=Blad1!$D$3,'Basisgegevens Begroting'!#REF!,C17=Blad1!$D$4,'Basisgegevens Begroting'!#REF!,C17="",0)} -> 0 | H17: =+EigenPersoneel78[[#This Row],[Kolom8]]*EigenPersoneel78[[#This Row],[Kolom6]] -> 0 | I17: =IF(G17=100%,H17,"")
F18: =$D18*E18 -> 0 | G18: {=+_xlfn.IFS(C18=Blad1!$D$2,'Basisgegevens Begroting'!#REF!,C18=Blad1!$D$3,'Basisgegevens Begroting'!#REF!,C18=Blad1!$D$4,'Basisgegevens Begroting'!#REF!,C18="",0)} -> 0 | H18: =+EigenPersoneel78[[#This Row],[Kolom8]]*EigenPersoneel78[[#This Row],[Kolom6]] -> 0 | I18: =IF(G18=100%,H18,"")
F19: =$D19*E19 -> 0 | G19: {=+_xlfn.IFS(C19=Blad1!$D$2,'Basisgegevens Begroting'!#REF!,C19=Blad1!$D$3,'Basisgegevens Begroting'!#REF!,C19=Blad1!$D$4,'Basisgegevens Begroting'!#REF!,C19="",0)} -> 0 | H19: =+EigenPersoneel78[[#This Row],[Kolom8]]*EigenPersoneel78[[#This Row],[Kolom6]] -> 0 | I19: =IF(G19=100%,H19,"")
... F21: =$D21*E21 -> 0 | G21: {=+_xlfn.IFS(C21=Blad1!$D$2,'Basisgegevens Begroting'!#REF!,C21=Blad1!$D$3,'Basisgegevens Begroting'!#REF!,C21=Blad1!$D$4,'Basisgegevens Begroting'!#REF!,C21="",0)} -> 0 | H21: =+EigenPersoneel78[[#This Row],[Kolom8]]*EigenPersoneel78[[#This Row],[Kolom6]] -> 0 | I21: =IF(G21=100%,H21,"")
E22: Subtotaal: | F22: =SUM(F7:F21) -> 0 | G22: Subtotaal: | H22: =SUM(H7:H21) -> 0 | I22: =IF(G22=100%,H22,"")
I23: =IF(G23=100%,H23,"")
A24: Brandstofkosten | I24: =IF(G24=100%,H24,"")
A25: Omschrijving | B25: Leverancier | C25: Subsidiedoel | D25: Geschatte meerkosten per eenheid (kWh, liter, kilo) | E25: Aantal eenheden (kWh, liter, kilo) | F25: Kosten | G25: =+G6 -> Subsidie % | H25: =+H6 -> Subsidie | I25: =IF(G25=100%,H25,"")
F26: =+D26*E26 -> 0 | G26: {=+_xlfn.IFS(C26=Blad1!$D$2,'Basisgegevens Begroting'!#REF!,C26=Blad1!$D$3,'Basisgegevens Begroting'!#REF!,C26=Blad1!$D$4,'Basisgegevens Begroting'!#REF!,C26="",0)} -> 0 | H26: =+G26*F26 -> 0 | I26: =IF(G26=100%,H26,"")
F27: =+D27*E27 -> 0 | G27: {=+_xlfn.IFS(C27=Blad1!$D$2,'Basisgegevens Begroting'!#REF!,C27=Blad1!$D$3,'Basisgegevens Begroting'!#REF!,C27=Blad1!$D$4,'Basisgegevens Begroting'!#REF!,C27="",0)} -> 0 | H27: =+G27*F27 -> 0 | I27: =IF(G27=100%,H27,"")
F28: =+D28*E28 -> 0 | G28: {=+_xlfn.IFS(C28=Blad1!$D$2,'Basisgegevens Begroting'!#REF!,C28=Blad1!$D$3,'Basisgegevens Begroting'!#REF!,C28=Blad1!$D$4,'Basisgegevens Begroting'!#REF!,C28="",0)} -> 0 | H28: =+G28*F28 -> 0 | I28: =IF(G28=100%,H28,"")
F29: =+D29*E29 -> 0 | G29: {=+_xlfn.IFS(C29=Blad1!$D$2,'Basisgegevens Begroting'!#REF!,C29=Blad1!$D$3,'Basisgegevens Begroting'!#REF!,C29=Blad1!$D$4,'Basisgegevens Begroting'!#REF!,C29="",0)} -> 0 | H29: =+G29*F29 -> 0 | I29: =IF(G29=100%,H29,"")
E30: Subtotaal: | F30: =SUM(F26:F29) -> 0 | H30: =SUM(H26:H29) -> 0 | I30: =IF(G30=100%,H30,"")
I31: =IF(G31=100%,H31,"")
A32: Projectspecifieke overige subsidiabele kosten (kosten derden) | I32: =IF(G32=100%,H32,"")
A33: Omschrijving | B33: Leverancier | C33: Subsidiedoel | D33: Offertenr | E33: Offertedatum | F33: Kosten | G33: =+G6 -> Subsidie % | H33: =+H6 -> Subsidie | I33: =IF(G33=100%,H33,"")
F34: 0 | G34: {=+_xlfn.IFS(C34=Blad1!$D$2,'Basisgegevens Begroting'!#REF!,C34=Blad1!$D$3,'Basisgegevens Begroting'!#REF!,C34=Blad1!$D$4,'Basisgegevens Begroting'!#REF!,C34="",0)} -> 0 | H34: =+G34*F34 -> 0 | I34: =IF(G34=100%,H34,"")
F35: 0 | G35: {=+_xlfn.IFS(C35=Blad1!$D$2,'Basisgegevens Begroting'!#REF!,C35=Blad1!$D$3,'Basisgegevens Begroting'!#REF!,C35=Blad1!$D$4,'Basisgegevens Begroting'!#REF!,C35="",0)} -> 0 | H35: =+G35*F35 -> 0 | I35: =IF(G35=100%,H35,"")
F36: 0 | G36: {=+_xlfn.IFS(C36=Blad1!$D$2,'Basisgegevens Begroting'!#REF!,C36=Blad1!$D$3,'Basisgegevens Begroting'!#REF!,C36=Blad1!$D$4,'Basisgegevens Begroting'!#REF!,C36="",0)} -> 0 | H36: =+G36*F36 -> 0 | I36: =IF(G36=100%,H36,"")
F37: 0 | G37: {=+_xlfn.IFS(C37=Blad1!$D$2,'Basisgegevens Begroting'!#REF!,C37=Blad1!$D$3,'Basisgegevens Begroting'!#REF!,C37=Blad1!$D$4,'Basisgegevens Begroting'!#REF!,C37="",0)} -> 0 | H37: =+G37*F37 -> 0 | I37: =IF(G37=100%,H37,"")
F38: 0 | G38: {=+_xlfn.IFS(C38=Blad1!$D$2,'Basisgegevens Begroting'!#REF!,C38=Blad1!$D$3,'Basisgegevens Begroting'!#REF!,C38=Blad1!$D$4,'Basisgegevens Begroting'!#REF!,C38="",0)} -> 0 | H38: =+G38*F38 -> 0 | I38: =IF(G38=100%,H38,"")
F39: 0 | G39: {=+_xlfn.IFS(C39=Blad1!$D$2,'Basisgegevens Begroting'!#REF!,C39=Blad1!$D$3,'Basisgegevens Begroting'!#REF!,C39=Blad1!$D$4,'Basisgegevens Begroting'!#REF!,C39="",0)} -> 0 | H39: =+G39*F39 -> 0 | I39: =IF(G39=100%,H39,"")
F40: 0 | G40: {=+_xlfn.IFS(C40=Blad1!$D$2,'Basisgegevens Begroting'!#REF!,C40=Blad1!$D$3,'Basisgegevens Begroting'!#REF!,C40=Blad1!$D$4,'Basisgegevens Begroting'!#REF!,C40="",0)} -> 0 | H40: =+G40*F40 -> 0 | I40: =IF(G40=100%,H40,"")
F41: 0 | G41: {=+_xlfn.IFS(C41=Blad1!$D$2,'Basisgegevens Begroting'!#REF!,C41=Blad1!$D$3,'Basisgegevens Begroting'!#REF!,C41=Blad1!$D$4,'Basisgegevens Begroting'!#REF!,C41="",0)} -> 0 | H41: =+G41*F41 -> 0 | I41: =IF(G41=100%,H41,"")
F42: 0 | G42: {=+_xlfn.IFS(C42=Blad1!$D$2,'Basisgegevens Begroting'!#REF!,C42=Blad1!$D$3,'Basisgegevens Begroting'!#REF!,C42=Blad1!$D$4,'Basisgegevens Begroting'!#REF!,C42="",0)} -> 0 | H42: =+G42*F42 -> 0 | I42: =IF(G42=100%,H42,"")
F43: 0 | G43: {=+_xlfn.IFS(C43=Blad1!$D$2,'Basisgegevens Begroting'!#REF!,C43=Blad1!$D$3,'Basisgegevens Begroting'!#REF!,C43=Blad1!$D$4,'Basisgegevens Begroting'!#REF!,C43="",0)} -> 0 | H43: =+G43*F43 -> 0 | I43: =IF(G43=100%,H43,"")
...

Sheet Kosten Deelnemer 4
A1: =+'Basisgegevens Begroting'!#REF! -> #REF!
A4: Kolom1 | B4: Kolom2 | C4: Kolom22 | D4: Kolom3 | E4: Kolom5 | F4: Kolom6 | G4: Kolom8 | H4: Kolom9
A5: Personeelskosten | G5: =+'Totaal Overzicht'!I8 -> 0
B6: Functie | C6: Subsidiedoel | D6: Uurtarief | E6: Aantal uren | F6: Uren x tarief | G6: Ophoging Subsidie % | H6: Subsidie
F7: =$D7*E7 -> 0 | G7: {=+_xlfn.IFS(C7=Blad1!$D$2,'Basisgegevens Begroting'!#REF!,C7=Blad1!$D$3,'Basisgegevens Begroting'!#REF!,C7=Blad1!$D$4,'Basisgegevens Begroting'!#REF!,C7="",0)} -> 0 | H7: =+EigenPersoneel789[[#This Row],[Kolom8]]*EigenPersoneel789[[#This Row],[Kolom6]] -> 0 | I7: =IF(G7=100%,H7,"")
F8: =$D8*E8 -> 0 | G8: {=+_xlfn.IFS(C8=Blad1!$D$2,'Basisgegevens Begroting'!#REF!,C8=Blad1!$D$3,'Basisgegevens Begroting'!#REF!,C8=Blad1!$D$4,'Basisgegevens Begroting'!#REF!,C8="",0)} -> 0 | H8: =+EigenPersoneel789[[#This Row],[Kolom8]]*EigenPersoneel789[[#This Row],[Kolom6]] -> 0 | I8: =IF(G8=100%,H8,"")
F9: =$D9*E9 -> 0 | G9: {=+_xlfn.IFS(C9=Blad1!$D$2,'Basisgegevens Begroting'!#REF!,C9=Blad1!$D$3,'Basisgegevens Begroting'!#REF!,C9=Blad1!$D$4,'Basisgegevens Begroting'!#REF!,C9="",0)} -> 0 | H9: =+EigenPersoneel789[[#This Row],[Kolom8]]*EigenPersoneel789[[#This Row],[Kolom6]] -> 0 | I9: =IF(G9=100%,H9,"")
F10: =$D10*E10 -> 0 | G10: {=+_xlfn.IFS(C10=Blad1!$D$2,'Basisgegevens Begroting'!#REF!,C10=Blad1!$D$3,'Basisgegevens Begroting'!#REF!,C10=Blad1!$D$4,'Basisgegevens Begroting'!#REF!,C10="",0)} -> 0 | H10: =+EigenPersoneel789[[#This Row],[Kolom8]]*EigenPersoneel789[[#This Row],[Kolom6]] -> 0 | I10: =IF(G10=100%,H10,"")
F11: =$D11*E11 -> 0 | G11: {=+_xlfn.IFS(C11=Blad1!$D$2,'Basisgegevens Begroting'!#REF!,C11=Blad1!$D$3,'Basisgegevens Begroting'!#REF!,C11=Blad1!$D$4,'Basisgegevens Begroting'!#REF!,C11="",0)} -> 0 | H11: =+EigenPersoneel789[[#This Row],[Kolom8]]*EigenPersoneel789[[#This Row],[Kolom6]] -> 0 | I11: =IF(G11=100%,H11,"")
F12: =$D12*E12 -> 0 | G12: {=+_xlfn.IFS(C12=Blad1!$D$2,'Basisgegevens Begroting'!#REF!,C12=Blad1!$D$3,'Basisgegevens Begroting'!#REF!,C12=Blad1!$D$4,'Basisgegevens Begroting'!#REF!,C12="",0)} -> 0 | H12: =+EigenPersoneel789[[#This Row],[Kolom8]]*EigenPersoneel789[[#This Row],[Kolom6]] -> 0 | I12: =IF(G12=100%,H12,"")
F13: =$D13*E13 -> 0 | G13: {=+_xlfn.IFS(C13=Blad1!$D$2,'Basisgegevens Begroting'!#REF!,C13=Blad1!$D$3,'Basisgegevens Begroting'!#REF!,C13=Blad1!$D$4,'Basisgegevens Begroting'!#REF!,C13="",0)} -> 0 | H13: =+EigenPersoneel789[[#This Row],[Kolom8]]*EigenPersoneel789[[#This Row],[Kolom6]] -> 0 | I13: =IF(G13=100%,H13,"")
F14: =$D14*E14 -> 0 | G14: {=+_xlfn.IFS(C14=Blad1!$D$2,'Basisgegevens Begroting'!#REF!,C14=Blad1!$D$3,'Basisgegevens Begroting'!#REF!,C14=Blad1!$D$4,'Basisgegevens Begroting'!#REF!,C14="",0)} -> 0 | H14: =+EigenPersoneel789[[#This Row],[Kolom8]]*EigenPersoneel789[[#This Row],[Kolom6]] -> 0 | I14: =IF(G14=100%,H14,"")
F15: =$D15*E15 -> 0 | G15: {=+_xlfn.IFS(C15=Blad1!$D$2,'Basisgegevens Begroting'!#REF!,C15=Blad1!$D$3,'Basisgegevens Begroting'!#REF!,C15=Blad1!$D$4,'Basisgegevens Begroting'!#REF!,C15="",0)} -> 0 | H15: =+EigenPersoneel789[[#This Row],[Kolom8]]*EigenPersoneel789[[#This Row],[Kolom6]] -> 0 | I15: =IF(G15=100%,H15,"")
F16: =$D16*E16 -> 0 | G16: {=+_xlfn.IFS(C16=Blad1!$D$2,'Basisgegevens Begroting'!#REF!,C16=Blad1!$D$3,'Basisgegevens Begroting'!#REF!,C16=Blad1!$D$4,'Basisgegevens Begroting'!#REF!,C16="",0)} -> 0 | H16: =+EigenPersoneel789[[#This Row],[Kolom8]]*EigenPersoneel789[[#This Row],[Kolom6]] -> 0 | I16: =IF(G16=100%,H16,"")
F17: =$D17*E17 -> 0 | G17: {=+_xlfn.IFS(C17=Blad1!$D$2,'Basisgegevens Begroting'!#REF!,C17=Blad1!$D$3,'Basisgegevens Begroting'!#REF!,C17=Blad1!$D$4,'Basisgegevens Begroting'!#REF!,C17="",0)} -> 0 | H17: =+EigenPersoneel789[[#This Row],[Kolom8]]*EigenPersoneel789[[#This Row],[Kolom6]] -> 0 | I17: =IF(G17=100%,H17,"")
F18: =$D18*E18 -> 0 | G18: {=+_xlfn.IFS(C18=Blad1!$D$2,'Basisgegevens Begroting'!#REF!,C18=Blad1!$D$3,'Basisgegevens Begroting'!#REF!,C18=Blad1!$D$4,'Basisgegevens Begroting'!#REF!,C18="",0)} -> 0 | H18: =+EigenPersoneel789[[#This Row],[Kolom8]]*EigenPersoneel789[[#This Row],[Kolom6]] -> 0 | I18: =IF(G18=100%,H18,"")
... F21: =$D21*E21 -> 0 | G21: {=+_xlfn.IFS(C21=Blad1!$D$2,'Basisgegevens Begroting'!#REF!,C21=Blad1!$D$3,'Basisgegevens Begroting'!#REF!,C21=Blad1!$D$4,'Basisgegevens Begroting'!#REF!,C21="",0)} -> 0 | H21: =+EigenPersoneel789[[#This Row],[Kolom8]]*EigenPersoneel789[[#This Row],[Kolom6]] -> 0 | I21: =IF(G21=100%,H21,"")
E22: Subtotaal: | F22: =SUM(F7:F21) -> 0 | G22: Subtotaal: | H22: =SUM(H7:H21) -> 0 | I22: =IF(G22=100%,H22,"")
I23: =IF(G23=100%,H23,"")
A24: Brandstofkosten | I24: =IF(G24=100%,H24,"")
A25: Omschrijving | B25: Leverancier | C25: Subsidiedoel | D25: Geschatte meerkosten per eenheid (kWh, liter, kilo) | E25: Aantal eenheden (kWh, liter, kilo) | F25: Kosten | G25: =+G6 -> Ophoging Subsidie % | H25: =+H6 -> Subsidie | I25: =IF(G25=100%,H25,"")
F26: =+D26*E26 -> 0 | G26: {=+_xlfn.IFS(C26=Blad1!$D$2,'Basisgegevens Begroting'!#REF!,C26=Blad1!$D$3,'Basisgegevens Begroting'!#REF!,C26=Blad1!$D$4,'Basisgegevens Begroting'!#REF!,C26="",0)} -> 0 | H26: =+G26*F26 -> 0 | I26: =IF(G26=100%,H26,"")
F27: =+D27*E27 -> 0 | G27: {=+_xlfn.IFS(C27=Blad1!$D$2,'Basisgegevens Begroting'!#REF!,C27=Blad1!$D$3,'Basisgegevens Begroting'!#REF!,C27=Blad1!$D$4,'Basisgegevens Begroting'!#REF!,C27="",0)} -> 0 | H27: =+G27*F27 -> 0 | I27: =IF(G27=100%,H27,"")
F28: =+D28*E28 -> 0 | G28: {=+_xlfn.IFS(C28=Blad1!$D$2,'Basisgegevens Begroting'!#REF!,C28=Blad1!$D$3,'Basisgegevens Begroting'!#REF!,C28=Blad1!$D$4,'Basisgegevens Begroting'!#REF!,C28="",0)} -> 0 | H28: =+G28*F28 -> 0 | I28: =IF(G28=100%,H28,"")
F29: =+D29*E29 -> 0 | G29: {=+_xlfn.IFS(C29=Blad1!$D$2,'Basisgegevens Begroting'!#REF!,C29=Blad1!$D$3,'Basisgegevens Begroting'!#REF!,C29=Blad1!$D$4,'Basisgegevens Begroting'!#REF!,C29="",0)} -> 0 | H29: =+G29*F29 -> 0 | I29: =IF(G29=100%,H29,"")
E30: Subtotaal: | F30: =SUM(F26:F29) -> 0 | H30: =SUM(H26:H29) -> 0 | I30: =IF(G30=100%,H30,"")
I31: =IF(G31=100%,H31,"")
A32: Projectspecifieke overige subsidiabele kosten (kosten derden) | I32: =IF(G32=100%,H32,"")
A33: Omschrijving | B33: Leverancier | C33: Subsidiedoel | D33: Offertenr | E33: Offertedatum | F33: Kosten | G33: =+G6 -> Ophoging Subsidie % | H33: =+H6 -> Subsidie | I33: =IF(G33=100%,H33,"")
F34: 0 | G34: {=+_xlfn.IFS(C34=Blad1!$D$2,'Basisgegevens Begroting'!#REF!,C34=Blad1!$D$3,'Basisgegevens Begroting'!#REF!,C34=Blad1!$D$4,'Basisgegevens Begroting'!#REF!,C34="",0)} -> 0 | H34: =+G34*F34 -> 0 | I34: =IF(G34=100%,H34,"")
F35: 0 | G35: {=+_xlfn.IFS(C35=Blad1!$D$2,'Basisgegevens Begroting'!#REF!,C35=Blad1!$D$3,'Basisgegevens Begroting'!#REF!,C35=Blad1!$D$4,'Basisgegevens Begroting'!#REF!,C35="",0)} -> 0 | H35: =+G35*F35 -> 0 | I35: =IF(G35=100%,H35,"")
F36: 0 | G36: {=+_xlfn.IFS(C36=Blad1!$D$2,'Basisgegevens Begroting'!#REF!,C36=Blad1!$D$3,'Basisgegevens Begroting'!#REF!,C36=Blad1!$D$4,'Basisgegevens Begroting'!#REF!,C36="",0)} -> 0 | H36: =+G36*F36 -> 0 | I36: =IF(G36=100%,H36,"")
F37: 0 | G37: {=+_xlfn.IFS(C37=Blad1!$D$2,'Basisgegevens Begroting'!#REF!,C37=Blad1!$D$3,'Basisgegevens Begroting'!#REF!,C37=Blad1!$D$4,'Basisgegevens Begroting'!#REF!,C37="",0)} -> 0 | H37: =+G37*F37 -> 0 | I37: =IF(G37=100%,H37,"")
F38: 0 | G38: {=+_xlfn.IFS(C38=Blad1!$D$2,'Basisgegevens Begroting'!#REF!,C38=Blad1!$D$3,'Basisgegevens Begroting'!#REF!,C38=Blad1!$D$4,'Basisgegevens Begroting'!#REF!,C38="",0)} -> 0 | H38: =+G38*F38 -> 0 | I38: =IF(G38=100%,H38,"")
F39: 0 | G39: {=+_xlfn.IFS(C39=Blad1!$D$2,'Basisgegevens Begroting'!#REF!,C39=Blad1!$D$3,'Basisgegevens Begroting'!#REF!,C39=Blad1!$D$4,'Basisgegevens Begroting'!#REF!,C39="",0)} -> 0 | H39: =+G39*F39 -> 0 | I39: =IF(G39=100%,H39,"")
F40: 0 | G40: {=+_xlfn.IFS(C40=Blad1!$D$2,'Basisgegevens Begroting'!#REF!,C40=Blad1!$D$3,'Basisgegevens Begroting'!#REF!,C40=Blad1!$D$4,'Basisgegevens Begroting'!#REF!,C40="",0)} -> 0 | H40: =+G40*F40 -> 0 | I40: =IF(G40=100%,H40,"")
F41: 0 | G41: {=+_xlfn.IFS(C41=Blad1!$D$2,'Basisgegevens Begroting'!#REF!,C41=Blad1!$D$3,'Basisgegevens Begroting'!#REF!,C41=Blad1!$D$4,'Basisgegevens Begroting'!#REF!,C41="",0)} -> 0 | H41: =+G41*F41 -> 0 | I41: =IF(G41=100%,H41,"")
F42: 0 | G42: {=+_xlfn.IFS(C42=Blad1!$D$2,'Basisgegevens Begroting'!#REF!,C42=Blad1!$D$3,'Basisgegevens Begroting'!#REF!,C42=Blad1!$D$4,'Basisgegevens Begroting'!#REF!,C42="",0)} -> 0 | H42: =+G42*F42 -> 0 | I42: =IF(G42=100%,H42,"")
F43: 0 | G43: {=+_xlfn.IFS(C43=Blad1!$D$2,'Basisgegevens Begroting'!#REF!,C43=Blad1!$D$3,'Basisgegevens Begroting'!#REF!,C43=Blad1!$D$4,'Basisgegevens Begroting'!#REF!,C43="",0)} -> 0 | H43: =+G43*F43 -> 0 | I43: =IF(G43=100%,H43,"")
F44: 0 | G44: {=+_xlfn.IFS(C44=Blad1!$D$2,'Basisgegevens Begroting'!#REF!,C44=Blad1!$D$3,'Basisgegevens Begroting'!#REF!,C44=Blad1!$D$4,'Basisgegevens Begroting'!#REF!,C44="",0)} -> 0 | H44: =+G44*F44 -> 0 | I44: =IF(G44=100%,H44,"")
...

Sheet Kosten Deelnemer 5
A1: =+'Basisgegevens Begroting'!#REF! -> #REF!
A4: Kolom1 | B4: Kolom2 | C4: Kolom22 | D4: Kolom3 | E4: Kolom5 | F4: Kolom6 | G4: Kolom8 | H4: Kolom9
A5: Personeelskosten | G5: =+'Totaal Overzicht'!I8 -> 0
B6: Functie | C6: Subsidiedoel | D6: Uurtarief | E6: Aantal uren | F6: Uren x tarief | G6: Ophoging Subsidie % | H6: Subsidie
F7: =$D7*E7 -> 0 | G7: {=+_xlfn.IFS(C7=Blad1!$D$2,'Basisgegevens Begroting'!#REF!,C7=Blad1!$D$3,'Basisgegevens Begroting'!#REF!,C7=Blad1!$D$4,'Basisgegevens Begroting'!#REF!,C7="",0)} -> 0 | H7: =+EigenPersoneel7894[[#This Row],[Kolom8]]*EigenPersoneel7894[[#This Row],[Kolom6]] -> 0 | I7: =IF(G7=100%,H7,"")
F8: =$D8*E8 -> 0 | G8: {=+_xlfn.IFS(C8=Blad1!$D$2,'Basisgegevens Begroting'!#REF!,C8=Blad1!$D$3,'Basisgegevens Begroting'!#REF!,C8=Blad1!$D$4,'Basisgegevens Begroting'!#REF!,C8="",0)} -> 0 | H8: =+EigenPersoneel7894[[#This Row],[Kolom8]]*EigenPersoneel7894[[#This Row],[Kolom6]] -> 0 | I8: =IF(G8=100%,H8,"")
F9: =$D9*E9 -> 0 | G9: {=+_xlfn.IFS(C9=Blad1!$D$2,'Basisgegevens Begroting'!#REF!,C9=Blad1!$D$3,'Basisgegevens Begroting'!#REF!,C9=Blad1!$D$4,'Basisgegevens Begroting'!#REF!,C9="",0)} -> 0 | H9: =+EigenPersoneel7894[[#This Row],[Kolom8]]*EigenPersoneel7894[[#This Row],[Kolom6]] -> 0 | I9: =IF(G9=100%,H9,"")
F10: =$D10*E10 -> 0 | G10: {=+_xlfn.IFS(C10=Blad1!$D$2,'Basisgegevens Begroting'!#REF!,C10=Blad1!$D$3,'Basisgegevens Begroting'!#REF!,C10=Blad1!$D$4,'Basisgegevens Begroting'!#REF!,C10="",0)} -> 0 | H10: =+EigenPersoneel7894[[#This Row],[Kolom8]]*EigenPersoneel7894[[#This Row],[Kolom6]] -> 0 | I10: =IF(G10=100%,H10,"")
F11: =$D11*E11 -> 0 | G11: {=+_xlfn.IFS(C11=Blad1!$D$2,'Basisgegevens Begroting'!#REF!,C11=Blad1!$D$3,'Basisgegevens Begroting'!#REF!,C11=Blad1!$D$4,'Basisgegevens Begroting'!#REF!,C11="",0)} -> 0 | H11: =+EigenPersoneel7894[[#This Row],[Kolom8]]*EigenPersoneel7894[[#This Row],[Kolom6]] -> 0 | I11: =IF(G11=100%,H11,"")
F12: =$D12*E12 -> 0 | G12: {=+_xlfn.IFS(C12=Blad1!$D$2,'Basisgegevens Begroting'!#REF!,C12=Blad1!$D$3,'Basisgegevens Begroting'!#REF!,C12=Blad1!$D$4,'Basisgegevens Begroting'!#REF!,C12="",0)} -> 0 | H12: =+EigenPersoneel7894[[#This Row],[Kolom8]]*EigenPersoneel7894[[#This Row],[Kolom6]] -> 0 | I12: =IF(G12=100%,H12,"")
F13: =$D13*E13 -> 0 | G13: {=+_xlfn.IFS(C13=Blad1!$D$2,'Basisgegevens Begroting'!#REF!,C13=Blad1!$D$3,'Basisgegevens Begroting'!#REF!,C13=Blad1!$D$4,'Basisgegevens Begroting'!#REF!,C13="",0)} -> 0 | H13: =+EigenPersoneel7894[[#This Row],[Kolom8]]*EigenPersoneel7894[[#This Row],[Kolom6]] -> 0 | I13: =IF(G13=100%,H13,"")
F14: =$D14*E14 -> 0 | G14: {=+_xlfn.IFS(C14=Blad1!$D$2,'Basisgegevens Begroting'!#REF!,C14=Blad1!$D$3,'Basisgegevens Begroting'!#REF!,C14=Blad1!$D$4,'Basisgegevens Begroting'!#REF!,C14="",0)} -> 0 | H14: =+EigenPersoneel7894[[#This Row],[Kolom8]]*EigenPersoneel7894[[#This Row],[Kolom6]] -> 0 | I14: =IF(G14=100%,H14,"")
F15: =$D15*E15 -> 0 | G15: {=+_xlfn.IFS(C15=Blad1!$D$2,'Basisgegevens Begroting'!#REF!,C15=Blad1!$D$3,'Basisgegevens Begroting'!#REF!,C15=Blad1!$D$4,'Basisgegevens Begroting'!#REF!,C15="",0)} -> 0 | H15: =+EigenPersoneel7894[[#This Row],[Kolom8]]*EigenPersoneel7894[[#This Row],[Kolom6]] -> 0 | I15: =IF(G15=100%,H15,"")
F16: =$D16*E16 -> 0 | G16: {=+_xlfn.IFS(C16=Blad1!$D$2,'Basisgegevens Begroting'!#REF!,C16=Blad1!$D$3,'Basisgegevens Begroting'!#REF!,C16=Blad1!$D$4,'Basisgegevens Begroting'!#REF!,C16="",0)} -> 0 | H16: =+EigenPersoneel7894[[#This Row],[Kolom8]]*EigenPersoneel7894[[#This Row],[Kolom6]] -> 0 | I16: =IF(G16=100%,H16,"")
F17: =$D17*E17 -> 0 | G17: {=+_xlfn.IFS(C17=Blad1!$D$2,'Basisgegevens Begroting'!#REF!,C17=Blad1!$D$3,'Basisgegevens Begroting'!#REF!,C17=Blad1!$D$4,'Basisgegevens Begroting'!#REF!,C17="",0)} -> 0 | H17: =+EigenPersoneel7894[[#This Row],[Kolom8]]*EigenPersoneel7894[[#This Row],[Kolom6]] -> 0 | I17: =IF(G17=100%,H17,"")
F18: =$D18*E18 -> 0 | G18: {=+_xlfn.IFS(C18=Blad1!$D$2,'Basisgegevens Begroting'!#REF!,C18=Blad1!$D$3,'Basisgegevens Begroting'!#REF!,C18=Blad1!$D$4,'Basisgegevens Begroting'!#REF!,C18="",0)} -> 0 | H18: =+EigenPersoneel7894[[#This Row],[Kolom8]]*EigenPersoneel7894[[#This Row],[Kolom6]] -> 0 | I18: =IF(G18=100%,H18,"")
... F21: =$D21*E21 -> 0 | G21: {=+_xlfn.IFS(C21=Blad1!$D$2,'Basisgegevens Begroting'!#REF!,C21=Blad1!$D$3,'Basisgegevens Begroting'!#REF!,C21=Blad1!$D$4,'Basisgegevens Begroting'!#REF!,C21="",0)} -> 0 | H21: =+EigenPersoneel7894[[#This Row],[Kolom8]]*EigenPersoneel7894[[#This Row],[Kolom6]] -> 0 | I21: =IF(G21=100%,H21,"")
E22: Subtotaal: | F22: =SUM(F7:F21) -> 0 | G22: Subtotaal: | H22: =SUM(H7:H21) -> 0 | I22: =IF(G22=100%,H22,"")
I23: =IF(G23=100%,H23,"")
A24: Brandstofkosten | I24: =IF(G24=100%,H24,"")
A25: Omschrijving | B25: Leverancier | C25: Subsidiedoel | D25: Geschatte meerkosten per eenheid (kWh, liter, kilo) | E25: Aantal eenheden (kWh, liter, kilo) | F25: Kosten | G25: =+G6 -> Ophoging Subsidie % | H25: =+H6 -> Subsidie | I25: =IF(G25=100%,H25,"")
F26: =+D26*E26 -> 0 | G26: {=+_xlfn.IFS(C26=Blad1!$D$2,'Basisgegevens Begroting'!#REF!,C26=Blad1!$D$3,'Basisgegevens Begroting'!#REF!,C26=Blad1!$D$4,'Basisgegevens Begroting'!#REF!,C26="",0)} -> 0 | H26: =+G26*F26 -> 0 | I26: =IF(G26=100%,H26,"")
F27: =+D27*E27 -> 0 | G27: {=+_xlfn.IFS(C27=Blad1!$D$2,'Basisgegevens Begroting'!#REF!,C27=Blad1!$D$3,'Basisgegevens Begroting'!#REF!,C27=Blad1!$D$4,'Basisgegevens Begroting'!#REF!,C27="",0)} -> 0 | H27: =+G27*F27 -> 0 | I27: =IF(G27=100%,H27,"")
F28: =+D28*E28 -> 0 | G28: {=+_xlfn.IFS(C28=Blad1!$D$2,'Basisgegevens Begroting'!#REF!,C28=Blad1!$D$3,'Basisgegevens Begroting'!#REF!,C28=Blad1!$D$4,'Basisgegevens Begroting'!#REF!,C28="",0)} -> 0 | H28: =+G28*F28 -> 0 | I28: =IF(G28=100%,H28,"")
F29: =+D29*E29 -> 0 | G29: {=+_xlfn.IFS(C29=Blad1!$D$2,'Basisgegevens Begroting'!#REF!,C29=Blad1!$D$3,'Basisgegevens Begroting'!#REF!,C29=Blad1!$D$4,'Basisgegevens Begroting'!#REF!,C29="",0)} -> 0 | H29: =+G29*F29 -> 0 | I29: =IF(G29=100%,H29,"")
E30: Subtotaal: | F30: =SUM(F26:F29) -> 0 | H30: =SUM(H26:H29) -> 0 | I30: =IF(G30=100%,H30,"")
I31: =IF(G31=100%,H31,"")
A32: Projectspecifieke overige subsidiabele kosten (kosten derden) | I32: =IF(G32=100%,H32,"")
A33: Omschrijving | B33: Leverancier | C33: Subsidiedoel | D33: Offertenr | E33: Offertedatum | F33: Kosten | G33: =+G6 -> Ophoging Subsidie % | H33: =+H6 -> Subsidie | I33: =IF(G33=100%,H33,"")
F34: 0 | G34: {=+_xlfn.IFS(C34=Blad1!$D$2,'Basisgegevens Begroting'!#REF!,C34=Blad1!$D$3,'Basisgegevens Begroting'!#REF!,C34=Blad1!$D$4,'Basisgegevens Begroting'!#REF!,C34="",0)} -> 0 | H34: =+G34*F34 -> 0 | I34: =IF(G34=100%,H34,"")
F35: 0 | G35: {=+_xlfn.IFS(C35=Blad1!$D$2,'Basisgegevens Begroting'!#REF!,C35=Blad1!$D$3,'Basisgegevens Begroting'!#REF!,C35=Blad1!$D$4,'Basisgegevens Begroting'!#REF!,C35="",0)} -> 0 | H35: =+G35*F35 -> 0 | I35: =IF(G35=100%,H35,"")
F36: 0 | G36: {=+_xlfn.IFS(C36=Blad1!$D$2,'Basisgegevens Begroting'!#REF!,C36=Blad1!$D$3,'Basisgegevens Begroting'!#REF!,C36=Blad1!$D$4,'Basisgegevens Begroting'!#REF!,C36="",0)} -> 0 | H36: =+G36*F36 -> 0 | I36: =IF(G36=100%,H36,"")
F37: 0 | G37: {=+_xlfn.IFS(C37=Blad1!$D$2,'Basisgegevens Begroting'!#REF!,C37=Blad1!$D$3,'Basisgegevens Begroting'!#REF!,C37=Blad1!$D$4,'Basisgegevens Begroting'!#REF!,C37="",0)} -> 0 | H37: =+G37*F37 -> 0 | I37: =IF(G37=100%,H37,"")
F38: 0 | G38: {=+_xlfn.IFS(C38=Blad1!$D$2,'Basisgegevens Begroting'!#REF!,C38=Blad1!$D$3,'Basisgegevens Begroting'!#REF!,C38=Blad1!$D$4,'Basisgegevens Begroting'!#REF!,C38="",0)} -> 0 | H38: =+G38*F38 -> 0 | I38: =IF(G38=100%,H38,"")
F39: 0 | G39: {=+_xlfn.IFS(C39=Blad1!$D$2,'Basisgegevens Begroting'!#REF!,C39=Blad1!$D$3,'Basisgegevens Begroting'!#REF!,C39=Blad1!$D$4,'Basisgegevens Begroting'!#REF!,C39="",0)} -> 0 | H39: =+G39*F39 -> 0 | I39: =IF(G39=100%,H39,"")
F40: 0 | G40: {=+_xlfn.IFS(C40=Blad1!$D$2,'Basisgegevens Begroting'!#REF!,C40=Blad1!$D$3,'Basisgegevens Begroting'!#REF!,C40=Blad1!$D$4,'Basisgegevens Begroting'!#REF!,C40="",0)} -> 0 | H40: =+G40*F40 -> 0 | I40: =IF(G40=100%,H40,"")
F41: 0 | G41: {=+_xlfn.IFS(C41=Blad1!$D$2,'Basisgegevens Begroting'!#REF!,C41=Blad1!$D$3,'Basisgegevens Begroting'!#REF!,C41=Blad1!$D$4,'Basisgegevens Begroting'!#REF!,C41="",0)} -> 0 | H41: =+G41*F41 -> 0 | I41: =IF(G41=100%,H41,"")
F42: 0 | G42: {=+_xlfn.IFS(C42=Blad1!$D$2,'Basisgegevens Begroting'!#REF!,C42=Blad1!$D$3,'Basisgegevens Begroting'!#REF!,C42=Blad1!$D$4,'Basisgegevens Begroting'!#REF!,C42="",0)} -> 0 | H42: =+G42*F42 -> 0 | I42: =IF(G42=100%,H42,"")
F43: 0 | G43: {=+_xlfn.IFS(C43=Blad1!$D$2,'Basisgegevens Begroting'!#REF!,C43=Blad1!$D$3,'Basisgegevens Begroting'!#REF!,C43=Blad1!$D$4,'Basisgegevens Begroting'!#REF!,C43="",0)} -> 0 | H43: =+G43*F43 -> 0 | I43: =IF(G43=100%,H43,"")
F44: 0 | G44: {=+_xlfn.IFS(C44=Blad1!$D$2,'Basisgegevens Begroting'!#REF!,C44=Blad1!$D$3,'Basisgegevens Begroting'!#REF!,C44=Blad1!$D$4,'Basisgegevens Begroting'!#REF!,C44="",0)} -> 0 | H44: =+G44*F44 -> 0 | I44: =IF(G44=100%,H44,"")
...

Sheet Kosten Deelnemer 6
A1: =+'Basisgegevens Begroting'!#REF! -> #REF!
A4: Kolom1 | B4: Kolom2 | C4: Kolom22 | D4: Kolom3 | E4: Kolom5 | F4: Kolom6 | G4: Kolom8 | H4: Kolom9
A5: Personeelskosten | G5: =+'Totaal Overzicht'!I8 -> 0
B6: Functie | C6: Subsidiedoel | D6: Uurtarief | E6: Aantal uren | F6: Uren x tarief | G6: Ophoging Subsidie % | H6: Subsidie
F7: =$D7*E7 -> 0 | G7: {=+_xlfn.IFS(C7=Blad1!$D$2,'Basisgegevens Begroting'!#REF!,C7=Blad1!$D$3,'Basisgegevens Begroting'!#REF!,C7=Blad1!$D$4,'Basisgegevens Begroting'!#REF!,C7="",0)} -> 0 | H7: =+EigenPersoneel78945[[#This Row],[Kolom8]]*EigenPersoneel78945[[#This Row],[Kolom6]] -> 0 | I7: =IF(G7=100%,H7,"")
F8: =$D8*E8 -> 0 | G8: {=+_xlfn.IFS(C8=Blad1!$D$2,'Basisgegevens Begroting'!#REF!,C8=Blad1!$D$3,'Basisgegevens Begroting'!#REF!,C8=Blad1!$D$4,'Basisgegevens Begroting'!#REF!,C8="",0)} -> 0 | H8: =+EigenPersoneel78945[[#This Row],[Kolom8]]*EigenPersoneel78945[[#This Row],[Kolom6]] -> 0 | I8: =IF(G8=100%,H8,"")
F9: =$D9*E9 -> 0 | G9: {=+_xlfn.IFS(C9=Blad1!$D$2,'Basisgegevens Begroting'!#REF!,C9=Blad1!$D$3,'Basisgegevens Begroting'!#REF!,C9=Blad1!$D$4,'Basisgegevens Begroting'!#REF!,C9="",0)} -> 0 | H9: =+EigenPersoneel78945[[#This Row],[Kolom8]]*EigenPersoneel78945[[#This Row],[Kolom6]] -> 0 | I9: =IF(G9=100%,H9,"")
F10: =$D10*E10 -> 0 | G10: {=+_xlfn.IFS(C10=Blad1!$D$2,'Basisgegevens Begroting'!#REF!,C10=Blad1!$D$3,'Basisgegevens Begroting'!#REF!,C10=Blad1!$D$4,'Basisgegevens Begroting'!#REF!,C10="",0)} -> 0 | H10: =+EigenPersoneel78945[[#This Row],[Kolom8]]*EigenPersoneel78945[[#This Row],[Kolom6]] -> 0 | I10: =IF(G10=100%,H10,"")
F11: =$D11*E11 -> 0 | G11: {=+_xlfn.IFS(C11=Blad1!$D$2,'Basisgegevens Begroting'!#REF!,C11=Blad1!$D$3,'Basisgegevens Begroting'!#REF!,C11=Blad1!$D$4,'Basisgegevens Begroting'!#REF!,C11="",0)} -> 0 | H11: =+EigenPersoneel78945[[#This Row],[Kolom8]]*EigenPersoneel78945[[#This Row],[Kolom6]] -> 0 | I11: =IF(G11=100%,H11,"")
F12: =$D12*E12 -> 0 | G12: {=+_xlfn.IFS(C12=Blad1!$D$2,'Basisgegevens Begroting'!#REF!,C12=Blad1!$D$3,'Basisgegevens Begroting'!#REF!,C12=Blad1!$D$4,'Basisgegevens Begroting'!#REF!,C12="",0)} -> 0 | H12: =+EigenPersoneel78945[[#This Row],[Kolom8]]*EigenPersoneel78945[[#This Row],[Kolom6]] -> 0 | I12: =IF(G12=100%,H12,"")
F13: =$D13*E13 -> 0 | G13: {=+_xlfn.IFS(C13=Blad1!$D$2,'Basisgegevens Begroting'!#REF!,C13=Blad1!$D$3,'Basisgegevens Begroting'!#REF!,C13=Blad1!$D$4,'Basisgegevens Begroting'!#REF!,C13="",0)} -> 0 | H13: =+EigenPersoneel78945[[#This Row],[Kolom8]]*EigenPersoneel78945[[#This Row],[Kolom6]] -> 0 | I13: =IF(G13=100%,H13,"")
F14: =$D14*E14 -> 0 | G14: {=+_xlfn.IFS(C14=Blad1!$D$2,'Basisgegevens Begroting'!#REF!,C14=Blad1!$D$3,'Basisgegevens Begroting'!#REF!,C14=Blad1!$D$4,'Basisgegevens Begroting'!#REF!,C14="",0)} -> 0 | H14: =+EigenPersoneel78945[[#This Row],[Kolom8]]*EigenPersoneel78945[[#This Row],[Kolom6]] -> 0 | I14: =IF(G14=100%,H14,"")
F15: =$D15*E15 -> 0 | G15: {=+_xlfn.IFS(C15=Blad1!$D$2,'Basisgegevens Begroting'!#REF!,C15=Blad1!$D$3,'Basisgegevens Begroting'!#REF!,C15=Blad1!$D$4,'Basisgegevens Begroting'!#REF!,C15="",0)} -> 0 | H15: =+EigenPersoneel78945[[#This Row],[Kolom8]]*EigenPersoneel78945[[#This Row],[Kolom6]] -> 0 | I15: =IF(G15=100%,H15,"")
F16: =$D16*E16 -> 0 | G16: {=+_xlfn.IFS(C16=Blad1!$D$2,'Basisgegevens Begroting'!#REF!,C16=Blad1!$D$3,'Basisgegevens Begroting'!#REF!,C16=Blad1!$D$4,'Basisgegevens Begroting'!#REF!,C16="",0)} -> 0 | H16: =+EigenPersoneel78945[[#This Row],[Kolom8]]*EigenPersoneel78945[[#This Row],[Kolom6]] -> 0 | I16: =IF(G16=100%,H16,"")
F17: =$D17*E17 -> 0 | G17: {=+_xlfn.IFS(C17=Blad1!$D$2,'Basisgegevens Begroting'!#REF!,C17=Blad1!$D$3,'Basisgegevens Begroting'!#REF!,C17=Blad1!$D$4,'Basisgegevens Begroting'!#REF!,C17="",0)} -> 0 | H17: =+EigenPersoneel78945[[#This Row],[Kolom8]]*EigenPersoneel78945[[#This Row],[Kolom6]] -> 0 | I17: =IF(G17=100%,H17,"")
F18: =$D18*E18 -> 0 | G18: {=+_xlfn.IFS(C18=Blad1!$D$2,'Basisgegevens Begroting'!#REF!,C18=Blad1!$D$3,'Basisgegevens Begroting'!#REF!,C18=Blad1!$D$4,'Basisgegevens Begroting'!#REF!,C18="",0)} -> 0 | H18: =+EigenPersoneel78945[[#This Row],[Kolom8]]*EigenPersoneel78945[[#This Row],[Kolom6]] -> 0 | I18: =IF(G18=100%,H18,"")
... F21: =$D21*E21 -> 0 | G21: {=+_xlfn.IFS(C21=Blad1!$D$2,'Basisgegevens Begroting'!#REF!,C21=Blad1!$D$3,'Basisgegevens Begroting'!#REF!,C21=Blad1!$D$4,'Basisgegevens Begroting'!#REF!,C21="",0)} -> 0 | H21: =+EigenPersoneel78945[[#This Row],[Kolom8]]*EigenPersoneel78945[[#This Row],[Kolom6]] -> 0 | I21: =IF(G21=100%,H21,"")
E22: Subtotaal: | F22: =SUM(F7:F21) -> 0 | G22: Subtotaal: | H22: =SUM(H7:H21) -> 0 | I22: =IF(G22=100%,H22,"")
I23: =IF(G23=100%,H23,"")
A24: Brandstofkosten | I24: =IF(G24=100%,H24,"")
A25: Omschrijving | B25: Leverancier | C25: Subsidiedoel | D25: Geschatte meerkosten per eenheid (kWh, liter, kilo) | E25: Aantal eenheden (kWh, liter, kilo) | F25: Kosten | G25: =+G6 -> Ophoging Subsidie % | H25: =+H6 -> Subsidie | I25: =IF(G25=100%,H25,"")
F26: =+D26*E26 -> 0 | G26: {=+_xlfn.IFS(C26=Blad1!$D$2,'Basisgegevens Begroting'!#REF!,C26=Blad1!$D$3,'Basisgegevens Begroting'!#REF!,C26=Blad1!$D$4,'Basisgegevens Begroting'!#REF!,C26="",0)} -> 0 | H26: =+G26*F26 -> 0 | I26: =IF(G26=100%,H26,"")
F27: =+D27*E27 -> 0 | G27: {=+_xlfn.IFS(C27=Blad1!$D$2,'Basisgegevens Begroting'!#REF!,C27=Blad1!$D$3,'Basisgegevens Begroting'!#REF!,C27=Blad1!$D$4,'Basisgegevens Begroting'!#REF!,C27="",0)} -> 0 | H27: =+G27*F27 -> 0 | I27: =IF(G27=100%,H27,"")
F28: =+D28*E28 -> 0 | G28: {=+_xlfn.IFS(C28=Blad1!$D$2,'Basisgegevens Begroting'!#REF!,C28=Blad1!$D$3,'Basisgegevens Begroting'!#REF!,C28=Blad1!$D$4,'Basisgegevens Begroting'!#REF!,C28="",0)} -> 0 | H28: =+G28*F28 -> 0 | I28: =IF(G28=100%,H28,"")
F29: =+D29*E29 -> 0 | G29: {=+_xlfn.IFS(C29=Blad1!$D$2,'Basisgegevens Begroting'!#REF!,C29=Blad1!$D$3,'Basisgegevens Begroting'!#REF!,C29=Blad1!$D$4,'Basisgegevens Begroting'!#REF!,C29="",0)} -> 0 | H29: =+G29*F29 -> 0 | I29: =IF(G29=100%,H29,"")
E30: Subtotaal: | F30: =SUM(F26:F29) -> 0 | H30: =SUM(H26:H29) -> 0 | I30: =IF(G30=100%,H30,"")
I31: =IF(G31=100%,H31,"")
A32: Projectspecifieke overige subsidiabele kosten (kosten derden) | I32: =IF(G32=100%,H32,"")
A33: Omschrijving | B33: Leverancier | C33: Subsidiedoel | D33: Offertenr | E33: Offertedatum | F33: Kosten | G33: =+G6 -> Ophoging Subsidie % | H33: =+H6 -> Subsidie | I33: =IF(G33=100%,H33,"")
F34: 0 | G34: {=+_xlfn.IFS(C34=Blad1!$D$2,'Basisgegevens Begroting'!#REF!,C34=Blad1!$D$3,'Basisgegevens Begroting'!#REF!,C34=Blad1!$D$4,'Basisgegevens Begroting'!#REF!,C34="",0)} -> 0 | H34: =+G34*F34 -> 0 | I34: =IF(G34=100%,H34,"")
F35: 0 | G35: {=+_xlfn.IFS(C35=Blad1!$D$2,'Basisgegevens Begroting'!#REF!,C35=Blad1!$D$3,'Basisgegevens Begroting'!#REF!,C35=Blad1!$D$4,'Basisgegevens Begroting'!#REF!,C35="",0)} -> 0 | H35: =+G35*F35 -> 0 | I35: =IF(G35=100%,H35,"")
F36: 0 | G36: {=+_xlfn.IFS(C36=Blad1!$D$2,'Basisgegevens Begroting'!#REF!,C36=Blad1!$D$3,'Basisgegevens Begroting'!#REF!,C36=Blad1!$D$4,'Basisgegevens Begroting'!#REF!,C36="",0)} -> 0 | H36: =+G36*F36 -> 0 | I36: =IF(G36=100%,H36,"")
F37: 0 | G37: {=+_xlfn.IFS(C37=Blad1!$D$2,'Basisgegevens Begroting'!#REF!,C37=Blad1!$D$3,'Basisgegevens Begroting'!#REF!,C37=Blad1!$D$4,'Basisgegevens Begroting'!#REF!,C37="",0)} -> 0 | H37: =+G37*F37 -> 0 | I37: =IF(G37=100%,H37,"")
F38: 0 | G38: {=+_xlfn.IFS(C38=Blad1!$D$2,'Basisgegevens Begroting'!#REF!,C38=Blad1!$D$3,'Basisgegevens Begroting'!#REF!,C38=Blad1!$D$4,'Basisgegevens Begroting'!#REF!,C38="",0)} -> 0 | H38: =+G38*F38 -> 0 | I38: =IF(G38=100%,H38,"")
F39: 0 | G39: {=+_xlfn.IFS(C39=Blad1!$D$2,'Basisgegevens Begroting'!#REF!,C39=Blad1!$D$3,'Basisgegevens Begroting'!#REF!,C39=Blad1!$D$4,'Basisgegevens Begroting'!#REF!,C39="",0)} -> 0 | H39: =+G39*F39 -> 0 | I39: =IF(G39=100%,H39,"")
F40: 0 | G40: {=+_xlfn.IFS(C40=Blad1!$D$2,'Basisgegevens Begroting'!#REF!,C40=Blad1!$D$3,'Basisgegevens Begroting'!#REF!,C40=Blad1!$D$4,'Basisgegevens Begroting'!#REF!,C40="",0)} -> 0 | H40: =+G40*F40 -> 0 | I40: =IF(G40=100%,H40,"")
F41: 0 | G41: {=+_xlfn.IFS(C41=Blad1!$D$2,'Basisgegevens Begroting'!#REF!,C41=Blad1!$D$3,'Basisgegevens Begroting'!#REF!,C41=Blad1!$D$4,'Basisgegevens Begroting'!#REF!,C41="",0)} -> 0 | H41: =+G41*F41 -> 0 | I41: =IF(G41=100%,H41,"")
F42: 0 | G42: {=+_xlfn.IFS(C42=Blad1!$D$2,'Basisgegevens Begroting'!#REF!,C42=Blad1!$D$3,'Basisgegevens Begroting'!#REF!,C42=Blad1!$D$4,'Basisgegevens Begroting'!#REF!,C42="",0)} -> 0 | H42: =+G42*F42 -> 0 | I42: =IF(G42=100%,H42,"")
F43: 0 | G43: {=+_xlfn.IFS(C43=Blad1!$D$2,'Basisgegevens Begroting'!#REF!,C43=Blad1!$D$3,'Basisgegevens Begroting'!#REF!,C43=Blad1!$D$4,'Basisgegevens Begroting'!#REF!,C43="",0)} -> 0 | H43: =+G43*F43 -> 0 | I43: =IF(G43=100%,H43,"")
F44: 0 | G44: {=+_xlfn.IFS(C44=Blad1!$D$2,'Basisgegevens Begroting'!#REF!,C44=Blad1!$D$3,'Basisgegevens Begroting'!#REF!,C44=Blad1!$D$4,'Basisgegevens Begroting'!#REF!,C44="",0)} -> 0 | H44: =+G44*F44 -> 0 | I44: =IF(G44=100%,H44,"")
...

Sheet Kosten Deelnemer 7
A1: =+'Basisgegevens Begroting'!#REF! -> #REF!
A4: Kolom1 | B4: Kolom2 | C4: Kolom22 | D4: Kolom3 | E4: Kolom5 | F4: Kolom6 | G4: Kolom8 | H4: Kolom9
A5: Personeelskosten | G5: =+'Totaal Overzicht'!I8 -> 0
B6: Functie | C6: Subsidiedoel | D6: Uurtarief | E6: Aantal uren | F6: Uren x tarief | G6: Ophoging Subsidie % | H6: Subsidie
F7: =$D7*E7 -> 0 | G7: {=+_xlfn.IFS(C7=Blad1!$D$2,'Basisgegevens Begroting'!#REF!,C7=Blad1!$D$3,'Basisgegevens Begroting'!#REF!,C7=Blad1!$D$4,'Basisgegevens Begroting'!#REF!,C7="",0)} -> 0 | H7: =+EigenPersoneel789456[[#This Row],[Kolom8]]*EigenPersoneel789456[[#This Row],[Kolom6]] -> 0 | I7: =IF(G7=100%,H7,"")
F8: =$D8*E8 -> 0 | G8: {=+_xlfn.IFS(C8=Blad1!$D$2,'Basisgegevens Begroting'!#REF!,C8=Blad1!$D$3,'Basisgegevens Begroting'!#REF!,C8=Blad1!$D$4,'Basisgegevens Begroting'!#REF!,C8="",0)} -> 0 | H8: =+EigenPersoneel789456[[#This Row],[Kolom8]]*EigenPersoneel789456[[#This Row],[Kolom6]] -> 0 | I8: =IF(G8=100%,H8,"")
F9: =$D9*E9 -> 0 | G9: {=+_xlfn.IFS(C9=Blad1!$D$2,'Basisgegevens Begroting'!#REF!,C9=Blad1!$D$3,'Basisgegevens Begroting'!#REF!,C9=Blad1!$D$4,'Basisgegevens Begroting'!#REF!,C9="",0)} -> 0 | H9: =+EigenPersoneel789456[[#This Row],[Kolom8]]*EigenPersoneel789456[[#This Row],[Kolom6]] -> 0 | I9: =IF(G9=100%,H9,"")
F10: =$D10*E10 -> 0 | G10: {=+_xlfn.IFS(C10=Blad1!$D$2,'Basisgegevens Begroting'!#REF!,C10=Blad1!$D$3,'Basisgegevens Begroting'!#REF!,C10=Blad1!$D$4,'Basisgegevens Begroting'!#REF!,C10="",0)} -> 0 | H10: =+EigenPersoneel789456[[#This Row],[Kolom8]]*EigenPersoneel789456[[#This Row],[Kolom6]] -> 0 | I10: =IF(G10=100%,H10,"")
F11: =$D11*E11 -> 0 | G11: {=+_xlfn.IFS(C11=Blad1!$D$2,'Basisgegevens Begroting'!#REF!,C11=Blad1!$D$3,'Basisgegevens Begroting'!#REF!,C11=Blad1!$D$4,'Basisgegevens Begroting'!#REF!,C11="",0)} -> 0 | H11: =+EigenPersoneel789456[[#This Row],[Kolom8]]*EigenPersoneel789456[[#This Row],[Kolom6]] -> 0 | I11: =IF(G11=100%,H11,"")
F12: =$D12*E12 -> 0 | G12: {=+_xlfn.IFS(C12=Blad1!$D$2,'Basisgegevens Begroting'!#REF!,C12=Blad1!$D$3,'Basisgegevens Begroting'!#REF!,C12=Blad1!$D$4,'Basisgegevens Begroting'!#REF!,C12="",0)} -> 0 | H12: =+EigenPersoneel789456[[#This Row],[Kolom8]]*EigenPersoneel789456[[#This Row],[Kolom6]] -> 0 | I12: =IF(G12=100%,H12,"")
F13: =$D13*E13 -> 0 | G13: {=+_xlfn.IFS(C13=Blad1!$D$2,'Basisgegevens Begroting'!#REF!,C13=Blad1!$D$3,'Basisgegevens Begroting'!#REF!,C13=Blad1!$D$4,'Basisgegevens Begroting'!#REF!,C13="",0)} -> 0 | H13: =+EigenPersoneel789456[[#This Row],[Kolom8]]*EigenPersoneel789456[[#This Row],[Kolom6]] -> 0 | I13: =IF(G13=100%,H13,"")
F14: =$D14*E14 -> 0 | G14: {=+_xlfn.IFS(C14=Blad1!$D$2,'Basisgegevens Begroting'!#REF!,C14=Blad1!$D$3,'Basisgegevens Begroting'!#REF!,C14=Blad1!$D$4,'Basisgegevens Begroting'!#REF!,C14="",0)} -> 0 | H14: =+EigenPersoneel789456[[#This Row],[Kolom8]]*EigenPersoneel789456[[#This Row],[Kolom6]] -> 0 | I14: =IF(G14=100%,H14,"")
F15: =$D15*E15 -> 0 | G15: {=+_xlfn.IFS(C15=Blad1!$D$2,'Basisgegevens Begroting'!#REF!,C15=Blad1!$D$3,'Basisgegevens Begroting'!#REF!,C15=Blad1!$D$4,'Basisgegevens Begroting'!#REF!,C15="",0)} -> 0 | H15: =+EigenPersoneel789456[[#This Row],[Kolom8]]*EigenPersoneel789456[[#This Row],[Kolom6]] -> 0 | I15: =IF(G15=100%,H15,"")
F16: =$D16*E16 -> 0 | G16: {=+_xlfn.IFS(C16=Blad1!$D$2,'Basisgegevens Begroting'!#REF!,C16=Blad1!$D$3,'Basisgegevens Begroting'!#REF!,C16=Blad1!$D$4,'Basisgegevens Begroting'!#REF!,C16="",0)} -> 0 | H16: =+EigenPersoneel789456[[#This Row],[Kolom8]]*EigenPersoneel789456[[#This Row],[Kolom6]] -> 0 | I16: =IF(G16=100%,H16,"")
F17: =$D17*E17 -> 0 | G17: {=+_xlfn.IFS(C17=Blad1!$D$2,'Basisgegevens Begroting'!#REF!,C17=Blad1!$D$3,'Basisgegevens Begroting'!#REF!,C17=Blad1!$D$4,'Basisgegevens Begroting'!#REF!,C17="",0)} -> 0 | H17: =+EigenPersoneel789456[[#This Row],[Kolom8]]*EigenPersoneel789456[[#This Row],[Kolom6]] -> 0 | I17: =IF(G17=100%,H17,"")
F18: =$D18*E18 -> 0 | G18: {=+_xlfn.IFS(C18=Blad1!$D$2,'Basisgegevens Begroting'!#REF!,C18=Blad1!$D$3,'Basisgegevens Begroting'!#REF!,C18=Blad1!$D$4,'Basisgegevens Begroting'!#REF!,C18="",0)} -> 0 | H18: =+EigenPersoneel789456[[#This Row],[Kolom8]]*EigenPersoneel789456[[#This Row],[Kolom6]] -> 0 | I18: =IF(G18=100%,H18,"")
... F21: =$D21*E21 -> 0 | G21: {=+_xlfn.IFS(C21=Blad1!$D$2,'Basisgegevens Begroting'!#REF!,C21=Blad1!$D$3,'Basisgegevens Begroting'!#REF!,C21=Blad1!$D$4,'Basisgegevens Begroting'!#REF!,C21="",0)} -> 0 | H21: =+EigenPersoneel789456[[#This Row],[Kolom8]]*EigenPersoneel789456[[#This Row],[Kolom6]] -> 0 | I21: =IF(G21=100%,H21,"")
E22: Subtotaal: | F22: =SUM(F7:F21) -> 0 | G22: Subtotaal: | H22: =SUM(H7:H21) -> 0 | I22: =IF(G22=100%,H22,"")
I23: =IF(G23=100%,H23,"")
A24: Brandstofkosten | I24: =IF(G24=100%,H24,"")
A25: Omschrijving | B25: Leverancier | C25: Subsidiedoel | D25: Geschatte meerkosten per eenheid (kWh, liter, kilo) | E25: Aantal eenheden (kWh, liter, kilo) | F25: Kosten | G25: =+G6 -> Ophoging Subsidie % | H25: =+H6 -> Subsidie | I25: =IF(G25=100%,H25,"")
F26: =+D26*E26 -> 0 | G26: {=+_xlfn.IFS(C26=Blad1!$D$2,'Basisgegevens Begroting'!#REF!,C26=Blad1!$D$3,'Basisgegevens Begroting'!#REF!,C26=Blad1!$D$4,'Basisgegevens Begroting'!#REF!,C26="",0)} -> 0 | H26: =+G26*F26 -> 0 | I26: =IF(G26=100%,H26,"")
F27: =+D27*E27 -> 0 | G27: {=+_xlfn.IFS(C27=Blad1!$D$2,'Basisgegevens Begroting'!#REF!,C27=Blad1!$D$3,'Basisgegevens Begroting'!#REF!,C27=Blad1!$D$4,'Basisgegevens Begroting'!#REF!,C27="",0)} -> 0 | H27: =+G27*F27 -> 0 | I27: =IF(G27=100%,H27,"")
F28: =+D28*E28 -> 0 | G28: {=+_xlfn.IFS(C28=Blad1!$D$2,'Basisgegevens Begroting'!#REF!,C28=Blad1!$D$3,'Basisgegevens Begroting'!#REF!,C28=Blad1!$D$4,'Basisgegevens Begroting'!#REF!,C28="",0)} -> 0 | H28: =+G28*F28 -> 0 | I28: =IF(G28=100%,H28,"")
