Workbook
Name Code: "IPCEI260930"
Name d1_direct: 'deelnemer 1'!$C$4
Name d10_direct: 'deelnemer 10'!$C$4
Name d11_direct: 'deelnemer 11'!$C$4
Name d12_direct: 'deelnemer 12'!$C$4
Name d13_direct: 'deelnemer 13'!$C$4
Name d14_direct: 'deelnemer 14'!$C$4
Name d15_direct: 'deelnemer 15'!$C$4
Name d16_direct: 'deelnemer 16'!$C$4
Name d17_direct: 'deelnemer 17'!$C$4
Name d18_direct: 'deelnemer 18'!$C$4
Name d19_direct: 'deelnemer 19'!$C$4
Name d2_direct: 'deelnemer 2'!$C$4
Name d20_direct: 'deelnemer 20'!$C$4
Name d21_direct: 'deelnemer 21'!$C$4
Name d22_direct: 'deelnemer 22'!$C$4
Name d23_direct: 'deelnemer 23'!$C$4
Name d24_direct: 'deelnemer 24'!$C$4
Name d25_direct: 'deelnemer 25'!$C$4
Name d3_direct: 'deelnemer 3'!$C$4
Name d4_direct: 'deelnemer 4'!$C$4
Name d5_direct: 'deelnemer 5'!$C$4
Name d6_direct: 'deelnemer 6'!$C$4
Name d7_direct: 'deelnemer 7'!$C$4
Name d8_direct: 'deelnemer 8'!$C$4
Name d9_direct: 'deelnemer 9'!$C$4
Name Deelnemer_1: 'deelnemer 1'!$C$1
Name Deelnemer_10: 'deelnemer 10'!$C$1
Name Deelnemer_11: 'deelnemer 11'!$C$1
Name Deelnemer_12: 'deelnemer 12'!$C$1
Name Deelnemer_13: 'deelnemer 13'!$C$1
Name Deelnemer_14: 'deelnemer 14'!$C$1
Name Deelnemer_15: 'deelnemer 15'!$C$1
Name Deelnemer_16: 'deelnemer 16'!$C$1
Name Deelnemer_17: 'deelnemer 17'!$C$1
Name Deelnemer_18: 'deelnemer 18'!$C$1
Name Deelnemer_19: 'deelnemer 19'!$C$1
Name Deelnemer_2: 'deelnemer 2'!$C$1
Name Deelnemer_20: 'deelnemer 20'!$C$1
Name Deelnemer_21: 'deelnemer 21'!$C$1
Name Deelnemer_22: 'deelnemer 22'!$C$1
Name Deelnemer_23: 'deelnemer 23'!$C$1
Name Deelnemer_24: 'deelnemer 24'!$C$1
Name Deelnemer_25: 'deelnemer 25'!$C$1
Name Deelnemer_3: 'deelnemer 3'!$C$1
Name Deelnemer_4: 'deelnemer 4'!$C$1
Name Deelnemer_5: 'deelnemer 5'!$C$1
Name Deelnemer_6: 'deelnemer 6'!$C$1
Name Deelnemer_7: 'deelnemer 7'!$C$1
Name Deelnemer_8: 'deelnemer 8'!$C$1
Name Deelnemer_9: 'deelnemer 9'!$C$1
Name grensoverschrijding: 0.1
Name haalbaarheid: 0.5
Name KB: 0.2
Name KIS: 0.8
Name kostenmethode_1: 'deelnemer 1'!$C$22
Name kostenmethode_10: 'deelnemer 10'!$C$22
Name kostenmethode_11: 'deelnemer 11'!$C$22
Name kostenmethode_12: 'deelnemer 12'!$C$22
Name kostenmethode_13: 'deelnemer 13'!$C$22

Sheet Toelichting
A2: Modelbegroting
A3: voor Important Projects of Common European Interest (IPCEI)
A5: De begroting van het project moet volgens dit model worden opgesteld.
A6: NB De electronische versie van dit document bevat formules waarmee automatisch de totalen per indirecte deelnemer weergegeven worden.
A7: Voor de directe deelnemers wordt de subsidie via de funding gap analyse bepaald.
A9: Projectkosten
A10: Als projectkosten worden uitsluitend die kostenposten in aanmerking genomen die in deze modelbegroting zijn opgenomen.
A11: Voor een toelichting per kostenpost, zie het werkblad 'Toelichting kostenposten' in deze modelbegroting.
A13: Per deelnemer moet er een deelbegroting worden aangeleverd. In het totaal overzicht worden voor de deelnemers de totale
A14: subsidiabele kosten gegeven.
A16: Belangrijk is dat aangeven wordt welk deel van de voorziene kosten toegerekend moet worden aan welke categorie werkzaamheden:
A17: industrieel onderzoek, experimentele ontwikkeling, haalbaarheidsstudie, eerste industriële toepassing, investeringssteun voor
... A28: bij soortgelijke transacties buiten de groep in rekening te brengen.

Sheet Toelichting kostenposten 
A1: Toelichting kostenposten voor indirecte partners
A2: 1. Loonkosten
A3: Elke deelnemer moet aangeven welke methode van berekening hij zal hanteren:
A5: a. de integrale kostensystematiek,
A6: b. de loonkosten plus vaste-opslag-systematiek,
A7: c. de vaste-uurtarief-systematiek.
A9: Zie voor meer informatie Hoofdstuk 4, §2, Artikels 11 - 15 van het Kaderbesluit nationale EZK- en LNV-subsidies.
A11: a Integrale kostensystematiek
A12: Voor de integrale kostensystematiek, berekent de aanvrager de directe en indirecte kosten per kostendrager in een tarief per eenheid van deze kostendrager. De subsidie-ontvanger uiterlijk bij de aanvraag om
A13: subsidievaststelling een afschrift in van een rapport van feitelijke bevindingen (Artikel 1.2 van de ministeriële regeling) over de uitkomst van het onderzoek van een accountant betreffende de door de
A14: subsidieontvanger gehanteerde integrale kostensystematiek.
A16: b. Loonkosten plus vaste-opslag-systematiek
... A201: infrastructuur

Sheet Financiering
A1: Financiering per deelnemer
C2: Titel: | D2: =Projecttitel -> 0
A4: De onderstaande tabel wordt automatisch gevuld vanuit de andere werkbladen nadat de financiering van het eigen aandeel per deelnemer is ingevuld (zie onderdeel 6 van de begroting).
B5: Naam | C5: Totaal
C6: Subsidiabele kosten | D6: Gevraagde subsidie | E6: % | F6: Nog te financieren | G6: % | H6: Financiering eigen aandeel
A7: Penvoerder | B7: =+'Totaal begroting'!B8 -> 0 | C7: =+penvoerder!$T$73 -> 0 | D7: =+'Totaal begroting'!X8 -> 0 | E7: =IF(C7>0,D7/C7,"") | F7: =C7-D7 -> 0 | G7: =IF(C7>0,F7/C7,"") | H7: =+penvoerder!F$88 -> 0
A8: Deelnemer 1 | B8: =+'Totaal begroting'!B9 -> 0 | C8: =+'deelnemer 1'!$T$73 -> 0 | D8: =+'Totaal begroting'!X9 -> 0 | E8: =IF(C8>0,D8/C8,"") | F8: =C8-D8 -> 0 | G8: =IF(C8>0,F8/C8,"") | H8: =+'deelnemer 1'!F$88 -> 0
A9: Deelnemer 2 | B9: =+'Totaal begroting'!B10 -> 0 | C9: =+'deelnemer 2'!$T$73 -> 0 | D9: =+'Totaal begroting'!X10 -> 0 | E9: =IF(C9>0,D9/C9,"") | F9: =C9-D9 -> 0 | G9: =IF(C9>0,F9/C9,"") | H9: =+'deelnemer 2'!F$88 -> 0
A10: Deelnemer 3 | B10: =+'Totaal begroting'!B11 -> 0 | C10: =+'deelnemer 3'!$T$73 -> 0 | D10: =+'Totaal begroting'!X11 -> 0 | E10: =IF(C10>0,D10/C10,"") | F10: =C10-D10 -> 0 | G10: =IF(C10>0,F10/C10,"") | H10: =+'deelnemer 3'!F$88 -> 0
A11: Deelnemer 4 | B11: =+'Totaal begroting'!B12 -> 0 | C11: =+'deelnemer 4'!$T$73 -> 0 | D11: =+'Totaal begroting'!X12 -> 0 | E11: =IF(C11>0,D11/C11,"") | F11: =C11-D11 -> 0 | G11: =IF(C11>0,F11/C11,"") | H11: =+'deelnemer 4'!F$88 -> 0
A12: Deelnemer 5 | B12: =+'Totaal begroting'!B13 -> 0 | C12: =+'deelnemer 5'!$T$73 -> 0 | D12: =+'Totaal begroting'!X13 -> 0 | E12: =IF(C12>0,D12/C12,"") | F12: =C12-D12 -> 0 | G12: =IF(C12>0,F12/C12,"") | H12: =+'deelnemer 5'!F$88 -> 0
A13: Deelnemer 6 | B13: =+'Totaal begroting'!B14 -> 0 | C13: =+'deelnemer 6'!$T$73 -> 0 | D13: =+'Totaal begroting'!X14 -> 0 | E13: =IF(C13>0,D13/C13,"") | F13: =C13-D13 -> 0 | G13: =IF(C13>0,F13/C13,"") | H13: =+'deelnemer 6'!F$88 -> 0
A14: Deelnemer 7 | B14: =+'Totaal begroting'!B15 -> 0 | C14: =+'deelnemer 7'!$T$73 -> 0 | D14: =+'Totaal begroting'!X15 -> 0 | E14: =IF(C14>0,D14/C14,"") | F14: =C14-D14 -> 0 | G14: =IF(C14>0,F14/C14,"") | H14: =+'deelnemer 7'!F$88 -> 0
A15: Deelnemer 8 | B15: =+'Totaal begroting'!B16 -> 0 | C15: =+'deelnemer 8'!$T$73 -> 0 | D15: =+'Totaal begroting'!X16 -> 0 | E15: =IF(C15>0,D15/C15,"") | F15: =C15-D15 -> 0 | G15: =IF(C15>0,F15/C15,"") | H15: =+'deelnemer 8'!F$88 -> 0
A16: Deelnemer 9 | B16: =+'Totaal begroting'!B17 -> 0 | C16: =+'deelnemer 9'!$T$73 -> 0 | D16: =+'Totaal begroting'!X17 -> 0 | E16: =IF(C16>0,D16/C16,"") | F16: =C16-D16 -> 0 | G16: =IF(C16>0,F16/C16,"") | H16: =+'deelnemer 9'!F$88 -> 0
A17: Deelnemer 10 | B17: =+'Totaal begroting'!B18 -> 0 | C17: =+'deelnemer 10'!$T$73 -> 0 | D17: =+'Totaal begroting'!X18 -> 0 | E17: =IF(C17>0,D17/C17,"") | F17: =C17-D17 -> 0 | G17: =IF(C17>0,F17/C17,"") | H17: =+'deelnemer 10'!F$88 -> 0
A18: Deelnemer 11 | B18: =+'Totaal begroting'!B19 -> 0 | C18: =+'deelnemer 11'!$T$73 -> 0 | D18: =+'Totaal begroting'!X19 -> 0 | E18: =IF(C18>0,D18/C18,"") | F18: =C18-D18 -> 0 | G18: =IF(C18>0,F18/C18,"") | H18: =+'deelnemer 11'!F$88 -> 0
A19: Deelnemer 12 | B19: =+'Totaal begroting'!B20 -> 0 | C19: =+'deelnemer 12'!$T$73 -> 0 | D19: =+'Totaal begroting'!X20 -> 0 | E19: =IF(C19>0,D19/C19,"") | F19: =C19-D19 -> 0 | G19: =IF(C19>0,F19/C19,"") | H19: =+'deelnemer 12'!F$88 -> 0
A20: Deelnemer 13 | B20: =+'Totaal begroting'!B21 -> 0 | C20: =+'deelnemer 13'!$T$73 -> 0 | D20: =+'Totaal begroting'!X21 -> 0 | E20: =IF(C20>0,D20/C20,"") | F20: =C20-D20 -> 0 | G20: =IF(C20>0,F20/C20,"") | H20: =+'deelnemer 13'!F$88 -> 0
A21: Deelnemer 14 | B21: =+'Totaal begroting'!B22 -> 0 | C21: =+'deelnemer 14'!$T$73 -> 0 | D21: =+'Totaal begroting'!X22 -> 0 | E21: =IF(C21>0,D21/C21,"") | F21: =C21-D21 -> 0 | G21: =IF(C21>0,F21/C21,"") | H21: =+'deelnemer 14'!F$88 -> 0
A22: Deelnemer 15 | B22: =+'Totaal begroting'!B23 -> 0 | C22: =+'deelnemer 15'!$T$73 -> 0 | D22: =+'Totaal begroting'!X23 -> 0 | E22: =IF(C22>0,D22/C22,"") | F22: =C22-D22 -> 0 | G22: =IF(C22>0,F22/C22,"") | H22: =+'deelnemer 15'!F$88 -> 0
A23: Deelnemer 16 | B23: =+'Totaal begroting'!B24 -> 0 | C23: =+'deelnemer 16'!$T$73 -> 0 | D23: =+'Totaal begroting'!X24 -> 0 | E23: =IF(C23>0,D23/C23,"") | F23: =C23-D23 -> 0 | G23: =IF(C23>0,F23/C23,"") | H23: =+'deelnemer 16'!F$88 -> 0
A24: Deelnemer 17 | B24: =+'Totaal begroting'!B25 -> 0 | C24: =+'deelnemer 17'!$T$73 -> 0 | D24: =+'Totaal begroting'!X25 -> 0 | E24: =IF(C24>0,D24/C24,"") | F24: =C24-D24 -> 0 | G24: =IF(C24>0,F24/C24,"") | H24: =+'deelnemer 17'!F$88 -> 0
A25: Deelnemer 18 | B25: =+'Totaal begroting'!B26 -> 0 | C25: =+'deelnemer 18'!$T$73 -> 0 | D25: =+'Totaal begroting'!X26 -> 0 | E25: =IF(C25>0,D25/C25,"") | F25: =C25-D25 -> 0 | G25: =IF(C25>0,F25/C25,"") | H25: =+'deelnemer 18'!F$88 -> 0
A26: Deelnemer 19 | B26: =+'Totaal begroting'!B27 -> 0 | C26: =+'deelnemer 19'!$T$73 -> 0 | D26: =+'Totaal begroting'!X27 -> 0 | E26: =IF(C26>0,D26/C26,"") | F26: =C26-D26 -> 0 | G26: =IF(C26>0,F26/C26,"") | H26: =+'deelnemer 19'!F$88 -> 0
A27: Deelnemer 20 | B27: =+'Totaal begroting'!B28 -> 0 | C27: =+'deelnemer 20'!$T$73 -> 0 | D27: =+'Totaal begroting'!X28 -> 0 | E27: =IF(C27>0,D27/C27,"") | F27: =C27-D27 -> 0 | G27: =IF(C27>0,F27/C27,"") | H27: =+'deelnemer 20'!F$88 -> 0
A28: Deelnemer 21 | B28: =+'Totaal begroting'!B29 -> 0 | C28: =+'deelnemer 21'!$T$73 -> 0 | D28: =+'Totaal begroting'!X29 -> 0 | E28: =IF(C28>0,D28/C28,"") | F28: =C28-D28 -> 0 | G28: =IF(C28>0,F28/C28,"") | H28: =+'deelnemer 21'!F$88 -> 0
A29: Deelnemer 22 | B29: =+'Totaal begroting'!B30 -> 0 | C29: =+'deelnemer 22'!$T$73 -> 0 | D29: =+'Totaal begroting'!X30 -> 0 | E29: =IF(C29>0,D29/C29,"") | F29: =C29-D29 -> 0 | G29: =IF(C29>0,F29/C29,"") | H29: =+'deelnemer 22'!F$88 -> 0
A30: Deelnemer 23 | B30: =+'Totaal begroting'!B31 -> 0 | C30: =+'deelnemer 23'!$T$73 -> 0 | D30: =+'Totaal begroting'!X31 -> 0 | E30: =IF(C30>0,D30/C30,"") | F30: =C30-D30 -> 0 | G30: =IF(C30>0,F30/C30,"") | H30: =+'deelnemer 23'!F$88 -> 0
A31: Deelnemer 24 | B31: =+'Totaal begroting'!B32 -> 0 | C31: =+'deelnemer 24'!$T$73 -> 0 | D31: =+'Totaal begroting'!X32 -> 0 | E31: =IF(C31>0,D31/C31,"") | F31: =C31-D31 -> 0 | G31: =IF(C31>0,F31/C31,"") | H31: =+'deelnemer 24'!F$88 -> 0
A32: Deelnemer 25 | B32: =+'Totaal begroting'!B33 -> 0 | C32: =+'deelnemer 25'!$T$73 -> 0 | D32: =+'Totaal begroting'!X33 -> 0 | E32: =IF(C32>0,D32/C32,"") | F32: =C32-D32 -> 0 | G32: =IF(C32>0,F32/C32,"") | H32: =+'deelnemer 25'!F$88 -> 0
B35: Totaal | C35: =SUM(C7:C34) -> 0 | D35: =SUM(D7:D34) -> 0 | E35: =IF(C35>0,D35/C35,"") | F35: =SUM(F7:F34) -> 0 | G35: =IF(C35>0,F35/C35,"") | H35: =SUM(H7:H34) -> 0 | I35: =IF(H35<F35,"Let op: onderbouw het volledige eigen aandeel in de projectkosten","")
A40: De onderstaande tabel is ter informatie en wordt automatisch ingevuld. U hoeft hier niets in te vullen.
A41: TOTALE PROJECTKOSTEN | C41: € | D41: % | E41: Toelichting
A43: Totale projectkosten | C43: =+C35 -> 0
A44: Gevraagde subsidie | C44: =+D35 -> 0 | D44: =IF(AND($C44>0,$C$43>0),$C44/$C$43,"") | E44: Het totaal aan gevraagde subsidie en hoeveel procent dit is van de totale projectkosten.
A45: Financiering eigen aandeel | C45: =+H35 -> 0 | D45: =IF(AND($C45>0,$C$43>0),$C45/$C$43,"")
A46: Nog te financieren eigen aandeel | C46: =+C43-C44-C45 -> 0 | D46: =IF(AND($C46>0,$C$43>0),$C46/$C$43,"") | E46: Het resterende deel dat nog gefinancierd moet worden na aftrek van subsidie(s) en financieringsbronnen

Sheet Mijlpalen begroting
B1: Mijlpalenbegroting
B3: Titel: | C3: =Projecttitel -> 0
B4: =IF(Financiering!D35>2000000,"Let op: U dient een mijlpalenbegroting mee te sturen","")
B6: Toelichting
B7: Dit tabblad moet u verplicht invullen als u een subsidiebedrag aanvraagt dat groter of gelijk is aan € 2 miljoen.
B8: Voor subsidiebedragen kleiner dan € 2 miljoen wordt de bevoorschotting lineair bepaald, als u dit tabblad niet invult. Bij
B9: lineaire bevoorschotting worden de voorschotten gelijkmatig over de projectperiode verdeeld. Voor kortdurende projecten
B10: (minder dan één jaar), waarbij deelnemers minder dan € 125.000 subsidie aanvragen, wordt meestal één voorschot bij de
B11: start van het project betaald.
B13: Mijlpalenbegroting
B14: In het projectplan vult u in welke activiteiten verricht worden per mijlpaal en wanneer (qua activiteiten) de mijlpaal
B15: bereikt is. De bedragen die u op de begrotingstabbladen heeft ingevuld worden in onderstaande tabel weergegeven per
B16: mijlpaal. Vul zelf in onderstaande tabel nog voor iedere mijlpaal de startdatum en de einddatum in, conform het
B17: mijlpalenoverzicht in het projectplan. Doe dit voor elke mijlpaal - gedurende de gehele looptijd van het project. Houd
B18: daarbij rekening met de kritieke momenten zoals Final Investment Decision (FID), vergunningen en electriciteitsvoorziening. Leg in het veld
... B23: totale kosten zoals weergegeven op het tabblad "Financiering".
B25: Deelnemer | C25: periode mijlpaal 1 | D25: periode mijlpaal 2 | E25: periode mijlpaal 3 | F25: periode mijlpaal 4 | G25: periode mijlpaal 5 | H25: periode mijlpaal 6 | I25: periode mijlpaal 7 | J25: periode mijlpaal 8 | K25: periode mijlpaal 9 | L25: periode mijlpaal 10 | M25: totaal
C26: 1 | D26: 2 | E26: 3 | F26: 4 | G26: 5 | H26: 6 | I26: 7 | J26: 8 | K26: 9 | L26: 10
B27: =+'Totaal begroting'!B8 -> 0 | M27: =SUM(C27:L27) -> 0
B28: =+'Totaal begroting'!B9 -> 0 | M28: =SUM(C28:L28) -> 0
B29: =+'Totaal begroting'!B10 -> 0 | M29: =SUM(C29:L29) -> 0
B30: =+'Totaal begroting'!B11 -> 0 | M30: =SUM(C30:L30) -> 0
B31: =+'Totaal begroting'!B12 -> 0 | M31: =SUM(C31:L31) -> 0
B32: =+'Totaal begroting'!B13 -> 0 | M32: =SUM(C32:L32) -> 0
B33: =+'Totaal begroting'!B14 -> 0 | M33: =SUM(C33:L33) -> 0
B34: =+'Totaal begroting'!B15 -> 0 | M34: =SUM(C34:L34) -> 0
B35: =+'Totaal begroting'!B16 -> 0 | M35: =SUM(C35:L35) -> 0
B36: =+'Totaal begroting'!B17 -> 0 | M36: =SUM(C36:L36) -> 0
B37: =+'Totaal begroting'!B18 -> 0 | M37: =SUM(C37:L37) -> 0
B38: =+'Totaal begroting'!B19 -> 0 | M38: =SUM(C38:L38) -> 0
... B51: =+'Totaal begroting'!B32 -> 0 | M51: =SUM(C51:L51) -> 0
M52: =SUM(C52:L52) -> 0
B53: Kosten per mijlpaal | C53: =SUM(C27:C52) -> 0 | D53: =SUM(D27:D52) -> 0 | E53: =SUM(E27:E52) -> 0 | F53: =SUM(F27:F52) -> 0 | G53: =SUM(G27:G52) -> 0 | H53: =SUM(H27:H52) -> 0 | I53: =SUM(I27:I52) -> 0 | J53: =SUM(J27:J52) -> 0 | ... M53: =SUM(M27:M52) -> 0
B54: Startdatum mijlpaal
B55: Einddatum mijlpaal
B57: Resultaat mijlpalen
B58: Beschrijf hieronder kort per mijlpaal wat het te behalen concrete resultaat is:
B59: Naam mijlpaal + toelichting (welke kosten maakt u en welke activiteiten voert u uit)
B82: Ruimte voor toelichting

Sheet Totaal begroting
A1: Projecttitel: | B1: =Projecttitel -> 0 | C1: versie: | D1: =Code -> IPCEI260930
A2: Startdatum
A3: Einddatum
F5: =penvoerder!E6 -> Industrieel onderzoek | I5: =penvoerder!H6 -> Experimentele ontwikkeling | L5: Toeslag samenwerking | M5: =penvoerder!K6 -> Haalbaarheidsstudies | P5: =penvoerder!N6 -> Test- en experimenteerinfrastructuur | S5: Toeslag grensoverschrijding | T5: =penvoerder!Q6 -> Onderzoeksinfrastructuur | W5: Subsidie AGVV
B6: Naam | C6: Type | D6: Samenwerking | E6: Grensoverschrijding | F6: Kosten | H6: Subsidie | I6: Kosten | K6: Subsidie | L6: Subsidie | M6: Kosten | O6: Subsidie | P6: Kosten | R6: Subsidie | S6: Subsidie | T6: Kosten | V6: Subsidie | X6: totaal
D7: Zoals bedoeld in Art. 3.27.3 lid 2 onder c | E7: Zoals bedoeld in Art. 3.27.3 lid 2 onder d | F7: EUR | H7: =_xlfn.CONCAT(TEXT(KIS,"0%")," (KIS), ",TEXT(onderzoek,"0%")," (GB), ",TEXT(onderzoek+MB,"0%")," (MB) ","of ",TEXT(onderzoek+KB,"0%")," (KB)") -> 80% (KIS), 50% (GB), 60% (MB) of 70% (KB) | I7: EUR | K7: =_xlfn.CONCAT(TEXT(KIS,"0%")," (KIS), ",TEXT(ontwikkeling,"0%")," (GB), ",TEXT(ontwikkeling+MB,"0%")," (MB) ","of ",TEXT(ontwikkeling+KB,"0%")," (KB)") -> 80% (KIS), 25% (GB), 35% (MB) of 45% (KB) | L7: =_xlfn.CONCAT(TEXT(samenwerking,"0%")," (GB, MKB)") -> 10% (GB, MKB) | M7: EUR | O7: =_xlfn.CONCAT(TEXT(KIS,"0%")," (KIS), ",TEXT(onderzoek,"0%")," (GB), ",TEXT(onderzoek+MB,"0%")," (MB) ","of ",TEXT(onderzoek+KB,"0%")," (KB)") -> 80% (KIS), 50% (GB), 60% (MB) of 70% (KB) | P7: EUR | R7: =_xlfn.CONCAT(TEXT(Testenexperimenteer,"0%")," (GB), ",TEXT(Testenexperimenteer+MB,"0%")," (MB) ","of ",TEXT(Testenexperimenteer+KB,"0%")," (KB)") -> 25% (GB), 35% (MB) of 45% (KB) | S7: =_xlfn.CONCAT(TEXT(grensoverschrijding,"0%")," (GB, MKB)") -> 10% (GB, MKB) | T7: EUR | V7: =_xlfn.CONCAT(TEXT(onderzoeksinfrastructuur,"0%")," (GB, MKB)") -> 50% (GB, MKB) | X7: EUR
A8: Penvoerder | B8: =Penvoerder -> 0 | C8: =type_penvoerder -> 0 | F8: =penvoerder!F73 -> 0 | H8: =IF($C8="KIS",F8*KIS,IF($C8="KB",F8*(onderzoek+KB),IF($C8="MB",F8*(onderzoek+MB),F8*onderzoek))) -> 0 | I8: =penvoerder!I73 -> 0 | K8: =IF($C8="KIS",I8*KIS,IF($C8="KB",I8*(ontwikkeling+KB),IF($C8="MB",I8*(ontwikkeling+MB),I8*ontwikkeling))) -> 0 | L8: =IF(AND($D$8="Ja",OR($C8="GB",$C8="MB",$C8="KB")),(F8+I8)*samenwerking,0) -> 0 | M8: =penvoerder!L73 -> 0 | O8: =IF($C8="KIS",M8*KIS,IF($C8="KB",M8*(haalbaarheid+KB),IF($C8="MB",M8*(haalbaarheid+MB),M8*haalbaarheid))) -> 0 | P8: =penvoerder!O73 -> 0 | R8: =IF($C8="KIS",0,IF($C8="KB",P8*(Testenexperimenteer+KB),IF($C8="MB",P8*(Testenexperimenteer+MB),P8*Testenexperimenteer))) -> 0 | S8: =IF(AND($E$8="Ja",OR($C8="GB",$C8="MB",$C8="KB")),(+P8)*grensoverschrijding,0) -> 0 | T8: =penvoerder!R73 -> 0 | V8: =IF($C8="KIS",0,T8*onderzoeksinfrastructuur) -> 0 | X8: =SUM(H8,K8,L8,O8,R8,S8,V8) -> 0
A9: Deelnemer 1 | B9: =Deelnemer_1 -> 0 | C9: =type_1 -> 0 | D9: =$D$8 -> 0 | E9: =+$E$8 -> 0 | F9: ='deelnemer 1'!F73 -> 0 | H9: =IF($C9="KIS",F9*KIS,IF($C9="KB",F9*(onderzoek+KB),IF($C9="MB",F9*(onderzoek+MB),F9*onderzoek))) -> 0 | I9: ='deelnemer 1'!I73 -> 0 | K9: =IF($C9="KIS",I9*KIS,IF($C9="KB",I9*(ontwikkeling+KB),IF($C9="MB",I9*(ontwikkeling+MB),I9*ontwikkeling))) -> 0 | L9: =IF(AND($D$8="Ja",OR($C9="GB",$C9="MB",$C9="KB")),(F9+I9)*samenwerking,0) -> 0 | M9: ='deelnemer 1'!L73 -> 0 | O9: =IF($C9="KIS",M9*KIS,IF($C9="KB",M9*(haalbaarheid+KB),IF($C9="MB",M9*(haalbaarheid+MB),M9*haalbaarheid))) -> 0 | P9: ='deelnemer 1'!O73 -> 0 | R9: =IF($C9="KIS",0,IF($C9="KB",P9*(Testenexperimenteer+KB),IF($C9="MB",P9*(Testenexperimenteer+MB),P9*Testenexperimenteer))) -> 0 | S9: =IF(AND($E$8="Ja",OR($C9="GB",$C9="MB",$C9="KB")),(+P9)*grensoverschrijding,0) -> 0 | T9: ='deelnemer 1'!R73 -> 0 | V9: =IF($C9="KIS",0,T9*onderzoeksinfrastructuur) -> 0 | X9: =SUM(H9,K9,L9,O9,R9,S9,V9) -> 0
A10: Deelnemer 2 | B10: =Deelnemer_2 -> 0 | C10: {=type_2} -> 0 | D10: =$D$8 -> 0 | E10: =+$E$8 -> 0 | F10: ='deelnemer 2'!F73 -> 0 | H10: =IF($C10="KIS",F10*KIS,IF($C10="KB",F10*(onderzoek+KB),IF($C10="MB",F10*(onderzoek+MB),F10*onderzoek))) -> 0 | I10: ='deelnemer 2'!I73 -> 0 | K10: =IF($C10="KIS",I10*KIS,IF($C10="KB",I10*(ontwikkeling+KB),IF($C10="MB",I10*(ontwikkeling+MB),I10*ontwikkeling))) -> 0 | L10: =IF(AND($D$8="Ja",OR($C10="GB",$C10="MB",$C10="KB")),(F10+I10)*samenwerking,0) -> 0 | M10: ='deelnemer 2'!L73 -> 0 | O10: =IF($C10="KIS",M10*KIS,IF($C10="KB",M10*(haalbaarheid+KB),IF($C10="MB",M10*(haalbaarheid+MB),M10*haalbaarheid))) -> 0 | P10: ='deelnemer 2'!O73 -> 0 | R10: =IF($C10="KIS",0,IF($C10="KB",P10*(Testenexperimenteer+KB),IF($C10="MB",P10*(Testenexperimenteer+MB),P10*Testenexperimenteer))) -> 0 | S10: =IF(AND($E$8="Ja",OR($C10="GB",$C10="MB",$C10="KB")),(+P10)*grensoverschrijding,0) -> 0 | T10: ='deelnemer 2'!R73 -> 0 | V10: =IF($C10="KIS",0,T10*onderzoeksinfrastructuur) -> 0 | X10: =SUM(H10,K10,L10,O10,R10,S10,V10) -> 0
A11: Deelnemer 3 | B11: =Deelnemer_3 -> 0 | C11: =type_3 -> 0 | D11: =$D$8 -> 0 | E11: =+$E$8 -> 0 | F11: ='deelnemer 3'!F73 -> 0 | H11: =IF($C11="KIS",F11*KIS,IF($C11="KB",F11*(onderzoek+KB),IF($C11="MB",F11*(onderzoek+MB),F11*onderzoek))) -> 0 | I11: ='deelnemer 3'!I73 -> 0 | K11: =IF($C11="KIS",I11*KIS,IF($C11="KB",I11*(ontwikkeling+KB),IF($C11="MB",I11*(ontwikkeling+MB),I11*ontwikkeling))) -> 0 | L11: =IF(AND($D$8="Ja",OR($C11="GB",$C11="MB",$C11="KB")),(F11+I11)*samenwerking,0) -> 0 | M11: ='deelnemer 3'!L73 -> 0 | O11: =IF($C11="KIS",M11*KIS,IF($C11="KB",M11*(haalbaarheid+KB),IF($C11="MB",M11*(haalbaarheid+MB),M11*haalbaarheid))) -> 0 | P11: ='deelnemer 3'!O73 -> 0 | R11: =IF($C11="KIS",0,IF($C11="KB",P11*(Testenexperimenteer+KB),IF($C11="MB",P11*(Testenexperimenteer+MB),P11*Testenexperimenteer))) -> 0 | S11: =IF(AND($E$8="Ja",OR($C11="GB",$C11="MB",$C11="KB")),(+P11)*grensoverschrijding,0) -> 0 | T11: ='deelnemer 3'!R73 -> 0 | V11: =IF($C11="KIS",0,T11*onderzoeksinfrastructuur) -> 0 | X11: =SUM(H11,K11,L11,O11,R11,S11,V11) -> 0
A12: Deelnemer 4 | B12: =Deelnemer_4 -> 0 | C12: =type_4 -> 0 | D12: =$D$8 -> 0 | E12: =+$E$8 -> 0 | F12: ='deelnemer 4'!F73 -> 0 | H12: =IF($C12="KIS",F12*KIS,IF($C12="KB",F12*(onderzoek+KB),IF($C12="MB",F12*(onderzoek+MB),F12*onderzoek))) -> 0 | I12: ='deelnemer 4'!I73 -> 0 | K12: =IF($C12="KIS",I12*KIS,IF($C12="KB",I12*(ontwikkeling+KB),IF($C12="MB",I12*(ontwikkeling+MB),I12*ontwikkeling))) -> 0 | L12: =IF(AND($D$8="Ja",OR($C12="GB",$C12="MB",$C12="KB")),(F12+I12)*samenwerking,0) -> 0 | M12: ='deelnemer 4'!L73 -> 0 | O12: =IF($C12="KIS",M12*KIS,IF($C12="KB",M12*(haalbaarheid+KB),IF($C12="MB",M12*(haalbaarheid+MB),M12*haalbaarheid))) -> 0 | P12: ='deelnemer 4'!O73 -> 0 | R12: =IF($C12="KIS",0,IF($C12="KB",P12*(Testenexperimenteer+KB),IF($C12="MB",P12*(Testenexperimenteer+MB),P12*Testenexperimenteer))) -> 0 | S12: =IF(AND($E$8="Ja",OR($C12="GB",$C12="MB",$C12="KB")),(+P12)*grensoverschrijding,0) -> 0 | T12: ='deelnemer 4'!R73 -> 0 | V12: =IF($C12="KIS",0,T12*onderzoeksinfrastructuur) -> 0 | X12: =SUM(H12,K12,L12,O12,R12,S12,V12) -> 0
A13: Deelnemer 5 | B13: =Deelnemer_5 -> 0 | C13: =type_5 -> 0 | D13: =$D$8 -> 0 | E13: =+$E$8 -> 0 | F13: ='deelnemer 5'!F73 -> 0 | H13: =IF($C13="KIS",F13*KIS,IF($C13="KB",F13*(onderzoek+KB),IF($C13="MB",F13*(onderzoek+MB),F13*onderzoek))) -> 0 | I13: ='deelnemer 5'!I73 -> 0 | K13: =IF($C13="KIS",I13*KIS,IF($C13="KB",I13*(ontwikkeling+KB),IF($C13="MB",I13*(ontwikkeling+MB),I13*ontwikkeling))) -> 0 | L13: =IF(AND($D$8="Ja",OR($C13="GB",$C13="MB",$C13="KB")),(F13+I13)*samenwerking,0) -> 0 | M13: ='deelnemer 5'!L73 -> 0 | O13: =IF($C13="KIS",M13*KIS,IF($C13="KB",M13*(haalbaarheid+KB),IF($C13="MB",M13*(haalbaarheid+MB),M13*haalbaarheid))) -> 0 | P13: ='deelnemer 5'!O73 -> 0 | R13: =IF($C13="KIS",0,IF($C13="KB",P13*(Testenexperimenteer+KB),IF($C13="MB",P13*(Testenexperimenteer+MB),P13*Testenexperimenteer))) -> 0 | S13: =IF(AND($E$8="Ja",OR($C13="GB",$C13="MB",$C13="KB")),(+P13)*grensoverschrijding,0) -> 0 | T13: ='deelnemer 5'!R73 -> 0 | V13: =IF($C13="KIS",0,T13*onderzoeksinfrastructuur) -> 0 | X13: =SUM(H13,K13,L13,O13,R13,S13,V13) -> 0
A14: Deelnemer 6 | B14: =Deelnemer_6 -> 0 | C14: =type_6 -> 0 | D14: =$D$8 -> 0 | E14: =+$E$8 -> 0 | F14: ='deelnemer 6'!F73 -> 0 | H14: =IF($C14="KIS",F14*KIS,IF($C14="KB",F14*(onderzoek+KB),IF($C14="MB",F14*(onderzoek+MB),F14*onderzoek))) -> 0 | I14: ='deelnemer 6'!I73 -> 0 | K14: =IF($C14="KIS",I14*KIS,IF($C14="KB",I14*(ontwikkeling+KB),IF($C14="MB",I14*(ontwikkeling+MB),I14*ontwikkeling))) -> 0 | L14: =IF(AND($D$8="Ja",OR($C14="GB",$C14="MB",$C14="KB")),(F14+I14)*samenwerking,0) -> 0 | M14: ='deelnemer 6'!L73 -> 0 | O14: =IF($C14="KIS",M14*KIS,IF($C14="KB",M14*(haalbaarheid+KB),IF($C14="MB",M14*(haalbaarheid+MB),M14*haalbaarheid))) -> 0 | P14: ='deelnemer 6'!O73 -> 0 | R14: =IF($C14="KIS",0,IF($C14="KB",P14*(Testenexperimenteer+KB),IF($C14="MB",P14*(Testenexperimenteer+MB),P14*Testenexperimenteer))) -> 0 | S14: =IF(AND($E$8="Ja",OR($C14="GB",$C14="MB",$C14="KB")),(+P14)*grensoverschrijding,0) -> 0 | T14: ='deelnemer 6'!R73 -> 0 | V14: =IF($C14="KIS",0,T14*onderzoeksinfrastructuur) -> 0 | X14: =SUM(H14,K14,L14,O14,R14,S14,V14) -> 0
A15: Deelnemer 7 | B15: =Deelnemer_7 -> 0 | C15: =type_7 -> 0 | D15: =$D$8 -> 0 | E15: =+$E$8 -> 0 | F15: ='deelnemer 7'!F73 -> 0 | H15: =IF($C15="KIS",F15*KIS,IF($C15="KB",F15*(onderzoek+KB),IF($C15="MB",F15*(onderzoek+MB),F15*onderzoek))) -> 0 | I15: ='deelnemer 7'!I73 -> 0 | K15: =IF($C15="KIS",I15*KIS,IF($C15="KB",I15*(ontwikkeling+KB),IF($C15="MB",I15*(ontwikkeling+MB),I15*ontwikkeling))) -> 0 | L15: =IF(AND($D$8="Ja",OR($C15="GB",$C15="MB",$C15="KB")),(F15+I15)*samenwerking,0) -> 0 | M15: ='deelnemer 7'!L73 -> 0 | O15: =IF($C15="KIS",M15*KIS,IF($C15="KB",M15*(haalbaarheid+KB),IF($C15="MB",M15*(haalbaarheid+MB),M15*haalbaarheid))) -> 0 | P15: ='deelnemer 7'!O73 -> 0 | R15: =IF($C15="KIS",0,IF($C15="KB",P15*(Testenexperimenteer+KB),IF($C15="MB",P15*(Testenexperimenteer+MB),P15*Testenexperimenteer))) -> 0 | S15: =IF(AND($E$8="Ja",OR($C15="GB",$C15="MB",$C15="KB")),(+P15)*grensoverschrijding,0) -> 0 | T15: ='deelnemer 7'!R73 -> 0 | V15: =IF($C15="KIS",0,T15*onderzoeksinfrastructuur) -> 0 | X15: =SUM(H15,K15,L15,O15,R15,S15,V15) -> 0
A16: Deelnemer 8 | B16: =Deelnemer_8 -> 0 | C16: =type_8 -> 0 | D16: =$D$8 -> 0 | E16: =+$E$8 -> 0 | F16: ='deelnemer 8'!F73 -> 0 | H16: =IF($C16="KIS",F16*KIS,IF($C16="KB",F16*(onderzoek+KB),IF($C16="MB",F16*(onderzoek+MB),F16*onderzoek))) -> 0 | I16: ='deelnemer 8'!I73 -> 0 | K16: =IF($C16="KIS",I16*KIS,IF($C16="KB",I16*(ontwikkeling+KB),IF($C16="MB",I16*(ontwikkeling+MB),I16*ontwikkeling))) -> 0 | L16: =IF(AND($D$8="Ja",OR($C16="GB",$C16="MB",$C16="KB")),(F16+I16)*samenwerking,0) -> 0 | M16: ='deelnemer 8'!L73 -> 0 | O16: =IF($C16="KIS",M16*KIS,IF($C16="KB",M16*(haalbaarheid+KB),IF($C16="MB",M16*(haalbaarheid+MB),M16*haalbaarheid))) -> 0 | P16: ='deelnemer 8'!O73 -> 0 | R16: =IF($C16="KIS",0,IF($C16="KB",P16*(Testenexperimenteer+KB),IF($C16="MB",P16*(Testenexperimenteer+MB),P16*Testenexperimenteer))) -> 0 | S16: =IF(AND($E$8="Ja",OR($C16="GB",$C16="MB",$C16="KB")),(+P16)*grensoverschrijding,0) -> 0 | T16: ='deelnemer 8'!R73 -> 0 | V16: =IF($C16="KIS",0,T16*onderzoeksinfrastructuur) -> 0 | X16: =SUM(H16,K16,L16,O16,R16,S16,V16) -> 0
A17: Deelnemer 9 | B17: =Deelnemer_9 -> 0 | C17: =type_9 -> 0 | D17: =$D$8 -> 0 | E17: =+$E$8 -> 0 | F17: ='deelnemer 9'!F$73 -> 0 | H17: =IF($C17="KIS",F17*KIS,IF($C17="KB",F17*(onderzoek+KB),IF($C17="MB",F17*(onderzoek+MB),F17*onderzoek))) -> 0 | I17: ='deelnemer 9'!I$73 -> 0 | K17: =IF($C17="KIS",I17*KIS,IF($C17="KB",I17*(ontwikkeling+KB),IF($C17="MB",I17*(ontwikkeling+MB),I17*ontwikkeling))) -> 0 | L17: =IF(AND($D$8="Ja",OR($C17="GB",$C17="MB",$C17="KB")),(F17+I17)*samenwerking,0) -> 0 | M17: ='deelnemer 9'!L$73 -> 0 | O17: =IF($C17="KIS",M17*KIS,IF($C17="KB",M17*(haalbaarheid+KB),IF($C17="MB",M17*(haalbaarheid+MB),M17*haalbaarheid))) -> 0 | P17: ='deelnemer 9'!O$73 -> 0 | R17: =IF($C17="KIS",0,IF($C17="KB",P17*(Testenexperimenteer+KB),IF($C17="MB",P17*(Testenexperimenteer+MB),P17*Testenexperimenteer))) -> 0 | S17: =IF(AND($E$8="Ja",OR($C17="GB",$C17="MB",$C17="KB")),(+P17)*grensoverschrijding,0) -> 0 | T17: ='deelnemer 9'!R$73 -> 0 | V17: =IF($C17="KIS",0,T17*onderzoeksinfrastructuur) -> 0 | X17: =SUM(H17,K17,L17,O17,R17,S17,V17) -> 0
A18: Deelnemer 10 | B18: {=Deelnemer_10} -> 0 | C18: {=type_10} -> 0 | D18: =$D$8 -> 0 | E18: =+$E$8 -> 0 | F18: ='deelnemer 10'!F$73 -> 0 | H18: =IF($C18="KIS",F18*KIS,IF($C18="KB",F18*(onderzoek+KB),IF($C18="MB",F18*(onderzoek+MB),F18*onderzoek))) -> 0 | I18: ='deelnemer 10'!I$73 -> 0 | K18: =IF($C18="KIS",I18*KIS,IF($C18="KB",I18*(ontwikkeling+KB),IF($C18="MB",I18*(ontwikkeling+MB),I18*ontwikkeling))) -> 0 | L18: =IF(AND($D$8="Ja",OR($C18="GB",$C18="MB",$C18="KB")),(F18+I18)*samenwerking,0) -> 0 | M18: ='deelnemer 10'!L$73 -> 0 | O18: =IF($C18="KIS",M18*KIS,IF($C18="KB",M18*(haalbaarheid+KB),IF($C18="MB",M18*(haalbaarheid+MB),M18*haalbaarheid))) -> 0 | P18: ='deelnemer 10'!O$73 -> 0 | R18: =IF($C18="KIS",0,IF($C18="KB",P18*(Testenexperimenteer+KB),IF($C18="MB",P18*(Testenexperimenteer+MB),P18*Testenexperimenteer))) -> 0 | S18: =IF(AND($E$8="Ja",OR($C18="GB",$C18="MB",$C18="KB")),(+P18)*grensoverschrijding,0) -> 0 | T18: ='deelnemer 10'!R$73 -> 0 | V18: =IF($C18="KIS",0,T18*onderzoeksinfrastructuur) -> 0 | X18: =SUM(H18,K18,L18,O18,R18,S18,V18) -> 0
A19: Deelnemer 11 | B19: =Deelnemer_11 -> 0 | C19: {=type_11} -> 0 | D19: =$D$8 -> 0 | E19: =+$E$8 -> 0 | F19: ='deelnemer 11'!F$73 -> 0 | H19: =IF($C19="KIS",F19*KIS,IF($C19="KB",F19*(onderzoek+KB),IF($C19="MB",F19*(onderzoek+MB),F19*onderzoek))) -> 0 | I19: ='deelnemer 11'!I$73 -> 0 | K19: =IF($C19="KIS",I19*KIS,IF($C19="KB",I19*(ontwikkeling+KB),IF($C19="MB",I19*(ontwikkeling+MB),I19*ontwikkeling))) -> 0 | L19: =IF(AND($D$8="Ja",OR($C19="GB",$C19="MB",$C19="KB")),(F19+I19)*samenwerking,0) -> 0 | M19: ='deelnemer 11'!L$73 -> 0 | O19: =IF($C19="KIS",M19*KIS,IF($C19="KB",M19*(haalbaarheid+KB),IF($C19="MB",M19*(haalbaarheid+MB),M19*haalbaarheid))) -> 0 | P19: ='deelnemer 11'!O$73 -> 0 | R19: =IF($C19="KIS",0,IF($C19="KB",P19*(Testenexperimenteer+KB),IF($C19="MB",P19*(Testenexperimenteer+MB),P19*Testenexperimenteer))) -> 0 | S19: =IF(AND($E$8="Ja",OR($C19="GB",$C19="MB",$C19="KB")),(+P19)*grensoverschrijding,0) -> 0 | T19: ='deelnemer 11'!R$73 -> 0 | V19: =IF($C19="KIS",0,T19*onderzoeksinfrastructuur) -> 0 | X19: =SUM(H19,K19,L19,O19,R19,S19,V19) -> 0
A20: Deelnemer 12 | B20: =Deelnemer_12 -> 0 | C20: {=type_12} -> 0 | D20: =$D$8 -> 0 | E20: =+$E$8 -> 0 | F20: ='deelnemer 12'!F$73 -> 0 | H20: =IF($C20="KIS",F20*KIS,IF($C20="KB",F20*(onderzoek+KB),IF($C20="MB",F20*(onderzoek+MB),F20*onderzoek))) -> 0 | I20: ='deelnemer 12'!I$73 -> 0 | K20: =IF($C20="KIS",I20*KIS,IF($C20="KB",I20*(ontwikkeling+KB),IF($C20="MB",I20*(ontwikkeling+MB),I20*ontwikkeling))) -> 0 | L20: =IF(AND($D$8="Ja",OR($C20="GB",$C20="MB",$C20="KB")),(F20+I20)*samenwerking,0) -> 0 | M20: ='deelnemer 12'!L$73 -> 0 | O20: =IF($C20="KIS",M20*KIS,IF($C20="KB",M20*(haalbaarheid+KB),IF($C20="MB",M20*(haalbaarheid+MB),M20*haalbaarheid))) -> 0 | P20: ='deelnemer 12'!O$73 -> 0 | R20: =IF($C20="KIS",0,IF($C20="KB",P20*(Testenexperimenteer+KB),IF($C20="MB",P20*(Testenexperimenteer+MB),P20*Testenexperimenteer))) -> 0 | S20: =IF(AND($E$8="Ja",OR($C20="GB",$C20="MB",$C20="KB")),(+P20)*grensoverschrijding,0) -> 0 | T20: ='deelnemer 12'!R$73 -> 0 | V20: =IF($C20="KIS",0,T20*onderzoeksinfrastructuur) -> 0 | X20: =SUM(H20,K20,L20,O20,R20,S20,V20) -> 0
A21: Deelnemer 13 | B21: =Deelnemer_13 -> 0 | C21: {=type_13} -> 0 | D21: =$D$8 -> 0 | E21: =+$E$8 -> 0 | F21: ='deelnemer 13'!F$73 -> 0 | H21: =IF($C21="KIS",F21*KIS,IF($C21="KB",F21*(onderzoek+KB),IF($C21="MB",F21*(onderzoek+MB),F21*onderzoek))) -> 0 | I21: ='deelnemer 13'!I$73 -> 0 | K21: =IF($C21="KIS",I21*KIS,IF($C21="KB",I21*(ontwikkeling+KB),IF($C21="MB",I21*(ontwikkeling+MB),I21*ontwikkeling))) -> 0 | L21: =IF(AND($D$8="Ja",OR($C21="GB",$C21="MB",$C21="KB")),(F21+I21)*samenwerking,0) -> 0 | M21: ='deelnemer 13'!L$73 -> 0 | O21: =IF($C21="KIS",M21*KIS,IF($C21="KB",M21*(haalbaarheid+KB),IF($C21="MB",M21*(haalbaarheid+MB),M21*haalbaarheid))) -> 0 | P21: ='deelnemer 13'!O$73 -> 0 | R21: =IF($C21="KIS",0,IF($C21="KB",P21*(Testenexperimenteer+KB),IF($C21="MB",P21*(Testenexperimenteer+MB),P21*Testenexperimenteer))) -> 0 | S21: =IF(AND($E$8="Ja",OR($C21="GB",$C21="MB",$C21="KB")),(+P21)*grensoverschrijding,0) -> 0 | T21: ='deelnemer 13'!R$73 -> 0 | V21: =IF($C21="KIS",0,T21*onderzoeksinfrastructuur) -> 0 | X21: =SUM(H21,K21,L21,O21,R21,S21,V21) -> 0
A22: Deelnemer 14 | B22: {=Deelnemer_14} -> 0 | C22: {=type_14} -> 0 | D22: =$D$8 -> 0 | E22: =+$E$8 -> 0 | F22: ='deelnemer 14'!F$73 -> 0 | H22: =IF($C22="KIS",F22*KIS,IF($C22="KB",F22*(onderzoek+KB),IF($C22="MB",F22*(onderzoek+MB),F22*onderzoek))) -> 0 | I22: ='deelnemer 14'!I$73 -> 0 | K22: =IF($C22="KIS",I22*KIS,IF($C22="KB",I22*(ontwikkeling+KB),IF($C22="MB",I22*(ontwikkeling+MB),I22*ontwikkeling))) -> 0 | L22: =IF(AND($D$8="Ja",OR($C22="GB",$C22="MB",$C22="KB")),(F22+I22)*samenwerking,0) -> 0 | M22: ='deelnemer 14'!L$73 -> 0 | O22: =IF($C22="KIS",M22*KIS,IF($C22="KB",M22*(haalbaarheid+KB),IF($C22="MB",M22*(haalbaarheid+MB),M22*haalbaarheid))) -> 0 | P22: ='deelnemer 14'!O$73 -> 0 | R22: =IF($C22="KIS",0,IF($C22="KB",P22*(Testenexperimenteer+KB),IF($C22="MB",P22*(Testenexperimenteer+MB),P22*Testenexperimenteer))) -> 0 | S22: =IF(AND($E$8="Ja",OR($C22="GB",$C22="MB",$C22="KB")),(+P22)*grensoverschrijding,0) -> 0 | T22: ='deelnemer 14'!R$73 -> 0 | V22: =IF($C22="KIS",0,T22*onderzoeksinfrastructuur) -> 0 | X22: =SUM(H22,K22,L22,O22,R22,S22,V22) -> 0
A23: Deelnemer 15 | B23: {=Deelnemer_15} -> 0 | C23: {=type_15} -> 0 | D23: =$D$8 -> 0 | E23: =+$E$8 -> 0 | F23: ='deelnemer 15'!F$73 -> 0 | H23: =IF($C23="KIS",F23*KIS,IF($C23="KB",F23*(onderzoek+KB),IF($C23="MB",F23*(onderzoek+MB),F23*onderzoek))) -> 0 | I23: ='deelnemer 15'!I$73 -> 0 | K23: =IF($C23="KIS",I23*KIS,IF($C23="KB",I23*(ontwikkeling+KB),IF($C23="MB",I23*(ontwikkeling+MB),I23*ontwikkeling))) -> 0 | L23: =IF(AND($D$8="Ja",OR($C23="GB",$C23="MB",$C23="KB")),(F23+I23)*samenwerking,0) -> 0 | M23: ='deelnemer 15'!L$73 -> 0 | O23: =IF($C23="KIS",M23*KIS,IF($C23="KB",M23*(haalbaarheid+KB),IF($C23="MB",M23*(haalbaarheid+MB),M23*haalbaarheid))) -> 0 | P23: ='deelnemer 15'!O$73 -> 0 | R23: =IF($C23="KIS",0,IF($C23="KB",P23*(Testenexperimenteer+KB),IF($C23="MB",P23*(Testenexperimenteer+MB),P23*Testenexperimenteer))) -> 0 | S23: =IF(AND($E$8="Ja",OR($C23="GB",$C23="MB",$C23="KB")),(+P23)*grensoverschrijding,0) -> 0 | T23: ='deelnemer 15'!R$73 -> 0 | V23: =IF($C23="KIS",0,T23*onderzoeksinfrastructuur) -> 0 | X23: =SUM(H23,K23,L23,O23,R23,S23,V23) -> 0
A24: Deelnemer 16 | B24: {=Deelnemer_16} -> 0 | C24: {=type_16} -> 0 | D24: =$D$8 -> 0 | E24: =+$E$8 -> 0 | F24: ='deelnemer 16'!F$73 -> 0 | H24: =IF($C24="KIS",F24*KIS,IF($C24="KB",F24*(onderzoek+KB),IF($C24="MB",F24*(onderzoek+MB),F24*onderzoek))) -> 0 | I24: ='deelnemer 16'!I$73 -> 0 | K24: =IF($C24="KIS",I24*KIS,IF($C24="KB",I24*(ontwikkeling+KB),IF($C24="MB",I24*(ontwikkeling+MB),I24*ontwikkeling))) -> 0 | L24: =IF(AND($D$8="Ja",OR($C24="GB",$C24="MB",$C24="KB")),(F24+I24)*samenwerking,0) -> 0 | M24: ='deelnemer 16'!L$73 -> 0 | O24: =IF($C24="KIS",M24*KIS,IF($C24="KB",M24*(haalbaarheid+KB),IF($C24="MB",M24*(haalbaarheid+MB),M24*haalbaarheid))) -> 0 | P24: ='deelnemer 16'!O$73 -> 0 | R24: =IF($C24="KIS",0,IF($C24="KB",P24*(Testenexperimenteer+KB),IF($C24="MB",P24*(Testenexperimenteer+MB),P24*Testenexperimenteer))) -> 0 | S24: =IF(AND($E$8="Ja",OR($C24="GB",$C24="MB",$C24="KB")),(+P24)*grensoverschrijding,0) -> 0 | T24: ='deelnemer 16'!R$73 -> 0 | V24: =IF($C24="KIS",0,T24*onderzoeksinfrastructuur) -> 0 | X24: =SUM(H24,K24,L24,O24,R24,S24,V24) -> 0
A25: Deelnemer 17 | B25: {=Deelnemer_17} -> 0 | C25: {=type_17} -> 0 | D25: =$D$8 -> 0 | E25: =+$E$8 -> 0 | F25: ='deelnemer 17'!F$73 -> 0 | H25: =IF($C25="KIS",F25*KIS,IF($C25="KB",F25*(onderzoek+KB),IF($C25="MB",F25*(onderzoek+MB),F25*onderzoek))) -> 0 | I25: ='deelnemer 17'!I$73 -> 0 | K25: =IF($C25="KIS",I25*KIS,IF($C25="KB",I25*(ontwikkeling+KB),IF($C25="MB",I25*(ontwikkeling+MB),I25*ontwikkeling))) -> 0 | L25: =IF(AND($D$8="Ja",OR($C25="GB",$C25="MB",$C25="KB")),(F25+I25)*samenwerking,0) -> 0 | M25: ='deelnemer 17'!L$73 -> 0 | O25: =IF($C25="KIS",M25*KIS,IF($C25="KB",M25*(haalbaarheid+KB),IF($C25="MB",M25*(haalbaarheid+MB),M25*haalbaarheid))) -> 0 | P25: ='deelnemer 17'!O$73 -> 0 | R25: =IF($C25="KIS",0,IF($C25="KB",P25*(Testenexperimenteer+KB),IF($C25="MB",P25*(Testenexperimenteer+MB),P25*Testenexperimenteer))) -> 0 | S25: =IF(AND($E$8="Ja",OR($C25="GB",$C25="MB",$C25="KB")),(+P25)*grensoverschrijding,0) -> 0 | T25: ='deelnemer 17'!R$73 -> 0 | V25: =IF($C25="KIS",0,T25*onderzoeksinfrastructuur) -> 0 | X25: =SUM(H25,K25,L25,O25,R25,S25,V25) -> 0
A26: Deelnemer 18 | B26: {=Deelnemer_18} -> 0 | C26: {=type_18} -> 0 | D26: =$D$8 -> 0 | E26: =+$E$8 -> 0 | F26: ='deelnemer 18'!F$73 -> 0 | H26: =IF($C26="KIS",F26*KIS,IF($C26="KB",F26*(onderzoek+KB),IF($C26="MB",F26*(onderzoek+MB),F26*onderzoek))) -> 0 | I26: ='deelnemer 18'!I$73 -> 0 | K26: =IF($C26="KIS",I26*KIS,IF($C26="KB",I26*(ontwikkeling+KB),IF($C26="MB",I26*(ontwikkeling+MB),I26*ontwikkeling))) -> 0 | L26: =IF(AND($D$8="Ja",OR($C26="GB",$C26="MB",$C26="KB")),(F26+I26)*samenwerking,0) -> 0 | M26: ='deelnemer 18'!L$73 -> 0 | O26: =IF($C26="KIS",M26*KIS,IF($C26="KB",M26*(haalbaarheid+KB),IF($C26="MB",M26*(haalbaarheid+MB),M26*haalbaarheid))) -> 0 | P26: ='deelnemer 18'!O$73 -> 0 | R26: =IF($C26="KIS",0,IF($C26="KB",P26*(Testenexperimenteer+KB),IF($C26="MB",P26*(Testenexperimenteer+MB),P26*Testenexperimenteer))) -> 0 | S26: =IF(AND($E$8="Ja",OR($C26="GB",$C26="MB",$C26="KB")),(+P26)*grensoverschrijding,0) -> 0 | T26: ='deelnemer 18'!R$73 -> 0 | V26: =IF($C26="KIS",0,T26*onderzoeksinfrastructuur) -> 0 | X26: =SUM(H26,K26,L26,O26,R26,S26,V26) -> 0
A27: Deelnemer 19 | B27: {=Deelnemer_19} -> 0 | C27: {=type_19} -> 0 | D27: =$D$8 -> 0 | E27: =+$E$8 -> 0 | F27: ='deelnemer 19'!F$73 -> 0 | H27: =IF($C27="KIS",F27*KIS,IF($C27="KB",F27*(onderzoek+KB),IF($C27="MB",F27*(onderzoek+MB),F27*onderzoek))) -> 0 | I27: ='deelnemer 19'!I$73 -> 0 | K27: =IF($C27="KIS",I27*KIS,IF($C27="KB",I27*(ontwikkeling+KB),IF($C27="MB",I27*(ontwikkeling+MB),I27*ontwikkeling))) -> 0 | L27: =IF(AND($D$8="Ja",OR($C27="GB",$C27="MB",$C27="KB")),(F27+I27)*samenwerking,0) -> 0 | M27: ='deelnemer 19'!L$73 -> 0 | O27: =IF($C27="KIS",M27*KIS,IF($C27="KB",M27*(haalbaarheid+KB),IF($C27="MB",M27*(haalbaarheid+MB),M27*haalbaarheid))) -> 0 | P27: ='deelnemer 19'!O$73 -> 0 | R27: =IF($C27="KIS",0,IF($C27="KB",P27*(Testenexperimenteer+KB),IF($C27="MB",P27*(Testenexperimenteer+MB),P27*Testenexperimenteer))) -> 0 | S27: =IF(AND($E$8="Ja",OR($C27="GB",$C27="MB",$C27="KB")),(+P27)*grensoverschrijding,0) -> 0 | T27: ='deelnemer 19'!R$73 -> 0 | V27: =IF($C27="KIS",0,T27*onderzoeksinfrastructuur) -> 0 | X27: =SUM(H27,K27,L27,O27,R27,S27,V27) -> 0
A28: Deelnemer 20 | B28: {=Deelnemer_20} -> 0 | C28: {=type_20} -> 0 | D28: =$D$8 -> 0 | E28: =+$E$8 -> 0 | F28: ='deelnemer 20'!F$73 -> 0 | H28: =IF($C28="KIS",F28*KIS,IF($C28="KB",F28*(onderzoek+KB),IF($C28="MB",F28*(onderzoek+MB),F28*onderzoek))) -> 0 | I28: ='deelnemer 20'!I$73 -> 0 | K28: =IF($C28="KIS",I28*KIS,IF($C28="KB",I28*(ontwikkeling+KB),IF($C28="MB",I28*(ontwikkeling+MB),I28*ontwikkeling))) -> 0 | L28: =IF(AND($D$8="Ja",OR($C28="GB",$C28="MB",$C28="KB")),(F28+I28)*samenwerking,0) -> 0 | M28: ='deelnemer 20'!L$73 -> 0 | O28: =IF($C28="KIS",M28*KIS,IF($C28="KB",M28*(haalbaarheid+KB),IF($C28="MB",M28*(haalbaarheid+MB),M28*haalbaarheid))) -> 0 | P28: ='deelnemer 20'!O$73 -> 0 | R28: =IF($C28="KIS",0,IF($C28="KB",P28*(Testenexperimenteer+KB),IF($C28="MB",P28*(Testenexperimenteer+MB),P28*Testenexperimenteer))) -> 0 | S28: =IF(AND($E$8="Ja",OR($C28="GB",$C28="MB",$C28="KB")),(+P28)*grensoverschrijding,0) -> 0 | T28: ='deelnemer 20'!R$73 -> 0 | V28: =IF($C28="KIS",0,T28*onderzoeksinfrastructuur) -> 0 | X28: =SUM(H28,K28,L28,O28,R28,S28,V28) -> 0
A29: Deelnemer 21 | B29: {=Deelnemer_21} -> 0 | C29: {=type_21} -> 0 | D29: =$D$8 -> 0 | E29: =+$E$8 -> 0 | F29: ='deelnemer 21'!F$73 -> 0 | H29: =IF($C29="KIS",F29*KIS,IF($C29="KB",F29*(onderzoek+KB),IF($C29="MB",F29*(onderzoek+MB),F29*onderzoek))) -> 0 | I29: ='deelnemer 21'!I$73 -> 0 | K29: =IF($C29="KIS",I29*KIS,IF($C29="KB",I29*(ontwikkeling+KB),IF($C29="MB",I29*(ontwikkeling+MB),I29*ontwikkeling))) -> 0 | L29: =IF(AND($D$8="Ja",OR($C29="GB",$C29="MB",$C29="KB")),(F29+I29)*samenwerking,0) -> 0 | M29: ='deelnemer 21'!L$73 -> 0 | O29: =IF($C29="KIS",M29*KIS,IF($C29="KB",M29*(haalbaarheid+KB),IF($C29="MB",M29*(haalbaarheid+MB),M29*haalbaarheid))) -> 0 | P29: ='deelnemer 21'!O$73 -> 0 | R29: =IF($C29="KIS",0,IF($C29="KB",P29*(Testenexperimenteer+KB),IF($C29="MB",P29*(Testenexperimenteer+MB),P29*Testenexperimenteer))) -> 0 | S29: =IF(AND($E$8="Ja",OR($C29="GB",$C29="MB",$C29="KB")),(+P29)*grensoverschrijding,0) -> 0 | T29: ='deelnemer 21'!R$73 -> 0 | V29: =IF($C29="KIS",0,T29*onderzoeksinfrastructuur) -> 0 | X29: =SUM(H29,K29,L29,O29,R29,S29,V29) -> 0
A30: Deelnemer 22 | B30: {=Deelnemer_22} -> 0 | C30: {=type_22} -> 0 | D30: =$D$8 -> 0 | E30: =+$E$8 -> 0 | F30: ='deelnemer 22'!F$73 -> 0 | H30: =IF($C30="KIS",F30*KIS,IF($C30="KB",F30*(onderzoek+KB),IF($C30="MB",F30*(onderzoek+MB),F30*onderzoek))) -> 0 | I30: ='deelnemer 22'!I$73 -> 0 | K30: =IF($C30="KIS",I30*KIS,IF($C30="KB",I30*(ontwikkeling+KB),IF($C30="MB",I30*(ontwikkeling+MB),I30*ontwikkeling))) -> 0 | L30: =IF(AND($D$8="Ja",OR($C30="GB",$C30="MB",$C30="KB")),(F30+I30)*samenwerking,0) -> 0 | M30: ='deelnemer 22'!L$73 -> 0 | O30: =IF($C30="KIS",M30*KIS,IF($C30="KB",M30*(haalbaarheid+KB),IF($C30="MB",M30*(haalbaarheid+MB),M30*haalbaarheid))) -> 0 | P30: ='deelnemer 22'!O$73 -> 0 | R30: =IF($C30="KIS",0,IF($C30="KB",P30*(Testenexperimenteer+KB),IF($C30="MB",P30*(Testenexperimenteer+MB),P30*Testenexperimenteer))) -> 0 | S30: =IF(AND($E$8="Ja",OR($C30="GB",$C30="MB",$C30="KB")),(+P30)*grensoverschrijding,0) -> 0 | T30: ='deelnemer 22'!R$73 -> 0 | V30: =IF($C30="KIS",0,T30*onderzoeksinfrastructuur) -> 0 | X30: =SUM(H30,K30,L30,O30,R30,S30,V30) -> 0
A31: Deelnemer 23 | B31: {=Deelnemer_23} -> 0 | C31: {=type_23} -> 0 | D31: =$D$8 -> 0 | E31: =+$E$8 -> 0 | F31: ='deelnemer 23'!F$73 -> 0 | H31: =IF($C31="KIS",F31*KIS,IF($C31="KB",F31*(onderzoek+KB),IF($C31="MB",F31*(onderzoek+MB),F31*onderzoek))) -> 0 | I31: ='deelnemer 23'!I$73 -> 0 | K31: =IF($C31="KIS",I31*KIS,IF($C31="KB",I31*(ontwikkeling+KB),IF($C31="MB",I31*(ontwikkeling+MB),I31*ontwikkeling))) -> 0 | L31: =IF(AND($D$8="Ja",OR($C31="GB",$C31="MB",$C31="KB")),(F31+I31)*samenwerking,0) -> 0 | M31: ='deelnemer 23'!L$73 -> 0 | O31: =IF($C31="KIS",M31*KIS,IF($C31="KB",M31*(haalbaarheid+KB),IF($C31="MB",M31*(haalbaarheid+MB),M31*haalbaarheid))) -> 0 | P31: ='deelnemer 23'!O$73 -> 0 | R31: =IF($C31="KIS",0,IF($C31="KB",P31*(Testenexperimenteer+KB),IF($C31="MB",P31*(Testenexperimenteer+MB),P31*Testenexperimenteer))) -> 0 | S31: =IF(AND($E$8="Ja",OR($C31="GB",$C31="MB",$C31="KB")),(+P31)*grensoverschrijding,0) -> 0 | T31: ='deelnemer 23'!R$73 -> 0 | V31: =IF($C31="KIS",0,T31*onderzoeksinfrastructuur) -> 0 | X31: =SUM(H31,K31,L31,O31,R31,S31,V31) -> 0
A32: Deelnemer 24 | B32: {=Deelnemer_24} -> 0 | C32: {=type_24} -> 0 | D32: =$D$8 -> 0 | E32: =+$E$8 -> 0 | F32: ='deelnemer 24'!F$73 -> 0 | H32: =IF($C32="KIS",F32*KIS,IF($C32="KB",F32*(onderzoek+KB),IF($C32="MB",F32*(onderzoek+MB),F32*onderzoek))) -> 0 | I32: ='deelnemer 24'!I$73 -> 0 | K32: =IF($C32="KIS",I32*KIS,IF($C32="KB",I32*(ontwikkeling+KB),IF($C32="MB",I32*(ontwikkeling+MB),I32*ontwikkeling))) -> 0 | L32: =IF(AND($D$8="Ja",OR($C32="GB",$C32="MB",$C32="KB")),(F32+I32)*samenwerking,0) -> 0 | M32: ='deelnemer 24'!L$73 -> 0 | O32: =IF($C32="KIS",M32*KIS,IF($C32="KB",M32*(haalbaarheid+KB),IF($C32="MB",M32*(haalbaarheid+MB),M32*haalbaarheid))) -> 0 | P32: ='deelnemer 24'!O$73 -> 0 | R32: =IF($C32="KIS",0,IF($C32="KB",P32*(Testenexperimenteer+KB),IF($C32="MB",P32*(Testenexperimenteer+MB),P32*Testenexperimenteer))) -> 0 | S32: =IF(AND($E$8="Ja",OR($C32="GB",$C32="MB",$C32="KB")),(+P32)*grensoverschrijding,0) -> 0 | T32: ='deelnemer 24'!R$73 -> 0 | V32: =IF($C32="KIS",0,T32*onderzoeksinfrastructuur) -> 0 | X32: =SUM(H32,K32,L32,O32,R32,S32,V32) -> 0
A33: Deelnemer 25 | B33: {=Deelnemer_25} -> 0 | C33: {=type_25} -> 0 | D33: =$D$8 -> 0 | E33: =+$E$8 -> 0 | F33: ='deelnemer 25'!F$73 -> 0 | H33: =IF($C33="KIS",F33*KIS,IF($C33="KB",F33*(onderzoek+KB),IF($C33="MB",F33*(onderzoek+MB),F33*onderzoek))) -> 0 | I33: ='deelnemer 25'!I$73 -> 0 | K33: =IF($C33="KIS",I33*KIS,IF($C33="KB",I33*(ontwikkeling+KB),IF($C33="MB",I33*(ontwikkeling+MB),I33*ontwikkeling))) -> 0 | L33: =IF(AND($D$8="Ja",OR($C33="GB",$C33="MB",$C33="KB")),(F33+I33)*samenwerking,0) -> 0 | M33: ='deelnemer 25'!L$73 -> 0 | O33: =IF($C33="KIS",M33*KIS,IF($C33="KB",M33*(haalbaarheid+KB),IF($C33="MB",M33*(haalbaarheid+MB),M33*haalbaarheid))) -> 0 | P33: ='deelnemer 25'!O$73 -> 0 | R33: =IF($C33="KIS",0,IF($C33="KB",P33*(Testenexperimenteer+KB),IF($C33="MB",P33*(Testenexperimenteer+MB),P33*Testenexperimenteer))) -> 0 | S33: =IF(AND($E$8="Ja",OR($C33="GB",$C33="MB",$C33="KB")),(+P33)*grensoverschrijding,0) -> 0 | T33: ='deelnemer 25'!R$73 -> 0 | V33: =IF($C33="KIS",0,T33*onderzoeksinfrastructuur) -> 0 | X33: =SUM(H33,K33,L33,O33,R33,S33,V33) -> 0
D36: Totaal | F36: =SUM(F8:F33) -> 0 | H36: =SUM(H8:H33) -> 0 | I36: =SUM(I8:I33) -> 0 | K36: =SUM(K8:K33) -> 0 | L36: =SUM(L8:L33) -> 0 | M36: =SUM(M8:M33) -> 0 | O36: =SUM(O8:O33) -> 0 | P36: =SUM(P8:P33) -> 0 | R36: =SUM(R8:R33) -> 0 | S36: =SUM(S8:S33) -> 0 | T36: =SUM(T8:T33) -> 0 | V36: =SUM(V8:V33) -> 0 | X36: =SUM(X8:X33) -> 0
A41: Totale begrote kosten | B41: EUR | C41: =SUM(F36,I36,M36,P36,T36) -> 0
A42: Gevraagde subsidie | B42: EUR | C42: =X36 -> 0 | E42: =IF(C42>60000000,"Let op de maximale subsidie is groter dan € 60.000.000 !!!","")

Sheet penvoerder
B1: Penvoerder: | D1: versie: | E1: =Code -> IPCEI260930
B2: Projecttitel:
B3: Type organisatie: | D3: Groot bedrijf, middelgroot bedrijf, klein bedrijf of kennisinstelling
A6: 1. | B6: Loonkosten: | E6: Industrieel onderzoek | H6: Experimentele ontwikkeling | K6: Haalbaarheidsstudies | N6: Test- en experimenteerinfrastructuur | Q6: Onderzoeksinfrastructuur
B7: Medewerker | C7: Functie | D7: Uurtarief | E7: Uren | F7: Uren x tarief | H7: Uren | I7: Uren x tarief | K7: Uren | L7: Uren x tarief | N7: Uren | O7: Uren x tarief | Q7: Uren | R7: Uren x tarief
F8: =$D8*E8 -> 0 | I8: =$D8*H8 -> 0 | L8: =$D8*K8 -> 0 | O8: =$D8*N8 -> 0 | R8: =$D8*Q8 -> 0
F9: =$D9*E9 -> 0 | I9: =$D9*H9 -> 0 | L9: =$D9*K9 -> 0 | O9: =$D9*N9 -> 0 | R9: =$D9*Q9 -> 0
F10: =$D10*E10 -> 0 | I10: =$D10*H10 -> 0 | L10: =$D10*K10 -> 0 | O10: =$D10*N10 -> 0 | R10: =$D10*Q10 -> 0
F11: =$D11*E11 -> 0 | I11: =$D11*H11 -> 0 | L11: =$D11*K11 -> 0 | O11: =$D11*N11 -> 0 | R11: =$D11*Q11 -> 0
F12: =$D12*E12 -> 0 | I12: =$D12*H12 -> 0 | L12: =$D12*K12 -> 0 | O12: =$D12*N12 -> 0 | R12: =$D12*Q12 -> 0
F13: =$D13*E13 -> 0 | I13: =$D13*H13 -> 0 | L13: =$D13*K13 -> 0 | O13: =$D13*N13 -> 0 | R13: =$D13*Q13 -> 0
F14: =$D14*E14 -> 0 | I14: =$D14*H14 -> 0 | L14: =$D14*K14 -> 0 | O14: =$D14*N14 -> 0 | R14: =$D14*Q14 -> 0
F15: =$D15*E15 -> 0 | I15: =$D15*H15 -> 0 | L15: =$D15*K15 -> 0 | O15: =$D15*N15 -> 0 | R15: =$D15*Q15 -> 0
F16: =$D16*E16 -> 0 | I16: =$D16*H16 -> 0 | L16: =$D16*K16 -> 0 | O16: =$D16*N16 -> 0 | R16: =$D16*Q16 -> 0
B17: Indien geen loonkosten, maar wel arbeid:
D18: 60 | F18: =$D18*E18 -> 0 | I18: =$D18*H18 -> 0 | L18: =$D18*K18 -> 0 | O18: =$D18*N18 -> 0 | R18: =$D18*Q18 -> 0
D19: 60 | F19: =$D19*E19 -> 0 | I19: =$D19*H19 -> 0 | L19: =$D19*K19 -> 0 | O19: =$D19*N19 -> 0 | R19: =$D19*Q19 -> 0
F20: =SUM(F8:F19) -> 0 | I20: =SUM(I8:I19) -> 0 | L20: =SUM(L8:L19) -> 0 | O20: =SUM(O8:O19) -> 0 | R20: =SUM(R8:R19) -> 0
B22: Welke methode van berekening van subsidiabele kosten wilt u hanteren? (Zie Toelichting kostenposten.) | D22: Opslag algemene kosten (50%) (alleen bij loonkosten plus vaste-opslag-systematiek) | F22: =IF(kostenmethode_pv="loonkosten plus vaste-opslag-systematiek",SUM(F8:F16)*0.5,0) -> 0 | I22: =IF(kostenmethode_pv="loonkosten plus vaste-opslag-systematiek",SUM(I8:I16)*0.5,0) -> 0 | L22: =IF(kostenmethode_pv="loonkosten plus vaste-opslag-systematiek",SUM(L8:L16)*0.5,0) -> 0 | O22: =IF(kostenmethode_pv="loonkosten plus vaste-opslag-systematiek",SUM(O8:O16)*0.5,0) -> 0 | R22: =IF(kostenmethode_pv="loonkosten plus vaste-opslag-systematiek",SUM(R8:R16)*0.5,0) -> 0 | T22: Totaal loonkosten + opslag
F23: =F20+F22 -> 0 | I23: =I20+I22 -> 0 | L23: =L20+L22 -> 0 | O23: =O20+O22 -> 0 | R23: =R20+R22 -> 0 | T23: =+F23+I23+L23+O23+R23 -> 0
A25: 2. | B25: Kosten van materialen en hulpmiddelen: | E25: =E6 -> Industrieel onderzoek | H25: =H6 -> Experimentele ontwikkeling | K25: =K6 -> Haalbaarheidsstudies | N25: =N6 -> Test- en experimenteerinfrastructuur | Q25: =Q6 -> Onderzoeksinfrastructuur
B26: Materiaal/hulpmiddel | D26: Prijs per hoeveelheid | E26: Hoeveelheid | F26: Hoev.x prijs | H26: Hoeveelheid | I26: Hoev.x prijs | K26: Hoeveelheid | L26: Hoev.x prijs | N26: Hoeveelheid | O26: Hoev.x prijs | Q26: Hoeveelheid | R26: Hoev.x prijs
F27: =$D27*E27 -> 0 | I27: =$D27*H27 -> 0 | L27: =$D27*K27 -> 0 | O27: =$D27*N27 -> 0 | R27: =$D27*Q27 -> 0
F28: =$D28*E28 -> 0 | I28: =$D28*H28 -> 0 | L28: =$D28*K28 -> 0 | O28: =$D28*N28 -> 0 | R28: =$D28*Q28 -> 0
F29: =$D29*E29 -> 0 | I29: =$D29*H29 -> 0 | L29: =$D29*K29 -> 0 | O29: =$D29*N29 -> 0 | R29: =$D29*Q29 -> 0
F30: =$D30*E30 -> 0 | I30: =$D30*H30 -> 0 | L30: =$D30*K30 -> 0 | O30: =$D30*N30 -> 0 | R30: =$D30*Q30 -> 0
F31: =$D31*E31 -> 0 | I31: =$D31*H31 -> 0 | L31: =$D31*K31 -> 0 | O31: =$D31*N31 -> 0 | R31: =$D31*Q31 -> 0
F32: =$D32*E32 -> 0 | I32: =$D32*H32 -> 0 | L32: =$D32*K32 -> 0 | O32: =$D32*N32 -> 0 | R32: =$D32*Q32 -> 0
F33: =$D33*E33 -> 0 | I33: =$D33*H33 -> 0 | L33: =$D33*K33 -> 0 | O33: =$D33*N33 -> 0 | R33: =$D33*Q33 -> 0
F34: =$D34*E34 -> 0 | I34: =$D34*H34 -> 0 | L34: =$D34*K34 -> 0 | O34: =$D34*N34 -> 0 | R34: =$D34*Q34 -> 0 | T34: Totaal materialen en hulpmiddelen
F35: =SUM(F27:F34) -> 0 | I35: =SUM(I27:I34) -> 0 | L35: =SUM(L27:L34) -> 0 | O35: =SUM(O27:O34) -> 0 | R35: =SUM(R27:R34) -> 0 | T35: =+F35+I35+L35+O35+R35 -> 0
A37: 3. | B37: Vul ook het werkblad Mach, app in voor een nadere specificatie!!! | E37: =E6 -> Industrieel onderzoek | H37: =H6 -> Experimentele ontwikkeling | K37: =K6 -> Haalbaarheidsstudies | N37: =N6 -> Test- en experimenteerinfrastructuur | Q37: =Q6 -> Onderzoeksinfrastructuur
B38: Kosten van Machines en apparatuur | F38: Kosten | I38: Kosten | L38: Kosten | O38: Kosten | R38: Kosten
T47: Totaal machines en apparatuur
F48: =SUM(F39:F47) -> 0 | I48: =SUM(I39:I47) -> 0 | L48: =SUM(L39:L47) -> 0 | O48: =SUM(O39:O47) -> 0 | R48: =SUM(R39:R47) -> 0 | T48: =+F48+I48+L48+O48+R48 -> 0
B50: Deelnemer: | C50: =Penvoerder -> 0
B51: Projecttitel: | C51: =Projecttitel -> 0
A54: 4. | B54: Aan derden verschuldigde kosten | E54: =E6 -> Industrieel onderzoek | H54: =H6 -> Experimentele ontwikkeling | K54: =K6 -> Haalbaarheidsstudies | N54: =N6 -> Test- en experimenteerinfrastructuur | Q54: =Q6 -> Onderzoeksinfrastructuur
B55: Naam derde, omschrijving buitenlandse reis- en verblijfkosten | F55: Kosten | I55: Kosten | L55: Kosten | O55: Kosten | R55: Kosten
T70: Totaal kosten derden
...

Sheet deelnemer 1
B1: Deelnemer: | D1: versie: | E1: =Code -> IPCEI260930
B2: Projecttitel:
B3: Type organisatie: | D3: =penvoerder!D3 -> Groot bedrijf, middelgroot bedrijf, klein bedrijf of kennisinstelling
A6: 1. | B6: Loonkosten: | E6: =penvoerder!E6 -> Industrieel onderzoek | H6: =penvoerder!H6 -> Experimentele ontwikkeling | K6: =penvoerder!K6 -> Haalbaarheidsstudies | N6: =penvoerder!N6 -> Test- en experimenteerinfrastructuur | Q6: =penvoerder!Q6 -> Onderzoeksinfrastructuur
B7: Medewerker | C7: Functie | D7: Uurtarief | E7: Uren | F7: Uren x tarief | H7: Uren | I7: Uren x tarief | K7: Uren | L7: Uren x tarief | N7: Uren | O7: Uren x tarief | Q7: Uren | R7: Uren x tarief
F8: =$D8*E8 -> 0 | I8: =$D8*H8 -> 0 | L8: =$D8*K8 -> 0 | O8: =$D8*N8 -> 0 | R8: =$D8*Q8 -> 0
F9: =$D9*E9 -> 0 | I9: =$D9*H9 -> 0 | L9: =$D9*K9 -> 0 | O9: =$D9*N9 -> 0 | R9: =$D9*Q9 -> 0
F10: =$D10*E10 -> 0 | I10: =$D10*H10 -> 0 | L10: =$D10*K10 -> 0 | O10: =$D10*N10 -> 0 | R10: =$D10*Q10 -> 0
F11: =$D11*E11 -> 0 | I11: =$D11*H11 -> 0 | L11: =$D11*K11 -> 0 | O11: =$D11*N11 -> 0 | R11: =$D11*Q11 -> 0
F12: =$D12*E12 -> 0 | I12: =$D12*H12 -> 0 | L12: =$D12*K12 -> 0 | O12: =$D12*N12 -> 0 | R12: =$D12*Q12 -> 0
F13: =$D13*E13 -> 0 | I13: =$D13*H13 -> 0 | L13: =$D13*K13 -> 0 | O13: =$D13*N13 -> 0 | R13: =$D13*Q13 -> 0
F14: =$D14*E14 -> 0 | I14: =$D14*H14 -> 0 | L14: =$D14*K14 -> 0 | O14: =$D14*N14 -> 0 | R14: =$D14*Q14 -> 0
F15: =$D15*E15 -> 0 | I15: =$D15*H15 -> 0 | L15: =$D15*K15 -> 0 | O15: =$D15*N15 -> 0 | R15: =$D15*Q15 -> 0
F16: =$D16*E16 -> 0 | I16: =$D16*H16 -> 0 | L16: =$D16*K16 -> 0 | O16: =$D16*N16 -> 0 | R16: =$D16*Q16 -> 0
B17: Indien geen loonkosten, maar wel arbeid:
D18: 60 | F18: =$D18*E18 -> 0 | I18: =$D18*H18 -> 0 | L18: =$D18*K18 -> 0 | O18: =$D18*N18 -> 0 | R18: =$D18*Q18 -> 0
D19: 60 | F19: =$D19*E19 -> 0 | I19: =$D19*H19 -> 0 | L19: =$D19*K19 -> 0 | O19: =$D19*N19 -> 0 | R19: =$D19*Q19 -> 0
F20: =SUM(F8:F19) -> 0 | I20: =SUM(I8:I19) -> 0 | L20: =SUM(L8:L19) -> 0 | O20: =SUM(O8:O19) -> 0 | R20: =SUM(R8:R19) -> 0
B22: Welke methode van berekening van subsidiabele kosten wilt u hanteren? (Zie Toelichting kostenposten.) | D22: Opslag algemene kosten (50%) (alleen bij loonkosten plus vaste-opslag-systematiek) | F22: =IF(kostenmethode_1="loonkosten plus vaste-opslag-systematiek",SUM(F8:F16)*0.5,0) -> 0 | I22: =IF(kostenmethode_1="loonkosten plus vaste-opslag-systematiek",SUM(I8:I16)*0.5,0) -> 0 | L22: =IF(kostenmethode_1="loonkosten plus vaste-opslag-systematiek",SUM(L8:L16)*0.5,0) -> 0 | O22: =IF(kostenmethode_1="loonkosten plus vaste-opslag-systematiek",SUM(O8:O16)*0.5,0) -> 0 | R22: =IF(kostenmethode_1="loonkosten plus vaste-opslag-systematiek",SUM(R8:R16)*0.5,0) -> 0 | T22: Totaal loonkosten + opslag
F23: =F20+F22 -> 0 | I23: =I20+I22 -> 0 | L23: =L20+L22 -> 0 | O23: =O20+O22 -> 0 | R23: =R20+R22 -> 0 | T23: =+F23+I23+L23+O23+R23 -> 0
A25: 2. | B25: Kosten van materialen en hulpmiddelen: | E25: =E6 -> Industrieel onderzoek | H25: =H6 -> Experimentele ontwikkeling | K25: =K6 -> Haalbaarheidsstudies | N25: =N6 -> Test- en experimenteerinfrastructuur | Q25: =Q6 -> Onderzoeksinfrastructuur
B26: Materiaal/hulpmiddel | D26: Prijs per hoeveelheid | E26: Hoeveelheid | F26: Hoev.x prijs | H26: Hoeveelheid | I26: Hoev.x prijs | K26: Hoeveelheid | L26: Hoev.x prijs | N26: Hoeveelheid | O26: Hoev.x prijs | Q26: Hoeveelheid | R26: Hoev.x prijs
F27: =$D27*E27 -> 0 | I27: =$D27*H27 -> 0 | L27: =$D27*K27 -> 0 | O27: =$D27*N27 -> 0 | R27: =$D27*Q27 -> 0
F28: =$D28*E28 -> 0 | I28: =$D28*H28 -> 0 | L28: =$D28*K28 -> 0 | O28: =$D28*N28 -> 0 | R28: =$D28*Q28 -> 0
F29: =$D29*E29 -> 0 | I29: =$D29*H29 -> 0 | L29: =$D29*K29 -> 0 | O29: =$D29*N29 -> 0 | R29: =$D29*Q29 -> 0
F30: =$D30*E30 -> 0 | I30: =$D30*H30 -> 0 | L30: =$D30*K30 -> 0 | O30: =$D30*N30 -> 0 | R30: =$D30*Q30 -> 0
F31: =$D31*E31 -> 0 | I31: =$D31*H31 -> 0 | L31: =$D31*K31 -> 0 | O31: =$D31*N31 -> 0 | R31: =$D31*Q31 -> 0
F32: =$D32*E32 -> 0 | I32: =$D32*H32 -> 0 | L32: =$D32*K32 -> 0 | O32: =$D32*N32 -> 0 | R32: =$D32*Q32 -> 0
F33: =$D33*E33 -> 0 | I33: =$D33*H33 -> 0 | L33: =$D33*K33 -> 0 | O33: =$D33*N33 -> 0 | R33: =$D33*Q33 -> 0
F34: =$D34*E34 -> 0 | I34: =$D34*H34 -> 0 | L34: =$D34*K34 -> 0 | O34: =$D34*N34 -> 0 | R34: =$D34*Q34 -> 0 | T34: Totaal materialen en hulpmiddelen
F35: =SUM(F27:F34) -> 0 | I35: =SUM(I27:I34) -> 0 | L35: =SUM(L27:L34) -> 0 | O35: =SUM(O27:O34) -> 0 | R35: =SUM(R27:R34) -> 0 | T35: =+F35+I35+L35+O35+R35 -> 0
A37: 3. | B37: Vul ook het werkblad Mach, app in voor een nadere specificatie!!! | E37: =E6 -> Industrieel onderzoek | H37: =H6 -> Experimentele ontwikkeling | K37: =K6 -> Haalbaarheidsstudies | N37: =N6 -> Test- en experimenteerinfrastructuur | Q37: =Q6 -> Onderzoeksinfrastructuur
B38: Kosten van Machines en apparatuur | F38: Kosten | I38: Kosten | L38: Kosten | O38: Kosten | R38: Kosten
T47: Totaal machines en apparatuur
F48: =SUM(F39:F47) -> 0 | I48: =SUM(I39:I47) -> 0 | L48: =SUM(L39:L47) -> 0 | O48: =SUM(O39:O47) -> 0 | R48: =SUM(R39:R47) -> 0 | T48: =+F48+I48+L48+O48+R48 -> 0
B50: Deelnemer: | C50: =Deelnemer_1 -> 0
B51: Projecttitel: | C51: =Projecttitel -> 0
A54: 4. | B54: Aan derden verschuldigde kosten | E54: =E6 -> Industrieel onderzoek | H54: =H6 -> Experimentele ontwikkeling | K54: =K6 -> Haalbaarheidsstudies | N54: =N6 -> Test- en experimenteerinfrastructuur | Q54: =Q6 -> Onderzoeksinfrastructuur
B55: Naam derde, omschrijving buitenlandse reis- en verblijfkosten | F55: Kosten | I55: Kosten | L55: Kosten | O55: Kosten | R55: Kosten
T70: Totaal kosten derden
...

Sheet deelnemer 2
B1: Deelnemer: | D1: versie: | E1: =Code -> IPCEI260930
B2: Projecttitel:
B3: Type organisatie: | D3: =penvoerder!D3 -> Groot bedrijf, middelgroot bedrijf, klein bedrijf of kennisinstelling
A6: 1. | B6: Loonkosten: | E6: =penvoerder!E6 -> Industrieel onderzoek | H6: =penvoerder!H6 -> Experimentele ontwikkeling | K6: =penvoerder!K6 -> Haalbaarheidsstudies | N6: =penvoerder!N6 -> Test- en experimenteerinfrastructuur | Q6: =penvoerder!Q6 -> Onderzoeksinfrastructuur
B7: Medewerker | C7: Functie | D7: Uurtarief | E7: Uren | F7: Uren x tarief | H7: Uren | I7: Uren x tarief | K7: Uren | L7: Uren x tarief | N7: Uren | O7: Uren x tarief | Q7: Uren | R7: Uren x tarief
F8: =$D8*E8 -> 0 | I8: =$D8*H8 -> 0 | L8: =$D8*K8 -> 0 | O8: =$D8*N8 -> 0 | R8: =$D8*Q8 -> 0
F9: =$D9*E9 -> 0 | I9: =$D9*H9 -> 0 | L9: =$D9*K9 -> 0 | O9: =$D9*N9 -> 0 | R9: =$D9*Q9 -> 0
F10: =$D10*E10 -> 0 | I10: =$D10*H10 -> 0 | L10: =$D10*K10 -> 0 | O10: =$D10*N10 -> 0 | R10: =$D10*Q10 -> 0
F11: =$D11*E11 -> 0 | I11: =$D11*H11 -> 0 | L11: =$D11*K11 -> 0 | O11: =$D11*N11 -> 0 | R11: =$D11*Q11 -> 0
F12: =$D12*E12 -> 0 | I12: =$D12*H12 -> 0 | L12: =$D12*K12 -> 0 | O12: =$D12*N12 -> 0 | R12: =$D12*Q12 -> 0
F13: =$D13*E13 -> 0 | I13: =$D13*H13 -> 0 | L13: =$D13*K13 -> 0 | O13: =$D13*N13 -> 0 | R13: =$D13*Q13 -> 0
F14: =$D14*E14 -> 0 | I14: =$D14*H14 -> 0 | L14: =$D14*K14 -> 0 | O14: =$D14*N14 -> 0 | R14: =$D14*Q14 -> 0
F15: =$D15*E15 -> 0 | I15: =$D15*H15 -> 0 | L15: =$D15*K15 -> 0 | O15: =$D15*N15 -> 0 | R15: =$D15*Q15 -> 0
F16: =$D16*E16 -> 0 | I16: =$D16*H16 -> 0 | L16: =$D16*K16 -> 0 | O16: =$D16*N16 -> 0 | R16: =$D16*Q16 -> 0
B17: Indien geen loonkosten, maar wel arbeid:
D18: 60 | F18: =$D18*E18 -> 0 | I18: =$D18*H18 -> 0 | L18: =$D18*K18 -> 0 | O18: =$D18*N18 -> 0 | R18: =$D18*Q18 -> 0
D19: 60 | F19: =$D19*E19 -> 0 | I19: =$D19*H19 -> 0 | L19: =$D19*K19 -> 0 | O19: =$D19*N19 -> 0 | R19: =$D19*Q19 -> 0
F20: =SUM(F8:F19) -> 0 | I20: =SUM(I8:I19) -> 0 | L20: =SUM(L8:L19) -> 0 | O20: =SUM(O8:O19) -> 0 | R20: =SUM(R8:R19) -> 0
B22: Welke methode van berekening van subsidiabele kosten wilt u hanteren? (Zie Toelichting kostenposten.) | D22: Opslag algemene kosten (50%) (alleen bij loonkosten plus vaste-opslag-systematiek) | F22: =IF(kostenmethode_2="loonkosten plus vaste-opslag-systematiek",SUM(F8:F16)*0.5,0) -> 0 | I22: =IF(kostenmethode_2="loonkosten plus vaste-opslag-systematiek",SUM(I8:I16)*0.5,0) -> 0 | L22: =IF(kostenmethode_2="loonkosten plus vaste-opslag-systematiek",SUM(L8:L16)*0.5,0) -> 0 | O22: =IF(kostenmethode_2="loonkosten plus vaste-opslag-systematiek",SUM(O8:O16)*0.5,0) -> 0 | R22: =IF(kostenmethode_2="loonkosten plus vaste-opslag-systematiek",SUM(R8:R16)*0.5,0) -> 0 | T22: Totaal loonkosten + opslag
F23: =F20+F22 -> 0 | I23: =I20+I22 -> 0 | L23: =L20+L22 -> 0 | O23: =O20+O22 -> 0 | R23: =R20+R22 -> 0 | T23: =+F23+I23+L23+O23+R23 -> 0
A25: 2. | B25: Kosten van materialen en hulpmiddelen: | E25: =E6 -> Industrieel onderzoek | H25: =H6 -> Experimentele ontwikkeling | K25: =K6 -> Haalbaarheidsstudies | N25: =N6 -> Test- en experimenteerinfrastructuur | Q25: =Q6 -> Onderzoeksinfrastructuur
B26: Materiaal/hulpmiddel | D26: Prijs per hoeveelheid | E26: Hoeveelheid | F26: Hoev.x prijs | H26: Hoeveelheid | I26: Hoev.x prijs | K26: Hoeveelheid | L26: Hoev.x prijs | N26: Hoeveelheid | O26: Hoev.x prijs | Q26: Hoeveelheid | R26: Hoev.x prijs
F27: =$D27*E27 -> 0 | I27: =$D27*H27 -> 0 | L27: =$D27*K27 -> 0 | O27: =$D27*N27 -> 0 | R27: =$D27*Q27 -> 0
F28: =$D28*E28 -> 0 | I28: =$D28*H28 -> 0 | L28: =$D28*K28 -> 0 | O28: =$D28*N28 -> 0 | R28: =$D28*Q28 -> 0
F29: =$D29*E29 -> 0 | I29: =$D29*H29 -> 0 | L29: =$D29*K29 -> 0 | O29: =$D29*N29 -> 0 | R29: =$D29*Q29 -> 0
F30: =$D30*E30 -> 0 | I30: =$D30*H30 -> 0 | L30: =$D30*K30 -> 0 | O30: =$D30*N30 -> 0 | R30: =$D30*Q30 -> 0
F31: =$D31*E31 -> 0 | I31: =$D31*H31 -> 0 | L31: =$D31*K31 -> 0 | O31: =$D31*N31 -> 0 | R31: =$D31*Q31 -> 0
F32: =$D32*E32 -> 0 | I32: =$D32*H32 -> 0 | L32: =$D32*K32 -> 0 | O32: =$D32*N32 -> 0 | R32: =$D32*Q32 -> 0
